{"text_format":"1","workbook":"xlsx","n_sheets":3,"sheets":["Fert selector","Data sheet","Calc"],"not_rendered":{"charts":0,"images":4,"macros":1,"external_links":3,"defined_names":3,"comments":0,"pivot_tables":0},"unopened":[],"bounds":{"document_bytes":16777216,"sheet_cells":100000,"rows_first":2000,"rows_last":500,"rows_between":2000,"halvings":0,"cell_chars":16384,"cell_head_chars":4096},"cells_cut":0,"cells_raw":0,"read":"whole","date_system":"1900"}

{"sheet":"Fert selector","index":0,"n_rows":33,"n_cols":9,"rows_kept":33,"cut":false,"hidden":false,"merged":[[21,1,21,8],[1,4,1,8],[20,1,20,8],[9,1,9,8]]}
[]
[]
[]
[]
[]
[]
[]
[]
[]
[null,"Wilmar BioEthanol AgServices - Bruce Highway Sarina QLD 4737   Ph: 1800 881 957"]
[]
[null,"Instructions:",null,"N","P","K","S"]
[null,"Enter as kgs/ha of N,P,K,S required",null,150,0,90,0]
[null,"Click Grey Enter Button",null,"N","P","K","S"]
[null,"See results below",null,"Y"]
[null,null,null,"N","P","K","S"]
[null,null,"Above",0.02,0.02,0.1,0.7]
[null,null,"Below",0.1,0.1,0.02,0.2]
[]
[]
[null,"** Be aware that the search results will include products with P, if not required please disregard these products **"]
[null,"TOP 10 FERTILISERS MATCHING REQUIREMENTS"]
[null,"RANK","PRODUCT NAME","PRODUCT NUMBER","OPTIMUM RATE\nm3/Ha","N","P","K","S"]
[null,1,{"$f":"Calc!$D$3","v":"QUOD RATOONER 2"},{"$f":"Calc!$C$3","v":96428},{"$f":"IF($D$15=\"Y\",ROUND(Calc!$N3,0),IF($E$15=\"Y\",ROUND(Calc!$S3,0),IF($F$15=\"Y\",ROUND(Calc!$X3,0),IF($G$15=\"Y\",ROUND(Calc!$AC3,0)))))/10","v":3.3},{"$f":"Calc!$O3","v":150},{"$f":"Calc!$T3","v":0.32390879268600065},{"$f":"Calc!$Y3","v":93.93354987894017},{"$f":"Calc!$AD3","v":15.09561632290022}]
[null,2,{"$f":"Calc!$D$4","v":"ECONO LIQUID ONE SHOT"},{"$f":"Calc!$C$4","v":81050},{"$f":"IF($D$15=\"Y\",ROUND(Calc!$N4,0),IF($E$15=\"Y\",ROUND(Calc!$S4,0),IF($F$15=\"Y\",ROUND(Calc!$X4,0),IF($G$15=\"Y\",ROUND(Calc!$AC4,0)))))/10","v":3.3},{"$f":"Calc!$O4","v":150},{"$f":"Calc!$T4","v":0.32867287589205141},{"$f":"Calc!$Y4","v":95.315134008694912},{"$f":"Calc!$AD4","v":15.230727900484014}]
[null,3,{"$f":"Calc!$D$5","v":"LIQUID ONE SHOT"},{"$f":"Calc!$C$5","v":80789},{"$f":"IF($D$15=\"Y\",ROUND(Calc!$N5,0),IF($E$15=\"Y\",ROUND(Calc!$S5,0),IF($F$15=\"Y\",ROUND(Calc!$X5,0),IF($G$15=\"Y\",ROUND(Calc!$AC5,0)))))/10","v":3},{"$f":"Calc!$O5","v":150},{"$f":"Calc!$T5","v":0.29187170716376865},{"$f":"Calc!$Y5","v":84.642795077492892},{"$f":"Calc!$AD5","v":14.187029932008043}]
[null,4,{"$f":"Calc!$D$6","v":"ECONO LIQUID ONE SHOT + P"},{"$f":"Calc!$C$6","v":81052},{"$f":"IF($D$15=\"Y\",ROUND(Calc!$N6,0),IF($E$15=\"Y\",ROUND(Calc!$S6,0),IF($F$15=\"Y\",ROUND(Calc!$X6,0),IF($G$15=\"Y\",ROUND(Calc!$AC6,0)))))/10","v":3.4},{"$f":"Calc!$O6","v":150},{"$f":"Calc!$T6","v":12.274469908244843},{"$f":"Calc!$Y6","v":95.23763445213315},{"$f":"Calc!$AD6","v":22.610584285514307}]
[null,5,{"$f":"Calc!$D$7","v":"LO P RATOONER"},{"$f":"Calc!$C$7","v":89016},{"$f":"IF($D$15=\"Y\",ROUND(Calc!$N7,0),IF($E$15=\"Y\",ROUND(Calc!$S7,0),IF($F$15=\"Y\",ROUND(Calc!$X7,0),IF($G$15=\"Y\",ROUND(Calc!$AC7,0)))))/10","v":3},{"$f":"Calc!$O7","v":150},{"$f":"Calc!$T7","v":8.1150253394564906},{"$f":"Calc!$Y7","v":84.578791158637927},{"$f":"Calc!$AD7","v":19.018738360110248}]
[null,6,{"$f":"Calc!$D$8","v":"SPRING 1"},{"$f":"Calc!$C$8","v":102313},{"$f":"IF($D$15=\"Y\",ROUND(Calc!$N8,0),IF($E$15=\"Y\",ROUND(Calc!$S8,0),IF($F$15=\"Y\",ROUND(Calc!$X8,0),IF($G$15=\"Y\",ROUND(Calc!$AC8,0)))))/10","v":3.4},{"$f":"Calc!$O8","v":150},{"$f":"Calc!$T8","v":17.717093172646575},{"$f":"Calc!$Y8","v":95.462421680421315},{"$f":"Calc!$AD8","v":25.997801286071443}]
[null,7,{"$f":"Calc!$D$9","v":"MKY 170"},{"$f":"Calc!$C$9","v":102185},{"$f":"IF($D$15=\"Y\",ROUND(Calc!$N9,0),IF($E$15=\"Y\",ROUND(Calc!$S9,0),IF($F$15=\"Y\",ROUND(Calc!$X9,0),IF($G$15=\"Y\",ROUND(Calc!$AC9,0)))))/10","v":3.8},{"$f":"Calc!$O9","v":150},{"$f":"Calc!$T9","v":0.37661363185985269},{"$f":"Calc!$Y9","v":109.21795323935726},{"$f":"Calc!$AD9","v":16.590349655440463}]
[null,8,{"$f":"Calc!$D$10","v":"LIQUID ONE SHOT + P"},{"$f":"Calc!$C$10","v":80793},{"$f":"IF($D$15=\"Y\",ROUND(Calc!$N10,0),IF($E$15=\"Y\",ROUND(Calc!$S10,0),IF($F$15=\"Y\",ROUND(Calc!$X10,0),IF($G$15=\"Y\",ROUND(Calc!$AC10,0)))))/10","v":3},{"$f":"Calc!$O10","v":150},{"$f":"Calc!$T10","v":15.199450479808855},{"$f":"Calc!$Y10","v":84.767963047559249},{"$f":"Calc!$AD10","v":23.417837123748221}]
[null,9,{"$f":"Calc!$D$11","v":"MID N + P"},{"$f":"Calc!$C$11","v":102196},{"$f":"IF($D$15=\"Y\",ROUND(Calc!$N11,0),IF($E$15=\"Y\",ROUND(Calc!$S11,0),IF($F$15=\"Y\",ROUND(Calc!$X11,0),IF($G$15=\"Y\",ROUND(Calc!$AC11,0)))))/10","v":2.8},{"$f":"Calc!$O11","v":150},{"$f":"Calc!$T11","v":10.018261298160963},{"$f":"Calc!$Y11","v":79.371111476317509},{"$f":"Calc!$AD11","v":19.697519314467787}]
[null,10,{"$f":"Calc!$D$12","v":"MKY 180P"},{"$f":"Calc!$C$12","v":102201},{"$f":"IF($D$15=\"Y\",ROUND(Calc!$N12,0),IF($E$15=\"Y\",ROUND(Calc!$S12,0),IF($F$15=\"Y\",ROUND(Calc!$X12,0),IF($G$15=\"Y\",ROUND(Calc!$AC12,0)))))/10","v":3.6},{"$f":"Calc!$O12","v":150},{"$f":"Calc!$T12","v":9.4063909725987127},{"$f":"Calc!$Y12","v":101.83922673108188},{"$f":"Calc!$AD12","v":21.468490141676458}]

{"sheet":"Data sheet","index":1,"n_rows":65,"n_cols":33,"rows_kept":65,"cut":false,"hidden":true,"merged":[]}
["Product Code","SAP Number","NAME",null,"Specific Gravity","Urea","DAP","Sulphuric","Dunder KG","Vizura (L)","K as Bio","N as Bio","N as Urea","N from DAP","Total N","S as Bio","S as Sulf Acid","S as DAP","Total S","P as DAP","LTDP","LTD","BIO","Vizura ","LTD NOACID","MKP Concetrate ","N%","P%","K%","S%","Ca%","Mg%","OC%"]
[{"$f":"'[3]LO  Product Page'!B40","v":"BIODUNDER"},{"$f":"'[3]LO  Product Page'!C40","v":80788},{"$f":"'[3]LO  Product Page'!D40","v":"BIODUNDER"},{"$f":"'[3]LO  Product Page'!E40","v":0},{"$f":"'[3]LO  Product Page'!F40","v":1.1379999999999999},{"$f":"'[3]LO  Product Page'!G40","v":0},{"$f":"'[3]LO  Product Page'!H40","v":0},{"$f":"'[3]LO  Product Page'!I40","v":0},{"$f":"'[3]LO  Product Page'!J40","v":1138},{"$f":"'[3]LO  Product Page'!K40","v":0},{"$f":"'[3]LO  Product Page'!L40","v":3.08},{"$f":"'[3]LO  Product Page'!M40","v":0.44200000000000006},{"$f":"'[3]LO  Product Page'!N40","v":0},{"$f":"'[3]LO  Product Page'!O40","v":0},{"$f":"'[3]LO  Product Page'!P40","v":0.44200000000000006},{"$f":"'[3]LO  Product Page'!Q40","v":0.3},{"$f":"'[3]LO  Product Page'!R40","v":0},{"$f":"'[3]LO  Product Page'!S40","v":0},{"$f":"'[3]LO  Product Page'!T40","v":0.3},{"$f":"'[3]LO  Product Page'!U40","v":0},{"$f":"'[3]LO  Product Page'!V40","v":0},{"$f":"'[3]LO  Product Page'!W40","v":0},{"$f":"'[3]LO  Product Page'!X40","v":1000},{"$f":"'[3]LO  Product Page'!Y40","v":0},{"$f":"'[3]LO  Product Page'!Z40","v":0},{"$f":"'[3]LO  Product Page'!AA40","v":0},{"$f":"'[3]LO  Product Page'!AB40","v":0.442},{"$f":"'[3]LO  Product Page'!AC40","v":1.0620689655172415E-2},{"$f":"'[3]LO  Product Page'!AD40","v":3.08},{"$f":"'[3]LO  Product Page'!AE40","v":0.31862068965517243},{"$f":"'[3]LO  Product Page'!AF40","v":0.6},{"$f":"'[3]LO  Product Page'!AG40","v":0.40000000000000008},{"$f":"'[3]LO  Product Page'!AH40","v":10.000000000000002}]
[{"$f":"'[3]LO  Product Page'!B41","v":"BKN 200"},{"$f":"'[3]LO  Product Page'!C41","v":94831},{"$f":"'[3]LO  Product Page'!D41","v":"BKN 200"},{"$f":"'[3]LO  Product Page'!E41","v":0},{"$f":"'[3]LO  Product Page'!F41","v":1.1727415361713567},{"$f":"'[3]LO  Product Page'!G41","v":96.447788744501779},{"$f":"'[3]LO  Product Page'!H41","v":42.392048055706773},{"$f":"'[3]LO  Product Page'!I41","v":20.286233946861302},{"$f":"'[3]LO  Product Page'!J41","v":1013.6154654242868},{"$f":"'[3]LO  Product Page'!K41","v":0},{"$f":"'[3]LO  Product Page'!L41","v":2.7433529292678416},{"$f":"'[3]LO  Product Page'!M41","v":0.39368895932999548},{"$f":"'[3]LO  Product Page'!N41","v":4.4365982822470817},{"$f":"'[3]LO  Product Page'!O41","v":0.7439804433776539},{"$f":"'[3]LO  Product Page'!P41","v":5.5742676849547319},{"$f":"'[3]LO  Product Page'!Q41","v":0.27548176231743532},{"$f":"'[3]LO  Product Page'!R41","v":0.64934400000000003},{"$f":"'[3]LO  Product Page'!S41","v":6.6112799999999999E-2},{"$f":"'[3]LO  Product Page'!T41","v":0.99093856231743538},{"$f":"'[3]LO  Product Page'!U41","v":0.82664493708628217},{"$f":"'[3]LO  Product Page'!V41","v":260},{"$f":"'[3]LO  Product Page'!W41","v":288},{"$f":"'[3]LO  Product Page'!X41","v":452},{"$f":"'[3]LO  Product Page'!Y41","v":0},{"$f":"'[3]LO  Product Page'!Z41","v":0},{"$f":"'[3]LO  Product Page'!AA41","v":0},{"$f":"'[3]LO  Product Page'!AB41","v":5.5742676849547319},{"$f":"'[3]LO  Product Page'!AC41","v":0.83610477477341261},{"$f":"'[3]LO  Product Page'!AD41","v":2.7433529292678416},{"$f":"'[3]LO  Product Page'!AE41","v":0.99908621188037894},{"$f":"'[3]LO  Product Page'!AF41","v":0.53441940180542358},{"$f":"'[3]LO  Product Page'!AG41","v":0.35627960120361579},{"$f":"'[3]LO  Product Page'!AH41","v":8.9069900300903946}]
[{"$f":"'[3]LO  Product Page'!B42","v":"BKN 230"},{"$f":"'[3]LO  Product Page'!C42","v":94832},{"$f":"'[3]LO  Product Page'!D42","v":"BKN 230"},{"$f":"'[3]LO  Product Page'!E42","v":0},{"$f":"'[3]LO  Product Page'!F42","v":1.1757841246527159},{"$f":"'[3]LO  Product Page'!G42","v":114.86663728945874},{"$f":"'[3]LO  Product Page'!H42","v":42.392048055706773},{"$f":"'[3]LO  Product Page'!I42","v":21.329328201270187},{"$f":"'[3]LO  Product Page'!J42","v":997.19611110628034},{"$f":"'[3]LO  Product Page'!K42","v":0},{"$f":"'[3]LO  Product Page'!L42","v":2.6989139035213916},{"$f":"'[3]LO  Product Page'!M42","v":0.3873116705702776},{"$f":"'[3]LO  Product Page'!N42","v":5.2838653153151016},{"$f":"'[3]LO  Product Page'!O42","v":0.7439804433776539},{"$f":"'[3]LO  Product Page'!P42","v":6.4151574292630338},{"$f":"'[3]LO  Product Page'!Q42","v":0.27193237743167081},{"$f":"'[3]LO  Product Page'!R42","v":0.68278400000000006},{"$f":"'[3]LO  Product Page'!S42","v":6.6112799999999999E-2},{"$f":"'[3]LO  Product Page'!T42","v":1.0208291774316709},{"$f":"'[3]LO  Product Page'!U42","v":0.82664493708628217},{"$f":"'[3]LO  Product Page'!V42","v":260},{"$f":"'[3]LO  Product Page'!W42","v":343},{"$f":"'[3]LO  Product Page'!X42","v":397},{"$f":"'[3]LO  Product Page'!Y42","v":0},{"$f":"'[3]LO  Product Page'!Z42","v":0},{"$f":"'[3]LO  Product Page'!AA42","v":0},{"$f":"'[3]LO  Product Page'!AB42","v":6.4151574292630329},{"$f":"'[3]LO  Product Page'!AC42","v":0.83595153675359712},{"$f":"'[3]LO  Product Page'!AD42","v":2.6989139035213912},{"$f":"'[3]LO  Product Page'!AE42","v":1.027868087427003},{"$f":"'[3]LO  Product Page'!AF42","v":0.52576244873793332},{"$f":"'[3]LO  Product Page'!AG42","v":0.35050829915862231},{"$f":"'[3]LO  Product Page'!AH42","v":8.7627074789655559}]
[{"$f":"'[3]LO  Product Page'!B43","v":"BKN Lo P"},{"$f":"'[3]LO  Product Page'!C43","v":107021},{"$f":"'[3]LO  Product Page'!D43","v":"BKN Lo P"},{"$f":"'[3]LO  Product Page'!E43","v":0},{"$f":"'[3]LO  Product Page'!F43","v":1.17314965687277},{"$f":"'[3]LO  Product Page'!G43","v":162.42075535098388},{"$f":"'[3]LO  Product Page'!H43","v":18.750328947716458},{"$f":"'[3]LO  Product Page'!I43","v":15.755058285932593},{"$f":"'[3]LO  Product Page'!J43","v":976.22351428813704},{"$f":"'[3]LO  Product Page'!K43","v":0},{"$f":"'[3]LO  Product Page'!L43","v":2.6421515149450463},{"$f":"'[3]LO  Product Page'!M43","v":0.37916589922263322},{"$f":"'[3]LO  Product Page'!N43","v":7.4713547461452592},{"$f":"'[3]LO  Product Page'!O43","v":0.32906827303242381},{"$f":"'[3]LO  Product Page'!P43","v":8.1795889184003165},{"$f":"'[3]LO  Product Page'!Q43","v":0.26607694685170602},{"$f":"'[3]LO  Product Page'!R43","v":0.50464000000000009},{"$f":"'[3]LO  Product Page'!S43","v":2.9242200000000003E-2},{"$f":"'[3]LO  Product Page'!T43","v":0.7999591468517061},{"$f":"'[3]LO  Product Page'!U43","v":0.36563141448047098},{"$f":"'[3]LO  Product Page'!V43","v":115},{"$f":"'[3]LO  Product Page'!W43","v":485},{"$f":"'[3]LO  Product Page'!X43","v":400},{"$f":"'[3]LO  Product Page'!Y43","v":0},{"$f":"'[3]LO  Product Page'!Z43","v":0},{"$f":"'[3]LO  Product Page'!AA43","v":0},{"$f":"'[3]LO  Product Page'!AB43","v":8.1795889184003165},{"$f":"'[3]LO  Product Page'!AC43","v":0.37474228177338492},{"$f":"'[3]LO  Product Page'!AD43","v":2.6421515149450459},{"$f":"'[3]LO  Product Page'!AE43","v":0.80673839709569928},{"$f":"'[3]LO  Product Page'!AF43","v":0.51470484057371024},{"$f":"'[3]LO  Product Page'!AG43","v":0.34313656038247353},{"$f":"'[3]LO  Product Page'!AH43","v":8.5784140095618362}]
[{"$f":"'[3]LO  Product Page'!B44","v":"COMET 1"},{"$f":"'[3]LO  Product Page'!C44","v":94740},{"$f":"'[3]LO  Product Page'!D44","v":"COMET 1"},{"$f":"'[3]LO  Product Page'!E44","v":0},{"$f":"'[3]LO  Product Page'!F44","v":1.1811424283950158},{"$f":"'[3]LO  Product Page'!G44","v":19.423513011045497},{"$f":"'[3]LO  Product Page'!H44","v":90.001578949039001},{"$f":"'[3]LO  Product Page'!I44","v":32.572935090509638},{"$f":"'[3]LO  Product Page'!J44","v":1039.1444013444216},{"$f":"'[3]LO  Product Page'!K44","v":0},{"$f":"'[3]LO  Product Page'!L44","v":2.8124470616351664},{"$f":"'[3]LO  Product Page'!M44","v":0.4036044159879037},{"$f":"'[3]LO  Product Page'!N44","v":0.89348159850809283},{"$f":"'[3]LO  Product Page'!O44","v":1.5795277105556345},{"$f":"'[3]LO  Product Page'!P44","v":2.876613725051631},{"$f":"'[3]LO  Product Page'!Q44","v":0.28366213926428702},{"$f":"'[3]LO  Product Page'!R44","v":1.0421120000000001},{"$f":"'[3]LO  Product Page'!S44","v":0.14036256},{"$f":"'[3]LO  Product Page'!T44","v":1.4661366992642872},{"$f":"'[3]LO  Product Page'!U44","v":1.7550307895062605},{"$f":"'[3]LO  Product Page'!V44","v":552},{"$f":"'[3]LO  Product Page'!W44","v":58},{"$f":"'[3]LO  Product Page'!X44","v":390},{"$f":"'[3]LO  Product Page'!Y44","v":0},{"$f":"'[3]LO  Product Page'!Z44","v":0},{"$f":"'[3]LO  Product Page'!AA44","v":0},{"$f":"'[3]LO  Product Page'!AB44","v":2.8766137250516315},{"$f":"'[3]LO  Product Page'!AC44","v":1.7647288828222436},{"$f":"'[3]LO  Product Page'!AD44","v":2.812447061635166},{"$f":"'[3]LO  Product Page'!AE44","v":1.4736791855363092},{"$f":"'[3]LO  Product Page'!AF44","v":0.5478792977211363},{"$f":"'[3]LO  Product Page'!AG44","v":0.36525286514742417},{"$f":"'[3]LO  Product Page'!AH44","v":9.1313216286856047}]
[{"$f":"'[3]LO  Product Page'!B45","v":"COMET 3"},{"$f":"'[3]LO  Product Page'!C45","v":96322},{"$f":"'[3]LO  Product Page'!D45","v":"COMET 3"},{"$f":"'[3]LO  Product Page'!E45","v":0},{"$f":"'[3]LO  Product Page'!F45","v":1.169545942234715},{"$f":"'[3]LO  Product Page'!G45","v":46.884341750799472},{"$f":"'[3]LO  Product Page'!H45","v":53.642245424336643},{"$f":"'[3]LO  Product Page'!I45","v":21.413480233229919},{"$f":"'[3]LO  Product Page'!J45","v":1047.6058748263492},{"$f":"'[3]LO  Product Page'!K45","v":0},{"$f":"'[3]LO  Product Page'!L45","v":2.8353480619201719},{"$f":"'[3]LO  Product Page'!M45","v":0.40689085823659615},{"$f":"'[3]LO  Product Page'!N45","v":2.156679720536776},{"$f":"'[3]LO  Product Page'!O45","v":0.94142140719710821},{"$f":"'[3]LO  Product Page'!P45","v":3.5049919859704803},{"$f":"'[3]LO  Product Page'!Q45","v":0.28345847524392465},{"$f":"'[3]LO  Product Page'!R45","v":0.68521600000000005},{"$f":"'[3]LO  Product Page'!S45","v":8.3658120000000002E-2},{"$f":"'[3]LO  Product Page'!T45","v":1.0523325952439246},{"$f":"'[3]LO  Product Page'!U45","v":1.0460237857745647},{"$f":"'[3]LO  Product Page'!V45","v":329},{"$f":"'[3]LO  Product Page'!W45","v":140},{"$f":"'[3]LO  Product Page'!X45","v":531},{"$f":"'[3]LO  Product Page'!Y45","v":0},{"$f":"'[3]LO  Product Page'!Z45","v":0},{"$f":"'[3]LO  Product Page'!AA45","v":0},{"$f":"'[3]LO  Product Page'!AB45","v":3.5049919859704808},{"$f":"'[3]LO  Product Page'!AC45","v":1.0558008480570478},{"$f":"'[3]LO  Product Page'!AD45","v":2.8353480619201719},{"$f":"'[3]LO  Product Page'!AE45","v":1.0622251387998229},{"$f":"'[3]LO  Product Page'!AF45","v":0.55234053154289064},{"$f":"'[3]LO  Product Page'!AG45","v":0.36822702102859384},{"$f":"'[3]LO  Product Page'!AH45","v":9.2056755257148453}]
[{"$f":"'[3]LO  Product Page'!B46","v":"COMPANION 2"},{"$f":"'[3]LO  Product Page'!C46","v":96562},{"$f":"'[3]LO  Product Page'!D46","v":"COMPANION 2"},{"$f":"'[3]LO  Product Page'!E46","v":0},{"$f":"'[3]LO  Product Page'!F46","v":1.1591244440547976},{"$f":"'[3]LO  Product Page'!G46","v":0},{"$f":"'[3]LO  Product Page'!H46","v":47.609530893332227},{"$f":"'[3]LO  Product Page'!I46","v":16.648731662085499},{"$f":"'[3]LO  Product Page'!J46","v":1094.8661814993798},{"$f":"'[3]LO  Product Page'!K46","v":0},{"$f":"'[3]LO  Product Page'!L46","v":2.9632582065185322},{"$f":"'[3]LO  Product Page'!M46","v":0.42524679457181541},{"$f":"'[3]LO  Product Page'!N46","v":0},{"$f":"'[3]LO  Product Page'!O46","v":0.83554726717798067},{"$f":"'[3]LO  Product Page'!P46","v":1.2607940617497961},{"$f":"'[3]LO  Product Page'!Q46","v":0.29333749469729109},{"$f":"'[3]LO  Product Page'!R46","v":0.53260800000000008},{"$f":"'[3]LO  Product Page'!S46","v":7.4249759999999998E-2},{"$f":"'[3]LO  Product Page'!T46","v":0.90019525469729111},{"$f":"'[3]LO  Product Page'!U46","v":0.92838585241997851},{"$f":"'[3]LO  Product Page'!V46","v":292},{"$f":"'[3]LO  Product Page'!W46","v":0},{"$f":"'[3]LO  Product Page'!X46","v":708},{"$f":"'[3]LO  Product Page'!Y46","v":0},{"$f":"'[3]LO  Product Page'!Z46","v":0},{"$f":"'[3]LO  Product Page'!AA46","v":0},{"$f":"'[3]LO  Product Page'!AB46","v":1.2607940617497961},{"$f":"'[3]LO  Product Page'!AC46","v":0.93860398416659385},{"$f":"'[3]LO  Product Page'!AD46","v":2.9632582065185327},{"$f":"'[3]LO  Product Page'!AE46","v":0.91357423377880309},{"$f":"'[3]LO  Product Page'!AF46","v":0.57725809217893498},{"$f":"'[3]LO  Product Page'!AG46","v":0.38483872811928993},{"$f":"'[3]LO  Product Page'!AH46","v":9.6209682029822492}]
[{"$f":"'[3]LO  Product Page'!B47","v":"CORN 1"},{"$f":"'[3]LO  Product Page'!C47","v":85157},{"$f":"'[3]LO  Product Page'!D47","v":"CORN 1"},{"$f":"'[3]LO  Product Page'!E47","v":0},{"$f":"'[3]LO  Product Page'!F47","v":1.1761631518583966},{"$f":"'[3]LO  Product Page'!G47","v":68.9869600047478},{"$f":"'[3]LO  Product Page'!H47","v":60.327145310044273},{"$f":"'[3]LO  Product Page'!I47","v":25.002857715731217},{"$f":"'[3]LO  Product Page'!J47","v":1021.8461888278733},{"$f":"'[3]LO  Product Page'!K47","v":0},{"$f":"'[3]LO  Product Page'!L47","v":2.7656294038575133},{"$f":"'[3]LO  Product Page'!M47","v":0.3968857780860458},{"$f":"'[3]LO  Product Page'!N47","v":3.173400160218399},{"$f":"'[3]LO  Product Page'!O47","v":1.0587414001912769},{"$f":"'[3]LO  Product Page'!P47","v":4.6290273384957219},{"$f":"'[3]LO  Product Page'!Q47","v":0.27826372462275017},{"$f":"'[3]LO  Product Page'!R47","v":0.80012800000000006},{"$f":"'[3]LO  Product Page'!S47","v":9.4083600000000003E-2},{"$f":"'[3]LO  Product Page'!T47","v":1.1724753246227502},{"$f":"'[3]LO  Product Page'!U47","v":1.1763793335458632},{"$f":"'[3]LO  Product Page'!V47","v":370},{"$f":"'[3]LO  Product Page'!W47","v":206},{"$f":"'[3]LO  Product Page'!X47","v":424},{"$f":"'[3]LO  Product Page'!Y47","v":0},{"$f":"'[3]LO  Product Page'!Z47","v":0},{"$f":"'[3]LO  Product Page'!AA47","v":0},{"$f":"'[3]LO  Product Page'!AB47","v":4.6290273384957219},{"$f":"'[3]LO  Product Page'!AC47","v":1.185915986662613},{"$f":"'[3]LO  Product Page'!AD47","v":2.7656294038575133},{"$f":"'[3]LO  Product Page'!AE47","v":1.1803013870895696},{"$f":"'[3]LO  Product Page'!AF47","v":0.53875897477743762},{"$f":"'[3]LO  Product Page'!AG47","v":0.35917264985162511},{"$f":"'[3]LO  Product Page'!AH47","v":8.9793162462906277}]
[{"$f":"'[3]LO  Product Page'!B48","v":"CORN 2"},{"$f":"'[3]LO  Product Page'!C48","v":88636},{"$f":"'[3]LO  Product Page'!D48","v":"CORN 2"},{"$f":"'[3]LO  Product Page'!E48","v":0},{"$f":"'[3]LO  Product Page'!F48","v":1.17904848768166},{"$f":"'[3]LO  Product Page'!G48","v":54.921657479507964},{"$f":"'[3]LO  Product Page'!H48","v":72.066481694701523},{"$f":"'[3]LO  Product Page'!I48","v":28.311479723563593},{"$f":"'[3]LO  Product Page'!J48","v":1023.7488687838869},{"$f":"'[3]LO  Product Page'!K48","v":0},{"$f":"'[3]LO  Product Page'!L48","v":2.7707790121743163},{"$f":"'[3]LO  Product Page'!M48","v":0.397624780318522},{"$f":"'[3]LO  Product Page'!N48","v":2.5263962440573664},{"$f":"'[3]LO  Product Page'!O48","v":1.2647667537420115},{"$f":"'[3]LO  Product Page'!P48","v":4.1887877781179004},{"$f":"'[3]LO  Product Page'!Q48","v":0.27933135446336593},{"$f":"'[3]LO  Product Page'!R48","v":0.90592000000000006},{"$f":"'[3]LO  Product Page'!S48","v":0.11239175999999999},{"$f":"'[3]LO  Product Page'!T48","v":1.297643114463366},{"$f":"'[3]LO  Product Page'!U48","v":1.4052963930466797},{"$f":"'[3]LO  Product Page'!V48","v":442},{"$f":"'[3]LO  Product Page'!W48","v":164},{"$f":"'[3]LO  Product Page'!X48","v":394},{"$f":"'[3]LO  Product Page'!Y48","v":0},{"$f":"'[3]LO  Product Page'!Z48","v":0},{"$f":"'[3]LO  Product Page'!AA48","v":0},{"$f":"'[3]LO  Product Page'!AB48","v":4.1887877781179004},{"$f":"'[3]LO  Product Page'!AC48","v":1.4148508034334875},{"$f":"'[3]LO  Product Page'!AD48","v":2.7707790121743159},{"$f":"'[3]LO  Product Page'!AE48","v":1.305023374202009},{"$f":"'[3]LO  Product Page'!AF48","v":0.53976214522876287},{"$f":"'[3]LO  Product Page'!AG48","v":0.35984143015250863},{"$f":"'[3]LO  Product Page'!AH48","v":8.9960357538127163}]
[{"$f":"'[3]LO  Product Page'!B49","v":"CORN 3"},{"$f":"'[3]LO  Product Page'!C49","v":88674},{"$f":"'[3]LO  Product Page'!D49","v":"CORN 3"},{"$f":"'[3]LO  Product Page'!E49","v":0},{"$f":"'[3]LO  Product Page'!F49","v":1.1760353819273437},{"$f":"'[3]LO  Product Page'!G49","v":85.731367772890465},{"$f":"'[3]LO  Product Page'!H49","v":53.805291763012434},{"$f":"'[3]LO  Product Page'!I49","v":23.670477046850873},{"$f":"'[3]LO  Product Page'!J49","v":1012.8282453445898},{"$f":"'[3]LO  Product Page'!K49","v":0},{"$f":"'[3]LO  Product Page'!L49","v":2.7412223160468692},{"$f":"'[3]LO  Product Page'!M49","v":0.39338320249763514},{"$f":"'[3]LO  Product Page'!N49","v":3.9436429175529621},{"$f":"'[3]LO  Product Page'!O49","v":0.94428287044086845},{"$f":"'[3]LO  Product Page'!P49","v":5.2813089904914658},{"$f":"'[3]LO  Product Page'!Q49","v":0.27594968304951217},{"$f":"'[3]LO  Product Page'!R49","v":0.75756800000000002},{"$f":"'[3]LO  Product Page'!S49","v":8.3912399999999998E-2},{"$f":"'[3]LO  Product Page'!T49","v":1.1174300830495123},{"$f":"'[3]LO  Product Page'!U49","v":1.0492031893787426},{"$f":"'[3]LO  Product Page'!V49","v":330},{"$f":"'[3]LO  Product Page'!W49","v":256},{"$f":"'[3]LO  Product Page'!X49","v":414},{"$f":"'[3]LO  Product Page'!Y49","v":0},{"$f":"'[3]LO  Product Page'!Z49","v":0},{"$f":"'[3]LO  Product Page'!AA49","v":0},{"$f":"'[3]LO  Product Page'!AB49","v":5.2813089904914658},{"$f":"'[3]LO  Product Page'!AC49","v":1.0586556801237319},{"$f":"'[3]LO  Product Page'!AD49","v":2.7412223160468692},{"$f":"'[3]LO  Product Page'!AE49","v":1.1249662429992036},{"$f":"'[3]LO  Product Page'!AF49","v":0.53400434728185753},{"$f":"'[3]LO  Product Page'!AG49","v":0.35600289818790509},{"$f":"'[3]LO  Product Page'!AH49","v":8.9000724546976269}]
[{"$f":"'[3]LO  Product Page'!B50","v":"DELTA 1"},{"$f":"'[3]LO  Product Page'!C50","v":98866},{"$f":"'[3]LO  Product Page'!D50","v":"DELTA 1"},{"$f":"'[3]LO  Product Page'!E50","v":0},{"$f":"'[3]LO  Product Page'!F50","v":1.17755365025767},{"$f":"'[3]LO  Product Page'!G50","v":239.44503108444019},{"$f":"'[3]LO  Product Page'!H50","v":0},{"$f":"'[3]LO  Product Page'!I50","v":13.560225307315537},{"$f":"'[3]LO  Product Page'!J50","v":924.54839386591402},{"$f":"'[3]LO  Product Page'!K50","v":0},{"$f":"'[3]LO  Product Page'!L50","v":2.5022926652961472},{"$f":"'[3]LO  Product Page'!M50","v":0.35909524612366794},{"$f":"'[3]LO  Product Page'!N50","v":11.014471429884248},{"$f":"'[3]LO  Product Page'!O50","v":0},{"$f":"'[3]LO  Product Page'!P50","v":11.373566676007915},{"$f":"'[3]LO  Product Page'!Q50","v":0.25385799648506152},{"$f":"'[3]LO  Product Page'!R50","v":0.43472},{"$f":"'[3]LO  Product Page'!S50","v":0},{"$f":"'[3]LO  Product Page'!T50","v":0.68857799648506157},{"$f":"'[3]LO  Product Page'!U50","v":0},{"$f":"'[3]LO  Product Page'!V50","v":0},{"$f":"'[3]LO  Product Page'!W50","v":715},{"$f":"'[3]LO  Product Page'!X50","v":285},{"$f":"'[3]LO  Product Page'!Y50","v":0},{"$f":"'[3]LO  Product Page'!Z50","v":0},{"$f":"'[3]LO  Product Page'!AA50","v":0},{"$f":"'[3]LO  Product Page'!AB50","v":11.373566676007917},{"$f":"'[3]LO  Product Page'!AC50","v":8.6285953975729236E-3},{"$f":"'[3]LO  Product Page'!AD50","v":2.5022926652961472},{"$f":"'[3]LO  Product Page'!AE50","v":0.6927850717612849},{"$f":"'[3]LO  Product Page'!AF50","v":0.48745961012262601},{"$f":"'[3]LO  Product Page'!AG50","v":0.32497307341508408},{"$f":"'[3]LO  Product Page'!AH50","v":8.1243268353771008}]
[{"$f":"'[3]LO  Product Page'!B51","v":"ECONO LIQUID ONE SHOT"},{"$f":"'[3]LO  Product Page'!C51","v":81050},{"$f":"'[3]LO  Product Page'!D51","v":"ECONO LIQUID ONE SHOT"},{"$f":"'[3]LO  Product Page'!E51","v":0},{"$f":"'[3]LO  Product Page'!F51","v":1.1527150642916644},{"$f":"'[3]LO  Product Page'!G51","v":89.080249326519009},{"$f":"'[3]LO  Product Page'!H51","v":0},{"$f":"'[3]LO  Product Page'!I51","v":5.0447831213229835},{"$f":"'[3]LO  Product Page'!J51","v":1058.5900318438225},{"$f":"'[3]LO  Product Page'!K51","v":0},{"$f":"'[3]LO  Product Page'!L51","v":2.8650767118444409},{"$f":"'[3]LO  Product Page'!M51","v":0.41115711254391007},{"$f":"'[3]LO  Product Page'!N51","v":4.0976914690198747},{"$f":"'[3]LO  Product Page'!O51","v":0},{"$f":"'[3]LO  Product Page'!P51","v":4.5088485815637851},{"$f":"'[3]LO  Product Page'!Q51","v":0.28283388400702986},{"$f":"'[3]LO  Product Page'!R51","v":0.16172800000000001},{"$f":"'[3]LO  Product Page'!S51","v":0},{"$f":"'[3]LO  Product Page'!T51","v":0.44456188400702989},{"$f":"'[3]LO  Product Page'!U51","v":0},{"$f":"'[3]LO  Product Page'!V51","v":0},{"$f":"'[3]LO  Product Page'!W51","v":266},{"$f":"'[3]LO  Product Page'!X51","v":734},{"$f":"'[3]LO  Product Page'!Y51","v":0},{"$f":"'[3]LO  Product Page'!Z51","v":0},{"$f":"'[3]LO  Product Page'!AA51","v":0},{"$f":"'[3]LO  Product Page'!AB51","v":4.5088485815637851},{"$f":"'[3]LO  Product Page'!AC51","v":9.8795748684291067E-3},{"$f":"'[3]LO  Product Page'!AD51","v":2.8650767118444409},{"$f":"'[3]LO  Product Page'!AE51","v":0.45782030593520878},{"$f":"'[3]LO  Product Page'!AF51","v":0.55813182698268327},{"$f":"'[3]LO  Product Page'!AG51","v":0.37208788465512227},{"$f":"'[3]LO  Product Page'!AH51","v":9.3021971163780552}]
[{"$f":"'[3]LO  Product Page'!B52","v":"ECONO LIQUID ONE SHOT + P"},{"$f":"'[3]LO  Product Page'!C52","v":81052},{"$f":"'[3]LO  Product Page'!D52","v":"ECONO LIQUID ONE SHOT + P"},{"$f":"'[3]LO  Product Page'!E52","v":0},{"$f":"'[3]LO  Product Page'!F52","v":1.1595452355953224},{"$f":"'[3]LO  Product Page'!G52","v":81.377821753173379},{"$f":"'[3]LO  Product Page'!H52","v":18.261189931689074},{"$f":"'[3]LO  Product Page'!I52","v":10.994394953566857},{"$f":"'[3]LO  Product Page'!J52","v":1048.9118289568928},{"$f":"'[3]LO  Product Page'!K52","v":0},{"$f":"'[3]LO  Product Page'!L52","v":2.8388826302172503},{"$f":"'[3]LO  Product Page'!M52","v":0.40739809173896907},{"$f":"'[3]LO  Product Page'!N52","v":3.7433798006459753},{"$f":"'[3]LO  Product Page'!O52","v":0.32048388330114319},{"$f":"'[3]LO  Product Page'!P52","v":4.471261775686088},{"$f":"'[3]LO  Product Page'!Q52","v":0.2817626907460154},{"$f":"'[3]LO  Product Page'!R52","v":0.35203200000000001},{"$f":"'[3]LO  Product Page'!S52","v":2.8479360000000002E-2},{"$f":"'[3]LO  Product Page'!T52","v":0.66227405074601542},{"$f":"'[3]LO  Product Page'!U52","v":0.35609320366793695},{"$f":"'[3]LO  Product Page'!V52","v":112},{"$f":"'[3]LO  Product Page'!W52","v":243},{"$f":"'[3]LO  Product Page'!X52","v":645},{"$f":"'[3]LO  Product Page'!Y52","v":0},{"$f":"'[3]LO  Product Page'!Z52","v":0},{"$f":"'[3]LO  Product Page'!AA52","v":0},{"$f":"'[3]LO  Product Page'!AB52","v":4.4712617756860888},{"$f":"'[3]LO  Product Page'!AC52","v":0.36588245411696196},{"$f":"'[3]LO  Product Page'!AD52","v":2.8388826302172498},{"$f":"'[3]LO  Product Page'!AE52","v":0.67398560827832443},{"$f":"'[3]LO  Product Page'!AF52","v":0.55302908380855509},{"$f":"'[3]LO  Product Page'!AG52","v":0.36868605587237008},{"$f":"'[3]LO  Product Page'!AH52","v":9.2171513968092516}]
[{"$f":"'[3]LO  Product Page'!B53","v":"EMERALD 2"},{"$f":"'[3]LO  Product Page'!C53","v":95321},{"$f":"'[3]LO  Product Page'!D53","v":"EMERALD 2"},{"$f":"'[3]LO  Product Page'!E53","v":0},{"$f":"'[3]LO  Product Page'!F53","v":1.1955079482080428},{"$f":"'[3]LO  Product Page'!G53","v":203.61199846061487},{"$f":"'[3]LO  Product Page'!H53","v":53.805291763012434},{"$f":"'[3]LO  Product Page'!I53","v":30.346280275067755},{"$f":"'[3]LO  Product Page'!J53","v":907.74437770934753},{"$f":"'[3]LO  Product Page'!K53","v":0},{"$f":"'[3]LO  Product Page'!L53","v":2.456812551269588},{"$f":"'[3]LO  Product Page'!M53","v":0.35256855443544088},{"$f":"'[3]LO  Product Page'!N53","v":9.366151929188284},{"$f":"'[3]LO  Product Page'!O53","v":0.94428287044086845},{"$f":"'[3]LO  Product Page'!P53","v":10.663003354064594},{"$f":"'[3]LO  Product Page'!Q53","v":0.25323361978061937},{"$f":"'[3]LO  Product Page'!R53","v":0.971584},{"$f":"'[3]LO  Product Page'!S53","v":8.3912399999999998E-2},{"$f":"'[3]LO  Product Page'!T53","v":1.3087300197806193},{"$f":"'[3]LO  Product Page'!U53","v":1.0492031893787426},{"$f":"'[3]LO  Product Page'!V53","v":330},{"$f":"'[3]LO  Product Page'!W53","v":608},{"$f":"'[3]LO  Product Page'!X53","v":62},{"$f":"'[3]LO  Product Page'!Y53","v":0},{"$f":"'[3]LO  Product Page'!Z53","v":0},{"$f":"'[3]LO  Product Page'!AA53","v":0},{"$f":"'[3]LO  Product Page'!AB53","v":10.663003354064594},{"$f":"'[3]LO  Product Page'!AC53","v":1.0576749567969137},{"$f":"'[3]LO  Product Page'!AD53","v":2.4568125512695871},{"$f":"'[3]LO  Product Page'!AE53","v":1.3091702464975974},{"$f":"'[3]LO  Product Page'!AF53","v":0.47859984764991964},{"$f":"'[3]LO  Product Page'!AG53","v":0.31906656509994652},{"$f":"'[3]LO  Product Page'!AH53","v":7.9766641274986618}]
[{"$f":"'[3]LO  Product Page'!B54","v":"EMERALD 4"},{"$f":"'[3]LO  Product Page'!C54","v":96281},{"$f":"'[3]LO  Product Page'!D54","v":"EMERALD 4"},{"$f":"'[3]LO  Product Page'!E54","v":0},{"$f":"'[3]LO  Product Page'!F54","v":1.1898995195003819},{"$f":"'[3]LO  Product Page'!G54","v":146.01123573820408},{"$f":"'[3]LO  Product Page'!H54","v":62.609794051505389},{"$f":"'[3]LO  Product Page'!I54","v":30.163115094679334},{"$f":"'[3]LO  Product Page'!J54","v":951.11537461599289},{"$f":"'[3]LO  Product Page'!K54","v":0},{"$f":"'[3]LO  Product Page'!L54","v":2.5741962687322131},{"$f":"'[3]LO  Product Page'!M54","v":0.3694138801232591},{"$f":"'[3]LO  Product Page'!N54","v":6.7165168439573879},{"$f":"'[3]LO  Product Page'!O54","v":1.0988018856039197},{"$f":"'[3]LO  Product Page'!P54","v":8.1847326096845663},{"$f":"'[3]LO  Product Page'!Q54","v":0.26310140718744324},{"$f":"'[3]LO  Product Page'!R54","v":0.96550400000000014},{"$f":"'[3]LO  Product Page'!S54","v":9.7643520000000011E-2},{"$f":"'[3]LO  Product Page'!T54","v":1.3262489271874434},{"$f":"'[3]LO  Product Page'!U54","v":1.2208909840043551},{"$f":"'[3]LO  Product Page'!V54","v":384},{"$f":"'[3]LO  Product Page'!W54","v":436},{"$f":"'[3]LO  Product Page'!X54","v":180},{"$f":"'[3]LO  Product Page'!Y54","v":0},{"$f":"'[3]LO  Product Page'!Z54","v":0},{"$f":"'[3]LO  Product Page'!AA54","v":0},{"$f":"'[3]LO  Product Page'!AB54","v":8.1847326096845681},{"$f":"'[3]LO  Product Page'!AC54","v":1.2297675228620526},{"$f":"'[3]LO  Product Page'!AD54","v":2.5741962687322122},{"$f":"'[3]LO  Product Page'!AE54","v":1.3291871274810056},{"$f":"'[3]LO  Product Page'!AF54","v":0.50146680559718426},{"$f":"'[3]LO  Product Page'!AG54","v":0.33431120373145629},{"$f":"'[3]LO  Product Page'!AH54","v":8.3577800932864044}]
[{"$f":"'[3]LO  Product Page'!B55","v":"HALL 2"},{"$f":"'[3]LO  Product Page'!C55","v":88753},{"$f":"'[3]LO  Product Page'!D55","v":"HALL 2"},{"$f":"'[3]LO  Product Page'!E55","v":0},{"$f":"'[3]LO  Product Page'!F55","v":1.1699760420281522},{"$f":"'[3]LO  Product Page'!G55","v":0},{"$f":"'[3]LO  Product Page'!H55","v":72.066481694701523},{"$f":"'[3]LO  Product Page'!I55","v":25.201162310417093},{"$f":"'[3]LO  Product Page'!J55","v":1072.7083980230339},{"$f":"'[3]LO  Product Page'!K55","v":0},{"$f":"'[3]LO  Product Page'!L55","v":2.9032881071273677},{"$f":"'[3]LO  Product Page'!M55","v":0.41664069589295338},{"$f":"'[3]LO  Product Page'!N55","v":0},{"$f":"'[3]LO  Product Page'!O55","v":1.2647667537420115},{"$f":"'[3]LO  Product Page'!P55","v":1.6814074496349649},{"$f":"'[3]LO  Product Page'!Q55","v":0.28991497485000911},{"$f":"'[3]LO  Product Page'!R55","v":0.80620800000000004},{"$f":"'[3]LO  Product Page'!S55","v":0.11239175999999999},{"$f":"'[3]LO  Product Page'!T55","v":1.2085147348500092},{"$f":"'[3]LO  Product Page'!U55","v":1.4052963930466797},{"$f":"'[3]LO  Product Page'!V55","v":442},{"$f":"'[3]LO  Product Page'!W55","v":0},{"$f":"'[3]LO  Product Page'!X55","v":558},{"$f":"'[3]LO  Product Page'!Y55","v":0},{"$f":"'[3]LO  Product Page'!Z55","v":0},{"$f":"'[3]LO  Product Page'!AA55","v":0},{"$f":"'[3]LO  Product Page'!AB55","v":1.6814074496349651},{"$f":"'[3]LO  Product Page'!AC55","v":1.4153077313471187},{"$f":"'[3]LO  Product Page'!AD55","v":2.9032881071273673},{"$f":"'[3]LO  Product Page'!AE55","v":1.2192010543902574},{"$f":"'[3]LO  Product Page'!AF55","v":0.56557560528455209},{"$f":"'[3]LO  Product Page'!AG55","v":0.37705040352303476},{"$f":"'[3]LO  Product Page'!AH55","v":9.4262600880758693}]
[{"$f":"'[3]LO  Product Page'!B56","v":"HI  K RATOONER"},{"$f":"'[3]LO  Product Page'!C56","v":96412},{"$f":"'[3]LO  Product Page'!D56","v":"HI  K RATOONER"},{"$f":"'[3]LO  Product Page'!E56","v":0},{"$f":"'[3]LO  Product Page'!F56","v":1.1575708888693734},{"$f":"'[3]LO  Product Page'!G56","v":46.21456544007377},{"$f":"'[3]LO  Product Page'!H56","v":26.902645881506217},{"$f":"'[3]LO  Product Page'!I56","v":12.024892024227054},{"$f":"'[3]LO  Product Page'!J56","v":1072.4287855235661},{"$f":"'[3]LO  Product Page'!K56","v":0},{"$f":"'[3]LO  Product Page'!L56","v":2.9025313351604431},{"$f":"'[3]LO  Product Page'!M56","v":0.4165320942015962},{"$f":"'[3]LO  Product Page'!N56","v":2.1258700102433936},{"$f":"'[3]LO  Product Page'!O56","v":0.47214143522043422},{"$f":"'[3]LO  Product Page'!P56","v":3.0145435396654241},{"$f":"'[3]LO  Product Page'!Q56","v":0.28732949881825343},{"$f":"'[3]LO  Product Page'!R56","v":0.38486400000000004},{"$f":"'[3]LO  Product Page'!S56","v":4.1956199999999999E-2},{"$f":"'[3]LO  Product Page'!T56","v":0.71414969881825341},{"$f":"'[3]LO  Product Page'!U56","v":0.52460159468937129},{"$f":"'[3]LO  Product Page'!V56","v":165},{"$f":"'[3]LO  Product Page'!W56","v":138},{"$f":"'[3]LO  Product Page'!X56","v":697},{"$f":"'[3]LO  Product Page'!Y56","v":0},{"$f":"'[3]LO  Product Page'!Z56","v":0},{"$f":"'[3]LO  Product Page'!AA56","v":0},{"$f":"'[3]LO  Product Page'!AB56","v":3.0145435396654241},{"$f":"'[3]LO  Product Page'!AC56","v":0.53461032343130388},{"$f":"'[3]LO  Product Page'!AD56","v":2.9025313351604436},{"$f":"'[3]LO  Product Page'!AE56","v":0.72702653460839239},{"$f":"'[3]LO  Product Page'!AF56","v":0.56542818217411217},{"$f":"'[3]LO  Product Page'!AG56","v":0.37695212144940821},{"$f":"'[3]LO  Product Page'!AH56","v":9.4238030362352045}]
[{"$f":"'[3]LO  Product Page'!B57","v":"HI N + P"},{"$f":"'[3]LO  Product Page'!C57","v":81051},{"$f":"'[3]LO  Product Page'!D57","v":"HI N + P"},{"$f":"'[3]LO  Product Page'!E57","v":0},{"$f":"'[3]LO  Product Page'!F57","v":1.1829587086155837},{"$f":"'[3]LO  Product Page'!G57","v":153.04388700082401},{"$f":"'[3]LO  Product Page'!H57","v":44.348604119816322},{"$f":"'[3]LO  Product Page'!I57","v":24.175572562275136},{"$f":"'[3]LO  Product Page'!J57","v":961.39064493266801},{"$f":"'[3]LO  Product Page'!K57","v":0},{"$f":"'[3]LO  Product Page'!L57","v":2.6020063149320016},{"$f":"'[3]LO  Product Page'!M57","v":0.37340480233764434},{"$f":"'[3]LO  Product Page'!N57","v":7.0400188020379044},{"$f":"'[3]LO  Product Page'!O57","v":0.77831800230277648},{"$f":"'[3]LO  Product Page'!P57","v":8.1917416066783257},{"$f":"'[3]LO  Product Page'!Q57","v":0.26430166898975821},{"$f":"'[3]LO  Product Page'!R57","v":0.77398400000000001},{"$f":"'[3]LO  Product Page'!S57","v":6.9164160000000002E-2},{"$f":"'[3]LO  Product Page'!T57","v":1.1074498289897581},{"$f":"'[3]LO  Product Page'!U57","v":0.86479778033641841},{"$f":"'[3]LO  Product Page'!V57","v":272},{"$f":"'[3]LO  Product Page'!W57","v":457},{"$f":"'[3]LO  Product Page'!X57","v":271},{"$f":"'[3]LO  Product Page'!Y57","v":0},{"$f":"'[3]LO  Product Page'!Z57","v":0},{"$f":"'[3]LO  Product Page'!AA57","v":0},{"$f":"'[3]LO  Product Page'!AB57","v":8.1917416066783275},{"$f":"'[3]LO  Product Page'!AC57","v":0.87377021590514925},{"$f":"'[3]LO  Product Page'!AD57","v":2.6020063149320016},{"$f":"'[3]LO  Product Page'!AE57","v":1.111975211481649},{"$f":"'[3]LO  Product Page'!AF57","v":0.50688434706467556},{"$f":"'[3]LO  Product Page'!AG57","v":0.33792289804311715},{"$f":"'[3]LO  Product Page'!AH57","v":8.4480724510779268}]
[{"$f":"'[3]LO  Product Page'!B58","v":"HI N"},{"$f":"'[3]LO  Product Page'!C58","v":80791},{"$f":"'[3]LO  Product Page'!D58","v":"HI N"},{"$f":"'[3]LO  Product Page'!E58","v":0},{"$f":"'[3]LO  Product Page'!F58","v":1.1662130931907855},{"$f":"'[3]LO  Product Page'!G58","v":170.79295923505524},{"$f":"'[3]LO  Product Page'!H58","v":0},{"$f":"'[3]LO  Product Page'!I58","v":9.6723285408824129},{"$f":"'[3]LO  Product Page'!J58","v":985.74780541484779},{"$f":"'[3]LO  Product Page'!K58","v":0},{"$f":"'[3]LO  Product Page'!L58","v":2.6679290339874617},{"$f":"'[3]LO  Product Page'!M58","v":0.38286514059170718},{"$f":"'[3]LO  Product Page'!N58","v":7.8564761248125405},{"$f":"'[3]LO  Product Page'!O58","v":0},{"$f":"'[3]LO  Product Page'!P58","v":8.2393412654042475},{"$f":"'[3]LO  Product Page'!Q58","v":0.2670875219683656},{"$f":"'[3]LO  Product Page'!R58","v":0.31008000000000002},{"$f":"'[3]LO  Product Page'!S58","v":0},{"$f":"'[3]LO  Product Page'!T58","v":0.57716752196836563},{"$f":"'[3]LO  Product Page'!U58","v":0},{"$f":"'[3]LO  Product Page'!V58","v":0},{"$f":"'[3]LO  Product Page'!W58","v":510},{"$f":"'[3]LO  Product Page'!X58","v":490},{"$f":"'[3]LO  Product Page'!Y58","v":0},{"$f":"'[3]LO  Product Page'!Z58","v":0},{"$f":"'[3]LO  Product Page'!AA58","v":0},{"$f":"'[3]LO  Product Page'!AB58","v":8.239341265404251},{"$f":"'[3]LO  Product Page'!AC58","v":9.199755289611939E-3},{"$f":"'[3]LO  Product Page'!AD58","v":2.6679290339874617},{"$f":"'[3]LO  Product Page'!AE58","v":0.5855071719965953},{"$f":"'[3]LO  Product Page'!AF58","v":0.51972643519236261},{"$f":"'[3]LO  Product Page'!AG58","v":0.34648429012824183},{"$f":"'[3]LO  Product Page'!AH58","v":8.6621072532060435}]
[{"$f":"'[3]LO  Product Page'!B59","v":"LIQUID 50/50"},{"$f":"'[3]LO  Product Page'!C59","v":81811},{"$f":"'[3]LO  Product Page'!D59","v":"LIQUID 50/50"},{"$f":"'[3]LO  Product Page'!E59","v":0},{"$f":"'[3]LO  Product Page'!F59","v":1.1474043643969285},{"$f":"'[3]LO  Product Page'!G59","v":56.930986411685076},{"$f":"'[3]LO  Product Page'!H59","v":0},{"$f":"'[3]LO  Product Page'!I59","v":3.2241095136274707},{"$f":"'[3]LO  Product Page'!J59","v":1087.2492684716158},{"$f":"'[3]LO  Product Page'!K59","v":0},{"$f":"'[3]LO  Product Page'!L59","v":2.942643011329154},{"$f":"'[3]LO  Product Page'!M59","v":0.42228838019723575},{"$f":"'[3]LO  Product Page'!N59","v":2.6188253749375137},{"$f":"'[3]LO  Product Page'!O59","v":0},{"$f":"'[3]LO  Product Page'!P59","v":3.0411137551347496},{"$f":"'[3]LO  Product Page'!Q59","v":0.28902917398945521},{"$f":"'[3]LO  Product Page'!R59","v":0.10335999999999999},{"$f":"'[3]LO  Product Page'!S59","v":0},{"$f":"'[3]LO  Product Page'!T59","v":0.39238917398945522},{"$f":"'[3]LO  Product Page'!U59","v":0},{"$f":"'[3]LO  Product Page'!V59","v":0},{"$f":"'[3]LO  Product Page'!W59","v":170},{"$f":"'[3]LO  Product Page'!X59","v":830},{"$f":"'[3]LO  Product Page'!Y59","v":0},{"$f":"'[3]LO  Product Page'!Z59","v":0},{"$f":"'[3]LO  Product Page'!AA59","v":0},{"$f":"'[3]LO  Product Page'!AB59","v":3.0411137551347496},{"$f":"'[3]LO  Product Page'!AC59","v":1.0147044866652258E-2},{"$f":"'[3]LO  Product Page'!AD59","v":2.942643011329154},{"$f":"'[3]LO  Product Page'!AE59","v":0.40758285043564674},{"$f":"'[3]LO  Product Page'!AF59","v":0.57324214506412074},{"$f":"'[3]LO  Product Page'!AG59","v":0.38216143004274727},{"$f":"'[3]LO  Product Page'!AH59","v":9.55403575106868}]
[{"$f":"'[3]LO  Product Page'!B60","v":"LO N PLANTER"},{"$f":"'[3]LO  Product Page'!C60","v":88635},{"$f":"'[3]LO  Product Page'!D60","v":"LO N PLANTER"},{"$f":"'[3]LO  Product Page'!E60","v":0},{"$f":"'[3]LO  Product Page'!F60","v":1.1547838048654555},{"$f":"'[3]LO  Product Page'!G60","v":0},{"$f":"'[3]LO  Product Page'!H60","v":37.826750572784512},{"$f":"'[3]LO  Product Page'!I60","v":13.227759402752865},{"$f":"'[3]LO  Product Page'!J60","v":1103.729294889918},{"$f":"'[3]LO  Product Page'!K60","v":0},{"$f":"'[3]LO  Product Page'!L60","v":2.9872462462749985},{"$f":"'[3]LO  Product Page'!M60","v":0.42868923404336018},{"$f":"'[3]LO  Product Page'!N60","v":0},{"$f":"'[3]LO  Product Page'!O60","v":0.6638594725523681},{"$f":"'[3]LO  Product Page'!P60","v":1.0925487065957282},{"$f":"'[3]LO  Product Page'!Q60","v":0.29470650263620385},{"$f":"'[3]LO  Product Page'!R60","v":0.42316800000000004},{"$f":"'[3]LO  Product Page'!S60","v":5.8992960000000004E-2},{"$f":"'[3]LO  Product Page'!T60","v":0.77686746263620388},{"$f":"'[3]LO  Product Page'!U60","v":0.73762163616929799},{"$f":"'[3]LO  Product Page'!V60","v":232},{"$f":"'[3]LO  Product Page'!W60","v":0},{"$f":"'[3]LO  Product Page'!X60","v":768},{"$f":"'[3]LO  Product Page'!Y60","v":0},{"$f":"'[3]LO  Product Page'!Z60","v":0},{"$f":"'[3]LO  Product Page'!AA60","v":0},{"$f":"'[3]LO  Product Page'!AB60","v":1.0925487065957284},{"$f":"'[3]LO  Product Page'!AC60","v":0.74792248529438399},{"$f":"'[3]LO  Product Page'!AD60","v":2.9872462462749985},{"$f":"'[3]LO  Product Page'!AE60","v":0.79132350553422159},{"$f":"'[3]LO  Product Page'!AF60","v":0.58193108693668794},{"$f":"'[3]LO  Product Page'!AG60","v":0.38795405795779198},{"$f":"'[3]LO  Product Page'!AH60","v":9.698851448944799}]
[{"$f":"'[3]LO  Product Page'!B61","v":"LO P PLANTER"},{"$f":"'[3]LO  Product Page'!C61","v":102182},{"$f":"'[3]LO  Product Page'!D61","v":"LO P PLANTER"},{"$f":"'[3]LO  Product Page'!E61","v":0},{"$f":"'[3]LO  Product Page'!F61","v":1.1392298477703136},{"$f":"'[3]LO  Product Page'!G61","v":0},{"$f":"'[3]LO  Product Page'!H61","v":2.7717877574885201},{"$f":"'[3]LO  Product Page'!I61","v":0.96927547347758058},{"$f":"'[3]LO  Product Page'!J61","v":1135.4887845393473},{"$f":"'[3]LO  Product Page'!K61","v":0},{"$f":"'[3]LO  Product Page'!L61","v":3.0732033887356685},{"$f":"'[3]LO  Product Page'!M61","v":0.44102464214972908},{"$f":"'[3]LO  Product Page'!N61","v":0},{"$f":"'[3]LO  Product Page'!O61","v":4.864487514392353E-2},{"$f":"'[3]LO  Product Page'!P61","v":0.4896695172936526},{"$f":"'[3]LO  Product Page'!Q61","v":0.29961211441730801},{"$f":"'[3]LO  Product Page'!R61","v":3.1008000000000004E-2},{"$f":"'[3]LO  Product Page'!S61","v":4.3227600000000001E-3},{"$f":"'[3]LO  Product Page'!T61","v":0.33494287441730797},{"$f":"'[3]LO  Product Page'!U61","v":5.4049861271026151E-2},{"$f":"'[3]LO  Product Page'!V61","v":17},{"$f":"'[3]LO  Product Page'!W61","v":0},{"$f":"'[3]LO  Product Page'!X61","v":983},{"$f":"'[3]LO  Product Page'!Y61","v":0},{"$f":"'[3]LO  Product Page'!Z61","v":0},{"$f":"'[3]LO  Product Page'!AA61","v":0},{"$f":"'[3]LO  Product Page'!AB61","v":0.4896695172936526},{"$f":"'[3]LO  Product Page'!AC61","v":6.4647114335631889E-2},{"$f":"'[3]LO  Product Page'!AD61","v":3.073203388735668},{"$f":"'[3]LO  Product Page'!AE61","v":0.35325839599113723},{"$f":"'[3]LO  Product Page'!AF61","v":0.5986759848186366},{"$f":"'[3]LO  Product Page'!AG61","v":0.39911732321242444},{"$f":"'[3]LO  Product Page'!AH61","v":9.9779330803106099}]
[{"$f":"'[3]LO  Product Page'!B62","v":"LO P RATOONER"},{"$f":"'[3]LO  Product Page'!C62","v":89016},{"$f":"'[3]LO  Product Page'!D62","v":"LO P RATOONER"},{"$f":"'[3]LO  Product Page'!E62","v":0},{"$f":"'[3]LO  Product Page'!F62","v":1.159587707623458},{"$f":"'[3]LO  Product Page'!G62","v":94.773347967687499},{"$f":"'[3]LO  Product Page'!H62","v":13.369799771415215},{"$f":"'[3]LO  Product Page'!I62","v":10.042522827107},{"$f":"'[3]LO  Product Page'!J62","v":1041.4020370572482},{"$f":"'[3]LO  Product Page'!K62","v":0},{"$f":"'[3]LO  Product Page'!L62","v":2.8185573586435195},{"$f":"'[3]LO  Product Page'!M62","v":0.40448128328585575},{"$f":"'[3]LO  Product Page'!N62","v":4.3595740065136255},{"$f":"'[3]LO  Product Page'!O62","v":0.23463998598833702},{"$f":"'[3]LO  Product Page'!P62","v":4.998695275787818},{"$f":"'[3]LO  Product Page'!Q62","v":0.27986582388946124},{"$f":"'[3]LO  Product Page'!R62","v":0.32163200000000003},{"$f":"'[3]LO  Product Page'!S62","v":2.0850960000000002E-2},{"$f":"'[3]LO  Product Page'!T62","v":0.62234878388946124},{"$f":"'[3]LO  Product Page'!U62","v":0.26071109554259669},{"$f":"'[3]LO  Product Page'!V62","v":82},{"$f":"'[3]LO  Product Page'!W62","v":283},{"$f":"'[3]LO  Product Page'!X62","v":635},{"$f":"'[3]LO  Product Page'!Y62","v":0},{"$f":"'[3]LO  Product Page'!Z62","v":0},{"$f":"'[3]LO  Product Page'!AA62","v":0},{"$f":"'[3]LO  Product Page'!AB62","v":4.9986952757878189},{"$f":"'[3]LO  Product Page'!AC62","v":0.27043025884826399},{"$f":"'[3]LO  Product Page'!AD62","v":2.8185573586435195},{"$f":"'[3]LO  Product Page'!AE62","v":0.63379251728085106},{"$f":"'[3]LO  Product Page'!AF62","v":0.54906961532016596},{"$f":"'[3]LO  Product Page'!AG62","v":0.36604641021344408},{"$f":"'[3]LO  Product Page'!AH62","v":9.1511602553361016}]
[{"$f":"'[3]LO  Product Page'!B63","v":"LIQUID ONE SHOT"},{"$f":"'[3]LO  Product Page'!C63","v":80789},{"$f":"'[3]LO  Product Page'!D63","v":"LIQUID ONE SHOT"},{"$f":"'[3]LO  Product Page'!E63","v":0},{"$f":"'[3]LO  Product Page'!F63","v":1.1545959371710504},{"$f":"'[3]LO  Product Page'!G63","v":100.46644660885602},{"$f":"'[3]LO  Product Page'!H63","v":0},{"$f":"'[3]LO  Product Page'!I63","v":5.6896050240484772},{"$f":"'[3]LO  Product Page'!J63","v":1048.4398855381457},{"$f":"'[3]LO  Product Page'!K63","v":0},{"$f":"'[3]LO  Product Page'!L63","v":2.8376053141102719},{"$f":"'[3]LO  Product Page'!M63","v":0.40721478858335725},{"$f":"'[3]LO  Product Page'!N63","v":4.6214565440073772},{"$f":"'[3]LO  Product Page'!O63","v":0},{"$f":"'[3]LO  Product Page'!P63","v":5.0286713325907346},{"$f":"'[3]LO  Product Page'!Q63","v":0.28063971880492089},{"$f":"'[3]LO  Product Page'!R63","v":0.18240000000000001},{"$f":"'[3]LO  Product Page'!S63","v":0},{"$f":"'[3]LO  Product Page'!T63","v":0.4630397188049209},{"$f":"'[3]LO  Product Page'!U63","v":0},{"$f":"'[3]LO  Product Page'!V63","v":0},{"$f":"'[3]LO  Product Page'!W63","v":300},{"$f":"'[3]LO  Product Page'!X63","v":700},{"$f":"'[3]LO  Product Page'!Y63","v":0},{"$f":"'[3]LO  Product Page'!Z63","v":0},{"$f":"'[3]LO  Product Page'!AA63","v":0},{"$f":"'[3]LO  Product Page'!AB63","v":5.0286713325907355},{"$f":"'[3]LO  Product Page'!AC63","v":9.7848459107250756E-3},{"$f":"'[3]LO  Product Page'!AD63","v":2.8376053141102715},{"$f":"'[3]LO  Product Page'!AE63","v":0.47561273809130356},{"$f":"'[3]LO  Product Page'!AF63","v":0.5527802559955074},{"$f":"'[3]LO  Product Page'!AG63","v":0.36852017066367171},{"$f":"'[3]LO  Product Page'!AH63","v":9.2130042665917919}]
[{"$f":"'[3]LO  Product Page'!B64","v":"LIQUID ONE SHOT + P"},{"$f":"'[3]LO  Product Page'!C64","v":80793},{"$f":"'[3]LO  Product Page'!D64","v":"LIQUID ONE SHOT + P"},{"$f":"'[3]LO  Product Page'!E64","v":0},{"$f":"'[3]LO  Product Page'!F64","v":1.1639837019880346},{"$f":"'[3]LO  Product Page'!G64","v":89.415137481881857},{"$f":"'[3]LO  Product Page'!H64","v":25.272182494748272},{"$f":"'[3]LO  Product Page'!I64","v":13.901260141345791},{"$f":"'[3]LO  Product Page'!J64","v":1035.395121870059},{"$f":"'[3]LO  Product Page'!K64","v":0},{"$f":"'[3]LO  Product Page'!L64","v":2.8022996268539382},{"$f":"'[3]LO  Product Page'!M64","v":0.40214819320436379},{"$f":"'[3]LO  Product Page'!N64","v":4.1130963241665652},{"$f":"'[3]LO  Product Page'!O64","v":0.44352680278283213},{"$f":"'[3]LO  Product Page'!P64","v":4.9587713201537618},{"$f":"'[3]LO  Product Page'!Q64","v":0.27923274589418823},{"$f":"'[3]LO  Product Page'!R64","v":0.44505600000000006},{"$f":"'[3]LO  Product Page'!S64","v":3.9413400000000001E-2},{"$f":"'[3]LO  Product Page'!T64","v":0.76370214589418828},{"$f":"'[3]LO  Product Page'!U64","v":0.49280755864759124},{"$f":"'[3]LO  Product Page'!V64","v":155},{"$f":"'[3]LO  Product Page'!W64","v":267},{"$f":"'[3]LO  Product Page'!X64","v":578},{"$f":"'[3]LO  Product Page'!Y64","v":0},{"$f":"'[3]LO  Product Page'!Z64","v":0},{"$f":"'[3]LO  Product Page'!AA64","v":0},{"$f":"'[3]LO  Product Page'!AB64","v":4.9587713201537627},{"$f":"'[3]LO  Product Page'!AC64","v":0.50247066080915659},{"$f":"'[3]LO  Product Page'!AD64","v":2.8022996268539382},{"$f":"'[3]LO  Product Page'!AE64","v":0.77415799406183172},{"$f":"'[3]LO  Product Page'!AF64","v":0.54590252471180623},{"$f":"'[3]LO  Product Page'!AG64","v":0.36393501647453752},{"$f":"'[3]LO  Product Page'!AH64","v":9.0983754118634366}]
[{"$f":"'[3]LO  Product Page'!B65","v":"U.L.C."},{"$f":"'[3]LO  Product Page'!C65","v":81812},{"$f":"'[3]LO  Product Page'!D65","v":"U.L.C."},{"$f":"'[3]LO  Product Page'!E65","v":0},{"$f":"'[3]LO  Product Page'!F65","v":1.1700441095010397},{"$f":"'[3]LO  Product Page'!G65","v":299},{"$f":"'[3]LO  Product Page'!H65","v":0},{"$f":"'[3]LO  Product Page'!I65","v":0},{"$f":"'[3]LO  Product Page'!J65","v":872},{"$f":"'[3]LO  Product Page'!K65","v":0},{"$f":"'[3]LO  Product Page'!L65","v":2.1473477398781906},{"$f":"'[3]LO  Product Page'!M65","v":0.37023236894451556},{"$f":"'[3]LO  Product Page'!N65","v":13.754},{"$f":"'[3]LO  Product Page'!O65","v":0},{"$f":"'[3]LO  Product Page'!P65","v":14.12},{"$f":"'[3]LO  Product Page'!Q65","v":0.2223262436593397},{"$f":"'[3]LO  Product Page'!R65","v":0},{"$f":"'[3]LO  Product Page'!S65","v":0},{"$f":"'[3]LO  Product Page'!T65","v":0.2223262436593397},{"$f":"'[3]LO  Product Page'!U65","v":0},{"$f":"'[3]LO  Product Page'!V65","v":0},{"$f":"'[3]LO  Product Page'!W65","v":0},{"$f":"'[3]LO  Product Page'!X65","v":0},{"$f":"'[3]LO  Product Page'!Y65","v":0},{"$f":"'[3]LO  Product Page'!Z65","v":1000},{"$f":"'[3]LO  Product Page'!AA65","v":0},{"$f":"'[3]LO  Product Page'!AB65","v":14.12},{"$f":"'[3]LO  Product Page'!AC65","v":7.4046473788903127E-3},{"$f":"'[3]LO  Product Page'!AD65","v":2.1473477398781906},{"$f":"'[3]LO  Product Page'!AE65","v":0.22213942136670939},{"$f":"'[3]LO  Product Page'!AF65","v":0},{"$f":"'[3]LO  Product Page'!AG65","v":0},{"$f":"'[3]LO  Product Page'!AH65","v":7.56}]
[{"$f":"'[3]LO  Product Page'!B66","v":"LTD"},{"$f":"'[3]LO  Product Page'!C66","v":80797},{"$f":"'[3]LO  Product Page'!D66","v":"LTD"},{"$f":"'[3]LO  Product Page'!E66","v":0},{"$f":"'[3]LO  Product Page'!F66","v":1.1933197905701678},{"$f":"'[3]LO  Product Page'!G66","v":334.88815536285335},{"$f":"'[3]LO  Product Page'!H66","v":0},{"$f":"'[3]LO  Product Page'!I66","v":18.965350080161592},{"$f":"'[3]LO  Product Page'!J66","v":839.46628512715267},{"$f":"'[3]LO  Product Page'!K66","v":0},{"$f":"'[3]LO  Product Page'!L66","v":2.2720177137009054},{"$f":"'[3]LO  Product Page'!M66","v":0.3260492952778572},{"$f":"'[3]LO  Product Page'!N66","v":15.404855146691258},{"$f":"'[3]LO  Product Page'!O66","v":0},{"$f":"'[3]LO  Product Page'!P66","v":15.730904441969114},{"$f":"'[3]LO  Product Page'!Q66","v":0.23546572934973642},{"$f":"'[3]LO  Product Page'!R66","v":0.60799999999999998},{"$f":"'[3]LO  Product Page'!S66","v":0},{"$f":"'[3]LO  Product Page'!T66","v":0.8434657293497364},{"$f":"'[3]LO  Product Page'!U66","v":0},{"$f":"'[3]LO  Product Page'!V66","v":0},{"$f":"'[3]LO  Product Page'!W66","v":1000},{"$f":"'[3]LO  Product Page'!X66","v":0},{"$f":"'[3]LO  Product Page'!Y66","v":0},{"$f":"'[3]LO  Product Page'!Z66","v":0},{"$f":"'[3]LO  Product Page'!AA66","v":0},{"$f":"'[3]LO  Product Page'!AB66","v":15.730904441969116},{"$f":"'[3]LO  Product Page'!AC66","v":7.8345438403479503E-3},{"$f":"'[3]LO  Product Page'!AD66","v":2.272017713700905},{"$f":"'[3]LO  Product Page'!AE66","v":0.84192751777560948},{"$f":"'[3]LO  Product Page'!AF66","v":0.44260085331835824},{"$f":"'[3]LO  Product Page'!AG66","v":0.29506723554557213},{"$f":"'[3]LO  Product Page'!AH66","v":7.3766808886393038}]
[{"$f":"'[3]LO  Product Page'!B67","v":"LTD + P"},{"$f":"'[3]LO  Product Page'!C67","v":81814},{"$f":"'[3]LO  Product Page'!D67","v":"LTD + P"},{"$f":"'[3]LO  Product Page'!E67","v":0},{"$f":"'[3]LO  Product Page'!F67","v":1.2103439864890326},{"$f":"'[3]LO  Product Page'!G67","v":0},{"$f":"'[3]LO  Product Page'!H67","v":163.04633867579531},{"$f":"'[3]LO  Product Page'!I67","v":57.016204322210619},{"$f":"'[3]LO  Product Page'!J67","v":990.28144349102683},{"$f":"'[3]LO  Product Page'!K67","v":0},{"$f":"'[3]LO  Product Page'!L67","v":2.6801993373922346},{"$f":"'[3]LO  Product Page'!M67","v":0.38462600880758691},{"$f":"'[3]LO  Product Page'!N67","v":0},{"$f":"'[3]LO  Product Page'!O67","v":2.8614632437602072},{"$f":"'[3]LO  Product Page'!P67","v":3.2460892525677942},{"$f":"'[3]LO  Product Page'!Q67","v":0.27718320101812016},{"$f":"'[3]LO  Product Page'!R67","v":1.8240000000000003},{"$f":"'[3]LO  Product Page'!S67","v":0.25428000000000001},{"$f":"'[3]LO  Product Page'!T67","v":2.3554632010181207},{"$f":"'[3]LO  Product Page'!U67","v":3.1794036041780083},{"$f":"'[3]LO  Product Page'!V67","v":1000},{"$f":"'[3]LO  Product Page'!W67","v":0},{"$f":"'[3]LO  Product Page'!X67","v":0},{"$f":"'[3]LO  Product Page'!Y67","v":0},{"$f":"'[3]LO  Product Page'!Z67","v":0},{"$f":"'[3]LO  Product Page'!AA67","v":0},{"$f":"'[3]LO  Product Page'!AB67","v":3.2460892525677947},{"$f":"'[3]LO  Product Page'!AC67","v":3.188645670858671},{"$f":"'[3]LO  Product Page'!AD67","v":2.6801993373922341},{"$f":"'[3]LO  Product Page'!AE67","v":2.3561328270648669},{"$f":"'[3]LO  Product Page'!AF67","v":0.52211675403744828},{"$f":"'[3]LO  Product Page'!AG67","v":0.34807783602496556},{"$f":"'[3]LO  Product Page'!AH67","v":8.7019459006241373}]
[{"$f":"'[3]LO  Product Page'!B68","v":"LUCERNE"},{"$f":"'[3]LO  Product Page'!C68","v":93370},{"$f":"'[3]LO  Product Page'!D68","v":"LUCERNE"},{"$f":"'[3]LO  Product Page'!E68","v":0},{"$f":"'[3]LO  Product Page'!F68","v":1.15892850657074},{"$f":"'[3]LO  Product Page'!G68","v":29.470157671931094},{"$f":"'[3]LO  Product Page'!H68","v":36.196287186026559},{"$f":"'[3]LO  Product Page'!I68","v":14.326548166584978},{"$f":"'[3]LO  Product Page'!J68","v":1078.9355135461974},{"$f":"'[3]LO  Product Page'!K68","v":0},{"$f":"'[3]LO  Product Page'!L68","v":2.9201418117067561},{"$f":"'[3]LO  Product Page'!M68","v":0.41905931193973578},{"$f":"'[3]LO  Product Page'!N68","v":1.3556272529088305},{"$f":"'[3]LO  Product Page'!O68","v":0.63524484011476601},{"$f":"'[3]LO  Product Page'!P68","v":2.409931404963332},{"$f":"'[3]LO  Product Page'!Q68","v":0.2892556548087995},{"$f":"'[3]LO  Product Page'!R68","v":0.45843200000000006},{"$f":"'[3]LO  Product Page'!S68","v":5.6450160000000006E-2},{"$f":"'[3]LO  Product Page'!T68","v":0.80413781480879964},{"$f":"'[3]LO  Product Page'!U68","v":0.70582760012751788},{"$f":"'[3]LO  Product Page'!V68","v":222},{"$f":"'[3]LO  Product Page'!W68","v":88},{"$f":"'[3]LO  Product Page'!X68","v":690},{"$f":"'[3]LO  Product Page'!Y68","v":0},{"$f":"'[3]LO  Product Page'!Z68","v":0},{"$f":"'[3]LO  Product Page'!AA68","v":0},{"$f":"'[3]LO  Product Page'!AB68","v":2.4099314049633325},{"$f":"'[3]LO  Product Page'!AC68","v":0.71589705465064457},{"$f":"'[3]LO  Product Page'!AD68","v":2.9201418117067561},{"$f":"'[3]LO  Product Page'!AE68","v":0.81699938503472325},{"$f":"'[3]LO  Product Page'!AF68","v":0.5688587944883291},{"$f":"'[3]LO  Product Page'!AG68","v":0.3792391963255527},{"$f":"'[3]LO  Product Page'!AH68","v":9.4809799081388171}]
[{"$f":"'[3]LO  Product Page'!B69","v":"MID N + P"},{"$f":"'[3]LO  Product Page'!C69","v":102196},{"$f":"'[3]LO  Product Page'!D69","v":"MID N + P"},{"$f":"'[3]LO  Product Page'!E69","v":0},{"$f":"'[3]LO  Product Page'!F69","v":1.1622431283401551},{"$f":"'[3]LO  Product Page'!G69","v":99.461782142767461},{"$f":"'[3]LO  Product Page'!H69","v":17.609004576985892},{"$f":"'[3]LO  Product Page'!I69","v":11.79045904060674},{"$f":"'[3]LO  Product Page'!J69","v":1033.3818825797953},{"$f":"'[3]LO  Product Page'!K69","v":0},{"$f":"'[3]LO  Product Page'!L69","v":2.7968507894075301},{"$f":"'[3]LO  Product Page'!M69","v":0.40136624964874296},{"$f":"'[3]LO  Product Page'!N69","v":4.5752419785673037},{"$f":"'[3]LO  Product Page'!O69","v":0.30903803032610244},{"$f":"'[3]LO  Product Page'!P69","v":5.2856462585421493},{"$f":"'[3]LO  Product Page'!Q69","v":0.27836910732682868},{"$f":"'[3]LO  Product Page'!R69","v":0.37756800000000001},{"$f":"'[3]LO  Product Page'!S69","v":2.7462240000000002E-2},{"$f":"'[3]LO  Product Page'!T69","v":0.68339934732682872},{"$f":"'[3]LO  Product Page'!U69","v":0.34337558925122491},{"$f":"'[3]LO  Product Page'!V69","v":108},{"$f":"'[3]LO  Product Page'!W69","v":297},{"$f":"'[3]LO  Product Page'!X69","v":595},{"$f":"'[3]LO  Product Page'!Y69","v":0},{"$f":"'[3]LO  Product Page'!Z69","v":0},{"$f":"'[3]LO  Product Page'!AA69","v":0},{"$f":"'[3]LO  Product Page'!AB69","v":5.2856462585421493},{"$f":"'[3]LO  Product Page'!AC69","v":0.35301990231814739},{"$f":"'[3]LO  Product Page'!AD69","v":2.7968507894075301},{"$f":"'[3]LO  Product Page'!AE69","v":0.69409412844718921},{"$f":"'[3]LO  Product Page'!AF69","v":0.54484106287159684},{"$f":"'[3]LO  Product Page'!AG69","v":0.3632273752477313},{"$f":"'[3]LO  Product Page'!AH69","v":9.0806843811932811}]
[{"$f":"'[3]LO  Product Page'!B70","v":"MID N"},{"$f":"'[3]LO  Product Page'!C70","v":80790},{"$f":"'[3]LO  Product Page'!D70","v":"MID N"},{"$f":"'[3]LO  Product Page'!E70","v":0},{"$f":"'[3]LO  Product Page'!F70","v":1.158468322510962},{"$f":"'[3]LO  Product Page'!G70","v":123.90861748425576},{"$f":"'[3]LO  Product Page'!H70","v":0},{"$f":"'[3]LO  Product Page'!I70","v":7.0171795296597885},{"$f":"'[3]LO  Product Page'!J70","v":1027.5425254970464},{"$f":"'[3]LO  Product Page'!K70","v":0},{"$f":"'[3]LO  Product Page'!L70","v":2.7810465540693352},{"$f":"'[3]LO  Product Page'!M70","v":0.39909823925280724},{"$f":"'[3]LO  Product Page'!N70","v":5.6997964042757649},{"$f":"'[3]LO  Product Page'!O70","v":0},{"$f":"'[3]LO  Product Page'!P70","v":6.0988946435285722},{"$f":"'[3]LO  Product Page'!Q70","v":0.2761223198594025},{"$f":"'[3]LO  Product Page'!R70","v":0.22495999999999999},{"$f":"'[3]LO  Product Page'!S70","v":0},{"$f":"'[3]LO  Product Page'!T70","v":0.50108231985940255},{"$f":"'[3]LO  Product Page'!U70","v":0},{"$f":"'[3]LO  Product Page'!V70","v":0},{"$f":"'[3]LO  Product Page'!W70","v":370},{"$f":"'[3]LO  Product Page'!X70","v":630},{"$f":"'[3]LO  Product Page'!Y70","v":0},{"$f":"'[3]LO  Product Page'!Z70","v":0},{"$f":"'[3]LO  Product Page'!AA70","v":0},{"$f":"'[3]LO  Product Page'!AB70","v":6.0988946435285731},{"$f":"'[3]LO  Product Page'!AC70","v":9.5898157036873634E-3},{"$f":"'[3]LO  Product Page'!AD70","v":2.7810465540693352},{"$f":"'[3]LO  Product Page'!AE70","v":0.51224421605973425},{"$f":"'[3]LO  Product Page'!AF70","v":0.54176231572779254},{"$f":"'[3]LO  Product Page'!AG70","v":0.3611748771518617},{"$f":"'[3]LO  Product Page'!AH70","v":9.029371928796543}]
[{"$f":"'[3]LO  Product Page'!B71","v":"MKY 100"},{"$f":"'[3]LO  Product Page'!C71","v":102194},{"$f":"'[3]LO  Product Page'!D71","v":"MKY 100"},{"$f":"'[3]LO  Product Page'!E71","v":0},{"$f":"'[3]LO  Product Page'!F71","v":1.1444170957061395},{"$f":"'[3]LO  Product Page'!G71","v":38.847026022090994},{"$f":"'[3]LO  Product Page'!H71","v":0},{"$f":"'[3]LO  Product Page'!I71","v":2.1999806092987448},{"$f":"'[3]LO  Product Page'!J71","v":1103.3700890747496},{"$f":"'[3]LO  Product Page'!K71","v":0},{"$f":"'[3]LO  Product Page'!L71","v":2.986274054789305},{"$f":"'[3]LO  Product Page'!M71","v":0.42854971825223143},{"$f":"'[3]LO  Product Page'!N71","v":1.7869631970161857},{"$f":"'[3]LO  Product Page'!O71","v":0},{"$f":"'[3]LO  Product Page'!P71","v":2.215512915268417},{"$f":"'[3]LO  Product Page'!Q71","v":0.29251402460456943},{"$f":"'[3]LO  Product Page'!R71","v":7.0527999999999993E-2},{"$f":"'[3]LO  Product Page'!S71","v":0},{"$f":"'[3]LO  Product Page'!T71","v":0.36304202460456941},{"$f":"'[3]LO  Product Page'!U71","v":0},{"$f":"'[3]LO  Product Page'!V71","v":0},{"$f":"'[3]LO  Product Page'!W71","v":116},{"$f":"'[3]LO  Product Page'!X71","v":884},{"$f":"'[3]LO  Product Page'!Y71","v":0},{"$f":"'[3]LO  Product Page'!Z71","v":0},{"$f":"'[3]LO  Product Page'!AA71","v":0},{"$f":"'[3]LO  Product Page'!AB71","v":2.2155129152684174},{"$f":"'[3]LO  Product Page'!AC71","v":1.0297496740652777E-2},{"$f":"'[3]LO  Product Page'!AD71","v":2.986274054789305},{"$f":"'[3]LO  Product Page'!AE71","v":0.37932428171714311},{"$f":"'[3]LO  Product Page'!AF71","v":0.58174169898492945},{"$f":"'[3]LO  Product Page'!AG71","v":0.38782779932328643},{"$f":"'[3]LO  Product Page'!AH71","v":9.6956949830821593}]
[{"$f":"'[3]LO  Product Page'!B72","v":"MKY 110"},{"$f":"'[3]LO  Product Page'!C72","v":102205},{"$f":"'[3]LO  Product Page'!D72","v":"MKY 110"},{"$f":"'[3]LO  Product Page'!E72","v":0},{"$f":"'[3]LO  Product Page'!F72","v":1.1458000904703936},{"$f":"'[3]LO  Product Page'!G72","v":47.219229906162333},{"$f":"'[3]LO  Product Page'!H72","v":0},{"$f":"'[3]LO  Product Page'!I72","v":2.674114361302784},{"$f":"'[3]LO  Product Page'!J72","v":1095.9067462029284},{"$f":"'[3]LO  Product Page'!K72","v":0},{"$f":"'[3]LO  Product Page'!L72","v":2.9660744976318276},{"$f":"'[3]LO  Product Page'!M72","v":0.42565095063417796},{"$f":"'[3]LO  Product Page'!N72","v":2.1720845756834675},{"$f":"'[3]LO  Product Page'!O72","v":0},{"$f":"'[3]LO  Product Page'!P72","v":2.5977355263176456},{"$f":"'[3]LO  Product Page'!Q72","v":0.29090066783831287},{"$f":"'[3]LO  Product Page'!R72","v":8.5727999999999999E-2},{"$f":"'[3]LO  Product Page'!S72","v":0},{"$f":"'[3]LO  Product Page'!T72","v":0.37662866783831284},{"$f":"'[3]LO  Product Page'!U72","v":0},{"$f":"'[3]LO  Product Page'!V72","v":0},{"$f":"'[3]LO  Product Page'!W72","v":141},{"$f":"'[3]LO  Product Page'!X72","v":859},{"$f":"'[3]LO  Product Page'!Y72","v":0},{"$f":"'[3]LO  Product Page'!Z72","v":0},{"$f":"'[3]LO  Product Page'!AA72","v":0},{"$f":"'[3]LO  Product Page'!AB72","v":2.5977355263176451},{"$f":"'[3]LO  Product Page'!AC72","v":1.0227843095282166E-2},{"$f":"'[3]LO  Product Page'!AD72","v":2.9660744976318276},{"$f":"'[3]LO  Product Page'!AE72","v":0.39240695242015411},{"$f":"'[3]LO  Product Page'!AF72","v":0.57780672031788849},{"$f":"'[3]LO  Product Page'!AG72","v":0.38520448021192566},{"$f":"'[3]LO  Product Page'!AH72","v":9.630112005298141}]
[{"$f":"'[3]LO  Product Page'!B73","v":"MKY 120P"},{"$f":"'[3]LO  Product Page'!C73","v":102198},{"$f":"'[3]LO  Product Page'!D73","v":"MKY 120P"},{"$f":"'[3]LO  Product Page'!E73","v":0},{"$f":"'[3]LO  Product Page'!F73","v":1.1536387949974196},{"$f":"'[3]LO  Product Page'!G73","v":43.870348352533796},{"$f":"'[3]LO  Product Page'!H73","v":18.913375286392256},{"$f":"'[3]LO  Product Page'!I73","v":9.0983405618776008},{"$f":"'[3]LO  Product Page'!J73","v":1081.756730796616},{"$f":"'[3]LO  Product Page'!K73","v":0},{"$f":"'[3]LO  Product Page'!L73","v":2.9277774436323178},{"$f":"'[3]LO  Product Page'!M73","v":0.42015507470307939},{"$f":"'[3]LO  Product Page'!N73","v":2.0180360242165549},{"$f":"'[3]LO  Product Page'!O73","v":0.33192973627618405},{"$f":"'[3]LO  Product Page'!P73","v":2.7701208351958186},{"$f":"'[3]LO  Product Page'!Q73","v":0.28889926186291742},{"$f":"'[3]LO  Product Page'!R73","v":0.29123199999999999},{"$f":"'[3]LO  Product Page'!S73","v":2.9496480000000002E-2},{"$f":"'[3]LO  Product Page'!T73","v":0.60962774186291746},{"$f":"'[3]LO  Product Page'!U73","v":0.36881081808464899},{"$f":"'[3]LO  Product Page'!V73","v":116},{"$f":"'[3]LO  Product Page'!W73","v":131},{"$f":"'[3]LO  Product Page'!X73","v":753},{"$f":"'[3]LO  Product Page'!Y73","v":0},{"$f":"'[3]LO  Product Page'!Z73","v":0},{"$f":"'[3]LO  Product Page'!AA73","v":0},{"$f":"'[3]LO  Product Page'!AB73","v":2.7701208351958186},{"$f":"'[3]LO  Product Page'!AC73","v":0.37890660237303619},{"$f":"'[3]LO  Product Page'!AD73","v":2.9277774436323178},{"$f":"'[3]LO  Product Page'!AE73","v":0.62352529207847429},{"$f":"'[3]LO  Product Page'!AF73","v":0.57034625525304883},{"$f":"'[3]LO  Product Page'!AG73","v":0.38023083683536596},{"$f":"'[3]LO  Product Page'!AH73","v":9.5057709208841477}]
[{"$f":"'[3]LO  Product Page'!B74","v":"MKY 130P"},{"$f":"'[3]LO  Product Page'!C74","v":102199},{"$f":"'[3]LO  Product Page'!D74","v":"MKY 130P"},{"$f":"'[3]LO  Product Page'!E74","v":0},{"$f":"'[3]LO  Product Page'!F74","v":1.1539749255589897},{"$f":"'[3]LO  Product Page'!G74","v":52.912328547330837},{"$f":"'[3]LO  Product Page'!H74","v":16.304633867579529},{"$f":"'[3]LO  Product Page'!I74","v":8.6981457448865935},{"$f":"'[3]LO  Product Page'!J74","v":1076.0598173991928},{"$f":"'[3]LO  Product Page'!K74","v":0},{"$f":"'[3]LO  Product Page'!L74","v":2.9123587325039666},{"$f":"'[3]LO  Product Page'!M74","v":0.41794238953466012},{"$f":"'[3]LO  Product Page'!N74","v":2.4339671131772183},{"$f":"'[3]LO  Product Page'!O74","v":0.28614632437602072},{"$f":"'[3]LO  Product Page'!P74","v":3.1380558270878991},{"$f":"'[3]LO  Product Page'!Q74","v":0.28752190533907035},{"$f":"'[3]LO  Product Page'!R74","v":0.27846400000000004},{"$f":"'[3]LO  Product Page'!S74","v":2.5428000000000003E-2},{"$f":"'[3]LO  Product Page'!T74","v":0.59141390533907034},{"$f":"'[3]LO  Product Page'!U74","v":0.31794036041780083},{"$f":"'[3]LO  Product Page'!V74","v":100},{"$f":"'[3]LO  Product Page'!W74","v":158},{"$f":"'[3]LO  Product Page'!X74","v":742},{"$f":"'[3]LO  Product Page'!Y74","v":0},{"$f":"'[3]LO  Product Page'!Z74","v":0},{"$f":"'[3]LO  Product Page'!AA74","v":0},{"$f":"'[3]LO  Product Page'!AB74","v":3.1380558270879},{"$f":"'[3]LO  Product Page'!AC74","v":0.32798297673678001},{"$f":"'[3]LO  Product Page'!AD74","v":2.9123587325039666},{"$f":"'[3]LO  Product Page'!AE74","v":0.60505438223917096},{"$f":"'[3]LO  Product Page'!AF74","v":0.56734261022804544},{"$f":"'[3]LO  Product Page'!AG74","v":0.37822840681869702},{"$f":"'[3]LO  Product Page'!AH74","v":9.4557101704674249}]
[{"$f":"'[3]LO  Product Page'!B75","v":"MKY 140P"},{"$f":"'[3]LO  Product Page'!C75","v":102203},{"$f":"'[3]LO  Product Page'!D75","v":"MKY 140P"},{"$f":"'[3]LO  Product Page'!E75","v":0},{"$f":"'[3]LO  Product Page'!F75","v":1.1546898002489239},{"$f":"'[3]LO  Product Page'!G75","v":61.619420586765024},{"$f":"'[3]LO  Product Page'!H75","v":14.674170480821576},{"$f":"'[3]LO  Product Page'!I75","v":8.6210828037486884},{"$f":"'[3]LO  Product Page'!J75","v":1069.7751263775885},{"$f":"'[3]LO  Product Page'!K75","v":0},{"$f":"'[3]LO  Product Page'!L75","v":2.8953491996862679},{"$f":"'[3]LO  Product Page'!M75","v":0.41550141112380856},{"$f":"'[3]LO  Product Page'!N75","v":2.834493346991191},{"$f":"'[3]LO  Product Page'!O75","v":0.25753169193841868},{"$f":"'[3]LO  Product Page'!P75","v":3.5075264500534185},{"$f":"'[3]LO  Product Page'!Q75","v":0.28607218229198234},{"$f":"'[3]LO  Product Page'!R75","v":0.276032},{"$f":"'[3]LO  Product Page'!S75","v":2.2885200000000001E-2},{"$f":"'[3]LO  Product Page'!T75","v":0.58498938229198238},{"$f":"'[3]LO  Product Page'!U75","v":0.28614632437602078},{"$f":"'[3]LO  Product Page'!V75","v":90},{"$f":"'[3]LO  Product Page'!W75","v":184},{"$f":"'[3]LO  Product Page'!X75","v":726},{"$f":"'[3]LO  Product Page'!Y75","v":0},{"$f":"'[3]LO  Product Page'!Z75","v":0},{"$f":"'[3]LO  Product Page'!AA75","v":0},{"$f":"'[3]LO  Product Page'!AB75","v":3.5075264500534189},{"$f":"'[3]LO  Product Page'!AC75","v":0.29613028713355966},{"$f":"'[3]LO  Product Page'!AD75","v":2.8953491996862679},{"$f":"'[3]LO  Product Page'!AE75","v":0.5982852383962054},{"$f":"'[3]LO  Product Page'!AF75","v":0.56402906487394833},{"$f":"'[3]LO  Product Page'!AG75","v":0.37601937658263229},{"$f":"'[3]LO  Product Page'!AH75","v":9.4004844145658062}]
[{"$f":"'[3]LO  Product Page'!B76","v":"MKY 150"},{"$f":"'[3]LO  Product Page'!C76","v":102191},{"$f":"'[3]LO  Product Page'!D76","v":"MKY 150"},{"$f":"'[3]LO  Product Page'!E76","v":0},{"$f":"'[3]LO  Product Page'!F76","v":1.1490639581140336},{"$f":"'[3]LO  Product Page'!G76","v":66.977631072570688},{"$f":"'[3]LO  Product Page'!H76","v":0},{"$f":"'[3]LO  Product Page'!I76","v":3.7930700160323187},{"$f":"'[3]LO  Product Page'!J76","v":1078.2932570254304},{"$f":"'[3]LO  Product Page'!K76","v":0},{"$f":"'[3]LO  Product Page'!L76","v":2.9184035427401809},{"$f":"'[3]LO  Product Page'!M76","v":0.4188098590555715},{"$f":"'[3]LO  Product Page'!N76","v":3.0809710293382517},{"$f":"'[3]LO  Product Page'!O76","v":0},{"$f":"'[3]LO  Product Page'!P76","v":3.4997808883938233},{"$f":"'[3]LO  Product Page'!Q76","v":0.28709314586994727},{"$f":"'[3]LO  Product Page'!R76","v":0.1216},{"$f":"'[3]LO  Product Page'!S76","v":0},{"$f":"'[3]LO  Product Page'!T76","v":0.40869314586994726},{"$f":"'[3]LO  Product Page'!U76","v":0},{"$f":"'[3]LO  Product Page'!V76","v":0},{"$f":"'[3]LO  Product Page'!W76","v":200},{"$f":"'[3]LO  Product Page'!X76","v":800},{"$f":"'[3]LO  Product Page'!Y76","v":0},{"$f":"'[3]LO  Product Page'!Z76","v":0},{"$f":"'[3]LO  Product Page'!AA76","v":0},{"$f":"'[3]LO  Product Page'!AB76","v":3.4997808883938233},{"$f":"'[3]LO  Product Page'!AC76","v":1.0063460492207523E-2},{"$f":"'[3]LO  Product Page'!AD76","v":2.9184035427401809},{"$f":"'[3]LO  Product Page'!AE76","v":0.42328205527925988},{"$f":"'[3]LO  Product Page'!AF76","v":0.56852017066367155},{"$f":"'[3]LO  Product Page'!AG76","v":0.37901344710911439},{"$f":"'[3]LO  Product Page'!AH76","v":9.4753361777278613}]
[{"$f":"'[3]LO  Product Page'!B77","v":"MKY 150P"},{"$f":"'[3]LO  Product Page'!C77","v":95514},{"$f":"'[3]LO  Product Page'!D77","v":"MKY 150P"},{"$f":"'[3]LO  Product Page'!E77","v":0},{"$f":"'[3]LO  Product Page'!F77","v":1.1581325457960376},{"$f":"'[3]LO  Product Page'!G77","v":57.935650877773639},{"$f":"'[3]LO  Product Page'!H77","v":23.804765446666114},{"$f":"'[3]LO  Product Page'!I77","v":11.605371394910705},{"$f":"'[3]LO  Product Page'!J77","v":1064.7867580766874},{"$f":"'[3]LO  Product Page'!K77","v":0},{"$f":"'[3]LO  Product Page'!L77","v":2.8818481677295229},{"$f":"'[3]LO  Product Page'!M77","v":0.41356392536897696},{"$f":"'[3]LO  Product Page'!N77","v":2.6650399403775875},{"$f":"'[3]LO  Product Page'!O77","v":0.41777363358899033},{"$f":"'[3]LO  Product Page'!P77","v":3.496377499335555},{"$f":"'[3]LO  Product Page'!Q77","v":0.28550431852614994},{"$f":"'[3]LO  Product Page'!R77","v":0.37148799999999998},{"$f":"'[3]LO  Product Page'!S77","v":3.7124879999999999E-2},{"$f":"'[3]LO  Product Page'!T77","v":0.69411719852614995},{"$f":"'[3]LO  Product Page'!U77","v":0.46419292620998925},{"$f":"'[3]LO  Product Page'!V77","v":146},{"$f":"'[3]LO  Product Page'!W77","v":173},{"$f":"'[3]LO  Product Page'!X77","v":681},{"$f":"'[3]LO  Product Page'!Y77","v":0},{"$f":"'[3]LO  Product Page'!Z77","v":0},{"$f":"'[3]LO  Product Page'!AA77","v":0},{"$f":"'[3]LO  Product Page'!AB77","v":3.496377499335555},{"$f":"'[3]LO  Product Page'!AC77","v":0.47413033368491853},{"$f":"'[3]LO  Product Page'!AD77","v":2.8818481677295229},{"$f":"'[3]LO  Product Page'!AE77","v":0.70662954298182346},{"$f":"'[3]LO  Product Page'!AF77","v":0.5613989937135434},{"$f":"'[3]LO  Product Page'!AG77","v":0.37426599580902897},{"$f":"'[3]LO  Product Page'!AH77","v":9.3566498952257238}]
[{"$f":"'[3]LO  Product Page'!B78","v":"MKY 160"},{"$f":"'[3]LO  Product Page'!C78","v":102183},{"$f":"'[3]LO  Product Page'!D78","v":"MKY 160"},{"$f":"'[3]LO  Product Page'!E78","v":0},{"$f":"'[3]LO  Product Page'!F78","v":1.1499490747631562},{"$f":"'[3]LO  Product Page'!G78","v":72.33584155837633},{"$f":"'[3]LO  Product Page'!H78","v":0},{"$f":"'[3]LO  Product Page'!I78","v":4.0965156173149042},{"$f":"'[3]LO  Product Page'!J78","v":1073.5167175874651},{"$f":"'[3]LO  Product Page'!K78","v":0},{"$f":"'[3]LO  Product Page'!L78","v":2.905475826159396},{"$f":"'[3]LO  Product Page'!M78","v":0.41695464778001723},{"$f":"'[3]LO  Product Page'!N78","v":3.3274487116853115},{"$f":"'[3]LO  Product Page'!O78","v":0},{"$f":"'[3]LO  Product Page'!P78","v":3.7444033594653288},{"$f":"'[3]LO  Product Page'!Q78","v":0.28606059753954305},{"$f":"'[3]LO  Product Page'!R78","v":0.131328},{"$f":"'[3]LO  Product Page'!S78","v":0},{"$f":"'[3]LO  Product Page'!T78","v":0.41738859753954305},{"$f":"'[3]LO  Product Page'!U78","v":0},{"$f":"'[3]LO  Product Page'!V78","v":0},{"$f":"'[3]LO  Product Page'!W78","v":216},{"$f":"'[3]LO  Product Page'!X78","v":784},{"$f":"'[3]LO  Product Page'!Y78","v":0},{"$f":"'[3]LO  Product Page'!Z78","v":0},{"$f":"'[3]LO  Product Page'!AA78","v":0},{"$f":"'[3]LO  Product Page'!AB78","v":3.7444033594653292},{"$f":"'[3]LO  Product Page'!AC78","v":1.0018882159170331E-2},{"$f":"'[3]LO  Product Page'!AD78","v":2.9054758261593956},{"$f":"'[3]LO  Product Page'!AE78","v":0.43165496452918684},{"$f":"'[3]LO  Product Page'!AF78","v":0.5660017843167654},{"$f":"'[3]LO  Product Page'!AG78","v":0.37733452287784369},{"$f":"'[3]LO  Product Page'!AH78","v":9.4333630719460917}]
[{"$f":"'[3]LO  Product Page'!B79","v":"MKY 160P"},{"$f":"'[3]LO  Product Page'!C79","v":102158},{"$f":"'[3]LO  Product Page'!D79","v":"MKY 160P"},{"$f":"'[3]LO  Product Page'!E79","v":0},{"$f":"'[3]LO  Product Page'!F79","v":1.1589453184586713},{"$f":"'[3]LO  Product Page'!G79","v":63.293861363579289},{"$f":"'[3]LO  Product Page'!H79","v":23.641719107990319},{"$f":"'[3]LO  Product Page'!I79","v":11.851800791871081},{"$f":"'[3]LO  Product Page'!J79","v":1060.1579371952307},{"$f":"'[3]LO  Product Page'!K79","v":0},{"$f":"'[3]LO  Product Page'!L79","v":2.8693202518113456},{"$f":"'[3]LO  Product Page'!M79","v":0.41176608808461518},{"$f":"'[3]LO  Product Page'!N79","v":2.9115176227246473},{"$f":"'[3]LO  Product Page'!O79","v":0.41491217034523009},{"$f":"'[3]LO  Product Page'!P79","v":3.7381958811544926},{"$f":"'[3]LO  Product Page'!Q79","v":0.28449458699472763},{"$f":"'[3]LO  Product Page'!R79","v":0.37939200000000001},{"$f":"'[3]LO  Product Page'!S79","v":3.6870600000000003E-2},{"$f":"'[3]LO  Product Page'!T79","v":0.70075718699472767},{"$f":"'[3]LO  Product Page'!U79","v":0.46101352260581119},{"$f":"'[3]LO  Product Page'!V79","v":145},{"$f":"'[3]LO  Product Page'!W79","v":189},{"$f":"'[3]LO  Product Page'!X79","v":666},{"$f":"'[3]LO  Product Page'!Y79","v":0},{"$f":"'[3]LO  Product Page'!Z79","v":0},{"$f":"'[3]LO  Product Page'!AA79","v":0},{"$f":"'[3]LO  Product Page'!AB79","v":3.7381958811544935},{"$f":"'[3]LO  Product Page'!AC79","v":0.47090773037067785},{"$f":"'[3]LO  Product Page'!AD79","v":2.8693202518113452},{"$f":"'[3]LO  Product Page'!AE79","v":0.71296494009434075},{"$f":"'[3]LO  Product Page'!AF79","v":0.55895849061259972},{"$f":"'[3]LO  Product Page'!AG79","v":0.3726389937417332},{"$f":"'[3]LO  Product Page'!AH79","v":9.3159748435433283}]
[{"$f":"'[3]LO  Product Page'!B80","v":"MKY 170"},{"$f":"'[3]LO  Product Page'!C80","v":102185},{"$f":"'[3]LO  Product Page'!D80","v":"MKY 170"},{"$f":"'[3]LO  Product Page'!E80","v":0},{"$f":"'[3]LO  Product Page'!F80","v":1.1507788716217087},{"$f":"'[3]LO  Product Page'!G80","v":77.35916388881914},{"$f":"'[3]LO  Product Page'!H80","v":0},{"$f":"'[3]LO  Product Page'!I80","v":4.3809958685173278},{"$f":"'[3]LO  Product Page'!J80","v":1069.0387118643721},{"$f":"'[3]LO  Product Page'!K80","v":0},{"$f":"'[3]LO  Product Page'!L80","v":2.8933560918649093},{"$f":"'[3]LO  Product Page'!M80","v":0.41521538720918505},{"$f":"'[3]LO  Product Page'!N80","v":3.5585215388856803},{"$f":"'[3]LO  Product Page'!O80","v":0},{"$f":"'[3]LO  Product Page'!P80","v":3.9737369260948654},{"$f":"'[3]LO  Product Page'!Q80","v":0.28509258347978911},{"$f":"'[3]LO  Product Page'!R80","v":0.14044799999999999},{"$f":"'[3]LO  Product Page'!S80","v":0},{"$f":"'[3]LO  Product Page'!T80","v":0.42554058347978907},{"$f":"'[3]LO  Product Page'!U80","v":0},{"$f":"'[3]LO  Product Page'!V80","v":0},{"$f":"'[3]LO  Product Page'!W80","v":231},{"$f":"'[3]LO  Product Page'!X80","v":769},{"$f":"'[3]LO  Product Page'!Y80","v":0},{"$f":"'[3]LO  Product Page'!Z80","v":0},{"$f":"'[3]LO  Product Page'!AA80","v":0},{"$f":"'[3]LO  Product Page'!AB80","v":3.9737369260948663},{"$f":"'[3]LO  Product Page'!AC80","v":9.9770899719479646E-3},{"$f":"'[3]LO  Product Page'!AD80","v":2.8933560918649093},{"$f":"'[3]LO  Product Page'!AE80","v":0.43950456695099344},{"$f":"'[3]LO  Product Page'!AF80","v":0.56364079711654058},{"$f":"'[3]LO  Product Page'!AG80","v":0.37576053141102717},{"$f":"'[3]LO  Product Page'!AH80","v":9.3940132852756779}]
[{"$f":"'[3]LO  Product Page'!B81","v":"MKY 170P"},{"$f":"'[3]LO  Product Page'!C81","v":102181},{"$f":"'[3]LO  Product Page'!D81","v":"MKY 170P"},{"$f":"'[3]LO  Product Page'!E81","v":0},{"$f":"'[3]LO  Product Page'!F81","v":1.1582771629996866},{"$f":"'[3]LO  Product Page'!G81","v":69.321848160110648},{"$f":"'[3]LO  Product Page'!H81","v":19.891653318447027},{"$f":"'[3]LO  Product Page'!I81","v":10.881804393903145},{"$f":"'[3]LO  Product Page'!J81","v":1058.1818571272258},{"$f":"'[3]LO  Product Page'!K81","v":0},{"$f":"'[3]LO  Product Page'!L81","v":2.8639719858979404},{"$f":"'[3]LO  Product Page'!M81","v":0.41099857719704208},{"$f":"'[3]LO  Product Page'!N81","v":3.18880501536509},{"$f":"'[3]LO  Product Page'!O81","v":0.34909851573874534},{"$f":"'[3]LO  Product Page'!P81","v":3.9489021083008771},{"$f":"'[3]LO  Product Page'!Q81","v":0.2838577564996061},{"$f":"'[3]LO  Product Page'!R81","v":0.34838400000000003},{"$f":"'[3]LO  Product Page'!S81","v":3.1022160000000003E-2},{"$f":"'[3]LO  Product Page'!T81","v":0.66326391649960614},{"$f":"'[3]LO  Product Page'!U81","v":0.387887239709717},{"$f":"'[3]LO  Product Page'!V81","v":122},{"$f":"'[3]LO  Product Page'!W81","v":207},{"$f":"'[3]LO  Product Page'!X81","v":671},{"$f":"'[3]LO  Product Page'!Y81","v":0},{"$f":"'[3]LO  Product Page'!Z81","v":0},{"$f":"'[3]LO  Product Page'!AA81","v":0},{"$f":"'[3]LO  Product Page'!AB81","v":3.948902108300878},{"$f":"'[3]LO  Product Page'!AC81","v":0.39776300517833063},{"$f":"'[3]LO  Product Page'!AD81","v":2.8639719858979404},{"$f":"'[3]LO  Product Page'!AE81","v":0.67552168384008571},{"$f":"'[3]LO  Product Page'!AF81","v":0.5579166206294689},{"$f":"'[3]LO  Product Page'!AG81","v":0.37194441375297926},{"$f":"'[3]LO  Product Page'!AH81","v":9.29861034382448}]
[{"$f":"'[3]LO  Product Page'!B82","v":"MKY 180P"},{"$f":"'[3]LO  Product Page'!C82","v":102201},{"$f":"'[3]LO  Product Page'!D82","v":"MKY 180P"},{"$f":"'[3]LO  Product Page'!E82","v":0},{"$f":"'[3]LO  Product Page'!F82","v":1.1566217103314016},{"$f":"'[3]LO  Product Page'!G82","v":77.694052044181987},{"$f":"'[3]LO  Product Page'!H82","v":13.043707094063626},{"$f":"'[3]LO  Product Page'!I82","v":8.9612575643743391},{"$f":"'[3]LO  Product Page'!J82","v":1056.9226936287816},{"$f":"'[3]LO  Product Page'!K82","v":0},{"$f":"'[3]LO  Product Page'!L82","v":2.8605640565699892},{"$f":"'[3]LO  Product Page'!M82","v":0.41050951720906992},{"$f":"'[3]LO  Product Page'!N82","v":3.5739263940323713},{"$f":"'[3]LO  Product Page'!O82","v":0.22891705950081656},{"$f":"'[3]LO  Product Page'!P82","v":4.2133529707422577},{"$f":"'[3]LO  Product Page'!Q82","v":0.28320270529058844},{"$f":"'[3]LO  Product Page'!R82","v":0.28697600000000001},{"$f":"'[3]LO  Product Page'!S82","v":2.03424E-2},{"$f":"'[3]LO  Product Page'!T82","v":0.59052110529058843},{"$f":"'[3]LO  Product Page'!U82","v":0.25435228833424067},{"$f":"'[3]LO  Product Page'!V82","v":80},{"$f":"'[3]LO  Product Page'!W82","v":232},{"$f":"'[3]LO  Product Page'!X82","v":688},{"$f":"'[3]LO  Product Page'!Y82","v":0},{"$f":"'[3]LO  Product Page'!Z82","v":0},{"$f":"'[3]LO  Product Page'!AA82","v":0},{"$f":"'[3]LO  Product Page'!AB82","v":4.2133529707422586},{"$f":"'[3]LO  Product Page'!AC82","v":0.264216302322413},{"$f":"'[3]LO  Product Page'!AD82","v":2.8605640565699888},{"$f":"'[3]LO  Product Page'!AE82","v":0.60302884477188934},{"$f":"'[3]LO  Product Page'!AF82","v":0.55725273829285504},{"$f":"'[3]LO  Product Page'!AG82","v":0.37150182552857008},{"$f":"'[3]LO  Product Page'!AH82","v":9.2875456382142509}]
[{"$f":"'[3]LO  Product Page'!B83","v":"MKY 190P"},{"$f":"'[3]LO  Product Page'!C83","v":102202},{"$f":"'[3]LO  Product Page'!D83","v":"MKY 190P"},{"$f":"'[3]LO  Product Page'!E83","v":0},{"$f":"'[3]LO  Product Page'!F83","v":1.1592175994393794},{"$f":"'[3]LO  Product Page'!G83","v":75.014946801279166},{"$f":"'[3]LO  Product Page'!H83","v":19.891653318447027},{"$f":"'[3]LO  Product Page'!I83","v":11.204215345265892},{"$f":"'[3]LO  Product Page'!J83","v":1053.1067839743876},{"$f":"'[3]LO  Product Page'!K83","v":0},{"$f":"'[3]LO  Product Page'!L83","v":2.8502362870308553},{"$f":"'[3]LO  Product Page'!M83","v":0.40902741521676567},{"$f":"'[3]LO  Product Page'!N83","v":3.4506875528588417},{"$f":"'[3]LO  Product Page'!O83","v":0.34909851573874534},{"$f":"'[3]LO  Product Page'!P83","v":4.2088134838143523},{"$f":"'[3]LO  Product Page'!Q83","v":0.28276067389855164},{"$f":"'[3]LO  Product Page'!R83","v":0.35872000000000004},{"$f":"'[3]LO  Product Page'!S83","v":3.1022160000000003E-2},{"$f":"'[3]LO  Product Page'!T83","v":0.6725028338985517},{"$f":"'[3]LO  Product Page'!U83","v":0.387887239709717},{"$f":"'[3]LO  Product Page'!V83","v":122},{"$f":"'[3]LO  Product Page'!W83","v":224},{"$f":"'[3]LO  Product Page'!X83","v":654},{"$f":"'[3]LO  Product Page'!Y83","v":0},{"$f":"'[3]LO  Product Page'!Z83","v":0},{"$f":"'[3]LO  Product Page'!AA83","v":0},{"$f":"'[3]LO  Product Page'!AB83","v":4.2088134838143532},{"$f":"'[3]LO  Product Page'!AC83","v":0.39771564069947862},{"$f":"'[3]LO  Product Page'!AD83","v":2.8502362870308557},{"$f":"'[3]LO  Product Page'!AE83","v":0.68441789991813307},{"$f":"'[3]LO  Product Page'!AF83","v":0.55524083513588096},{"$f":"'[3]LO  Product Page'!AG83","v":0.37016055675725401},{"$f":"'[3]LO  Product Page'!AH83","v":9.2540139189313511}]
[{"$f":"'[3]LO  Product Page'!B84","v":"MKY 200P"},{"$f":"'[3]LO  Product Page'!C84","v":102193},{"$f":"'[3]LO  Product Page'!D84","v":"MKY 200P"},{"$f":"'[3]LO  Product Page'!E84","v":0},{"$f":"'[3]LO  Product Page'!F84","v":1.1696690403469798},{"$f":"'[3]LO  Product Page'!G84","v":97.117565055227487},{"$f":"'[3]LO  Product Page'!H84","v":35.218009153971785},{"$f":"'[3]LO  Product Page'!I84","v":17.815451656844356},{"$f":"'[3]LO  Product Page'!J84","v":1019.5180144809358},{"$f":"'[3]LO  Product Page'!K84","v":0},{"$f":"'[3]LO  Product Page'!L84","v":2.759328193849985},{"$f":"'[3]LO  Product Page'!M84","v":0.39598151353301736},{"$f":"'[3]LO  Product Page'!N84","v":4.4674079925404646},{"$f":"'[3]LO  Product Page'!O84","v":0.61807606065220488},{"$f":"'[3]LO  Product Page'!P84","v":5.4814655667256869},{"$f":"'[3]LO  Product Page'!Q84","v":0.27635663293133755},{"$f":"'[3]LO  Product Page'!R84","v":0.57030400000000003},{"$f":"'[3]LO  Product Page'!S84","v":5.4924480000000005E-2},{"$f":"'[3]LO  Product Page'!T84","v":0.90158511293133758},{"$f":"'[3]LO  Product Page'!U84","v":0.68675117850244982},{"$f":"'[3]LO  Product Page'!V84","v":216},{"$f":"'[3]LO  Product Page'!W84","v":290},{"$f":"'[3]LO  Product Page'!X84","v":494},{"$f":"'[3]LO  Product Page'!Y84","v":0},{"$f":"'[3]LO  Product Page'!Z84","v":0},{"$f":"'[3]LO  Product Page'!AA84","v":0},{"$f":"'[3]LO  Product Page'!AB84","v":5.4814655667256877},{"$f":"'[3]LO  Product Page'!AC84","v":0.69626610330882899},{"$f":"'[3]LO  Product Page'!AD84","v":2.7593281938499854},{"$f":"'[3]LO  Product Page'!AE84","v":0.91048229149059312},{"$f":"'[3]LO  Product Page'!AF84","v":0.53753146633441262},{"$f":"'[3]LO  Product Page'!AG84","v":0.35835431088960845},{"$f":"'[3]LO  Product Page'!AH84","v":8.9588577722402096}]
[{"$f":"'[3]LO  Product Page'!B85","v":"MKY 60"},{"$f":"'[3]LO  Product Page'!C85","v":102192},{"$f":"'[3]LO  Product Page'!D85","v":"MKY 60"},{"$f":"'[3]LO  Product Page'!E85","v":0},{"$f":"'[3]LO  Product Page'!F85","v":1.1399361926699558},{"$f":"'[3]LO  Product Page'!G85","v":11.721085437699868},{"$f":"'[3]LO  Product Page'!H85","v":0},{"$f":"'[3]LO  Product Page'!I85","v":0.66378725280565576},{"$f":"'[3]LO  Product Page'!J85","v":1127.5513199794502},{"$f":"'[3]LO  Product Page'!K85","v":0},{"$f":"'[3]LO  Product Page'!L85","v":3.0517206199795317},{"$f":"'[3]LO  Product Page'!M85","v":0.43794172533472503},{"$f":"'[3]LO  Product Page'!N85","v":0.53916993013419401},{"$f":"'[3]LO  Product Page'!O85","v":0},{"$f":"'[3]LO  Product Page'!P85","v":0.97711165546891898},{"$f":"'[3]LO  Product Page'!Q85","v":0.29774130052724074},{"$f":"'[3]LO  Product Page'!R85","v":2.128E-2},{"$f":"'[3]LO  Product Page'!S85","v":0},{"$f":"'[3]LO  Product Page'!T85","v":0.31902130052724076},{"$f":"'[3]LO  Product Page'!U85","v":0},{"$f":"'[3]LO  Product Page'!V85","v":0},{"$f":"'[3]LO  Product Page'!W85","v":35},{"$f":"'[3]LO  Product Page'!X85","v":965},{"$f":"'[3]LO  Product Page'!Y85","v":0},{"$f":"'[3]LO  Product Page'!Z85","v":0},{"$f":"'[3]LO  Product Page'!AA85","v":0},{"$f":"'[3]LO  Product Page'!AB85","v":0.97711165546891898},{"$f":"'[3]LO  Product Page'!AC85","v":1.0523174551653559E-2},{"$f":"'[3]LO  Product Page'!AD85","v":3.0517206199795317},{"$f":"'[3]LO  Product Page'!AE85","v":0.33693642863938772},{"$f":"'[3]LO  Product Page'!AF85","v":0.59449102986614255},{"$f":"'[3]LO  Product Page'!AG85","v":0.39632735324409502},{"$f":"'[3]LO  Product Page'!AH85","v":9.9081838311023755}]
[{"$f":"'[3]LO  Product Page'!B86","v":"MKY 70"},{"$f":"'[3]LO  Product Page'!C86","v":102204},{"$f":"'[3]LO  Product Page'!D86","v":"MKY 70"},{"$f":"'[3]LO  Product Page'!E86","v":0},{"$f":"'[3]LO  Product Page'!F86","v":1.1423149436644731},{"$f":"'[3]LO  Product Page'!G86","v":26.121276118302564},{"$f":"'[3]LO  Product Page'!H86","v":0},{"$f":"'[3]LO  Product Page'!I86","v":1.4792973062526042},{"$f":"'[3]LO  Product Page'!J86","v":1114.7143702399178},{"$f":"'[3]LO  Product Page'!K86","v":0},{"$f":"'[3]LO  Product Page'!L86","v":3.0169773816686707},{"$f":"'[3]LO  Product Page'!M86","v":0.43295584503167284},{"$f":"'[3]LO  Product Page'!N86","v":1.2015787014419179},{"$f":"'[3]LO  Product Page'!O86","v":0},{"$f":"'[3]LO  Product Page'!P86","v":1.6345345464735908},{"$f":"'[3]LO  Product Page'!Q86","v":0.29496632688927943},{"$f":"'[3]LO  Product Page'!R86","v":4.7424000000000001E-2},{"$f":"'[3]LO  Product Page'!S86","v":0},{"$f":"'[3]LO  Product Page'!T86","v":0.34239032688927945},{"$f":"'[3]LO  Product Page'!U86","v":0},{"$f":"'[3]LO  Product Page'!V86","v":0},{"$f":"'[3]LO  Product Page'!W86","v":78},{"$f":"'[3]LO  Product Page'!X86","v":922},{"$f":"'[3]LO  Product Page'!Y86","v":0},{"$f":"'[3]LO  Product Page'!Z86","v":0},{"$f":"'[3]LO  Product Page'!AA86","v":0},{"$f":"'[3]LO  Product Page'!AB86","v":1.634534546473591},{"$f":"'[3]LO  Product Page'!AC86","v":1.0403370281616107E-2},{"$f":"'[3]LO  Product Page'!AD86","v":3.0169773816686707},{"$f":"'[3]LO  Product Page'!AE86","v":0.35943862224856654},{"$f":"'[3]LO  Product Page'!AF86","v":0.58772286655883188},{"$f":"'[3]LO  Product Page'!AG86","v":0.39181524437255461},{"$f":"'[3]LO  Product Page'!AH86","v":9.7953811093138654}]
[{"$f":"'[3]LO  Product Page'!B87","v":"MKY 80"},{"$f":"'[3]LO  Product Page'!C87","v":102195},{"$f":"'[3]LO  Product Page'!D87","v":"MKY 80"},{"$f":"'[3]LO  Product Page'!E87","v":0},{"$f":"'[3]LO  Product Page'!F87","v":1.1430894207324551},{"$f":"'[3]LO  Product Page'!G87","v":30.809710293382512},{"$f":"'[3]LO  Product Page'!H87","v":0},{"$f":"'[3]LO  Product Page'!I87","v":1.7448122073748664},{"$f":"'[3]LO  Product Page'!J87","v":1110.534898231698},{"$f":"'[3]LO  Product Page'!K87","v":0},{"$f":"'[3]LO  Product Page'!L87","v":3.0056656296604833},{"$f":"'[3]LO  Product Page'!M87","v":0.43133253516556291},{"$f":"'[3]LO  Product Page'!N87","v":1.4172466734955955},{"$f":"'[3]LO  Product Page'!O87","v":0},{"$f":"'[3]LO  Product Page'!P87","v":1.8485792086611585},{"$f":"'[3]LO  Product Page'!Q87","v":0.29406284710017577},{"$f":"'[3]LO  Product Page'!R87","v":5.5936E-2},{"$f":"'[3]LO  Product Page'!S87","v":0},{"$f":"'[3]LO  Product Page'!T87","v":0.34999884710017576},{"$f":"'[3]LO  Product Page'!U87","v":0},{"$f":"'[3]LO  Product Page'!V87","v":0},{"$f":"'[3]LO  Product Page'!W87","v":92},{"$f":"'[3]LO  Product Page'!X87","v":908},{"$f":"'[3]LO  Product Page'!Y87","v":0},{"$f":"'[3]LO  Product Page'!Z87","v":0},{"$f":"'[3]LO  Product Page'!AA87","v":0},{"$f":"'[3]LO  Product Page'!AB87","v":1.848579208661159},{"$f":"'[3]LO  Product Page'!AC87","v":1.0364364240208566E-2},{"$f":"'[3]LO  Product Page'!AD87","v":3.0056656296604833},{"$f":"'[3]LO  Product Page'!AE87","v":0.36676491784225262},{"$f":"'[3]LO  Product Page'!AF87","v":0.58551927850528895},{"$f":"'[3]LO  Product Page'!AG87","v":0.39034618567019264},{"$f":"'[3]LO  Product Page'!AH87","v":9.7586546417548163}]
[{"$f":"'[3]LO  Product Page'!B88","v":"MULGOWIE 1"},{"$f":"'[3]LO  Product Page'!C88","v":87347},{"$f":"'[3]LO  Product Page'!D88","v":"MULGOWIE 1"},{"$f":"'[3]LO  Product Page'!E88","v":0},{"$f":"'[3]LO  Product Page'!F88","v":1.1772227576695213},{"$f":"'[3]LO  Product Page'!G88","v":72.33584155837633},{"$f":"'[3]LO  Product Page'!H88","v":61.468469680774824},{"$f":"'[3]LO  Product Page'!I88","v":25.591624646788308},{"$f":"'[3]LO  Product Page'!J88","v":1017.826821783582},{"$f":"'[3]LO  Product Page'!K88","v":0},{"$f":"'[3]LO  Product Page'!L88","v":2.7547509763562679},{"$f":"'[3]LO  Product Page'!M88","v":0.39532465310047743},{"$f":"'[3]LO  Product Page'!N88","v":3.3274487116853115},{"$f":"'[3]LO  Product Page'!O88","v":1.078771642897598},{"$f":"'[3]LO  Product Page'!P88","v":4.8015450076833872},{"$f":"'[3]LO  Product Page'!Q88","v":0.27745866432337435},{"$f":"'[3]LO  Product Page'!R88","v":0.81897600000000004},{"$f":"'[3]LO  Product Page'!S88","v":9.586356E-2},{"$f":"'[3]LO  Product Page'!T88","v":1.1922982243233744},{"$f":"'[3]LO  Product Page'!U88","v":1.1986351587751092},{"$f":"'[3]LO  Product Page'!V88","v":377},{"$f":"'[3]LO  Product Page'!W88","v":216},{"$f":"'[3]LO  Product Page'!X88","v":407},{"$f":"'[3]LO  Product Page'!Y88","v":0},{"$f":"'[3]LO  Product Page'!Z88","v":0},{"$f":"'[3]LO  Product Page'!AA88","v":0},{"$f":"'[3]LO  Product Page'!AB88","v":4.8015450076833881},{"$f":"'[3]LO  Product Page'!AC88","v":1.2081343000728892},{"$f":"'[3]LO  Product Page'!AD88","v":2.7547509763562679},{"$f":"'[3]LO  Product Page'!AE88","v":1.1997970403326417},{"$f":"'[3]LO  Product Page'!AF88","v":0.53663980058888328},{"$f":"'[3]LO  Product Page'!AG88","v":0.35775986705925561},{"$f":"'[3]LO  Product Page'!AH88","v":8.9439966764813885}]
[{"$f":"'[3]LO  Product Page'!B89","v":"VILLIS MUNG BEAN MIX"},{"$f":"'[3]LO  Product Page'!C89","v":88122},{"$f":"'[3]LO  Product Page'!D89","v":"VILLIS MUNG BEAN MIX"},{"$f":"'[3]LO  Product Page'!E89","v":0},{"$f":"'[3]LO  Product Page'!F89","v":1.1393829947642542},{"$f":"'[3]LO  Product Page'!G89","v":8.372203884071336},{"$f":"'[3]LO  Product Page'!H89","v":0},{"$f":"'[3]LO  Product Page'!I89","v":0.47413375200403984},{"$f":"'[3]LO  Product Page'!J89","v":1130.5366571281786},{"$f":"'[3]LO  Product Page'!K89","v":0},{"$f":"'[3]LO  Product Page'!L89","v":3.0598004428425227},{"$f":"'[3]LO  Product Page'!M89","v":0.43910123238194648},{"$f":"'[3]LO  Product Page'!N89","v":0.38512137866728147},{"$f":"'[3]LO  Product Page'!O89","v":0},{"$f":"'[3]LO  Product Page'!P89","v":0.82422261104922789},{"$f":"'[3]LO  Product Page'!Q89","v":0.29838664323374342},{"$f":"'[3]LO  Product Page'!R89","v":1.52E-2},{"$f":"'[3]LO  Product Page'!S89","v":0},{"$f":"'[3]LO  Product Page'!T89","v":0.31358664323374341},{"$f":"'[3]LO  Product Page'!U89","v":0},{"$f":"'[3]LO  Product Page'!V89","v":0},{"$f":"'[3]LO  Product Page'!W89","v":25},{"$f":"'[3]LO  Product Page'!X89","v":975},{"$f":"'[3]LO  Product Page'!Y89","v":0},{"$f":"'[3]LO  Product Page'!Z89","v":0},{"$f":"'[3]LO  Product Page'!AA89","v":0},{"$f":"'[3]LO  Product Page'!AB89","v":0.82422261104922789},{"$f":"'[3]LO  Product Page'!AC89","v":1.0551036009801803E-2},{"$f":"'[3]LO  Product Page'!AD89","v":3.0598004428425227},{"$f":"'[3]LO  Product Page'!AE89","v":0.33170336035818337},{"$f":"'[3]LO  Product Page'!AF89","v":0.5960650213329588},{"$f":"'[3]LO  Product Page'!AG89","v":0.39737668088863926},{"$f":"'[3]LO  Product Page'!AH89","v":9.9344170222159818}]
[{"$f":"'[3]LO  Product Page'!B90","v":"PB165_76"},{"$f":"'[3]LO  Product Page'!C90","v":96561},{"$f":"'[3]LO  Product Page'!D90","v":"PB165_76"},{"$f":"'[3]LO  Product Page'!E90","v":0},{"$f":"'[3]LO  Product Page'!F90","v":1.1882657628468036},{"$f":"'[3]LO  Product Page'!G90","v":87.070920394341883},{"$f":"'[3]LO  Product Page'!H90","v":80.870983983194463},{"$f":"'[3]LO  Product Page'!I90","v":33.211028364658482},{"$f":"'[3]LO  Product Page'!J90","v":987.11283010460909},{"$f":"'[3]LO  Product Page'!K90","v":0},{"$f":"'[3]LO  Product Page'!L90","v":2.6716234769087839},{"$f":"'[3]LO  Product Page'!M90","v":0.38339531714080599},{"$f":"'[3]LO  Product Page'!N90","v":4.005262338139727},{"$f":"'[3]LO  Product Page'!O90","v":1.4192857689050629},{"$f":"'[3]LO  Product Page'!P90","v":5.8079434241855958},{"$f":"'[3]LO  Product Page'!Q90","v":0.27190395733591904},{"$f":"'[3]LO  Product Page'!R90","v":1.062784},{"$f":"'[3]LO  Product Page'!S90","v":0.12612288000000002},{"$f":"'[3]LO  Product Page'!T90","v":1.460810837335919},{"$f":"'[3]LO  Product Page'!U90","v":1.5769841876722919},{"$f":"'[3]LO  Product Page'!V90","v":496},{"$f":"'[3]LO  Product Page'!W90","v":260},{"$f":"'[3]LO  Product Page'!X90","v":244},{"$f":"'[3]LO  Product Page'!Y90","v":0},{"$f":"'[3]LO  Product Page'!Z90","v":0},{"$f":"'[3]LO  Product Page'!AA90","v":0},{"$f":"'[3]LO  Product Page'!AB90","v":5.8079434241855958},{"$f":"'[3]LO  Product Page'!AC90","v":1.5861966824202534},{"$f":"'[3]LO  Product Page'!AD90","v":2.6716234769087834},{"$f":"'[3]LO  Product Page'!AE90","v":1.4652864851216945},{"$f":"'[3]LO  Product Page'!AF90","v":0.52044613186534749},{"$f":"'[3]LO  Product Page'!AG90","v":0.3469640879102317},{"$f":"'[3]LO  Product Page'!AH90","v":8.6741021977557917}]
[{"$f":"'[3]LO  Product Page'!B91","v":"PMR 1"},{"$f":"'[3]LO  Product Page'!C91","v":96984},{"$f":"'[3]LO  Product Page'!D91","v":"PMR 1"},{"$f":"'[3]LO  Product Page'!E91","v":0},{"$f":"'[3]LO  Product Page'!F91","v":1.1558387388577922},{"$f":"'[3]LO  Product Page'!G91","v":70.326512626199204},{"$f":"'[3]LO  Product Page'!H91","v":14.021985126118395},{"$f":"'[3]LO  Product Page'!I91","v":8.8861170885440472},{"$f":"'[3]LO  Product Page'!J91","v":1062.60412401693},{"$f":"'[3]LO  Product Page'!K91","v":0},{"$f":"'[3]LO  Product Page'!L91","v":2.8759408628929219},{"$f":"'[3]LO  Product Page'!M91","v":0.41271618876580241},{"$f":"'[3]LO  Product Page'!N91","v":3.2350195808051638},{"$f":"'[3]LO  Product Page'!O91","v":0.24608583896337782},{"$f":"'[3]LO  Product Page'!P91","v":3.8938216085343438},{"$f":"'[3]LO  Product Page'!Q91","v":0.28448555845100298},{"$f":"'[3]LO  Product Page'!R91","v":0.28454400000000002},{"$f":"'[3]LO  Product Page'!S91","v":2.1868080000000002E-2},{"$f":"'[3]LO  Product Page'!T91","v":0.59089763845100296},{"$f":"'[3]LO  Product Page'!U91","v":0.27342870995930874},{"$f":"'[3]LO  Product Page'!V91","v":86},{"$f":"'[3]LO  Product Page'!W91","v":210},{"$f":"'[3]LO  Product Page'!X91","v":704},{"$f":"'[3]LO  Product Page'!Y91","v":0},{"$f":"'[3]LO  Product Page'!Z91","v":0},{"$f":"'[3]LO  Product Page'!AA91","v":0},{"$f":"'[3]LO  Product Page'!AB91","v":3.8938216085343442},{"$f":"'[3]LO  Product Page'!AC91","v":0.28334574741756013},{"$f":"'[3]LO  Product Page'!AD91","v":2.8759408628929224},{"$f":"'[3]LO  Product Page'!AE91","v":0.60374116737769801},{"$f":"'[3]LO  Product Page'!AF91","v":0.56024822004407548},{"$f":"'[3]LO  Product Page'!AG91","v":0.37349881336271712},{"$f":"'[3]LO  Product Page'!AH91","v":9.3374703340679268}]
[{"$f":"'[3]LO  Product Page'!B92","v":"PMR 2"},{"$f":"'[3]LO  Product Page'!C92","v":96985},{"$f":"'[3]LO  Product Page'!D92","v":"PMR 2"},{"$f":"'[3]LO  Product Page'!E92","v":0},{"$f":"'[3]LO  Product Page'!F92","v":1.1640732470937656},{"$f":"'[3]LO  Product Page'!G92","v":60.614756120676468},{"$f":"'[3]LO  Product Page'!H92","v":36.196287186026559},{"$f":"'[3]LO  Product Page'!I92","v":16.090325724040007},{"$f":"'[3]LO  Product Page'!J92","v":1051.1718780630226},{"$f":"'[3]LO  Product Page'!K92","v":0},{"$f":"'[3]LO  Product Page'!L92","v":2.84499945908094},{"$f":"'[3]LO  Product Page'!M92","v":0.40827589640057649},{"$f":"'[3]LO  Product Page'!N92","v":2.7882787815511176},{"$f":"'[3]LO  Product Page'!O92","v":0.63524484011476601},{"$f":"'[3]LO  Product Page'!P92","v":3.8317995180664601},{"$f":"'[3]LO  Product Page'!Q92","v":0.28325396763832494},{"$f":"'[3]LO  Product Page'!R92","v":0.51497599999999999},{"$f":"'[3]LO  Product Page'!S92","v":5.6450160000000006E-2},{"$f":"'[3]LO  Product Page'!T92","v":0.8546801276383249},{"$f":"'[3]LO  Product Page'!U92","v":0.70582760012751788},{"$f":"'[3]LO  Product Page'!V92","v":222},{"$f":"'[3]LO  Product Page'!W92","v":181},{"$f":"'[3]LO  Product Page'!X92","v":597},{"$f":"'[3]LO  Product Page'!Y92","v":0},{"$f":"'[3]LO  Product Page'!Z92","v":0},{"$f":"'[3]LO  Product Page'!AA92","v":0},{"$f":"'[3]LO  Product Page'!AB92","v":3.8317995180664601},{"$f":"'[3]LO  Product Page'!AC92","v":0.71563794308986584},{"$f":"'[3]LO  Product Page'!AD92","v":2.8449994590809395},{"$f":"'[3]LO  Product Page'!AE92","v":0.86566692004992374},{"$f":"'[3]LO  Product Page'!AF92","v":0.55422067384693641},{"$f":"'[3]LO  Product Page'!AG92","v":0.36948044923129103},{"$f":"'[3]LO  Product Page'!AH92","v":9.237011230782274}]
[{"$f":"'[3]LO  Product Page'!B93","v":"PMR 3"},{"$f":"'[3]LO  Product Page'!C93","v":102200},{"$f":"'[3]LO  Product Page'!D93","v":"PMR 3"},{"$f":"'[3]LO  Product Page'!E93","v":0},{"$f":"'[3]LO  Product Page'!F93","v":1.1564516099108713},{"$f":"'[3]LO  Product Page'!G93","v":58.270539033136487},{"$f":"'[3]LO  Product Page'!H93","v":19.891653318447027},{"$f":"'[3]LO  Product Page'!I93","v":10.255947841257813},{"$f":"'[3]LO  Product Page'!J93","v":1068.0334697180297},{"$f":"'[3]LO  Product Page'!K93","v":0},{"$f":"'[3]LO  Product Page'!L93","v":2.89063540134581},{"$f":"'[3]LO  Product Page'!M93","v":0.41482495045287282},{"$f":"'[3]LO  Product Page'!N93","v":2.6804447955242785},{"$f":"'[3]LO  Product Page'!O93","v":0.34909851573874534},{"$f":"'[3]LO  Product Page'!P93","v":3.4443682617158964},{"$f":"'[3]LO  Product Page'!Q93","v":0.28598738743106478},{"$f":"'[3]LO  Product Page'!R93","v":0.32832},{"$f":"'[3]LO  Product Page'!S93","v":3.1022160000000003E-2},{"$f":"'[3]LO  Product Page'!T93","v":0.64532954743106474},{"$f":"'[3]LO  Product Page'!U93","v":0.387887239709717},{"$f":"'[3]LO  Product Page'!V93","v":122},{"$f":"'[3]LO  Product Page'!W93","v":174},{"$f":"'[3]LO  Product Page'!X93","v":704},{"$f":"'[3]LO  Product Page'!Y93","v":0},{"$f":"'[3]LO  Product Page'!Z93","v":0},{"$f":"'[3]LO  Product Page'!AA93","v":0},{"$f":"'[3]LO  Product Page'!AB93","v":3.4443682617158968},{"$f":"'[3]LO  Product Page'!AC93","v":0.39785494799021981},{"$f":"'[3]LO  Product Page'!AD93","v":2.89063540134581},{"$f":"'[3]LO  Product Page'!AE93","v":0.65825255851211117},{"$f":"'[3]LO  Product Page'!AF93","v":0.56311079246996287},{"$f":"'[3]LO  Product Page'!AG93","v":0.37540719497997532},{"$f":"'[3]LO  Product Page'!AH93","v":9.3851798744993822}]
[{"$f":"'[3]LO  Product Page'!B94","v":"LIQUID PREPLANT"},{"$f":"'[3]LO  Product Page'!C94","v":81049},{"$f":"'[3]LO  Product Page'!D94","v":"LIQUID PREPLANT"},{"$f":"'[3]LO  Product Page'!E94","v":0},{"$f":"'[3]LO  Product Page'!F94","v":1.1690478871962608},{"$f":"'[3]LO  Product Page'!G94","v":72.33584155837633},{"$f":"'[3]LO  Product Page'!H94","v":43.044233410409959},{"$f":"'[3]LO  Product Page'!I94","v":19.148793558378507},{"$f":"'[3]LO  Product Page'!J94","v":1034.5190186690961},{"$f":"'[3]LO  Product Page'!K94","v":0},{"$f":"'[3]LO  Product Page'!L94","v":2.7999284512309459},{"$f":"'[3]LO  Product Page'!M94","v":0.4018079141052201},{"$f":"'[3]LO  Product Page'!N94","v":3.3274487116853115},{"$f":"'[3]LO  Product Page'!O94","v":0.75542629635269476},{"$f":"'[3]LO  Product Page'!P94","v":4.4846829221432261},{"$f":"'[3]LO  Product Page'!Q94","v":0.28003696260832678},{"$f":"'[3]LO  Product Page'!R94","v":0.61286400000000008},{"$f":"'[3]LO  Product Page'!S94","v":6.712992000000001E-2},{"$f":"'[3]LO  Product Page'!T94","v":0.96003088260832681},{"$f":"'[3]LO  Product Page'!U94","v":0.83936255150299421},{"$f":"'[3]LO  Product Page'!V94","v":264},{"$f":"'[3]LO  Product Page'!W94","v":216},{"$f":"'[3]LO  Product Page'!X94","v":520},{"$f":"'[3]LO  Product Page'!Y94","v":0},{"$f":"'[3]LO  Product Page'!Z94","v":0},{"$f":"'[3]LO  Product Page'!AA94","v":0},{"$f":"'[3]LO  Product Page'!AB94","v":4.4846829221432269},{"$f":"'[3]LO  Product Page'!AC94","v":0.84901747719689402},{"$f":"'[3]LO  Product Page'!AD94","v":2.7999284512309455},{"$f":"'[3]LO  Product Page'!AE94","v":0.96955816880534618},{"$f":"'[3]LO  Product Page'!AF94","v":0.54544060738265165},{"$f":"'[3]LO  Product Page'!AG94","v":0.36362707158843455},{"$f":"'[3]LO  Product Page'!AH94","v":9.0906767897108622}]
[{"$f":"'[3]LO  Product Page'!B95","v":"PUMPKIN 1"},{"$f":"'[3]LO  Product Page'!C95","v":88676},{"$f":"'[3]LO  Product Page'!D95","v":"PUMPKIN 1"},{"$f":"'[3]LO  Product Page'!E95","v":0},{"$f":"'[3]LO  Product Page'!F95","v":1.1806106080420402},{"$f":"'[3]LO  Product Page'!G95","v":0},{"$f":"'[3]LO  Product Page'!H95","v":96.034293480043431},{"$f":"'[3]LO  Product Page'!I95","v":33.582544345782054},{"$f":"'[3]LO  Product Page'!J95","v":1050.9937702162147},{"$f":"'[3]LO  Product Page'!K95","v":0},{"$f":"'[3]LO  Product Page'!L95","v":2.844517409724026},{"$f":"'[3]LO  Product Page'!M95","v":0.40820671918766871},{"$f":"'[3]LO  Product Page'!N95","v":0},{"$f":"'[3]LO  Product Page'!O95","v":1.6854018505747623},{"$f":"'[3]LO  Product Page'!P95","v":2.0936085697624311},{"$f":"'[3]LO  Product Page'!Q95","v":0.28656090539967277},{"$f":"'[3]LO  Product Page'!R95","v":1.074336},{"$f":"'[3]LO  Product Page'!S95","v":0.14977092},{"$f":"'[3]LO  Product Page'!T95","v":1.5106678253996726},{"$f":"'[3]LO  Product Page'!U95","v":1.8726687228608467},{"$f":"'[3]LO  Product Page'!V95","v":589},{"$f":"'[3]LO  Product Page'!W95","v":0},{"$f":"'[3]LO  Product Page'!X95","v":411},{"$f":"'[3]LO  Product Page'!Y95","v":0},{"$f":"'[3]LO  Product Page'!Z95","v":0},{"$f":"'[3]LO  Product Page'!AA95","v":0},{"$f":"'[3]LO  Product Page'!AB95","v":2.0936085697624311},{"$f":"'[3]LO  Product Page'!AC95","v":1.8824774035840335},{"$f":"'[3]LO  Product Page'!AD95","v":2.844517409724026},{"$f":"'[3]LO  Product Page'!AE95","v":1.5187153385894825},{"$f":"'[3]LO  Product Page'!AF95","v":0.55412676812805695},{"$f":"'[3]LO  Product Page'!AG95","v":0.3694178454187047},{"$f":"'[3]LO  Product Page'!AH95","v":9.2354461354676172}]
[{"$f":"'[3]LO  Product Page'!B96","v":"QPREPLANT 1"},{"$f":"'[3]LO  Product Page'!C96","v":102333},{"$f":"'[3]LO  Product Page'!D96","v":"QPREPLANT 1"},{"$f":"'[3]LO  Product Page'!E96","v":0},{"$f":"'[3]LO  Product Page'!F96","v":1.1525364694655069},{"$f":"'[3]LO  Product Page'!G96","v":66.977631072570688},{"$f":"'[3]LO  Product Page'!H96","v":7.8262242564381737},{"$f":"'[3]LO  Product Page'!I96","v":6.5298478234984287},{"$f":"'[3]LO  Product Page'!J96","v":1071.2027663129998},{"$f":"'[3]LO  Product Page'!K96","v":0},{"$f":"'[3]LO  Product Page'!L96","v":2.8992131109350083},{"$f":"'[3]LO  Product Page'!M96","v":0.41605590747833571},{"$f":"'[3]LO  Product Page'!N96","v":3.0809710293382517},{"$f":"'[3]LO  Product Page'!O96","v":0.13735023570048996},{"$f":"'[3]LO  Product Page'!P96","v":3.6343771725170773},{"$f":"'[3]LO  Product Page'!Q96","v":0.28599793951881708},{"$f":"'[3]LO  Product Page'!R96","v":0.209152},{"$f":"'[3]LO  Product Page'!S96","v":1.2205440000000001E-2},{"$f":"'[3]LO  Product Page'!T96","v":0.50735537951881704},{"$f":"'[3]LO  Product Page'!U96","v":0.15261137300054439},{"$f":"'[3]LO  Product Page'!V96","v":48},{"$f":"'[3]LO  Product Page'!W96","v":200},{"$f":"'[3]LO  Product Page'!X96","v":752},{"$f":"'[3]LO  Product Page'!Y96","v":0},{"$f":"'[3]LO  Product Page'!Z96","v":0},{"$f":"'[3]LO  Product Page'!AA96","v":0},{"$f":"'[3]LO  Product Page'!AB96","v":3.6343771725170768},{"$f":"'[3]LO  Product Page'!AC96","v":0.16260865958997545},{"$f":"'[3]LO  Product Page'!AD96","v":2.8992131109350079},{"$f":"'[3]LO  Product Page'!AE96","v":0.52108263787492526},{"$f":"'[3]LO  Product Page'!AF96","v":0.56478177485746917},{"$f":"'[3]LO  Product Page'!AG96","v":0.3765211832383128},{"$f":"'[3]LO  Product Page'!AH96","v":9.4130295809578204}]
[{"$f":"'[3]LO  Product Page'!B97","v":"QUOD RATOONER 2"},{"$f":"'[3]LO  Product Page'!C97","v":96428},{"$f":"'[3]LO  Product Page'!D97","v":"QUOD RATOONER 2"},{"$f":"'[3]LO  Product Page'!E97","v":0},{"$f":"'[3]LO  Product Page'!F97","v":1.1529363434539452},{"$f":"'[3]LO  Product Page'!G97","v":90.419801947970427},{"$f":"'[3]LO  Product Page'!H97","v":0},{"$f":"'[3]LO  Product Page'!I97","v":5.12064452164363},{"$f":"'[3]LO  Product Page'!J97","v":1057.3958969843313},{"$f":"'[3]LO  Product Page'!K97","v":0},{"$f":"'[3]LO  Product Page'!L97","v":2.861844782699245},{"$f":"'[3]LO  Product Page'!M97","v":0.41069330972502149},{"$f":"'[3]LO  Product Page'!N97","v":4.1593108896066395},{"$f":"'[3]LO  Product Page'!O97","v":0},{"$f":"'[3]LO  Product Page'!P97","v":4.5700041993316614},{"$f":"'[3]LO  Product Page'!Q97","v":0.28257574692442888},{"$f":"'[3]LO  Product Page'!R97","v":0.16416},{"$f":"'[3]LO  Product Page'!S97","v":0},{"$f":"'[3]LO  Product Page'!T97","v":0.44673574692442886},{"$f":"'[3]LO  Product Page'!U97","v":0},{"$f":"'[3]LO  Product Page'!V97","v":0},{"$f":"'[3]LO  Product Page'!W97","v":270},{"$f":"'[3]LO  Product Page'!X97","v":730},{"$f":"'[3]LO  Product Page'!Y97","v":0},{"$f":"'[3]LO  Product Page'!Z97","v":0},{"$f":"'[3]LO  Product Page'!AA97","v":0},{"$f":"'[3]LO  Product Page'!AB97","v":4.5700041993316614},{"$f":"'[3]LO  Product Page'!AC97","v":9.8684302851698106E-3},{"$f":"'[3]LO  Product Page'!AD97","v":2.8618447826992446},{"$f":"'[3]LO  Product Page'!AE97","v":0.45991353324769052},{"$f":"'[3]LO  Product Page'!AF97","v":0.55750223039595681},{"$f":"'[3]LO  Product Page'!AG97","v":0.3716681535973046},{"$f":"'[3]LO  Product Page'!AH97","v":9.2917038399326142}]
[{"$f":"'[3]LO  Product Page'!B98","v":"SOY STARTER"},{"$f":"'[3]LO  Product Page'!C98","v":89521},{"$f":"'[3]LO  Product Page'!D98","v":"SOY STARTER"},{"$f":"'[3]LO  Product Page'!E98","v":0},{"$f":"'[3]LO  Product Page'!F98","v":1.1462472144597495},{"$f":"'[3]LO  Product Page'!G98","v":0},{"$f":"'[3]LO  Product Page'!H98","v":18.587282609040663},{"$f":"'[3]LO  Product Page'!I98","v":6.499847292732011},{"$f":"'[3]LO  Product Page'!J98","v":1121.1600845579769},{"$f":"'[3]LO  Product Page'!K98","v":0},{"$f":"'[3]LO  Product Page'!L98","v":3.0344227244627149},{"$f":"'[3]LO  Product Page'!M98","v":0.4354593650040649},{"$f":"'[3]LO  Product Page'!N98","v":0},{"$f":"'[3]LO  Product Page'!O98","v":0.32620680978866362},{"$f":"'[3]LO  Product Page'!P98","v":0.76166617479272847},{"$f":"'[3]LO  Product Page'!Q98","v":0.2973988849160657},{"$f":"'[3]LO  Product Page'!R98","v":0.20793600000000001},{"$f":"'[3]LO  Product Page'!S98","v":2.8987920000000004E-2},{"$f":"'[3]LO  Product Page'!T98","v":0.53432280491606576},{"$f":"'[3]LO  Product Page'!U98","v":0.36245201087629297},{"$f":"'[3]LO  Product Page'!V98","v":114},{"$f":"'[3]LO  Product Page'!W98","v":0},{"$f":"'[3]LO  Product Page'!X98","v":886},{"$f":"'[3]LO  Product Page'!Y98","v":0},{"$f":"'[3]LO  Product Page'!Z98","v":0},{"$f":"'[3]LO  Product Page'!AA98","v":0},{"$f":"'[3]LO  Product Page'!AB98","v":0.76166617479272858},{"$f":"'[3]LO  Product Page'!AC98","v":0.37291553751237128},{"$f":"'[3]LO  Product Page'!AD98","v":3.0344227244627149},{"$f":"'[3]LO  Product Page'!AE98","v":0.55089707331987758},{"$f":"'[3]LO  Product Page'!AF98","v":0.59112130996026901},{"$f":"'[3]LO  Product Page'!AG98","v":0.3940808733068461},{"$f":"'[3]LO  Product Page'!AH98","v":9.8520218326711504}]
[{"$f":"'[3]LO  Product Page'!B99","v":"SPRING 1"},{"$f":"'[3]LO  Product Page'!C99","v":102313},{"$f":"'[3]LO  Product Page'!D99","v":"SPRING 1"},{"$f":"'[3]LO  Product Page'!E99","v":0},{"$f":"'[3]LO  Product Page'!F99","v":1.1625539172235022},{"$f":"'[3]LO  Product Page'!G99","v":77.694052044181987},{"$f":"'[3]LO  Product Page'!H99","v":26.413506865478833},{"$f":"'[3]LO  Product Page'!I99","v":13.63658631879561},{"$f":"'[3]LO  Product Page'!J99","v":1044.8097719950458},{"$f":"'[3]LO  Product Page'!K99","v":0},{"$f":"'[3]LO  Product Page'!L99","v":2.8277804022361521},{"$f":"'[3]LO  Product Page'!M99","v":0.4058048499312919},{"$f":"'[3]LO  Product Page'!N99","v":3.5739263940323713},{"$f":"'[3]LO  Product Page'!O99","v":0.46355704548915355},{"$f":"'[3]LO  Product Page'!P99","v":4.4432882894528172},{"$f":"'[3]LO  Product Page'!Q99","v":0.28133172777407428},{"$f":"'[3]LO  Product Page'!R99","v":0.43654400000000004},{"$f":"'[3]LO  Product Page'!S99","v":4.1193359999999998E-2},{"$f":"'[3]LO  Product Page'!T99","v":0.75906908777407434},{"$f":"'[3]LO  Product Page'!U99","v":0.51506338387683737},{"$f":"'[3]LO  Product Page'!V99","v":162},{"$f":"'[3]LO  Product Page'!W99","v":232},{"$f":"'[3]LO  Product Page'!X99","v":606},{"$f":"'[3]LO  Product Page'!Y99","v":0},{"$f":"'[3]LO  Product Page'!Z99","v":0},{"$f":"'[3]LO  Product Page'!AA99","v":0},{"$f":"'[3]LO  Product Page'!AB99","v":4.4432882894528181},{"$f":"'[3]LO  Product Page'!AC99","v":0.52481435078109995},{"$f":"'[3]LO  Product Page'!AD99","v":2.8277804022361521},{"$f":"'[3]LO  Product Page'!AE99","v":0.77010484003948432},{"$f":"'[3]LO  Product Page'!AF99","v":0.55086631212392578},{"$f":"'[3]LO  Product Page'!AG99","v":0.36724420808261721},{"$f":"'[3]LO  Product Page'!AH99","v":9.1811052020654298}]
[{"$f":"'[3]LO  Product Page'!B100","v":"SPRING 2"},{"$f":"'[3]LO  Product Page'!C100","v":102052},{"$f":"'[3]LO  Product Page'!D100","v":"SPRING 2"},{"$f":"'[3]LO  Product Page'!E100","v":0},{"$f":"'[3]LO  Product Page'!F100","v":1.162392311208599},{"$f":"'[3]LO  Product Page'!G100","v":60.949644276039315},{"$f":"'[3]LO  Product Page'!H100","v":32.283175057807469},{"$f":"'[3]LO  Product Page'!I100","v":14.740902170387113},{"$f":"'[3]LO  Product Page'!J100","v":1054.4185897043651},{"$f":"'[3]LO  Product Page'!K100","v":0},{"$f":"'[3]LO  Product Page'!L100","v":2.8537866926972275},{"$f":"'[3]LO  Product Page'!M100","v":0.40953692148447224},{"$f":"'[3]LO  Product Page'!N100","v":2.8036836366978086},{"$f":"'[3]LO  Product Page'!O100","v":0.56656972226452107},{"$f":"'[3]LO  Product Page'!P100","v":3.779790280446802},{"$f":"'[3]LO  Product Page'!Q100","v":0.28373703654323978},{"$f":"'[3]LO  Product Page'!R100","v":0.47180800000000001},{"$f":"'[3]LO  Product Page'!S100","v":5.0347440000000007E-2},{"$f":"'[3]LO  Product Page'!T100","v":0.80589247654323981},{"$f":"'[3]LO  Product Page'!U100","v":0.62952191362724574},{"$f":"'[3]LO  Product Page'!V100","v":198},{"$f":"'[3]LO  Product Page'!W100","v":182},{"$f":"'[3]LO  Product Page'!X100","v":620},{"$f":"'[3]LO  Product Page'!Y100","v":0},{"$f":"'[3]LO  Product Page'!Z100","v":0},{"$f":"'[3]LO  Product Page'!AA100","v":0},{"$f":"'[3]LO  Product Page'!AB100","v":3.7797902804468024},{"$f":"'[3]LO  Product Page'!AC100","v":0.63936255739516701},{"$f":"'[3]LO  Product Page'!AD100","v":2.8537866926972271},{"$f":"'[3]LO  Product Page'!AE100","v":0.81728993558021146},{"$f":"'[3]LO  Product Page'!AF100","v":0.55593247260335588},{"$f":"'[3]LO  Product Page'!AG100","v":0.37062164840223732},{"$f":"'[3]LO  Product Page'!AH100","v":9.2655412100559325}]
[{"$f":"'[3]LO  Product Page'!B101","v":"SPRINGTON BLEND"},{"$f":"'[3]LO  Product Page'!C101","v":86942},{"$f":"'[3]LO  Product Page'!D101","v":"SPRINGTON BLEND"},{"$f":"'[3]LO  Product Page'!E101","v":0},{"$f":"'[3]LO  Product Page'!F101","v":1.165996662770616},{"$f":"'[3]LO  Product Page'!G101","v":74.01028233519061},{"$f":"'[3]LO  Product Page'!H101","v":35.544101831323374},{"$f":"'[3]LO  Product Page'!I101","v":16.620874909957628},{"$f":"'[3]LO  Product Page'!J101","v":1039.8214036941445},{"$f":"'[3]LO  Product Page'!K101","v":0},{"$f":"'[3]LO  Product Page'!L101","v":2.8142793702794071},{"$f":"'[3]LO  Product Page'!M101","v":0.40386736417646046},{"$f":"'[3]LO  Product Page'!N101","v":3.4044729874187682},{"$f":"'[3]LO  Product Page'!O101","v":0.62379898713972526},{"$f":"'[3]LO  Product Page'!P101","v":4.4321393387349541},{"$f":"'[3]LO  Product Page'!Q101","v":0.28076386400824194},{"$f":"'[3]LO  Product Page'!R101","v":0.53200000000000014},{"$f":"'[3]LO  Product Page'!S101","v":5.5433040000000003E-2},{"$f":"'[3]LO  Product Page'!T101","v":0.86819690400824212},{"$f":"'[3]LO  Product Page'!U101","v":0.69310998571080573},{"$f":"'[3]LO  Product Page'!V101","v":218},{"$f":"'[3]LO  Product Page'!W101","v":221},{"$f":"'[3]LO  Product Page'!X101","v":561},{"$f":"'[3]LO  Product Page'!Y101","v":0},{"$f":"'[3]LO  Product Page'!Z101","v":0},{"$f":"'[3]LO  Product Page'!AA101","v":0},{"$f":"'[3]LO  Product Page'!AB101","v":4.4321393387349532},{"$f":"'[3]LO  Product Page'!AC101","v":0.70281439733245887},{"$f":"'[3]LO  Product Page'!AD101","v":2.8142793702794071},{"$f":"'[3]LO  Product Page'!AE101","v":0.87844914462510248},{"$f":"'[3]LO  Product Page'!AF101","v":0.54823624096352075},{"$f":"'[3]LO  Product Page'!AG101","v":0.36549082730901394},{"$f":"'[3]LO  Product Page'!AH101","v":9.1372706827253474}]
[{"$f":"'[3]LO  Product Page'!B102","v":"SUNFLOWER 1"},{"$f":"'[3]LO  Product Page'!C102","v":95513},{"$f":"'[3]LO  Product Page'!D102","v":"SUNFLOWER 1"},{"$f":"'[3]LO  Product Page'!E102","v":0},{"$f":"'[3]LO  Product Page'!F102","v":1.1639797732472024},{"$f":"'[3]LO  Product Page'!G102","v":36.837697089913874},{"$f":"'[3]LO  Product Page'!H102","v":44.837743135843709},{"$f":"'[3]LO  Product Page'!I102","v":17.765644697425696},{"$f":"'[3]LO  Product Page'!J102","v":1064.5386883240192},{"$f":"'[3]LO  Product Page'!K102","v":0},{"$f":"'[3]LO  Product Page'!L102","v":2.8811767662899639},{"$f":"'[3]LO  Product Page'!M102","v":0.41346757490265074},{"$f":"'[3]LO  Product Page'!N102","v":1.6945340661360382},{"$f":"'[3]LO  Product Page'!O102","v":0.78690239203405699},{"$f":"'[3]LO  Product Page'!P102","v":2.8949040330727458},{"$f":"'[3]LO  Product Page'!Q102","v":0.28662661050845406},{"$f":"'[3]LO  Product Page'!R102","v":0.5684800000000001},{"$f":"'[3]LO  Product Page'!S102","v":6.9927000000000003E-2},{"$f":"'[3]LO  Product Page'!T102","v":0.92503361050845412},{"$f":"'[3]LO  Product Page'!U102","v":0.87433599114895233},{"$f":"'[3]LO  Product Page'!V102","v":275},{"$f":"'[3]LO  Product Page'!W102","v":110},{"$f":"'[3]LO  Product Page'!X102","v":615},{"$f":"'[3]LO  Product Page'!Y102","v":0},{"$f":"'[3]LO  Product Page'!Z102","v":0},{"$f":"'[3]LO  Product Page'!AA102","v":0},{"$f":"'[3]LO  Product Page'!AB102","v":2.8949040330727462},{"$f":"'[3]LO  Product Page'!AC102","v":0.88427108344650396},{"$f":"'[3]LO  Product Page'!AD102","v":2.8811767662899639},{"$f":"'[3]LO  Product Page'!AE102","v":0.93650027853608653},{"$f":"'[3]LO  Product Page'!AF102","v":0.56126820122531773},{"$f":"'[3]LO  Product Page'!AG102","v":0.37417880081687849},{"$f":"'[3]LO  Product Page'!AH102","v":9.354470020421962}]
[{"$f":"'[3]LO  Product Page'!B103","v":"SUPLAFLO 10NP"},{"$f":"'[3]LO  Product Page'!C103","v":80795},{"$f":"'[3]LO  Product Page'!D103","v":"SUPLAFLO 10NP"},{"$f":"'[3]LO  Product Page'!E103","v":0},{"$f":"'[3]LO  Product Page'!F103","v":1.1379999999999999},{"$f":"'[3]LO  Product Page'!G103","v":0},{"$f":"'[3]LO  Product Page'!H103","v":0},{"$f":"'[3]LO  Product Page'!I103","v":0},{"$f":"'[3]LO  Product Page'!J103","v":1138},{"$f":"'[3]LO  Product Page'!K103","v":0},{"$f":"'[3]LO  Product Page'!L103","v":3.08},{"$f":"'[3]LO  Product Page'!M103","v":0.44200000000000006},{"$f":"'[3]LO  Product Page'!N103","v":0},{"$f":"'[3]LO  Product Page'!O103","v":0},{"$f":"'[3]LO  Product Page'!P103","v":0.44200000000000006},{"$f":"'[3]LO  Product Page'!Q103","v":0.3},{"$f":"'[3]LO  Product Page'!R103","v":0},{"$f":"'[3]LO  Product Page'!S103","v":0},{"$f":"'[3]LO  Product Page'!T103","v":0.3},{"$f":"'[3]LO  Product Page'!U103","v":0},{"$f":"'[3]LO  Product Page'!V103","v":0},{"$f":"'[3]LO  Product Page'!W103","v":0},{"$f":"'[3]LO  Product Page'!X103","v":1000},{"$f":"'[3]LO  Product Page'!Y103","v":0},{"$f":"'[3]LO  Product Page'!Z103","v":0},{"$f":"'[3]LO  Product Page'!AA103","v":0},{"$f":"'[3]LO  Product Page'!AB103","v":0.442},{"$f":"'[3]LO  Product Page'!AC103","v":1.0620689655172415E-2},{"$f":"'[3]LO  Product Page'!AD103","v":3.08},{"$f":"'[3]LO  Product Page'!AE103","v":0.31862068965517243},{"$f":"'[3]LO  Product Page'!AF103","v":0.6},{"$f":"'[3]LO  Product Page'!AG103","v":0.40000000000000008},{"$f":"'[3]LO  Product Page'!AH103","v":10.000000000000002}]

{"sheet":"Calc","index":2,"n_rows":364,"n_cols":33,"rows_kept":364,"cut":false,"hidden":true,"merged":[]}
[null,null,null,null,null,null,null,null,null,null,null,null,null,9,10,null,11,"Nitrogen",12,13,null,14,"phosphorus",15,16,null,17,"potassium",18,19,null,20,"Sulphur"]
[null,"Code","Product Code","Product","N","P","K","S",null,null,null,null,null,"N RATE","N DOSE","N CODE","N CODE","Fudge Factor","P RATE","P DOSE","P CODE","P CODE","Fudge Factor","K RATE","K DOSE","K CODE","K CODE","Fudge Factor","S RATE","S DOSE","S CODE","S CODE","Fudge Factor"]
[null,{"$f":"P3+U3+Z3","v":0.32390879268600065},96428,{"$f":"VLOOKUP(C3,'Data sheet'!B58:C122,2,FALSE)","v":"QUOD RATOONER 2"},{"$f":"VLOOKUP(C3,'Data sheet'!$B$1:$AG$65,26,FALSE)","v":4.5700041993316614},{"$f":"VLOOKUP(C3,'Data sheet'!$B$1:$AG$65,27,FALSE)","v":9.8684302851698106E-3},{"$f":"VLOOKUP(C3,'Data sheet'!$B$1:$AG$65,28,FALSE)","v":2.8618447826992446},{"$f":"VLOOKUP(C3,'Data sheet'!$B$1:$AG$65,29,FALSE)","v":0.45991353324769052},null,null,null,null,null,{"$f":"IF(E3=0,0,'Fert selector'!$D$13/E3)","v":32.82272695109048},{"$f":"IF('Fert selector'!$D$15=\"Y\",$E3*$N3,IF('Fert selector'!$E$15=\"Y\",$F3*$S3,IF('Fert selector'!$F$15=\"Y\",$G3*$X3,IF('Fert selector'!$G$15=\"Y\",$H3*$AC3))))","v":150},{"$f":"IF(R3=\"00\",0,Q3)","v":0},{"$f":"IF((O3-'Fert selector'!$D$13)<0,(O3-'Fert selector'!$D$13)*-1,O3-'Fert selector'!$D$13)","v":0},{"$f":"IF(O3<('Fert selector'!$D$13+'Fert selector'!$D$13*'Fert selector'!$D$17),0,1)&IF(O3>('Fert selector'!$D$13-'Fert selector'!$D$13*'Fert selector'!$D$18),0,1)","v":"00"},{"$f":"IF(F3=0,0,'Fert selector'!$E$13/F3)","v":0},{"$f":"IF('Fert selector'!$D$15=\"Y\",$F3*$N3,IF('Fert selector'!$E$15=\"Y\",$F3*$S3,IF('Fert selector'!$F$15=\"Y\",$F3*$X3,IF('Fert selector'!$G$15=\"Y\",$F3*$AC3))))","v":0.32390879268600065},{"$f":"IF(W3=\"00\",0,V3)","v":0.32390879268600065},{"$f":"IF((T3-'Fert selector'!$E$13)<0,(T3-'Fert selector'!$E$13)*-1,T3-'Fert selector'!$E$13)","v":0.32390879268600065},{"$f":"IF(T3<('Fert selector'!$E$13+'Fert selector'!$E$13*'Fert selector'!$E$17),0,1)&IF(T3>('Fert selector'!$E$13-'Fert selector'!$E$13*'Fert selector'!$E$18),0,1)","v":"10"},{"$f":"IF(G3=0,0,'Fert selector'!$F$13/G3)","v":31.448246440225695},{"$f":"IF('Fert selector'!$D$15=\"Y\",$G3*$N3,IF('Fert selector'!$E$15=\"Y\",$G3*$S3,IF('Fert selector'!$F$15=\"Y\",$G3*$X3,IF('Fert selector'!$G$15=\"Y\",$G3*$AC3))))","v":93.93354987894017},{"$f":"IF(AB3=\"00\",0,AA3)","v":0},{"$f":"IF((Y3-'Fert selector'!$F$13)<0,(Y3-'Fert selector'!$F$13)*-1,Y3-'Fert selector'!$F$13)","v":3.9335498789401697},{"$f":"IF(Y3<('Fert selector'!$F$13+'Fert selector'!$F$13*'Fert selector'!$F$17),0,1)&IF(Y3>('Fert selector'!$F$13-'Fert selector'!$F$13*'Fert selector'!$F$18),0,1)","v":"00"},{"$f":"IF(H3=0,0,'Fert selector'!$G$13/H3)","v":0},{"$f":"IF('Fert selector'!$D$15=\"Y\",$H3*$N3,IF('Fert selector'!$E$15=\"Y\",$H3*$S3,IF('Fert selector'!$F$15=\"Y\",$H3*$X3,IF('Fert selector'!$G$15=\"Y\",$H3*$AC3))))","v":15.09561632290022},{"$f":"IF(AG3=\"00\",0,AF3)","v":15.09561632290022},{"$f":"IF((AD3-'Fert selector'!$G$13)<0,(AD3-'Fert selector'!$G$13)*-1,AD3-'Fert selector'!$G$13)","v":15.09561632290022},{"$f":"IF(AD3<('Fert selector'!$G$13+'Fert selector'!$G$13*'Fert selector'!$G$17),0,1)&IF(AD3>('Fert selector'!$G$13-'Fert selector'!$G$13*'Fert selector'!$G$18),0,1)","v":"10"}]
[null,0.32867287589205141,81050,{"$f":"VLOOKUP(C4,'Data sheet'!B12:C76,2,FALSE)","v":"ECONO LIQUID ONE SHOT"},{"$f":"VLOOKUP(C4,'Data sheet'!$B$1:$AG$65,26,FALSE)","v":4.5088485815637851},{"$f":"VLOOKUP(C4,'Data sheet'!$B$1:$AG$65,27,FALSE)","v":9.8795748684291067E-3},{"$f":"VLOOKUP(C4,'Data sheet'!$B$1:$AG$65,28,FALSE)","v":2.8650767118444409},{"$f":"VLOOKUP(C4,'Data sheet'!$B$1:$AG$65,29,FALSE)","v":0.45782030593520878},null,null,null,null,null,{"$f":"IF(E4=0,0,'Fert selector'!$D$13/E4)","v":33.267916916379598},{"$f":"IF('Fert selector'!$D$15=\"Y\",E4*N4,IF('Fert selector'!$E$15=\"Y\",F4*S4,IF('Fert selector'!$F$15=\"Y\",G4*X4,IF('Fert selector'!$G$15=\"Y\",H4*AC4))))","v":150},0,{"$f":"IF((O4-'Fert selector'!$D$13)<0,(O4-'Fert selector'!$D$13)*-1,O4-'Fert selector'!$D$13)","v":0},{"$f":"IF(O4<('Fert selector'!$D$13+'Fert selector'!$D$13*'Fert selector'!$D$17),0,1)&IF(O4>('Fert selector'!$D$13-'Fert selector'!$D$13*'Fert selector'!$D$18),0,1)","v":"00"},{"$f":"IF(F4=0,0,'Fert selector'!$E$13/F4)","v":0},{"$f":"IF('Fert selector'!$D$15=\"Y\",$F4*$N4,IF('Fert selector'!$E$15=\"Y\",$F4*$S4,IF('Fert selector'!$F$15=\"Y\",$F4*$X4,IF('Fert selector'!$G$15=\"Y\",$F4*$AC4))))","v":0.32867287589205141},0.32867287589205141,{"$f":"IF((T4-'Fert selector'!$E$13)<0,(T4-'Fert selector'!$E$13)*-1,T4-'Fert selector'!$E$13)","v":0.32867287589205141},{"$f":"IF(T4<('Fert selector'!$E$13+'Fert selector'!$E$13*'Fert selector'!$E$17),0,1)&IF(T4>('Fert selector'!$E$13-'Fert selector'!$E$13*'Fert selector'!$E$18),0,1)","v":"10"},{"$f":"IF(G4=0,0,'Fert selector'!$F$13/G4)","v":31.412771472377436},{"$f":"IF('Fert selector'!$D$15=\"Y\",$G4*$N4,IF('Fert selector'!$E$15=\"Y\",$G4*$S4,IF('Fert selector'!$F$15=\"Y\",$G4*$X4,IF('Fert selector'!$G$15=\"Y\",$G4*$AC4))))","v":95.315134008694912},0,{"$f":"IF((Y4-'Fert selector'!$F$13)<0,(Y4-'Fert selector'!$F$13)*-1,Y4-'Fert selector'!$F$13)","v":5.3151340086949119},{"$f":"IF(Y4<('Fert selector'!$F$13+'Fert selector'!$F$13*'Fert selector'!$F$17),0,1)&IF(Y4>('Fert selector'!$F$13-'Fert selector'!$F$13*'Fert selector'!$F$18),0,1)","v":"00"},{"$f":"IF(H4=0,0,'Fert selector'!$G$13/H4)","v":0},{"$f":"IF('Fert selector'!$D$15=\"Y\",$H4*$N4,IF('Fert selector'!$E$15=\"Y\",$H4*$S4,IF('Fert selector'!$F$15=\"Y\",$H4*$X4,IF('Fert selector'!$G$15=\"Y\",$H4*$AC4))))","v":15.230727900484014},15.230727900484014,{"$f":"IF((AD4-'Fert selector'!$G$13)<0,(AD4-'Fert selector'!$G$13)*-1,AD4-'Fert selector'!$G$13)","v":15.230727900484014},{"$f":"IF(AD4<('Fert selector'!$G$13+'Fert selector'!$G$13*'Fert selector'!$G$17),0,1)&IF(AD4>('Fert selector'!$G$13-'Fert selector'!$G$13*'Fert selector'!$G$18),0,1)","v":"10"}]
[null,5.6490766296708772,80789,{"$f":"VLOOKUP(C5,'Data sheet'!B24:C88,2,FALSE)","v":"LIQUID ONE SHOT"},{"$f":"VLOOKUP(C5,'Data sheet'!$B$1:$AG$65,26,FALSE)","v":5.0286713325907355},{"$f":"VLOOKUP(C5,'Data sheet'!$B$1:$AG$65,27,FALSE)","v":9.7848459107250756E-3},{"$f":"VLOOKUP(C5,'Data sheet'!$B$1:$AG$65,28,FALSE)","v":2.8376053141102715},{"$f":"VLOOKUP(C5,'Data sheet'!$B$1:$AG$65,29,FALSE)","v":0.47561273809130356},null,null,null,null,null,{"$f":"IF(E5=0,0,'Fert selector'!$D$13/E5)","v":29.828952834489797},{"$f":"IF('Fert selector'!$D$15=\"Y\",E5*N5,IF('Fert selector'!$E$15=\"Y\",F5*S5,IF('Fert selector'!$F$15=\"Y\",G5*X5,IF('Fert selector'!$G$15=\"Y\",H5*AC5))))","v":150},0,{"$f":"IF((O5-'Fert selector'!$D$13)<0,(O5-'Fert selector'!$D$13)*-1,O5-'Fert selector'!$D$13)","v":0},{"$f":"IF(O5<('Fert selector'!$D$13+'Fert selector'!$D$13*'Fert selector'!$D$17),0,1)&IF(O5>('Fert selector'!$D$13-'Fert selector'!$D$13*'Fert selector'!$D$18),0,1)","v":"00"},{"$f":"IF(F5=0,0,'Fert selector'!$E$13/F5)","v":0},{"$f":"IF('Fert selector'!$D$15=\"Y\",$F5*$N5,IF('Fert selector'!$E$15=\"Y\",$F5*$S5,IF('Fert selector'!$F$15=\"Y\",$F5*$X5,IF('Fert selector'!$G$15=\"Y\",$F5*$AC5))))","v":0.29187170716376865},0.29187170716376865,{"$f":"IF((T5-'Fert selector'!$E$13)<0,(T5-'Fert selector'!$E$13)*-1,T5-'Fert selector'!$E$13)","v":0.29187170716376865},{"$f":"IF(T5<('Fert selector'!$E$13+'Fert selector'!$E$13*'Fert selector'!$E$17),0,1)&IF(T5>('Fert selector'!$E$13-'Fert selector'!$E$13*'Fert selector'!$E$18),0,1)","v":"10"},{"$f":"IF(G5=0,0,'Fert selector'!$F$13/G5)","v":31.716884498512229},{"$f":"IF('Fert selector'!$D$15=\"Y\",$G5*$N5,IF('Fert selector'!$E$15=\"Y\",$G5*$S5,IF('Fert selector'!$F$15=\"Y\",$G5*$X5,IF('Fert selector'!$G$15=\"Y\",$G5*$AC5))))","v":84.642795077492892},5.3572049225071083,{"$f":"IF((Y5-'Fert selector'!$F$13)<0,(Y5-'Fert selector'!$F$13)*-1,Y5-'Fert selector'!$F$13)","v":5.3572049225071083},{"$f":"IF(Y5<('Fert selector'!$F$13+'Fert selector'!$F$13*'Fert selector'!$F$17),0,1)&IF(Y5>('Fert selector'!$F$13-'Fert selector'!$F$13*'Fert selector'!$F$18),0,1)","v":"01"},{"$f":"IF(H5=0,0,'Fert selector'!$G$13/H5)","v":0},{"$f":"IF('Fert selector'!$D$15=\"Y\",$H5*$N5,IF('Fert selector'!$E$15=\"Y\",$H5*$S5,IF('Fert selector'!$F$15=\"Y\",$H5*$X5,IF('Fert selector'!$G$15=\"Y\",$H5*$AC5))))","v":14.187029932008043},14.187029932008043,{"$f":"IF((AD5-'Fert selector'!$G$13)<0,(AD5-'Fert selector'!$G$13)*-1,AD5-'Fert selector'!$G$13)","v":14.187029932008043},{"$f":"IF(AD5<('Fert selector'!$G$13+'Fert selector'!$G$13*'Fert selector'!$G$17),0,1)&IF(AD5>('Fert selector'!$G$13-'Fert selector'!$G$13*'Fert selector'!$G$18),0,1)","v":"10"}]
[null,12.274469908244843,81052,{"$f":"VLOOKUP(C6,'Data sheet'!B13:C77,2,FALSE)","v":"ECONO LIQUID ONE SHOT + P"},{"$f":"VLOOKUP(C6,'Data sheet'!$B$1:$AG$65,26,FALSE)","v":4.4712617756860888},{"$f":"VLOOKUP(C6,'Data sheet'!$B$1:$AG$65,27,FALSE)","v":0.36588245411696196},{"$f":"VLOOKUP(C6,'Data sheet'!$B$1:$AG$65,28,FALSE)","v":2.8388826302172498},{"$f":"VLOOKUP(C6,'Data sheet'!$B$1:$AG$65,29,FALSE)","v":0.67398560827832443},null,null,null,null,null,{"$f":"IF(E6=0,0,'Fert selector'!$D$13/E6)","v":33.547577289183295},{"$f":"IF('Fert selector'!$D$15=\"Y\",E6*N6,IF('Fert selector'!$E$15=\"Y\",F6*S6,IF('Fert selector'!$F$15=\"Y\",G6*X6,IF('Fert selector'!$G$15=\"Y\",H6*AC6))))","v":150},0,{"$f":"IF((O6-'Fert selector'!$D$13)<0,(O6-'Fert selector'!$D$13)*-1,O6-'Fert selector'!$D$13)","v":0},{"$f":"IF(O6<('Fert selector'!$D$13+'Fert selector'!$D$13*'Fert selector'!$D$17),0,1)&IF(O6>('Fert selector'!$D$13-'Fert selector'!$D$13*'Fert selector'!$D$18),0,1)","v":"00"},{"$f":"IF(F6=0,0,'Fert selector'!$E$13/F6)","v":0},{"$f":"IF('Fert selector'!$D$15=\"Y\",$F6*$N6,IF('Fert selector'!$E$15=\"Y\",$F6*$S6,IF('Fert selector'!$F$15=\"Y\",$F6*$X6,IF('Fert selector'!$G$15=\"Y\",$F6*$AC6))))","v":12.274469908244843},12.274469908244843,{"$f":"IF((T6-'Fert selector'!$E$13)<0,(T6-'Fert selector'!$E$13)*-1,T6-'Fert selector'!$E$13)","v":12.274469908244843},{"$f":"IF(T6<('Fert selector'!$E$13+'Fert selector'!$E$13*'Fert selector'!$E$17),0,1)&IF(T6>('Fert selector'!$E$13-'Fert selector'!$E$13*'Fert selector'!$E$18),0,1)","v":"10"},{"$f":"IF(G6=0,0,'Fert selector'!$F$13/G6)","v":31.702613923532518},{"$f":"IF('Fert selector'!$D$15=\"Y\",$G6*$N6,IF('Fert selector'!$E$15=\"Y\",$G6*$S6,IF('Fert selector'!$F$15=\"Y\",$G6*$X6,IF('Fert selector'!$G$15=\"Y\",$G6*$AC6))))","v":95.23763445213315},0,{"$f":"IF((Y6-'Fert selector'!$F$13)<0,(Y6-'Fert selector'!$F$13)*-1,Y6-'Fert selector'!$F$13)","v":5.2376344521331504},{"$f":"IF(Y6<('Fert selector'!$F$13+'Fert selector'!$F$13*'Fert selector'!$F$17),0,1)&IF(Y6>('Fert selector'!$F$13-'Fert selector'!$F$13*'Fert selector'!$F$18),0,1)","v":"00"},{"$f":"IF(H6=0,0,'Fert selector'!$G$13/H6)","v":0},{"$f":"IF('Fert selector'!$D$15=\"Y\",$H6*$N6,IF('Fert selector'!$E$15=\"Y\",$H6*$S6,IF('Fert selector'!$F$15=\"Y\",$H6*$X6,IF('Fert selector'!$G$15=\"Y\",$H6*$AC6))))","v":22.610584285514307},22.610584285514307,{"$f":"IF((AD6-'Fert selector'!$G$13)<0,(AD6-'Fert selector'!$G$13)*-1,AD6-'Fert selector'!$G$13)","v":22.610584285514307},{"$f":"IF(AD6<('Fert selector'!$G$13+'Fert selector'!$G$13*'Fert selector'!$G$17),0,1)&IF(AD6>('Fert selector'!$G$13-'Fert selector'!$G$13*'Fert selector'!$G$18),0,1)","v":"10"}]
[null,13.536234180818564,89016,{"$f":"VLOOKUP(C7,'Data sheet'!B23:C87,2,FALSE)","v":"LO P RATOONER"},{"$f":"VLOOKUP(C7,'Data sheet'!$B$1:$AG$65,26,FALSE)","v":4.9986952757878189},{"$f":"VLOOKUP(C7,'Data sheet'!$B$1:$AG$65,27,FALSE)","v":0.27043025884826399},{"$f":"VLOOKUP(C7,'Data sheet'!$B$1:$AG$65,28,FALSE)","v":2.8185573586435195},{"$f":"VLOOKUP(C7,'Data sheet'!$B$1:$AG$65,29,FALSE)","v":0.63379251728085106},null,null,null,null,null,{"$f":"IF(E7=0,0,'Fert selector'!$D$13/E7)","v":30.0078303885726},{"$f":"IF('Fert selector'!$D$15=\"Y\",E7*N7,IF('Fert selector'!$E$15=\"Y\",F7*S7,IF('Fert selector'!$F$15=\"Y\",G7*X7,IF('Fert selector'!$G$15=\"Y\",H7*AC7))))","v":150},0,{"$f":"IF((O7-'Fert selector'!$D$13)<0,(O7-'Fert selector'!$D$13)*-1,O7-'Fert selector'!$D$13)","v":0},{"$f":"IF(O7<('Fert selector'!$D$13+'Fert selector'!$D$13*'Fert selector'!$D$17),0,1)&IF(O7>('Fert selector'!$D$13-'Fert selector'!$D$13*'Fert selector'!$D$18),0,1)","v":"00"},{"$f":"IF(F7=0,0,'Fert selector'!$E$13/F7)","v":0},{"$f":"IF('Fert selector'!$D$15=\"Y\",$F7*$N7,IF('Fert selector'!$E$15=\"Y\",$F7*$S7,IF('Fert selector'!$F$15=\"Y\",$F7*$X7,IF('Fert selector'!$G$15=\"Y\",$F7*$AC7))))","v":8.1150253394564906},8.1150253394564906,{"$f":"IF((T7-'Fert selector'!$E$13)<0,(T7-'Fert selector'!$E$13)*-1,T7-'Fert selector'!$E$13)","v":8.1150253394564906},{"$f":"IF(T7<('Fert selector'!$E$13+'Fert selector'!$E$13*'Fert selector'!$E$17),0,1)&IF(T7>('Fert selector'!$E$13-'Fert selector'!$E$13*'Fert selector'!$E$18),0,1)","v":"10"},{"$f":"IF(G7=0,0,'Fert selector'!$F$13/G7)","v":31.931228833786832},{"$f":"IF('Fert selector'!$D$15=\"Y\",$G7*$N7,IF('Fert selector'!$E$15=\"Y\",$G7*$S7,IF('Fert selector'!$F$15=\"Y\",$G7*$X7,IF('Fert selector'!$G$15=\"Y\",$G7*$AC7))))","v":84.578791158637927},5.4212088413620734,{"$f":"IF((Y7-'Fert selector'!$F$13)<0,(Y7-'Fert selector'!$F$13)*-1,Y7-'Fert selector'!$F$13)","v":5.4212088413620734},{"$f":"IF(Y7<('Fert selector'!$F$13+'Fert selector'!$F$13*'Fert selector'!$F$17),0,1)&IF(Y7>('Fert selector'!$F$13-'Fert selector'!$F$13*'Fert selector'!$F$18),0,1)","v":"01"},{"$f":"IF(H7=0,0,'Fert selector'!$G$13/H7)","v":0},{"$f":"IF('Fert selector'!$D$15=\"Y\",$H7*$N7,IF('Fert selector'!$E$15=\"Y\",$H7*$S7,IF('Fert selector'!$F$15=\"Y\",$H7*$X7,IF('Fert selector'!$G$15=\"Y\",$H7*$AC7))))","v":19.018738360110248},19.018738360110248,{"$f":"IF((AD7-'Fert selector'!$G$13)<0,(AD7-'Fert selector'!$G$13)*-1,AD7-'Fert selector'!$G$13)","v":19.018738360110248},{"$f":"IF(AD7<('Fert selector'!$G$13+'Fert selector'!$G$13*'Fert selector'!$G$17),0,1)&IF(AD7>('Fert selector'!$G$13-'Fert selector'!$G$13*'Fert selector'!$G$18),0,1)","v":"10"}]
[null,17.717093172646575,102313,{"$f":"VLOOKUP(C8,'Data sheet'!B60:C124,2,FALSE)","v":"SPRING 1"},{"$f":"VLOOKUP(C8,'Data sheet'!$B$1:$AG$65,26,FALSE)","v":4.4432882894528181},{"$f":"VLOOKUP(C8,'Data sheet'!$B$1:$AG$65,27,FALSE)","v":0.52481435078109995},{"$f":"VLOOKUP(C8,'Data sheet'!$B$1:$AG$65,28,FALSE)","v":2.8277804022361521},{"$f":"VLOOKUP(C8,'Data sheet'!$B$1:$AG$65,29,FALSE)","v":0.77010484003948432},null,null,null,null,null,{"$f":"IF(E8=0,0,'Fert selector'!$D$13/E8)","v":33.75878183642957},{"$f":"IF('Fert selector'!$D$15=\"Y\",E8*N8,IF('Fert selector'!$E$15=\"Y\",F8*S8,IF('Fert selector'!$F$15=\"Y\",G8*X8,IF('Fert selector'!$G$15=\"Y\",H8*AC8))))","v":150},0,{"$f":"IF((O8-'Fert selector'!$D$13)<0,(O8-'Fert selector'!$D$13)*-1,O8-'Fert selector'!$D$13)","v":0},{"$f":"IF(O8<('Fert selector'!$D$13+'Fert selector'!$D$13*'Fert selector'!$D$17),0,1)&IF(O8>('Fert selector'!$D$13-'Fert selector'!$D$13*'Fert selector'!$D$18),0,1)","v":"00"},{"$f":"IF(F8=0,0,'Fert selector'!$E$13/F8)","v":0},{"$f":"IF('Fert selector'!$D$15=\"Y\",$F8*$N8,IF('Fert selector'!$E$15=\"Y\",$F8*$S8,IF('Fert selector'!$F$15=\"Y\",$F8*$X8,IF('Fert selector'!$G$15=\"Y\",$F8*$AC8))))","v":17.717093172646575},17.717093172646575,{"$f":"IF((T8-'Fert selector'!$E$13)<0,(T8-'Fert selector'!$E$13)*-1,T8-'Fert selector'!$E$13)","v":17.717093172646575},{"$f":"IF(T8<('Fert selector'!$E$13+'Fert selector'!$E$13*'Fert selector'!$E$17),0,1)&IF(T8>('Fert selector'!$E$13-'Fert selector'!$E$13*'Fert selector'!$E$18),0,1)","v":"10"},{"$f":"IF(G8=0,0,'Fert selector'!$F$13/G8)","v":31.827082445592239},{"$f":"IF('Fert selector'!$D$15=\"Y\",$G8*$N8,IF('Fert selector'!$E$15=\"Y\",$G8*$S8,IF('Fert selector'!$F$15=\"Y\",$G8*$X8,IF('Fert selector'!$G$15=\"Y\",$G8*$AC8))))","v":95.462421680421315},0,{"$f":"IF((Y8-'Fert selector'!$F$13)<0,(Y8-'Fert selector'!$F$13)*-1,Y8-'Fert selector'!$F$13)","v":5.4624216804213148},{"$f":"IF(Y8<('Fert selector'!$F$13+'Fert selector'!$F$13*'Fert selector'!$F$17),0,1)&IF(Y8>('Fert selector'!$F$13-'Fert selector'!$F$13*'Fert selector'!$F$18),0,1)","v":"00"},{"$f":"IF(H8=0,0,'Fert selector'!$G$13/H8)","v":0},{"$f":"IF('Fert selector'!$D$15=\"Y\",$H8*$N8,IF('Fert selector'!$E$15=\"Y\",$H8*$S8,IF('Fert selector'!$F$15=\"Y\",$H8*$X8,IF('Fert selector'!$G$15=\"Y\",$H8*$AC8))))","v":25.997801286071443},25.997801286071443,{"$f":"IF((AD8-'Fert selector'!$G$13)<0,(AD8-'Fert selector'!$G$13)*-1,AD8-'Fert selector'!$G$13)","v":25.997801286071443},{"$f":"IF(AD8<('Fert selector'!$G$13+'Fert selector'!$G$13*'Fert selector'!$G$17),0,1)&IF(AD8>('Fert selector'!$G$13-'Fert selector'!$G$13*'Fert selector'!$G$18),0,1)","v":"10"}]
[null,19.594566871217111,102185,{"$f":"VLOOKUP(C9,'Data sheet'!B41:C105,2,FALSE)","v":"MKY 170"},{"$f":"VLOOKUP(C9,'Data sheet'!$B$1:$AG$65,26,FALSE)","v":3.9737369260948663},{"$f":"VLOOKUP(C9,'Data sheet'!$B$1:$AG$65,27,FALSE)","v":9.9770899719479646E-3},{"$f":"VLOOKUP(C9,'Data sheet'!$B$1:$AG$65,28,FALSE)","v":2.8933560918649093},{"$f":"VLOOKUP(C9,'Data sheet'!$B$1:$AG$65,29,FALSE)","v":0.43950456695099344},null,null,null,null,null,{"$f":"IF(E9=0,0,'Fert selector'!$D$13/E9)","v":37.747843601566842},{"$f":"IF('Fert selector'!$D$15=\"Y\",E9*N9,IF('Fert selector'!$E$15=\"Y\",F9*S9,IF('Fert selector'!$F$15=\"Y\",G9*X9,IF('Fert selector'!$G$15=\"Y\",H9*AC9))))","v":150},0,{"$f":"IF((O9-'Fert selector'!$D$13)<0,(O9-'Fert selector'!$D$13)*-1,O9-'Fert selector'!$D$13)","v":0},{"$f":"IF(O9<('Fert selector'!$D$13+'Fert selector'!$D$13*'Fert selector'!$D$17),0,1)&IF(O9>('Fert selector'!$D$13-'Fert selector'!$D$13*'Fert selector'!$D$18),0,1)","v":"00"},{"$f":"IF(F9=0,0,'Fert selector'!$E$13/F9)","v":0},{"$f":"IF('Fert selector'!$D$15=\"Y\",$F9*$N9,IF('Fert selector'!$E$15=\"Y\",$F9*$S9,IF('Fert selector'!$F$15=\"Y\",$F9*$X9,IF('Fert selector'!$G$15=\"Y\",$F9*$AC9))))","v":0.37661363185985269},0.37661363185985269,{"$f":"IF((T9-'Fert selector'!$E$13)<0,(T9-'Fert selector'!$E$13)*-1,T9-'Fert selector'!$E$13)","v":0.37661363185985269},{"$f":"IF(T9<('Fert selector'!$E$13+'Fert selector'!$E$13*'Fert selector'!$E$17),0,1)&IF(T9>('Fert selector'!$E$13-'Fert selector'!$E$13*'Fert selector'!$E$18),0,1)","v":"10"},{"$f":"IF(G9=0,0,'Fert selector'!$F$13/G9)","v":31.105746110217151},{"$f":"IF('Fert selector'!$D$15=\"Y\",$G9*$N9,IF('Fert selector'!$E$15=\"Y\",$G9*$S9,IF('Fert selector'!$F$15=\"Y\",$G9*$X9,IF('Fert selector'!$G$15=\"Y\",$G9*$AC9))))","v":109.21795323935726},19.217953239357257,{"$f":"IF((Y9-'Fert selector'!$F$13)<0,(Y9-'Fert selector'!$F$13)*-1,Y9-'Fert selector'!$F$13)","v":19.217953239357257},{"$f":"IF(Y9<('Fert selector'!$F$13+'Fert selector'!$F$13*'Fert selector'!$F$17),0,1)&IF(Y9>('Fert selector'!$F$13-'Fert selector'!$F$13*'Fert selector'!$F$18),0,1)","v":"10"},{"$f":"IF(H9=0,0,'Fert selector'!$G$13/H9)","v":0},{"$f":"IF('Fert selector'!$D$15=\"Y\",$H9*$N9,IF('Fert selector'!$E$15=\"Y\",$H9*$S9,IF('Fert selector'!$F$15=\"Y\",$H9*$X9,IF('Fert selector'!$G$15=\"Y\",$H9*$AC9))))","v":16.590349655440463},16.590349655440463,{"$f":"IF((AD9-'Fert selector'!$G$13)<0,(AD9-'Fert selector'!$G$13)*-1,AD9-'Fert selector'!$G$13)","v":16.590349655440463},{"$f":"IF(AD9<('Fert selector'!$G$13+'Fert selector'!$G$13*'Fert selector'!$G$17),0,1)&IF(AD9>('Fert selector'!$G$13-'Fert selector'!$G$13*'Fert selector'!$G$18),0,1)","v":"10"}]
[null,20.431487432249604,80793,{"$f":"VLOOKUP(C10,'Data sheet'!B25:C89,2,FALSE)","v":"LIQUID ONE SHOT + P"},{"$f":"VLOOKUP(C10,'Data sheet'!$B$1:$AG$65,26,FALSE)","v":4.9587713201537627},{"$f":"VLOOKUP(C10,'Data sheet'!$B$1:$AG$65,27,FALSE)","v":0.50247066080915659},{"$f":"VLOOKUP(C10,'Data sheet'!$B$1:$AG$65,28,FALSE)","v":2.8022996268539382},{"$f":"VLOOKUP(C10,'Data sheet'!$B$1:$AG$65,29,FALSE)","v":0.77415799406183172},null,null,null,null,null,{"$f":"IF(E10=0,0,'Fert selector'!$D$13/E10)","v":30.24942880313117},{"$f":"IF('Fert selector'!$D$15=\"Y\",E10*N10,IF('Fert selector'!$E$15=\"Y\",F10*S10,IF('Fert selector'!$F$15=\"Y\",G10*X10,IF('Fert selector'!$G$15=\"Y\",H10*AC10))))","v":150},0,{"$f":"IF((O10-'Fert selector'!$D$13)<0,(O10-'Fert selector'!$D$13)*-1,O10-'Fert selector'!$D$13)","v":0},{"$f":"IF(O10<('Fert selector'!$D$13+'Fert selector'!$D$13*'Fert selector'!$D$17),0,1)&IF(O10>('Fert selector'!$D$13-'Fert selector'!$D$13*'Fert selector'!$D$18),0,1)","v":"00"},{"$f":"IF(F10=0,0,'Fert selector'!$E$13/F10)","v":0},{"$f":"IF('Fert selector'!$D$15=\"Y\",$F10*$N10,IF('Fert selector'!$E$15=\"Y\",$F10*$S10,IF('Fert selector'!$F$15=\"Y\",$F10*$X10,IF('Fert selector'!$G$15=\"Y\",$F10*$AC10))))","v":15.199450479808855},15.199450479808855,{"$f":"IF((T10-'Fert selector'!$E$13)<0,(T10-'Fert selector'!$E$13)*-1,T10-'Fert selector'!$E$13)","v":15.199450479808855},{"$f":"IF(T10<('Fert selector'!$E$13+'Fert selector'!$E$13*'Fert selector'!$E$17),0,1)&IF(T10>('Fert selector'!$E$13-'Fert selector'!$E$13*'Fert selector'!$E$18),0,1)","v":"10"},{"$f":"IF(G10=0,0,'Fert selector'!$F$13/G10)","v":32.116480028597238},{"$f":"IF('Fert selector'!$D$15=\"Y\",$G10*$N10,IF('Fert selector'!$E$15=\"Y\",$G10*$S10,IF('Fert selector'!$F$15=\"Y\",$G10*$X10,IF('Fert selector'!$G$15=\"Y\",$G10*$AC10))))","v":84.767963047559249},5.2320369524407511,{"$f":"IF((Y10-'Fert selector'!$F$13)<0,(Y10-'Fert selector'!$F$13)*-1,Y10-'Fert selector'!$F$13)","v":5.2320369524407511},{"$f":"IF(Y10<('Fert selector'!$F$13+'Fert selector'!$F$13*'Fert selector'!$F$17),0,1)&IF(Y10>('Fert selector'!$F$13-'Fert selector'!$F$13*'Fert selector'!$F$18),0,1)","v":"01"},{"$f":"IF(H10=0,0,'Fert selector'!$G$13/H10)","v":0},{"$f":"IF('Fert selector'!$D$15=\"Y\",$H10*$N10,IF('Fert selector'!$E$15=\"Y\",$H10*$S10,IF('Fert selector'!$F$15=\"Y\",$H10*$X10,IF('Fert selector'!$G$15=\"Y\",$H10*$AC10))))","v":23.417837123748221},23.417837123748221,{"$f":"IF((AD10-'Fert selector'!$G$13)<0,(AD10-'Fert selector'!$G$13)*-1,AD10-'Fert selector'!$G$13)","v":23.417837123748221},{"$f":"IF(AD10<('Fert selector'!$G$13+'Fert selector'!$G$13*'Fert selector'!$G$17),0,1)&IF(AD10>('Fert selector'!$G$13-'Fert selector'!$G$13*'Fert selector'!$G$18),0,1)","v":"10"}]
[null,20.647149821843456,102196,{"$f":"VLOOKUP(C11,'Data sheet'!B30:C94,2,FALSE)","v":"MID N + P"},{"$f":"VLOOKUP(C11,'Data sheet'!$B$1:$AG$65,26,FALSE)","v":5.2856462585421493},{"$f":"VLOOKUP(C11,'Data sheet'!$B$1:$AG$65,27,FALSE)","v":0.35301990231814739},{"$f":"VLOOKUP(C11,'Data sheet'!$B$1:$AG$65,28,FALSE)","v":2.7968507894075301},{"$f":"VLOOKUP(C11,'Data sheet'!$B$1:$AG$65,29,FALSE)","v":0.69409412844718921},null,null,null,null,null,{"$f":"IF(E11=0,0,'Fert selector'!$D$13/E11)","v":28.378743612965877},{"$f":"IF('Fert selector'!$D$15=\"Y\",E11*N11,IF('Fert selector'!$E$15=\"Y\",F11*S11,IF('Fert selector'!$F$15=\"Y\",G11*X11,IF('Fert selector'!$G$15=\"Y\",H11*AC11))))","v":150},0,{"$f":"IF((O11-'Fert selector'!$D$13)<0,(O11-'Fert selector'!$D$13)*-1,O11-'Fert selector'!$D$13)","v":0},{"$f":"IF(O11<('Fert selector'!$D$13+'Fert selector'!$D$13*'Fert selector'!$D$17),0,1)&IF(O11>('Fert selector'!$D$13-'Fert selector'!$D$13*'Fert selector'!$D$18),0,1)","v":"00"},{"$f":"IF(F11=0,0,'Fert selector'!$E$13/F11)","v":0},{"$f":"IF('Fert selector'!$D$15=\"Y\",$F11*$N11,IF('Fert selector'!$E$15=\"Y\",$F11*$S11,IF('Fert selector'!$F$15=\"Y\",$F11*$X11,IF('Fert selector'!$G$15=\"Y\",$F11*$AC11))))","v":10.018261298160963},10.018261298160963,{"$f":"IF((T11-'Fert selector'!$E$13)<0,(T11-'Fert selector'!$E$13)*-1,T11-'Fert selector'!$E$13)","v":10.018261298160963},{"$f":"IF(T11<('Fert selector'!$E$13+'Fert selector'!$E$13*'Fert selector'!$E$17),0,1)&IF(T11>('Fert selector'!$E$13-'Fert selector'!$E$13*'Fert selector'!$E$18),0,1)","v":"10"},{"$f":"IF(G11=0,0,'Fert selector'!$F$13/G11)","v":32.179049501266071},{"$f":"IF('Fert selector'!$D$15=\"Y\",$G11*$N11,IF('Fert selector'!$E$15=\"Y\",$G11*$S11,IF('Fert selector'!$F$15=\"Y\",$G11*$X11,IF('Fert selector'!$G$15=\"Y\",$G11*$AC11))))","v":79.371111476317509},10.628888523682491,{"$f":"IF((Y11-'Fert selector'!$F$13)<0,(Y11-'Fert selector'!$F$13)*-1,Y11-'Fert selector'!$F$13)","v":10.628888523682491},{"$f":"IF(Y11<('Fert selector'!$F$13+'Fert selector'!$F$13*'Fert selector'!$F$17),0,1)&IF(Y11>('Fert selector'!$F$13-'Fert selector'!$F$13*'Fert selector'!$F$18),0,1)","v":"01"},{"$f":"IF(H11=0,0,'Fert selector'!$G$13/H11)","v":0},{"$f":"IF('Fert selector'!$D$15=\"Y\",$H11*$N11,IF('Fert selector'!$E$15=\"Y\",$H11*$S11,IF('Fert selector'!$F$15=\"Y\",$H11*$X11,IF('Fert selector'!$G$15=\"Y\",$H11*$AC11))))","v":19.697519314467787},19.697519314467787,{"$f":"IF((AD11-'Fert selector'!$G$13)<0,(AD11-'Fert selector'!$G$13)*-1,AD11-'Fert selector'!$G$13)","v":19.697519314467787},{"$f":"IF(AD11<('Fert selector'!$G$13+'Fert selector'!$G$13*'Fert selector'!$G$17),0,1)&IF(AD11>('Fert selector'!$G$13-'Fert selector'!$G$13*'Fert selector'!$G$18),0,1)","v":"10"}]
[null,21.245617703680594,102201,{"$f":"VLOOKUP(C12,'Data sheet'!B43:C107,2,FALSE)","v":"MKY 180P"},{"$f":"VLOOKUP(C12,'Data sheet'!$B$1:$AG$65,26,FALSE)","v":4.2133529707422586},{"$f":"VLOOKUP(C12,'Data sheet'!$B$1:$AG$65,27,FALSE)","v":0.264216302322413},{"$f":"VLOOKUP(C12,'Data sheet'!$B$1:$AG$65,28,FALSE)","v":2.8605640565699888},{"$f":"VLOOKUP(C12,'Data sheet'!$B$1:$AG$65,29,FALSE)","v":0.60302884477188934},null,null,null,null,null,{"$f":"IF(E12=0,0,'Fert selector'!$D$13/E12)","v":35.601099893981768},{"$f":"IF('Fert selector'!$D$15=\"Y\",E12*N12,IF('Fert selector'!$E$15=\"Y\",F12*S12,IF('Fert selector'!$F$15=\"Y\",G12*X12,IF('Fert selector'!$G$15=\"Y\",H12*AC12))))","v":150},0,{"$f":"IF((O12-'Fert selector'!$D$13)<0,(O12-'Fert selector'!$D$13)*-1,O12-'Fert selector'!$D$13)","v":0},{"$f":"IF(O12<('Fert selector'!$D$13+'Fert selector'!$D$13*'Fert selector'!$D$17),0,1)&IF(O12>('Fert selector'!$D$13-'Fert selector'!$D$13*'Fert selector'!$D$18),0,1)","v":"00"},{"$f":"IF(F12=0,0,'Fert selector'!$E$13/F12)","v":0},{"$f":"IF('Fert selector'!$D$15=\"Y\",$F12*$N12,IF('Fert selector'!$E$15=\"Y\",$F12*$S12,IF('Fert selector'!$F$15=\"Y\",$F12*$X12,IF('Fert selector'!$G$15=\"Y\",$F12*$AC12))))","v":9.4063909725987127},9.4063909725987127,{"$f":"IF((T12-'Fert selector'!$E$13)<0,(T12-'Fert selector'!$E$13)*-1,T12-'Fert selector'!$E$13)","v":9.4063909725987127},{"$f":"IF(T12<('Fert selector'!$E$13+'Fert selector'!$E$13*'Fert selector'!$E$17),0,1)&IF(T12>('Fert selector'!$E$13-'Fert selector'!$E$13*'Fert selector'!$E$18),0,1)","v":"10"},{"$f":"IF(G12=0,0,'Fert selector'!$F$13/G12)","v":31.462326387445465},{"$f":"IF('Fert selector'!$D$15=\"Y\",$G12*$N12,IF('Fert selector'!$E$15=\"Y\",$G12*$S12,IF('Fert selector'!$F$15=\"Y\",$G12*$X12,IF('Fert selector'!$G$15=\"Y\",$G12*$AC12))))","v":101.83922673108188},11.83922673108188,{"$f":"IF((Y12-'Fert selector'!$F$13)<0,(Y12-'Fert selector'!$F$13)*-1,Y12-'Fert selector'!$F$13)","v":11.83922673108188},{"$f":"IF(Y12<('Fert selector'!$F$13+'Fert selector'!$F$13*'Fert selector'!$F$17),0,1)&IF(Y12>('Fert selector'!$F$13-'Fert selector'!$F$13*'Fert selector'!$F$18),0,1)","v":"10"},{"$f":"IF(H12=0,0,'Fert selector'!$G$13/H12)","v":0},{"$f":"IF('Fert selector'!$D$15=\"Y\",$H12*$N12,IF('Fert selector'!$E$15=\"Y\",$H12*$S12,IF('Fert selector'!$F$15=\"Y\",$H12*$X12,IF('Fert selector'!$G$15=\"Y\",$H12*$AC12))))","v":21.468490141676458},21.468490141676458,{"$f":"IF((AD12-'Fert selector'!$G$13)<0,(AD12-'Fert selector'!$G$13)*-1,AD12-'Fert selector'!$G$13)","v":21.468490141676458},{"$f":"IF(AD12<('Fert selector'!$G$13+'Fert selector'!$G$13*'Fert selector'!$G$17),0,1)&IF(AD12>('Fert selector'!$G$13-'Fert selector'!$G$13*'Fert selector'!$G$18),0,1)","v":"10"}]
[null,21.837072936493733,80790,{"$f":"VLOOKUP(C13,'Data sheet'!B31:C95,2,FALSE)","v":"MID N"},{"$f":"VLOOKUP(C13,'Data sheet'!$B$1:$AG$65,26,FALSE)","v":6.0988946435285731},{"$f":"VLOOKUP(C13,'Data sheet'!$B$1:$AG$65,27,FALSE)","v":9.5898157036873634E-3},{"$f":"VLOOKUP(C13,'Data sheet'!$B$1:$AG$65,28,FALSE)","v":2.7810465540693352},{"$f":"VLOOKUP(C13,'Data sheet'!$B$1:$AG$65,29,FALSE)","v":0.51224421605973425},null,null,null,null,null,{"$f":"IF(E13=0,0,'Fert selector'!$D$13/E13)","v":24.594620626733121},{"$f":"IF('Fert selector'!$D$15=\"Y\",E13*N13,IF('Fert selector'!$E$15=\"Y\",F13*S13,IF('Fert selector'!$F$15=\"Y\",G13*X13,IF('Fert selector'!$G$15=\"Y\",H13*AC13))))","v":150},0,{"$f":"IF((O13-'Fert selector'!$D$13)<0,(O13-'Fert selector'!$D$13)*-1,O13-'Fert selector'!$D$13)","v":0},{"$f":"IF(O13<('Fert selector'!$D$13+'Fert selector'!$D$13*'Fert selector'!$D$17),0,1)&IF(O13>('Fert selector'!$D$13-'Fert selector'!$D$13*'Fert selector'!$D$18),0,1)","v":"00"},{"$f":"IF(F13=0,0,'Fert selector'!$E$13/F13)","v":0},{"$f":"IF('Fert selector'!$D$15=\"Y\",$F13*$N13,IF('Fert selector'!$E$15=\"Y\",$F13*$S13,IF('Fert selector'!$F$15=\"Y\",$F13*$X13,IF('Fert selector'!$G$15=\"Y\",$F13*$AC13))))","v":0.23585787911247844},0.23585787911247844,{"$f":"IF((T13-'Fert selector'!$E$13)<0,(T13-'Fert selector'!$E$13)*-1,T13-'Fert selector'!$E$13)","v":0.23585787911247844},{"$f":"IF(T13<('Fert selector'!$E$13+'Fert selector'!$E$13*'Fert selector'!$E$17),0,1)&IF(T13>('Fert selector'!$E$13-'Fert selector'!$E$13*'Fert selector'!$E$18),0,1)","v":"10"},{"$f":"IF(G13=0,0,'Fert selector'!$F$13/G13)","v":32.361917806916431},{"$f":"IF('Fert selector'!$D$15=\"Y\",$G13*$N13,IF('Fert selector'!$E$15=\"Y\",$G13*$S13,IF('Fert selector'!$F$15=\"Y\",$G13*$X13,IF('Fert selector'!$G$15=\"Y\",$G13*$AC13))))","v":68.398784942618747},21.601215057381253,{"$f":"IF((Y13-'Fert selector'!$F$13)<0,(Y13-'Fert selector'!$F$13)*-1,Y13-'Fert selector'!$F$13)","v":21.601215057381253},{"$f":"IF(Y13<('Fert selector'!$F$13+'Fert selector'!$F$13*'Fert selector'!$F$17),0,1)&IF(Y13>('Fert selector'!$F$13-'Fert selector'!$F$13*'Fert selector'!$F$18),0,1)","v":"01"},{"$f":"IF(H13=0,0,'Fert selector'!$G$13/H13)","v":0},{"$f":"IF('Fert selector'!$D$15=\"Y\",$H13*$N13,IF('Fert selector'!$E$15=\"Y\",$H13*$S13,IF('Fert selector'!$F$15=\"Y\",$H13*$X13,IF('Fert selector'!$G$15=\"Y\",$H13*$AC13))))","v":12.598452162227478},12.598452162227478,{"$f":"IF((AD13-'Fert selector'!$G$13)<0,(AD13-'Fert selector'!$G$13)*-1,AD13-'Fert selector'!$G$13)","v":12.598452162227478},{"$f":"IF(AD13<('Fert selector'!$G$13+'Fert selector'!$G$13*'Fert selector'!$G$17),0,1)&IF(AD13>('Fert selector'!$G$13-'Fert selector'!$G$13*'Fert selector'!$G$18),0,1)","v":"10"}]
[null,23.785840548496616,86942,{"$f":"VLOOKUP(C14,'Data sheet'!B62:C126,2,FALSE)","v":"SPRINGTON BLEND"},{"$f":"VLOOKUP(C14,'Data sheet'!$B$1:$AG$65,26,FALSE)","v":4.4321393387349532},{"$f":"VLOOKUP(C14,'Data sheet'!$B$1:$AG$65,27,FALSE)","v":0.70281439733245887},{"$f":"VLOOKUP(C14,'Data sheet'!$B$1:$AG$65,28,FALSE)","v":2.8142793702794071},{"$f":"VLOOKUP(C14,'Data sheet'!$B$1:$AG$65,29,FALSE)","v":0.87844914462510248},null,null,null,null,null,{"$f":"IF(E14=0,0,'Fert selector'!$D$13/E14)","v":33.843701322534201},{"$f":"IF('Fert selector'!$D$15=\"Y\",E14*N14,IF('Fert selector'!$E$15=\"Y\",F14*S14,IF('Fert selector'!$F$15=\"Y\",G14*X14,IF('Fert selector'!$G$15=\"Y\",H14*AC14))))","v":150},0,{"$f":"IF((O14-'Fert selector'!$D$13)<0,(O14-'Fert selector'!$D$13)*-1,O14-'Fert selector'!$D$13)","v":0},{"$f":"IF(O14<('Fert selector'!$D$13+'Fert selector'!$D$13*'Fert selector'!$D$17),0,1)&IF(O14>('Fert selector'!$D$13-'Fert selector'!$D$13*'Fert selector'!$D$18),0,1)","v":"00"},{"$f":"IF(F14=0,0,'Fert selector'!$E$13/F14)","v":0},{"$f":"IF('Fert selector'!$D$15=\"Y\",$F14*$N14,IF('Fert selector'!$E$15=\"Y\",$F14*$S14,IF('Fert selector'!$F$15=\"Y\",$F14*$X14,IF('Fert selector'!$G$15=\"Y\",$F14*$AC14))))","v":23.785840548496616},23.785840548496616,{"$f":"IF((T14-'Fert selector'!$E$13)<0,(T14-'Fert selector'!$E$13)*-1,T14-'Fert selector'!$E$13)","v":23.785840548496616},{"$f":"IF(T14<('Fert selector'!$E$13+'Fert selector'!$E$13*'Fert selector'!$E$17),0,1)&IF(T14>('Fert selector'!$E$13-'Fert selector'!$E$13*'Fert selector'!$E$18),0,1)","v":"10"},{"$f":"IF(G14=0,0,'Fert selector'!$F$13/G14)","v":31.979767520757765},{"$f":"IF('Fert selector'!$D$15=\"Y\",$G14*$N14,IF('Fert selector'!$E$15=\"Y\",$G14*$S14,IF('Fert selector'!$F$15=\"Y\",$G14*$X14,IF('Fert selector'!$G$15=\"Y\",$G14*$AC14))))","v":95.245630445905888},0,{"$f":"IF((Y14-'Fert selector'!$F$13)<0,(Y14-'Fert selector'!$F$13)*-1,Y14-'Fert selector'!$F$13)","v":5.2456304459058885},{"$f":"IF(Y14<('Fert selector'!$F$13+'Fert selector'!$F$13*'Fert selector'!$F$17),0,1)&IF(Y14>('Fert selector'!$F$13-'Fert selector'!$F$13*'Fert selector'!$F$18),0,1)","v":"00"},{"$f":"IF(H14=0,0,'Fert selector'!$G$13/H14)","v":0},{"$f":"IF('Fert selector'!$D$15=\"Y\",$H14*$N14,IF('Fert selector'!$E$15=\"Y\",$H14*$S14,IF('Fert selector'!$F$15=\"Y\",$H14*$X14,IF('Fert selector'!$G$15=\"Y\",$H14*$AC14))))","v":29.729970477727619},29.729970477727619,{"$f":"IF((AD14-'Fert selector'!$G$13)<0,(AD14-'Fert selector'!$G$13)*-1,AD14-'Fert selector'!$G$13)","v":29.729970477727619},{"$f":"IF(AD14<('Fert selector'!$G$13+'Fert selector'!$G$13*'Fert selector'!$G$17),0,1)&IF(AD14>('Fert selector'!$G$13-'Fert selector'!$G$13*'Fert selector'!$G$18),0,1)","v":"10"}]
[null,25.755376434029639,102202,{"$f":"VLOOKUP(C15,'Data sheet'!B44:C108,2,FALSE)","v":"MKY 190P"},{"$f":"VLOOKUP(C15,'Data sheet'!$B$1:$AG$65,26,FALSE)","v":4.2088134838143532},{"$f":"VLOOKUP(C15,'Data sheet'!$B$1:$AG$65,27,FALSE)","v":0.39771564069947862},{"$f":"VLOOKUP(C15,'Data sheet'!$B$1:$AG$65,28,FALSE)","v":2.8502362870308557},{"$f":"VLOOKUP(C15,'Data sheet'!$B$1:$AG$65,29,FALSE)","v":0.68441789991813307},null,null,null,null,null,{"$f":"IF(E15=0,0,'Fert selector'!$D$13/E15)","v":35.639498062066266},{"$f":"IF('Fert selector'!$D$15=\"Y\",E15*N15,IF('Fert selector'!$E$15=\"Y\",F15*S15,IF('Fert selector'!$F$15=\"Y\",G15*X15,IF('Fert selector'!$G$15=\"Y\",H15*AC15))))","v":150},0,{"$f":"IF((O15-'Fert selector'!$D$13)<0,(O15-'Fert selector'!$D$13)*-1,O15-'Fert selector'!$D$13)","v":0},{"$f":"IF(O15<('Fert selector'!$D$13+'Fert selector'!$D$13*'Fert selector'!$D$17),0,1)&IF(O15>('Fert selector'!$D$13-'Fert selector'!$D$13*'Fert selector'!$D$18),0,1)","v":"00"},{"$f":"IF(F15=0,0,'Fert selector'!$E$13/F15)","v":0},{"$f":"IF('Fert selector'!$D$15=\"Y\",$F15*$N15,IF('Fert selector'!$E$15=\"Y\",$F15*$S15,IF('Fert selector'!$F$15=\"Y\",$F15*$X15,IF('Fert selector'!$G$15=\"Y\",$F15*$AC15))))","v":14.174385805962512},14.174385805962512,{"$f":"IF((T15-'Fert selector'!$E$13)<0,(T15-'Fert selector'!$E$13)*-1,T15-'Fert selector'!$E$13)","v":14.174385805962512},{"$f":"IF(T15<('Fert selector'!$E$13+'Fert selector'!$E$13*'Fert selector'!$E$17),0,1)&IF(T15>('Fert selector'!$E$13-'Fert selector'!$E$13*'Fert selector'!$E$18),0,1)","v":"10"},{"$f":"IF(G15=0,0,'Fert selector'!$F$13/G15)","v":31.57632944662096},{"$f":"IF('Fert selector'!$D$15=\"Y\",$G15*$N15,IF('Fert selector'!$E$15=\"Y\",$G15*$S15,IF('Fert selector'!$F$15=\"Y\",$G15*$X15,IF('Fert selector'!$G$15=\"Y\",$G15*$AC15))))","v":101.58099062806713},11.580990628067127,{"$f":"IF((Y15-'Fert selector'!$F$13)<0,(Y15-'Fert selector'!$F$13)*-1,Y15-'Fert selector'!$F$13)","v":11.580990628067127},{"$f":"IF(Y15<('Fert selector'!$F$13+'Fert selector'!$F$13*'Fert selector'!$F$17),0,1)&IF(Y15>('Fert selector'!$F$13-'Fert selector'!$F$13*'Fert selector'!$F$18),0,1)","v":"10"},{"$f":"IF(H15=0,0,'Fert selector'!$G$13/H15)","v":0},{"$f":"IF('Fert selector'!$D$15=\"Y\",$H15*$N15,IF('Fert selector'!$E$15=\"Y\",$H15*$S15,IF('Fert selector'!$F$15=\"Y\",$H15*$X15,IF('Fert selector'!$G$15=\"Y\",$H15*$AC15))))","v":24.392310417775768},24.392310417775768,{"$f":"IF((AD15-'Fert selector'!$G$13)<0,(AD15-'Fert selector'!$G$13)*-1,AD15-'Fert selector'!$G$13)","v":24.392310417775768},{"$f":"IF(AD15<('Fert selector'!$G$13+'Fert selector'!$G$13*'Fert selector'!$G$17),0,1)&IF(AD15>('Fert selector'!$G$13-'Fert selector'!$G$13*'Fert selector'!$G$18),0,1)","v":"10"}]
[null,26.794096218905015,102183,{"$f":"VLOOKUP(C16,'Data sheet'!B39:C103,2,FALSE)","v":"MKY 160"},{"$f":"VLOOKUP(C16,'Data sheet'!$B$1:$AG$65,26,FALSE)","v":3.7444033594653292},{"$f":"VLOOKUP(C16,'Data sheet'!$B$1:$AG$65,27,FALSE)","v":1.0018882159170331E-2},{"$f":"VLOOKUP(C16,'Data sheet'!$B$1:$AG$65,28,FALSE)","v":2.9054758261593956},{"$f":"VLOOKUP(C16,'Data sheet'!$B$1:$AG$65,29,FALSE)","v":0.43165496452918684},null,null,null,null,null,{"$f":"IF(E16=0,0,'Fert selector'!$D$13/E16)","v":40.059786726988406},{"$f":"IF('Fert selector'!$D$15=\"Y\",E16*N16,IF('Fert selector'!$E$15=\"Y\",F16*S16,IF('Fert selector'!$F$15=\"Y\",G16*X16,IF('Fert selector'!$G$15=\"Y\",H16*AC16))))","v":150},0,{"$f":"IF((O16-'Fert selector'!$D$13)<0,(O16-'Fert selector'!$D$13)*-1,O16-'Fert selector'!$D$13)","v":0},{"$f":"IF(O16<('Fert selector'!$D$13+'Fert selector'!$D$13*'Fert selector'!$D$17),0,1)&IF(O16>('Fert selector'!$D$13-'Fert selector'!$D$13*'Fert selector'!$D$18),0,1)","v":"00"},{"$f":"IF(F16=0,0,'Fert selector'!$E$13/F16)","v":0},{"$f":"IF('Fert selector'!$D$15=\"Y\",$F16*$N16,IF('Fert selector'!$E$15=\"Y\",$F16*$S16,IF('Fert selector'!$F$15=\"Y\",$F16*$X16,IF('Fert selector'!$G$15=\"Y\",$F16*$AC16))))","v":0.40135428253919259},0.40135428253919259,{"$f":"IF((T16-'Fert selector'!$E$13)<0,(T16-'Fert selector'!$E$13)*-1,T16-'Fert selector'!$E$13)","v":0.40135428253919259},{"$f":"IF(T16<('Fert selector'!$E$13+'Fert selector'!$E$13*'Fert selector'!$E$17),0,1)&IF(T16>('Fert selector'!$E$13-'Fert selector'!$E$13*'Fert selector'!$E$18),0,1)","v":"10"},{"$f":"IF(G16=0,0,'Fert selector'!$F$13/G16)","v":30.975993394846633},{"$f":"IF('Fert selector'!$D$15=\"Y\",$G16*$N16,IF('Fert selector'!$E$15=\"Y\",$G16*$S16,IF('Fert selector'!$F$15=\"Y\",$G16*$X16,IF('Fert selector'!$G$15=\"Y\",$G16*$AC16))))","v":116.39274193636582},26.392741936365823,{"$f":"IF((Y16-'Fert selector'!$F$13)<0,(Y16-'Fert selector'!$F$13)*-1,Y16-'Fert selector'!$F$13)","v":26.392741936365823},{"$f":"IF(Y16<('Fert selector'!$F$13+'Fert selector'!$F$13*'Fert selector'!$F$17),0,1)&IF(Y16>('Fert selector'!$F$13-'Fert selector'!$F$13*'Fert selector'!$F$18),0,1)","v":"10"},{"$f":"IF(H16=0,0,'Fert selector'!$G$13/H16)","v":0},{"$f":"IF('Fert selector'!$D$15=\"Y\",$H16*$N16,IF('Fert selector'!$E$15=\"Y\",$H16*$S16,IF('Fert selector'!$F$15=\"Y\",$H16*$X16,IF('Fert selector'!$G$15=\"Y\",$H16*$AC16))))","v":17.29200581868497},17.29200581868497,{"$f":"IF((AD16-'Fert selector'!$G$13)<0,(AD16-'Fert selector'!$G$13)*-1,AD16-'Fert selector'!$G$13)","v":17.29200581868497},{"$f":"IF(AD16<('Fert selector'!$G$13+'Fert selector'!$G$13*'Fert selector'!$G$17),0,1)&IF(AD16>('Fert selector'!$G$13-'Fert selector'!$G$13*'Fert selector'!$G$18),0,1)","v":"10"}]
[null,28.397240962282428,81049,{"$f":"VLOOKUP(C17,'Data sheet'!B55:C119,2,FALSE)","v":"LIQUID PREPLANT"},{"$f":"VLOOKUP(C17,'Data sheet'!$B$1:$AG$65,26,FALSE)","v":4.4846829221432269},{"$f":"VLOOKUP(C17,'Data sheet'!$B$1:$AG$65,27,FALSE)","v":0.84901747719689402},{"$f":"VLOOKUP(C17,'Data sheet'!$B$1:$AG$65,28,FALSE)","v":2.7999284512309455},{"$f":"VLOOKUP(C17,'Data sheet'!$B$1:$AG$65,29,FALSE)","v":0.96955816880534618},null,null,null,null,null,{"$f":"IF(E17=0,0,'Fert selector'!$D$13/E17)","v":33.447180682355821},{"$f":"IF('Fert selector'!$D$15=\"Y\",E17*N17,IF('Fert selector'!$E$15=\"Y\",F17*S17,IF('Fert selector'!$F$15=\"Y\",G17*X17,IF('Fert selector'!$G$15=\"Y\",H17*AC17))))","v":150},0,{"$f":"IF((O17-'Fert selector'!$D$13)<0,(O17-'Fert selector'!$D$13)*-1,O17-'Fert selector'!$D$13)","v":0},{"$f":"IF(O17<('Fert selector'!$D$13+'Fert selector'!$D$13*'Fert selector'!$D$17),0,1)&IF(O17>('Fert selector'!$D$13-'Fert selector'!$D$13*'Fert selector'!$D$18),0,1)","v":"00"},{"$f":"IF(F17=0,0,'Fert selector'!$E$13/F17)","v":0},{"$f":"IF('Fert selector'!$D$15=\"Y\",$F17*$N17,IF('Fert selector'!$E$15=\"Y\",$F17*$S17,IF('Fert selector'!$F$15=\"Y\",$F17*$X17,IF('Fert selector'!$G$15=\"Y\",$F17*$AC17))))","v":28.397240962282428},28.397240962282428,{"$f":"IF((T17-'Fert selector'!$E$13)<0,(T17-'Fert selector'!$E$13)*-1,T17-'Fert selector'!$E$13)","v":28.397240962282428},{"$f":"IF(T17<('Fert selector'!$E$13+'Fert selector'!$E$13*'Fert selector'!$E$17),0,1)&IF(T17>('Fert selector'!$E$13-'Fert selector'!$E$13*'Fert selector'!$E$18),0,1)","v":"10"},{"$f":"IF(G17=0,0,'Fert selector'!$F$13/G17)","v":32.143678514510931},{"$f":"IF('Fert selector'!$D$15=\"Y\",$G17*$N17,IF('Fert selector'!$E$15=\"Y\",$G17*$S17,IF('Fert selector'!$F$15=\"Y\",$G17*$X17,IF('Fert selector'!$G$15=\"Y\",$G17*$AC17))))","v":93.649712805990134},0,{"$f":"IF((Y17-'Fert selector'!$F$13)<0,(Y17-'Fert selector'!$F$13)*-1,Y17-'Fert selector'!$F$13)","v":3.6497128059901343},{"$f":"IF(Y17<('Fert selector'!$F$13+'Fert selector'!$F$13*'Fert selector'!$F$17),0,1)&IF(Y17>('Fert selector'!$F$13-'Fert selector'!$F$13*'Fert selector'!$F$18),0,1)","v":"00"},{"$f":"IF(H17=0,0,'Fert selector'!$G$13/H17)","v":0},{"$f":"IF('Fert selector'!$D$15=\"Y\",$H17*$N17,IF('Fert selector'!$E$15=\"Y\",$H17*$S17,IF('Fert selector'!$F$15=\"Y\",$H17*$X17,IF('Fert selector'!$G$15=\"Y\",$H17*$AC17))))","v":32.428987254086458},32.428987254086458,{"$f":"IF((AD17-'Fert selector'!$G$13)<0,(AD17-'Fert selector'!$G$13)*-1,AD17-'Fert selector'!$G$13)","v":32.428987254086458},{"$f":"IF(AD17<('Fert selector'!$G$13+'Fert selector'!$G$13*'Fert selector'!$G$17),0,1)&IF(AD17>('Fert selector'!$G$13-'Fert selector'!$G$13*'Fert selector'!$G$18),0,1)","v":"10"}]
[null,31.703827034065981,96984,{"$f":"VLOOKUP(C18,'Data sheet'!B52:C116,2,FALSE)","v":"PMR 1"},{"$f":"VLOOKUP(C18,'Data sheet'!$B$1:$AG$65,26,FALSE)","v":3.8938216085343442},{"$f":"VLOOKUP(C18,'Data sheet'!$B$1:$AG$65,27,FALSE)","v":0.28334574741756013},{"$f":"VLOOKUP(C18,'Data sheet'!$B$1:$AG$65,28,FALSE)","v":2.8759408628929224},{"$f":"VLOOKUP(C18,'Data sheet'!$B$1:$AG$65,29,FALSE)","v":0.60374116737769801},null,null,null,null,null,{"$f":"IF(E18=0,0,'Fert selector'!$D$13/E18)","v":38.522566023886448},{"$f":"IF('Fert selector'!$D$15=\"Y\",E18*N18,IF('Fert selector'!$E$15=\"Y\",F18*S18,IF('Fert selector'!$F$15=\"Y\",G18*X18,IF('Fert selector'!$G$15=\"Y\",H18*AC18))))","v":150},0,{"$f":"IF((O18-'Fert selector'!$D$13)<0,(O18-'Fert selector'!$D$13)*-1,O18-'Fert selector'!$D$13)","v":0},{"$f":"IF(O18<('Fert selector'!$D$13+'Fert selector'!$D$13*'Fert selector'!$D$17),0,1)&IF(O18>('Fert selector'!$D$13-'Fert selector'!$D$13*'Fert selector'!$D$18),0,1)","v":"00"},{"$f":"IF(F18=0,0,'Fert selector'!$E$13/F18)","v":0},{"$f":"IF('Fert selector'!$D$15=\"Y\",$F18*$N18,IF('Fert selector'!$E$15=\"Y\",$F18*$S18,IF('Fert selector'!$F$15=\"Y\",$F18*$X18,IF('Fert selector'!$G$15=\"Y\",$F18*$AC18))))","v":10.915205262480413},10.915205262480413,{"$f":"IF((T18-'Fert selector'!$E$13)<0,(T18-'Fert selector'!$E$13)*-1,T18-'Fert selector'!$E$13)","v":10.915205262480413},{"$f":"IF(T18<('Fert selector'!$E$13+'Fert selector'!$E$13*'Fert selector'!$E$17),0,1)&IF(T18>('Fert selector'!$E$13-'Fert selector'!$E$13*'Fert selector'!$E$18),0,1)","v":"10"},{"$f":"IF(G18=0,0,'Fert selector'!$F$13/G18)","v":31.294106621326204},{"$f":"IF('Fert selector'!$D$15=\"Y\",$G18*$N18,IF('Fert selector'!$E$15=\"Y\",$G18*$S18,IF('Fert selector'!$F$15=\"Y\",$G18*$X18,IF('Fert selector'!$G$15=\"Y\",$G18*$AC18))))","v":110.78862177158557},20.788621771585568,{"$f":"IF((Y18-'Fert selector'!$F$13)<0,(Y18-'Fert selector'!$F$13)*-1,Y18-'Fert selector'!$F$13)","v":20.788621771585568},{"$f":"IF(Y18<('Fert selector'!$F$13+'Fert selector'!$F$13*'Fert selector'!$F$17),0,1)&IF(Y18>('Fert selector'!$F$13-'Fert selector'!$F$13*'Fert selector'!$F$18),0,1)","v":"10"},{"$f":"IF(H18=0,0,'Fert selector'!$G$13/H18)","v":0},{"$f":"IF('Fert selector'!$D$15=\"Y\",$H18*$N18,IF('Fert selector'!$E$15=\"Y\",$H18*$S18,IF('Fert selector'!$F$15=\"Y\",$H18*$X18,IF('Fert selector'!$G$15=\"Y\",$H18*$AC18))))","v":23.257658981645651},23.257658981645651,{"$f":"IF((AD18-'Fert selector'!$G$13)<0,(AD18-'Fert selector'!$G$13)*-1,AD18-'Fert selector'!$G$13)","v":23.257658981645651},{"$f":"IF(AD18<('Fert selector'!$G$13+'Fert selector'!$G$13*'Fert selector'!$G$17),0,1)&IF(AD18>('Fert selector'!$G$13-'Fert selector'!$G$13*'Fert selector'!$G$18),0,1)","v":"10"}]
[null,33.544420773215464,102193,{"$f":"VLOOKUP(C19,'Data sheet'!B45:C109,2,FALSE)","v":"MKY 200P"},{"$f":"VLOOKUP(C19,'Data sheet'!$B$1:$AG$65,26,FALSE)","v":5.4814655667256877},{"$f":"VLOOKUP(C19,'Data sheet'!$B$1:$AG$65,27,FALSE)","v":0.69626610330882899},{"$f":"VLOOKUP(C19,'Data sheet'!$B$1:$AG$65,28,FALSE)","v":2.7593281938499854},{"$f":"VLOOKUP(C19,'Data sheet'!$B$1:$AG$65,29,FALSE)","v":0.91048229149059312},null,null,null,null,null,{"$f":"IF(E19=0,0,'Fert selector'!$D$13/E19)","v":27.364944315357867},{"$f":"IF('Fert selector'!$D$15=\"Y\",E19*N19,IF('Fert selector'!$E$15=\"Y\",F19*S19,IF('Fert selector'!$F$15=\"Y\",G19*X19,IF('Fert selector'!$G$15=\"Y\",H19*AC19))))","v":150},0,{"$f":"IF((O19-'Fert selector'!$D$13)<0,(O19-'Fert selector'!$D$13)*-1,O19-'Fert selector'!$D$13)","v":0},{"$f":"IF(O19<('Fert selector'!$D$13+'Fert selector'!$D$13*'Fert selector'!$D$17),0,1)&IF(O19>('Fert selector'!$D$13-'Fert selector'!$D$13*'Fert selector'!$D$18),0,1)","v":"00"},{"$f":"IF(F19=0,0,'Fert selector'!$E$13/F19)","v":0},{"$f":"IF('Fert selector'!$D$15=\"Y\",$F19*$N19,IF('Fert selector'!$E$15=\"Y\",$F19*$S19,IF('Fert selector'!$F$15=\"Y\",$F19*$X19,IF('Fert selector'!$G$15=\"Y\",$F19*$AC19))))","v":19.053283145717312},19.053283145717312,{"$f":"IF((T19-'Fert selector'!$E$13)<0,(T19-'Fert selector'!$E$13)*-1,T19-'Fert selector'!$E$13)","v":19.053283145717312},{"$f":"IF(T19<('Fert selector'!$E$13+'Fert selector'!$E$13*'Fert selector'!$E$17),0,1)&IF(T19>('Fert selector'!$E$13-'Fert selector'!$E$13*'Fert selector'!$E$18),0,1)","v":"10"},{"$f":"IF(G19=0,0,'Fert selector'!$F$13/G19)","v":32.616634802845411},{"$f":"IF('Fert selector'!$D$15=\"Y\",$G19*$N19,IF('Fert selector'!$E$15=\"Y\",$G19*$S19,IF('Fert selector'!$F$15=\"Y\",$G19*$X19,IF('Fert selector'!$G$15=\"Y\",$G19*$AC19))))","v":75.508862372501852},14.491137627498148,{"$f":"IF((Y19-'Fert selector'!$F$13)<0,(Y19-'Fert selector'!$F$13)*-1,Y19-'Fert selector'!$F$13)","v":14.491137627498148},{"$f":"IF(Y19<('Fert selector'!$F$13+'Fert selector'!$F$13*'Fert selector'!$F$17),0,1)&IF(Y19>('Fert selector'!$F$13-'Fert selector'!$F$13*'Fert selector'!$F$18),0,1)","v":"01"},{"$f":"IF(H19=0,0,'Fert selector'!$G$13/H19)","v":0},{"$f":"IF('Fert selector'!$D$15=\"Y\",$H19*$N19,IF('Fert selector'!$E$15=\"Y\",$H19*$S19,IF('Fert selector'!$F$15=\"Y\",$H19*$X19,IF('Fert selector'!$G$15=\"Y\",$H19*$AC19))))","v":24.915297206759512},24.915297206759512,{"$f":"IF((AD19-'Fert selector'!$G$13)<0,(AD19-'Fert selector'!$G$13)*-1,AD19-'Fert selector'!$G$13)","v":24.915297206759512},{"$f":"IF(AD19<('Fert selector'!$G$13+'Fert selector'!$G$13*'Fert selector'!$G$17),0,1)&IF(AD19>('Fert selector'!$G$13-'Fert selector'!$G$13*'Fert selector'!$G$18),0,1)","v":"10"}]
[null,33.897791143766327,102181,{"$f":"VLOOKUP(C20,'Data sheet'!B42:C106,2,FALSE)","v":"MKY 170P"},{"$f":"VLOOKUP(C20,'Data sheet'!$B$1:$AG$65,26,FALSE)","v":3.948902108300878},{"$f":"VLOOKUP(C20,'Data sheet'!$B$1:$AG$65,27,FALSE)","v":0.39776300517833063},{"$f":"VLOOKUP(C20,'Data sheet'!$B$1:$AG$65,28,FALSE)","v":2.8639719858979404},{"$f":"VLOOKUP(C20,'Data sheet'!$B$1:$AG$65,29,FALSE)","v":0.67552168384008571},null,null,null,null,null,{"$f":"IF(E20=0,0,'Fert selector'!$D$13/E20)","v":37.98524143829475},{"$f":"IF('Fert selector'!$D$15=\"Y\",E20*N20,IF('Fert selector'!$E$15=\"Y\",F20*S20,IF('Fert selector'!$F$15=\"Y\",G20*X20,IF('Fert selector'!$G$15=\"Y\",H20*AC20))))","v":150},0,{"$f":"IF((O20-'Fert selector'!$D$13)<0,(O20-'Fert selector'!$D$13)*-1,O20-'Fert selector'!$D$13)","v":0},{"$f":"IF(O20<('Fert selector'!$D$13+'Fert selector'!$D$13*'Fert selector'!$D$17),0,1)&IF(O20>('Fert selector'!$D$13-'Fert selector'!$D$13*'Fert selector'!$D$18),0,1)","v":"00"},{"$f":"IF(F20=0,0,'Fert selector'!$E$13/F20)","v":0},{"$f":"IF('Fert selector'!$D$15=\"Y\",$F20*$N20,IF('Fert selector'!$E$15=\"Y\",$F20*$S20,IF('Fert selector'!$F$15=\"Y\",$F20*$X20,IF('Fert selector'!$G$15=\"Y\",$F20*$AC20))))","v":15.109123786920573},15.109123786920573,{"$f":"IF((T20-'Fert selector'!$E$13)<0,(T20-'Fert selector'!$E$13)*-1,T20-'Fert selector'!$E$13)","v":15.109123786920573},{"$f":"IF(T20<('Fert selector'!$E$13+'Fert selector'!$E$13*'Fert selector'!$E$17),0,1)&IF(T20>('Fert selector'!$E$13-'Fert selector'!$E$13*'Fert selector'!$E$18),0,1)","v":"10"},{"$f":"IF(G20=0,0,'Fert selector'!$F$13/G20)","v":31.424888386882152},{"$f":"IF('Fert selector'!$D$15=\"Y\",$G20*$N20,IF('Fert selector'!$E$15=\"Y\",$G20*$S20,IF('Fert selector'!$F$15=\"Y\",$G20*$X20,IF('Fert selector'!$G$15=\"Y\",$G20*$AC20))))","v":108.78866735684575},18.78866735684575,{"$f":"IF((Y20-'Fert selector'!$F$13)<0,(Y20-'Fert selector'!$F$13)*-1,Y20-'Fert selector'!$F$13)","v":18.78866735684575},{"$f":"IF(Y20<('Fert selector'!$F$13+'Fert selector'!$F$13*'Fert selector'!$F$17),0,1)&IF(Y20>('Fert selector'!$F$13-'Fert selector'!$F$13*'Fert selector'!$F$18),0,1)","v":"10"},{"$f":"IF(H20=0,0,'Fert selector'!$G$13/H20)","v":0},{"$f":"IF('Fert selector'!$D$15=\"Y\",$H20*$N20,IF('Fert selector'!$E$15=\"Y\",$H20*$S20,IF('Fert selector'!$F$15=\"Y\",$H20*$X20,IF('Fert selector'!$G$15=\"Y\",$H20*$AC20))))","v":25.659854257469068},25.659854257469068,{"$f":"IF((AD20-'Fert selector'!$G$13)<0,(AD20-'Fert selector'!$G$13)*-1,AD20-'Fert selector'!$G$13)","v":25.659854257469068},{"$f":"IF(AD20<('Fert selector'!$G$13+'Fert selector'!$G$13*'Fert selector'!$G$17),0,1)&IF(AD20>('Fert selector'!$G$13-'Fert selector'!$G$13*'Fert selector'!$G$18),0,1)","v":"10"}]
[null,35.513586276669805,102191,{"$f":"VLOOKUP(C21,'Data sheet'!B37:C101,2,FALSE)","v":"MKY 150"},{"$f":"VLOOKUP(C21,'Data sheet'!$B$1:$AG$65,26,FALSE)","v":3.4997808883938233},{"$f":"VLOOKUP(C21,'Data sheet'!$B$1:$AG$65,27,FALSE)","v":1.0063460492207523E-2},{"$f":"VLOOKUP(C21,'Data sheet'!$B$1:$AG$65,28,FALSE)","v":2.9184035427401809},{"$f":"VLOOKUP(C21,'Data sheet'!$B$1:$AG$65,29,FALSE)","v":0.42328205527925988},null,null,null,null,null,{"$f":"IF(E21=0,0,'Fert selector'!$D$13/E21)","v":42.859826024377327},{"$f":"IF('Fert selector'!$D$15=\"Y\",E21*N21,IF('Fert selector'!$E$15=\"Y\",F21*S21,IF('Fert selector'!$F$15=\"Y\",G21*X21,IF('Fert selector'!$G$15=\"Y\",H21*AC21))))","v":150},0,{"$f":"IF((O21-'Fert selector'!$D$13)<0,(O21-'Fert selector'!$D$13)*-1,O21-'Fert selector'!$D$13)","v":0},{"$f":"IF(O21<('Fert selector'!$D$13+'Fert selector'!$D$13*'Fert selector'!$D$17),0,1)&IF(O21>('Fert selector'!$D$13-'Fert selector'!$D$13*'Fert selector'!$D$18),0,1)","v":"00"},{"$f":"IF(F21=0,0,'Fert selector'!$E$13/F21)","v":0},{"$f":"IF('Fert selector'!$D$15=\"Y\",$F21*$N21,IF('Fert selector'!$E$15=\"Y\",$F21*$S21,IF('Fert selector'!$F$15=\"Y\",$F21*$X21,IF('Fert selector'!$G$15=\"Y\",$F21*$AC21))))","v":0.43131816589920907},0.43131816589920907,{"$f":"IF((T21-'Fert selector'!$E$13)<0,(T21-'Fert selector'!$E$13)*-1,T21-'Fert selector'!$E$13)","v":0.43131816589920907},{"$f":"IF(T21<('Fert selector'!$E$13+'Fert selector'!$E$13*'Fert selector'!$E$17),0,1)&IF(T21>('Fert selector'!$E$13-'Fert selector'!$E$13*'Fert selector'!$E$18),0,1)","v":"10"},{"$f":"IF(G21=0,0,'Fert selector'!$F$13/G21)","v":30.838778353282894},{"$f":"IF('Fert selector'!$D$15=\"Y\",$G21*$N21,IF('Fert selector'!$E$15=\"Y\",$G21*$S21,IF('Fert selector'!$F$15=\"Y\",$G21*$X21,IF('Fert selector'!$G$15=\"Y\",$G21*$AC21))))","v":125.0822681107706},35.082268110770599,{"$f":"IF((Y21-'Fert selector'!$F$13)<0,(Y21-'Fert selector'!$F$13)*-1,Y21-'Fert selector'!$F$13)","v":35.082268110770599},{"$f":"IF(Y21<('Fert selector'!$F$13+'Fert selector'!$F$13*'Fert selector'!$F$17),0,1)&IF(Y21>('Fert selector'!$F$13-'Fert selector'!$F$13*'Fert selector'!$F$18),0,1)","v":"10"},{"$f":"IF(H21=0,0,'Fert selector'!$G$13/H21)","v":0},{"$f":"IF('Fert selector'!$D$15=\"Y\",$H21*$N21,IF('Fert selector'!$E$15=\"Y\",$H21*$S21,IF('Fert selector'!$F$15=\"Y\",$H21*$X21,IF('Fert selector'!$G$15=\"Y\",$H21*$AC21))))","v":18.141795248509943},18.141795248509943,{"$f":"IF((AD21-'Fert selector'!$G$13)<0,(AD21-'Fert selector'!$G$13)*-1,AD21-'Fert selector'!$G$13)","v":18.141795248509943},{"$f":"IF(AD21<('Fert selector'!$G$13+'Fert selector'!$G$13*'Fert selector'!$G$17),0,1)&IF(AD21>('Fert selector'!$G$13-'Fert selector'!$G$13*'Fert selector'!$G$18),0,1)","v":"10"}]
[null,36.369180681559968,102333,{"$f":"VLOOKUP(C22,'Data sheet'!B57:C121,2,FALSE)","v":"QPREPLANT 1"},{"$f":"VLOOKUP(C22,'Data sheet'!$B$1:$AG$65,26,FALSE)","v":3.6343771725170768},{"$f":"VLOOKUP(C22,'Data sheet'!$B$1:$AG$65,27,FALSE)","v":0.16260865958997545},{"$f":"VLOOKUP(C22,'Data sheet'!$B$1:$AG$65,28,FALSE)","v":2.8992131109350079},{"$f":"VLOOKUP(C22,'Data sheet'!$B$1:$AG$65,29,FALSE)","v":0.52108263787492526},null,null,null,null,null,{"$f":"IF(E22=0,0,'Fert selector'!$D$13/E22)","v":41.272546265778416},{"$f":"IF('Fert selector'!$D$15=\"Y\",E22*N22,IF('Fert selector'!$E$15=\"Y\",F22*S22,IF('Fert selector'!$F$15=\"Y\",G22*X22,IF('Fert selector'!$G$15=\"Y\",H22*AC22))))","v":150},0,{"$f":"IF((O22-'Fert selector'!$D$13)<0,(O22-'Fert selector'!$D$13)*-1,O22-'Fert selector'!$D$13)","v":0},{"$f":"IF(O22<('Fert selector'!$D$13+'Fert selector'!$D$13*'Fert selector'!$D$17),0,1)&IF(O22>('Fert selector'!$D$13-'Fert selector'!$D$13*'Fert selector'!$D$18),0,1)","v":"00"},{"$f":"IF(F22=0,0,'Fert selector'!$E$13/F22)","v":0},{"$f":"IF('Fert selector'!$D$15=\"Y\",$F22*$N22,IF('Fert selector'!$E$15=\"Y\",$F22*$S22,IF('Fert selector'!$F$15=\"Y\",$F22*$X22,IF('Fert selector'!$G$15=\"Y\",$F22*$AC22))))","v":6.7112734261434746},6.7112734261434746,{"$f":"IF((T22-'Fert selector'!$E$13)<0,(T22-'Fert selector'!$E$13)*-1,T22-'Fert selector'!$E$13)","v":6.7112734261434746},{"$f":"IF(T22<('Fert selector'!$E$13+'Fert selector'!$E$13*'Fert selector'!$E$17),0,1)&IF(T22>('Fert selector'!$E$13-'Fert selector'!$E$13*'Fert selector'!$E$18),0,1)","v":"10"},{"$f":"IF(G22=0,0,'Fert selector'!$F$13/G22)","v":31.042905973536605},{"$f":"IF('Fert selector'!$D$15=\"Y\",$G22*$N22,IF('Fert selector'!$E$15=\"Y\",$G22*$S22,IF('Fert selector'!$F$15=\"Y\",$G22*$X22,IF('Fert selector'!$G$15=\"Y\",$G22*$AC22))))","v":119.65790725541649},29.65790725541649,{"$f":"IF((Y22-'Fert selector'!$F$13)<0,(Y22-'Fert selector'!$F$13)*-1,Y22-'Fert selector'!$F$13)","v":29.65790725541649},{"$f":"IF(Y22<('Fert selector'!$F$13+'Fert selector'!$F$13*'Fert selector'!$F$17),0,1)&IF(Y22>('Fert selector'!$F$13-'Fert selector'!$F$13*'Fert selector'!$F$18),0,1)","v":"10"},{"$f":"IF(H22=0,0,'Fert selector'!$G$13/H22)","v":0},{"$f":"IF('Fert selector'!$D$15=\"Y\",$H22*$N22,IF('Fert selector'!$E$15=\"Y\",$H22*$S22,IF('Fert selector'!$F$15=\"Y\",$H22*$X22,IF('Fert selector'!$G$15=\"Y\",$H22*$AC22))))","v":21.506407279986714},21.506407279986714,{"$f":"IF((AD22-'Fert selector'!$G$13)<0,(AD22-'Fert selector'!$G$13)*-1,AD22-'Fert selector'!$G$13)","v":21.506407279986714},{"$f":"IF(AD22<('Fert selector'!$G$13+'Fert selector'!$G$13*'Fert selector'!$G$17),0,1)&IF(AD22>('Fert selector'!$G$13-'Fert selector'!$G$13*'Fert selector'!$G$18),0,1)","v":"10"}]
[null,38.428677342225278,85157,{"$f":"VLOOKUP(C23,'Data sheet'!B8:C72,2,FALSE)","v":"CORN 1"},{"$f":"VLOOKUP(C23,'Data sheet'!$B$1:$AG$65,26,FALSE)","v":4.6290273384957219},{"$f":"VLOOKUP(C23,'Data sheet'!$B$1:$AG$65,27,FALSE)","v":1.185915986662613},{"$f":"VLOOKUP(C23,'Data sheet'!$B$1:$AG$65,28,FALSE)","v":2.7656294038575133},{"$f":"VLOOKUP(C23,'Data sheet'!$B$1:$AG$65,29,FALSE)","v":1.1803013870895696},null,null,null,null,null,{"$f":"IF(E23=0,0,'Fert selector'!$D$13/E23)","v":32.404215622702488},{"$f":"IF('Fert selector'!$D$15=\"Y\",E23*N23,IF('Fert selector'!$E$15=\"Y\",F23*S23,IF('Fert selector'!$F$15=\"Y\",G23*X23,IF('Fert selector'!$G$15=\"Y\",H23*AC23))))","v":150},0,{"$f":"IF((O23-'Fert selector'!$D$13)<0,(O23-'Fert selector'!$D$13)*-1,O23-'Fert selector'!$D$13)","v":0},{"$f":"IF(O23<('Fert selector'!$D$13+'Fert selector'!$D$13*'Fert selector'!$D$17),0,1)&IF(O23>('Fert selector'!$D$13-'Fert selector'!$D$13*'Fert selector'!$D$18),0,1)","v":"00"},{"$f":"IF(F23=0,0,'Fert selector'!$E$13/F23)","v":0},{"$f":"IF('Fert selector'!$D$15=\"Y\",$F23*$N23,IF('Fert selector'!$E$15=\"Y\",$F23*$S23,IF('Fert selector'!$F$15=\"Y\",$F23*$X23,IF('Fert selector'!$G$15=\"Y\",$F23*$AC23))))","v":38.428677342225278},38.428677342225278,{"$f":"IF((T23-'Fert selector'!$E$13)<0,(T23-'Fert selector'!$E$13)*-1,T23-'Fert selector'!$E$13)","v":38.428677342225278},{"$f":"IF(T23<('Fert selector'!$E$13+'Fert selector'!$E$13*'Fert selector'!$E$17),0,1)&IF(T23>('Fert selector'!$E$13-'Fert selector'!$E$13*'Fert selector'!$E$18),0,1)","v":"10"},{"$f":"IF(G23=0,0,'Fert selector'!$F$13/G23)","v":32.542321062419845},{"$f":"IF('Fert selector'!$D$15=\"Y\",$G23*$N23,IF('Fert selector'!$E$15=\"Y\",$G23*$S23,IF('Fert selector'!$F$15=\"Y\",$G23*$X23,IF('Fert selector'!$G$15=\"Y\",$G23*$AC23))))","v":89.618051535085002},0,{"$f":"IF((Y23-'Fert selector'!$F$13)<0,(Y23-'Fert selector'!$F$13)*-1,Y23-'Fert selector'!$F$13)","v":0.38194846491499845},{"$f":"IF(Y23<('Fert selector'!$F$13+'Fert selector'!$F$13*'Fert selector'!$F$17),0,1)&IF(Y23>('Fert selector'!$F$13-'Fert selector'!$F$13*'Fert selector'!$F$18),0,1)","v":"00"},{"$f":"IF(H23=0,0,'Fert selector'!$G$13/H23)","v":0},{"$f":"IF('Fert selector'!$D$15=\"Y\",$H23*$N23,IF('Fert selector'!$E$15=\"Y\",$H23*$S23,IF('Fert selector'!$F$15=\"Y\",$H23*$X23,IF('Fert selector'!$G$15=\"Y\",$H23*$AC23))))","v":38.246740647025248},38.246740647025248,{"$f":"IF((AD23-'Fert selector'!$G$13)<0,(AD23-'Fert selector'!$G$13)*-1,AD23-'Fert selector'!$G$13)","v":38.246740647025248},{"$f":"IF(AD23<('Fert selector'!$G$13+'Fert selector'!$G$13*'Fert selector'!$G$17),0,1)&IF(AD23>('Fert selector'!$G$13-'Fert selector'!$G$13*'Fert selector'!$G$18),0,1)","v":"10"}]
[null,38.677164545518657,94831,{"$f":"VLOOKUP(C24,'Data sheet'!B2:C66,2,FALSE)","v":"BKN 200"},{"$f":"VLOOKUP(C24,'Data sheet'!$B$1:$AG$65,26,FALSE)","v":5.5742676849547319},{"$f":"VLOOKUP(C24,'Data sheet'!$B$1:$AG$65,27,FALSE)","v":0.83610477477341261},{"$f":"VLOOKUP(C24,'Data sheet'!$B$1:$AG$65,28,FALSE)","v":2.7433529292678416},{"$f":"VLOOKUP(C24,'Data sheet'!$B$1:$AG$65,29,FALSE)","v":0.99908621188037894},null,null,null,null,null,{"$f":"IF(E24=0,0,'Fert selector'!$D$13/E24)","v":26.90936432867381},{"$f":"IF('Fert selector'!$D$15=\"Y\",E24*N24,IF('Fert selector'!$E$15=\"Y\",F24*S24,IF('Fert selector'!$F$15=\"Y\",G24*X24,IF('Fert selector'!$G$15=\"Y\",H24*AC24))))","v":150},0,{"$f":"IF((O24-'Fert selector'!$D$13)<0,(O24-'Fert selector'!$D$13)*-1,O24-'Fert selector'!$D$13)","v":0},{"$f":"IF(O24<('Fert selector'!$D$13+'Fert selector'!$D$13*'Fert selector'!$D$17),0,1)&IF(O24>('Fert selector'!$D$13-'Fert selector'!$D$13*'Fert selector'!$D$18),0,1)","v":"00"},{"$f":"IF(F24=0,0,'Fert selector'!$E$13/F24)","v":0},{"$f":"IF('Fert selector'!$D$15=\"Y\",$F24*$N24,IF('Fert selector'!$E$15=\"Y\",$F24*$S24,IF('Fert selector'!$F$15=\"Y\",$F24*$X24,IF('Fert selector'!$G$15=\"Y\",$F24*$AC24))))","v":22.499048001321519},22.499048001321519,{"$f":"IF((T24-'Fert selector'!$E$13)<0,(T24-'Fert selector'!$E$13)*-1,T24-'Fert selector'!$E$13)","v":22.499048001321519},{"$f":"IF(T24<('Fert selector'!$E$13+'Fert selector'!$E$13*'Fert selector'!$E$17),0,1)&IF(T24>('Fert selector'!$E$13-'Fert selector'!$E$13*'Fert selector'!$E$18),0,1)","v":"10"},{"$f":"IF(G24=0,0,'Fert selector'!$F$13/G24)","v":32.806570033269324},{"$f":"IF('Fert selector'!$D$15=\"Y\",$G24*$N24,IF('Fert selector'!$E$15=\"Y\",$G24*$S24,IF('Fert selector'!$F$15=\"Y\",$G24*$X24,IF('Fert selector'!$G$15=\"Y\",$G24*$AC24))))","v":73.821883455802862},16.178116544197138,{"$f":"IF((Y24-'Fert selector'!$F$13)<0,(Y24-'Fert selector'!$F$13)*-1,Y24-'Fert selector'!$F$13)","v":16.178116544197138},{"$f":"IF(Y24<('Fert selector'!$F$13+'Fert selector'!$F$13*'Fert selector'!$F$17),0,1)&IF(Y24>('Fert selector'!$F$13-'Fert selector'!$F$13*'Fert selector'!$F$18),0,1)","v":"01"},{"$f":"IF(H24=0,0,'Fert selector'!$G$13/H24)","v":0},{"$f":"IF('Fert selector'!$D$15=\"Y\",$H24*$N24,IF('Fert selector'!$E$15=\"Y\",$H24*$S24,IF('Fert selector'!$F$15=\"Y\",$H24*$X24,IF('Fert selector'!$G$15=\"Y\",$H24*$AC24))))","v":26.884774871243714},26.884774871243714,{"$f":"IF((AD24-'Fert selector'!$G$13)<0,(AD24-'Fert selector'!$G$13)*-1,AD24-'Fert selector'!$G$13)","v":26.884774871243714},{"$f":"IF(AD24<('Fert selector'!$G$13+'Fert selector'!$G$13*'Fert selector'!$G$17),0,1)&IF(AD24>('Fert selector'!$G$13-'Fert selector'!$G$13*'Fert selector'!$G$18),0,1)","v":"10"}]
[null,41.596932453906497,80791,{"$f":"VLOOKUP(C25,'Data sheet'!B19:C83,2,FALSE)","v":"HI N"},{"$f":"VLOOKUP(C25,'Data sheet'!$B$1:$AG$65,26,FALSE)","v":8.239341265404251},{"$f":"VLOOKUP(C25,'Data sheet'!$B$1:$AG$65,27,FALSE)","v":9.199755289611939E-3},{"$f":"VLOOKUP(C25,'Data sheet'!$B$1:$AG$65,28,FALSE)","v":2.6679290339874617},{"$f":"VLOOKUP(C25,'Data sheet'!$B$1:$AG$65,29,FALSE)","v":0.5855071719965953},null,null,null,null,null,{"$f":"IF(E25=0,0,'Fert selector'!$D$13/E25)","v":18.205338893999613},{"$f":"IF('Fert selector'!$D$15=\"Y\",E25*N25,IF('Fert selector'!$E$15=\"Y\",F25*S25,IF('Fert selector'!$F$15=\"Y\",G25*X25,IF('Fert selector'!$G$15=\"Y\",H25*AC25))))","v":150},0,{"$f":"IF((O25-'Fert selector'!$D$13)<0,(O25-'Fert selector'!$D$13)*-1,O25-'Fert selector'!$D$13)","v":0},{"$f":"IF(O25<('Fert selector'!$D$13+'Fert selector'!$D$13*'Fert selector'!$D$17),0,1)&IF(O25>('Fert selector'!$D$13-'Fert selector'!$D$13*'Fert selector'!$D$18),0,1)","v":"00"},{"$f":"IF(F25=0,0,'Fert selector'!$E$13/F25)","v":0},{"$f":"IF('Fert selector'!$D$15=\"Y\",$F25*$N25,IF('Fert selector'!$E$15=\"Y\",$F25*$S25,IF('Fert selector'!$F$15=\"Y\",$F25*$X25,IF('Fert selector'!$G$15=\"Y\",$F25*$AC25))))","v":0.16748466278925092},0.16748466278925092,{"$f":"IF((T25-'Fert selector'!$E$13)<0,(T25-'Fert selector'!$E$13)*-1,T25-'Fert selector'!$E$13)","v":0.16748466278925092},{"$f":"IF(T25<('Fert selector'!$E$13+'Fert selector'!$E$13*'Fert selector'!$E$17),0,1)&IF(T25>('Fert selector'!$E$13-'Fert selector'!$E$13*'Fert selector'!$E$18),0,1)","v":"10"},{"$f":"IF(G25=0,0,'Fert selector'!$F$13/G25)","v":33.734030723256097},{"$f":"IF('Fert selector'!$D$15=\"Y\",$G25*$N25,IF('Fert selector'!$E$15=\"Y\",$G25*$S25,IF('Fert selector'!$F$15=\"Y\",$G25*$X25,IF('Fert selector'!$G$15=\"Y\",$G25*$AC25))))","v":48.570552208882752},41.429447791117248,{"$f":"IF((Y25-'Fert selector'!$F$13)<0,(Y25-'Fert selector'!$F$13)*-1,Y25-'Fert selector'!$F$13)","v":41.429447791117248},{"$f":"IF(Y25<('Fert selector'!$F$13+'Fert selector'!$F$13*'Fert selector'!$F$17),0,1)&IF(Y25>('Fert selector'!$F$13-'Fert selector'!$F$13*'Fert selector'!$F$18),0,1)","v":"01"},{"$f":"IF(H25=0,0,'Fert selector'!$G$13/H25)","v":0},{"$f":"IF('Fert selector'!$D$15=\"Y\",$H25*$N25,IF('Fert selector'!$E$15=\"Y\",$H25*$S25,IF('Fert selector'!$F$15=\"Y\",$H25*$X25,IF('Fert selector'!$G$15=\"Y\",$H25*$AC25))))","v":10.659356491065338},10.659356491065338,{"$f":"IF((AD25-'Fert selector'!$G$13)<0,(AD25-'Fert selector'!$G$13)*-1,AD25-'Fert selector'!$G$13)","v":10.659356491065338},{"$f":"IF(AD25<('Fert selector'!$G$13+'Fert selector'!$G$13*'Fert selector'!$G$17),0,1)&IF(AD25>('Fert selector'!$G$13-'Fert selector'!$G$13*'Fert selector'!$G$18),0,1)","v":"10"}]
[null,41.683780726563114,87347,{"$f":"VLOOKUP(C26,'Data sheet'!B49:C113,2,FALSE)","v":"MULGOWIE 1"},{"$f":"VLOOKUP(C26,'Data sheet'!$B$1:$AG$65,26,FALSE)","v":4.8015450076833881},{"$f":"VLOOKUP(C26,'Data sheet'!$B$1:$AG$65,27,FALSE)","v":1.2081343000728892},{"$f":"VLOOKUP(C26,'Data sheet'!$B$1:$AG$65,28,FALSE)","v":2.7547509763562679},{"$f":"VLOOKUP(C26,'Data sheet'!$B$1:$AG$65,29,FALSE)","v":1.1997970403326417},null,null,null,null,null,{"$f":"IF(E26=0,0,'Fert selector'!$D$13/E26)","v":31.23994459282822},{"$f":"IF('Fert selector'!$D$15=\"Y\",E26*N26,IF('Fert selector'!$E$15=\"Y\",F26*S26,IF('Fert selector'!$F$15=\"Y\",G26*X26,IF('Fert selector'!$G$15=\"Y\",H26*AC26))))","v":150},0,{"$f":"IF((O26-'Fert selector'!$D$13)<0,(O26-'Fert selector'!$D$13)*-1,O26-'Fert selector'!$D$13)","v":0},{"$f":"IF(O26<('Fert selector'!$D$13+'Fert selector'!$D$13*'Fert selector'!$D$17),0,1)&IF(O26>('Fert selector'!$D$13-'Fert selector'!$D$13*'Fert selector'!$D$18),0,1)","v":"00"},{"$f":"IF(F26=0,0,'Fert selector'!$E$13/F26)","v":0},{"$f":"IF('Fert selector'!$D$15=\"Y\",$F26*$N26,IF('Fert selector'!$E$15=\"Y\",$F26*$S26,IF('Fert selector'!$F$15=\"Y\",$F26*$X26,IF('Fert selector'!$G$15=\"Y\",$F26*$AC26))))","v":37.74204859497236},37.74204859497236,{"$f":"IF((T26-'Fert selector'!$E$13)<0,(T26-'Fert selector'!$E$13)*-1,T26-'Fert selector'!$E$13)","v":37.74204859497236},{"$f":"IF(T26<('Fert selector'!$E$13+'Fert selector'!$E$13*'Fert selector'!$E$17),0,1)&IF(T26>('Fert selector'!$E$13-'Fert selector'!$E$13*'Fert selector'!$E$18),0,1)","v":"10"},{"$f":"IF(G26=0,0,'Fert selector'!$F$13/G26)","v":32.670829694756563},{"$f":"IF('Fert selector'!$D$15=\"Y\",$G26*$N26,IF('Fert selector'!$E$15=\"Y\",$G26*$S26,IF('Fert selector'!$F$15=\"Y\",$G26*$X26,IF('Fert selector'!$G$15=\"Y\",$G26*$AC26))))","v":86.058267868409246},3.9417321315907543,{"$f":"IF((Y26-'Fert selector'!$F$13)<0,(Y26-'Fert selector'!$F$13)*-1,Y26-'Fert selector'!$F$13)","v":3.9417321315907543},{"$f":"IF(Y26<('Fert selector'!$F$13+'Fert selector'!$F$13*'Fert selector'!$F$17),0,1)&IF(Y26>('Fert selector'!$F$13-'Fert selector'!$F$13*'Fert selector'!$F$18),0,1)","v":"01"},{"$f":"IF(H26=0,0,'Fert selector'!$G$13/H26)","v":0},{"$f":"IF('Fert selector'!$D$15=\"Y\",$H26*$N26,IF('Fert selector'!$E$15=\"Y\",$H26*$S26,IF('Fert selector'!$F$15=\"Y\",$H26*$X26,IF('Fert selector'!$G$15=\"Y\",$H26*$AC26))))","v":37.481593062631013},37.481593062631013,{"$f":"IF((AD26-'Fert selector'!$G$13)<0,(AD26-'Fert selector'!$G$13)*-1,AD26-'Fert selector'!$G$13)","v":37.481593062631013},{"$f":"IF(AD26<('Fert selector'!$G$13+'Fert selector'!$G$13*'Fert selector'!$G$17),0,1)&IF(AD26>('Fert selector'!$G$13-'Fert selector'!$G$13*'Fert selector'!$G$18),0,1)","v":"10"}]
[null,42.211658919622458,88674,{"$f":"VLOOKUP(C27,'Data sheet'!B10:C74,2,FALSE)","v":"CORN 3"},{"$f":"VLOOKUP(C27,'Data sheet'!$B$1:$AG$65,26,FALSE)","v":5.2813089904914658},{"$f":"VLOOKUP(C27,'Data sheet'!$B$1:$AG$65,27,FALSE)","v":1.0586556801237319},{"$f":"VLOOKUP(C27,'Data sheet'!$B$1:$AG$65,28,FALSE)","v":2.7412223160468692},{"$f":"VLOOKUP(C27,'Data sheet'!$B$1:$AG$65,29,FALSE)","v":1.1249662429992036},null,null,null,null,null,{"$f":"IF(E27=0,0,'Fert selector'!$D$13/E27)","v":28.402049618771002},{"$f":"IF('Fert selector'!$D$15=\"Y\",E27*N27,IF('Fert selector'!$E$15=\"Y\",F27*S27,IF('Fert selector'!$F$15=\"Y\",G27*X27,IF('Fert selector'!$G$15=\"Y\",H27*AC27))))","v":150},0,{"$f":"IF((O27-'Fert selector'!$D$13)<0,(O27-'Fert selector'!$D$13)*-1,O27-'Fert selector'!$D$13)","v":0},{"$f":"IF(O27<('Fert selector'!$D$13+'Fert selector'!$D$13*'Fert selector'!$D$17),0,1)&IF(O27>('Fert selector'!$D$13-'Fert selector'!$D$13*'Fert selector'!$D$18),0,1)","v":"00"},{"$f":"IF(F27=0,0,'Fert selector'!$E$13/F27)","v":0},{"$f":"IF('Fert selector'!$D$15=\"Y\",$F27*$N27,IF('Fert selector'!$E$15=\"Y\",$F27*$S27,IF('Fert selector'!$F$15=\"Y\",$F27*$X27,IF('Fert selector'!$G$15=\"Y\",$F27*$AC27))))","v":30.067991156067997},30.067991156067997,{"$f":"IF((T27-'Fert selector'!$E$13)<0,(T27-'Fert selector'!$E$13)*-1,T27-'Fert selector'!$E$13)","v":30.067991156067997},{"$f":"IF(T27<('Fert selector'!$E$13+'Fert selector'!$E$13*'Fert selector'!$E$17),0,1)&IF(T27>('Fert selector'!$E$13-'Fert selector'!$E$13*'Fert selector'!$E$18),0,1)","v":"10"},{"$f":"IF(G27=0,0,'Fert selector'!$F$13/G27)","v":32.83206891799621},{"$f":"IF('Fert selector'!$D$15=\"Y\",$G27*$N27,IF('Fert selector'!$E$15=\"Y\",$G27*$S27,IF('Fert selector'!$F$15=\"Y\",$G27*$X27,IF('Fert selector'!$G$15=\"Y\",$G27*$AC27))))","v":77.856332236445539},12.143667763554461,{"$f":"IF((Y27-'Fert selector'!$F$13)<0,(Y27-'Fert selector'!$F$13)*-1,Y27-'Fert selector'!$F$13)","v":12.143667763554461},{"$f":"IF(Y27<('Fert selector'!$F$13+'Fert selector'!$F$13*'Fert selector'!$F$17),0,1)&IF(Y27>('Fert selector'!$F$13-'Fert selector'!$F$13*'Fert selector'!$F$18),0,1)","v":"01"},{"$f":"IF(H27=0,0,'Fert selector'!$G$13/H27)","v":0},{"$f":"IF('Fert selector'!$D$15=\"Y\",$H27*$N27,IF('Fert selector'!$E$15=\"Y\",$H27*$S27,IF('Fert selector'!$F$15=\"Y\",$H27*$X27,IF('Fert selector'!$G$15=\"Y\",$H27*$AC27))))","v":31.951347053105778},31.951347053105778,{"$f":"IF((AD27-'Fert selector'!$G$13)<0,(AD27-'Fert selector'!$G$13)*-1,AD27-'Fert selector'!$G$13)","v":31.951347053105778},{"$f":"IF(AD27<('Fert selector'!$G$13+'Fert selector'!$G$13*'Fert selector'!$G$17),0,1)&IF(AD27>('Fert selector'!$G$13-'Fert selector'!$G$13*'Fert selector'!$G$18),0,1)","v":"10"}]
[null,44.031017436294832,102158,{"$f":"VLOOKUP(C28,'Data sheet'!B40:C104,2,FALSE)","v":"MKY 160P"},{"$f":"VLOOKUP(C28,'Data sheet'!$B$1:$AG$65,26,FALSE)","v":3.7381958811544935},{"$f":"VLOOKUP(C28,'Data sheet'!$B$1:$AG$65,27,FALSE)","v":0.47090773037067785},{"$f":"VLOOKUP(C28,'Data sheet'!$B$1:$AG$65,28,FALSE)","v":2.8693202518113452},{"$f":"VLOOKUP(C28,'Data sheet'!$B$1:$AG$65,29,FALSE)","v":0.71296494009434075},null,null,null,null,null,{"$f":"IF(E28=0,0,'Fert selector'!$D$13/E28)","v":40.126308189520138},{"$f":"IF('Fert selector'!$D$15=\"Y\",E28*N28,IF('Fert selector'!$E$15=\"Y\",F28*S28,IF('Fert selector'!$F$15=\"Y\",G28*X28,IF('Fert selector'!$G$15=\"Y\",H28*AC28))))","v":150},0,{"$f":"IF((O28-'Fert selector'!$D$13)<0,(O28-'Fert selector'!$D$13)*-1,O28-'Fert selector'!$D$13)","v":0},{"$f":"IF(O28<('Fert selector'!$D$13+'Fert selector'!$D$13*'Fert selector'!$D$17),0,1)&IF(O28>('Fert selector'!$D$13-'Fert selector'!$D$13*'Fert selector'!$D$18),0,1)","v":"00"},{"$f":"IF(F28=0,0,'Fert selector'!$E$13/F28)","v":0},{"$f":"IF('Fert selector'!$D$15=\"Y\",$F28*$N28,IF('Fert selector'!$E$15=\"Y\",$F28*$S28,IF('Fert selector'!$F$15=\"Y\",$F28*$X28,IF('Fert selector'!$G$15=\"Y\",$F28*$AC28))))","v":18.89578871768127},18.89578871768127,{"$f":"IF((T28-'Fert selector'!$E$13)<0,(T28-'Fert selector'!$E$13)*-1,T28-'Fert selector'!$E$13)","v":18.89578871768127},{"$f":"IF(T28<('Fert selector'!$E$13+'Fert selector'!$E$13*'Fert selector'!$E$17),0,1)&IF(T28>('Fert selector'!$E$13-'Fert selector'!$E$13*'Fert selector'!$E$18),0,1)","v":"10"},{"$f":"IF(G28=0,0,'Fert selector'!$F$13/G28)","v":31.366314005271729},{"$f":"IF('Fert selector'!$D$15=\"Y\",$G28*$N28,IF('Fert selector'!$E$15=\"Y\",$G28*$S28,IF('Fert selector'!$F$15=\"Y\",$G28*$X28,IF('Fert selector'!$G$15=\"Y\",$G28*$AC28))))","v":115.13522871861356},25.135228718613561,{"$f":"IF((Y28-'Fert selector'!$F$13)<0,(Y28-'Fert selector'!$F$13)*-1,Y28-'Fert selector'!$F$13)","v":25.135228718613561},{"$f":"IF(Y28<('Fert selector'!$F$13+'Fert selector'!$F$13*'Fert selector'!$F$17),0,1)&IF(Y28>('Fert selector'!$F$13-'Fert selector'!$F$13*'Fert selector'!$F$18),0,1)","v":"10"},{"$f":"IF(H28=0,0,'Fert selector'!$G$13/H28)","v":0},{"$f":"IF('Fert selector'!$D$15=\"Y\",$H28*$N28,IF('Fert selector'!$E$15=\"Y\",$H28*$S28,IF('Fert selector'!$F$15=\"Y\",$H28*$X28,IF('Fert selector'!$G$15=\"Y\",$H28*$AC28))))","v":28.608650914548281},28.608650914548281,{"$f":"IF((AD28-'Fert selector'!$G$13)<0,(AD28-'Fert selector'!$G$13)*-1,AD28-'Fert selector'!$G$13)","v":28.608650914548281},{"$f":"IF(AD28<('Fert selector'!$G$13+'Fert selector'!$G$13*'Fert selector'!$G$17),0,1)&IF(AD28>('Fert selector'!$G$13-'Fert selector'!$G$13*'Fert selector'!$G$18),0,1)","v":"10"}]
[null,46.439984817758173,94832,{"$f":"VLOOKUP(C29,'Data sheet'!B3:C67,2,FALSE)","v":"BKN 230"},{"$f":"VLOOKUP(C29,'Data sheet'!$B$1:$AG$65,26,FALSE)","v":6.4151574292630329},{"$f":"VLOOKUP(C29,'Data sheet'!$B$1:$AG$65,27,FALSE)","v":0.83595153675359712},{"$f":"VLOOKUP(C29,'Data sheet'!$B$1:$AG$65,28,FALSE)","v":2.6989139035213912},{"$f":"VLOOKUP(C29,'Data sheet'!$B$1:$AG$65,29,FALSE)","v":1.027868087427003},null,null,null,null,null,{"$f":"IF(E29=0,0,'Fert selector'!$D$13/E29)","v":23.382122988247829},{"$f":"IF('Fert selector'!$D$15=\"Y\",E29*N29,IF('Fert selector'!$E$15=\"Y\",F29*S29,IF('Fert selector'!$F$15=\"Y\",G29*X29,IF('Fert selector'!$G$15=\"Y\",H29*AC29))))","v":150},0,{"$f":"IF((O29-'Fert selector'!$D$13)<0,(O29-'Fert selector'!$D$13)*-1,O29-'Fert selector'!$D$13)","v":0},{"$f":"IF(O29<('Fert selector'!$D$13+'Fert selector'!$D$13*'Fert selector'!$D$17),0,1)&IF(O29>('Fert selector'!$D$13-'Fert selector'!$D$13*'Fert selector'!$D$18),0,1)","v":"00"},{"$f":"IF(F29=0,0,'Fert selector'!$E$13/F29)","v":0},{"$f":"IF('Fert selector'!$D$15=\"Y\",$F29*$N29,IF('Fert selector'!$E$15=\"Y\",$F29*$S29,IF('Fert selector'!$F$15=\"Y\",$F29*$X29,IF('Fert selector'!$G$15=\"Y\",$F29*$AC29))))","v":19.546321644587383},19.546321644587383,{"$f":"IF((T29-'Fert selector'!$E$13)<0,(T29-'Fert selector'!$E$13)*-1,T29-'Fert selector'!$E$13)","v":19.546321644587383},{"$f":"IF(T29<('Fert selector'!$E$13+'Fert selector'!$E$13*'Fert selector'!$E$17),0,1)&IF(T29>('Fert selector'!$E$13-'Fert selector'!$E$13*'Fert selector'!$E$18),0,1)","v":"10"},{"$f":"IF(G29=0,0,'Fert selector'!$F$13/G29)","v":33.346747327720628},{"$f":"IF('Fert selector'!$D$15=\"Y\",$G29*$N29,IF('Fert selector'!$E$15=\"Y\",$G29*$S29,IF('Fert selector'!$F$15=\"Y\",$G29*$X29,IF('Fert selector'!$G$15=\"Y\",$G29*$AC29))))","v":63.106336826829207},26.893663173170793,{"$f":"IF((Y29-'Fert selector'!$F$13)<0,(Y29-'Fert selector'!$F$13)*-1,Y29-'Fert selector'!$F$13)","v":26.893663173170793},{"$f":"IF(Y29<('Fert selector'!$F$13+'Fert selector'!$F$13*'Fert selector'!$F$17),0,1)&IF(Y29>('Fert selector'!$F$13-'Fert selector'!$F$13*'Fert selector'!$F$18),0,1)","v":"01"},{"$f":"IF(H29=0,0,'Fert selector'!$G$13/H29)","v":0},{"$f":"IF('Fert selector'!$D$15=\"Y\",$H29*$N29,IF('Fert selector'!$E$15=\"Y\",$H29*$S29,IF('Fert selector'!$F$15=\"Y\",$H29*$X29,IF('Fert selector'!$G$15=\"Y\",$H29*$AC29))))","v":24.033738035913256},24.033738035913256,{"$f":"IF((AD29-'Fert selector'!$G$13)<0,(AD29-'Fert selector'!$G$13)*-1,AD29-'Fert selector'!$G$13)","v":24.033738035913256},{"$f":"IF(AD29<('Fert selector'!$G$13+'Fert selector'!$G$13*'Fert selector'!$G$17),0,1)&IF(AD29>('Fert selector'!$G$13-'Fert selector'!$G$13*'Fert selector'!$G$18),0,1)","v":"10"}]
[null,46.48419472807776,102203,{"$f":"VLOOKUP(C30,'Data sheet'!B36:C100,2,FALSE)","v":"MKY 140P"},{"$f":"VLOOKUP(C30,'Data sheet'!$B$1:$AG$65,26,FALSE)","v":3.5075264500534189},{"$f":"VLOOKUP(C30,'Data sheet'!$B$1:$AG$65,27,FALSE)","v":0.29613028713355966},{"$f":"VLOOKUP(C30,'Data sheet'!$B$1:$AG$65,28,FALSE)","v":2.8953491996862679},{"$f":"VLOOKUP(C30,'Data sheet'!$B$1:$AG$65,29,FALSE)","v":0.5982852383962054},null,null,null,null,null,{"$f":"IF(E30=0,0,'Fert selector'!$D$13/E30)","v":42.765180002481671},{"$f":"IF('Fert selector'!$D$15=\"Y\",E30*N30,IF('Fert selector'!$E$15=\"Y\",F30*S30,IF('Fert selector'!$F$15=\"Y\",G30*X30,IF('Fert selector'!$G$15=\"Y\",H30*AC30))))","v":150},0,{"$f":"IF((O30-'Fert selector'!$D$13)<0,(O30-'Fert selector'!$D$13)*-1,O30-'Fert selector'!$D$13)","v":0},{"$f":"IF(O30<('Fert selector'!$D$13+'Fert selector'!$D$13*'Fert selector'!$D$17),0,1)&IF(O30>('Fert selector'!$D$13-'Fert selector'!$D$13*'Fert selector'!$D$18),0,1)","v":"00"},{"$f":"IF(F30=0,0,'Fert selector'!$E$13/F30)","v":0},{"$f":"IF('Fert selector'!$D$15=\"Y\",$F30*$N30,IF('Fert selector'!$E$15=\"Y\",$F30*$S30,IF('Fert selector'!$F$15=\"Y\",$F30*$X30,IF('Fert selector'!$G$15=\"Y\",$F30*$AC30))))","v":12.664065033453261},12.664065033453261,{"$f":"IF((T30-'Fert selector'!$E$13)<0,(T30-'Fert selector'!$E$13)*-1,T30-'Fert selector'!$E$13)","v":12.664065033453261},{"$f":"IF(T30<('Fert selector'!$E$13+'Fert selector'!$E$13*'Fert selector'!$E$17),0,1)&IF(T30>('Fert selector'!$E$13-'Fert selector'!$E$13*'Fert selector'!$E$18),0,1)","v":"10"},{"$f":"IF(G30=0,0,'Fert selector'!$F$13/G30)","v":31.084333457861369},{"$f":"IF('Fert selector'!$D$15=\"Y\",$G30*$N30,IF('Fert selector'!$E$15=\"Y\",$G30*$S30,IF('Fert selector'!$F$15=\"Y\",$G30*$X30,IF('Fert selector'!$G$15=\"Y\",$G30*$AC30))))","v":123.8201296946245},33.820129694624498,{"$f":"IF((Y30-'Fert selector'!$F$13)<0,(Y30-'Fert selector'!$F$13)*-1,Y30-'Fert selector'!$F$13)","v":33.820129694624498},{"$f":"IF(Y30<('Fert selector'!$F$13+'Fert selector'!$F$13*'Fert selector'!$F$17),0,1)&IF(Y30>('Fert selector'!$F$13-'Fert selector'!$F$13*'Fert selector'!$F$18),0,1)","v":"10"},{"$f":"IF(H30=0,0,'Fert selector'!$G$13/H30)","v":0},{"$f":"IF('Fert selector'!$D$15=\"Y\",$H30*$N30,IF('Fert selector'!$E$15=\"Y\",$H30*$S30,IF('Fert selector'!$F$15=\"Y\",$H30*$X30,IF('Fert selector'!$G$15=\"Y\",$H30*$AC30))))","v":25.585775912841381},25.585775912841381,{"$f":"IF((AD30-'Fert selector'!$G$13)<0,(AD30-'Fert selector'!$G$13)*-1,AD30-'Fert selector'!$G$13)","v":25.585775912841381},{"$f":"IF(AD30<('Fert selector'!$G$13+'Fert selector'!$G$13*'Fert selector'!$G$17),0,1)&IF(AD30>('Fert selector'!$G$13-'Fert selector'!$G$13*'Fert selector'!$G$18),0,1)","v":"10"}]
[null,48.419501472665111,107021,{"$f":"VLOOKUP(C31,'Data sheet'!B4:C68,2,FALSE)","v":"BKN Lo P"},{"$f":"VLOOKUP(C31,'Data sheet'!$B$1:$AG$65,26,FALSE)","v":8.1795889184003165},{"$f":"VLOOKUP(C31,'Data sheet'!$B$1:$AG$65,27,FALSE)","v":0.37474228177338492},{"$f":"VLOOKUP(C31,'Data sheet'!$B$1:$AG$65,28,FALSE)","v":2.6421515149450459},{"$f":"VLOOKUP(C31,'Data sheet'!$B$1:$AG$65,29,FALSE)","v":0.80673839709569928},null,null,null,null,null,{"$f":"IF(E31=0,0,'Fert selector'!$D$13/E31)","v":18.338329896086702},{"$f":"IF('Fert selector'!$D$15=\"Y\",E31*N31,IF('Fert selector'!$E$15=\"Y\",F31*S31,IF('Fert selector'!$F$15=\"Y\",G31*X31,IF('Fert selector'!$G$15=\"Y\",H31*AC31))))","v":150},0,{"$f":"IF((O31-'Fert selector'!$D$13)<0,(O31-'Fert selector'!$D$13)*-1,O31-'Fert selector'!$D$13)","v":0},{"$f":"IF(O31<('Fert selector'!$D$13+'Fert selector'!$D$13*'Fert selector'!$D$17),0,1)&IF(O31>('Fert selector'!$D$13-'Fert selector'!$D$13*'Fert selector'!$D$18),0,1)","v":"00"},{"$f":"IF(F31=0,0,'Fert selector'!$E$13/F31)","v":0},{"$f":"IF('Fert selector'!$D$15=\"Y\",$F31*$N31,IF('Fert selector'!$E$15=\"Y\",$F31*$S31,IF('Fert selector'!$F$15=\"Y\",$F31*$X31,IF('Fert selector'!$G$15=\"Y\",$F31*$AC31))))","v":6.8721475891726111},6.8721475891726111,{"$f":"IF((T31-'Fert selector'!$E$13)<0,(T31-'Fert selector'!$E$13)*-1,T31-'Fert selector'!$E$13)","v":6.8721475891726111},{"$f":"IF(T31<('Fert selector'!$E$13+'Fert selector'!$E$13*'Fert selector'!$E$17),0,1)&IF(T31>('Fert selector'!$E$13-'Fert selector'!$E$13*'Fert selector'!$E$18),0,1)","v":"10"},{"$f":"IF(G31=0,0,'Fert selector'!$F$13/G31)","v":34.063148722139772},{"$f":"IF('Fert selector'!$D$15=\"Y\",$G31*$N31,IF('Fert selector'!$E$15=\"Y\",$G31*$S31,IF('Fert selector'!$F$15=\"Y\",$G31*$X31,IF('Fert selector'!$G$15=\"Y\",$G31*$AC31))))","v":48.452646116507502},41.547353883492498,{"$f":"IF((Y31-'Fert selector'!$F$13)<0,(Y31-'Fert selector'!$F$13)*-1,Y31-'Fert selector'!$F$13)","v":41.547353883492498},{"$f":"IF(Y31<('Fert selector'!$F$13+'Fert selector'!$F$13*'Fert selector'!$F$17),0,1)&IF(Y31>('Fert selector'!$F$13-'Fert selector'!$F$13*'Fert selector'!$F$18),0,1)","v":"01"},{"$f":"IF(H31=0,0,'Fert selector'!$G$13/H31)","v":0},{"$f":"IF('Fert selector'!$D$15=\"Y\",$H31*$N31,IF('Fert selector'!$E$15=\"Y\",$H31*$S31,IF('Fert selector'!$F$15=\"Y\",$H31*$X31,IF('Fert selector'!$G$15=\"Y\",$H31*$AC31))))","v":14.794234865781128},14.794234865781128,{"$f":"IF((AD31-'Fert selector'!$G$13)<0,(AD31-'Fert selector'!$G$13)*-1,AD31-'Fert selector'!$G$13)","v":14.794234865781128},{"$f":"IF(AD31<('Fert selector'!$G$13+'Fert selector'!$G$13*'Fert selector'!$G$17),0,1)&IF(AD31>('Fert selector'!$G$13-'Fert selector'!$G$13*'Fert selector'!$G$18),0,1)","v":"10"}]
[null,48.624724822542589,102052,{"$f":"VLOOKUP(C32,'Data sheet'!B61:C125,2,FALSE)","v":"SPRING 2"},{"$f":"VLOOKUP(C32,'Data sheet'!$B$1:$AG$65,26,FALSE)","v":3.7797902804468024},{"$f":"VLOOKUP(C32,'Data sheet'!$B$1:$AG$65,27,FALSE)","v":0.63936255739516701},{"$f":"VLOOKUP(C32,'Data sheet'!$B$1:$AG$65,28,FALSE)","v":2.8537866926972271},{"$f":"VLOOKUP(C32,'Data sheet'!$B$1:$AG$65,29,FALSE)","v":0.81728993558021146},null,null,null,null,null,{"$f":"IF(E32=0,0,'Fert selector'!$D$13/E32)","v":39.684741446096517},{"$f":"IF('Fert selector'!$D$15=\"Y\",E32*N32,IF('Fert selector'!$E$15=\"Y\",F32*S32,IF('Fert selector'!$F$15=\"Y\",G32*X32,IF('Fert selector'!$G$15=\"Y\",H32*AC32))))","v":150},0,{"$f":"IF((O32-'Fert selector'!$D$13)<0,(O32-'Fert selector'!$D$13)*-1,O32-'Fert selector'!$D$13)","v":0},{"$f":"IF(O32<('Fert selector'!$D$13+'Fert selector'!$D$13*'Fert selector'!$D$17),0,1)&IF(O32>('Fert selector'!$D$13-'Fert selector'!$D$13*'Fert selector'!$D$18),0,1)","v":"00"},{"$f":"IF(F32=0,0,'Fert selector'!$E$13/F32)","v":0},{"$f":"IF('Fert selector'!$D$15=\"Y\",$F32*$N32,IF('Fert selector'!$E$15=\"Y\",$F32*$S32,IF('Fert selector'!$F$15=\"Y\",$F32*$X32,IF('Fert selector'!$G$15=\"Y\",$F32*$AC32))))","v":25.372937780542248},25.372937780542248,{"$f":"IF((T32-'Fert selector'!$E$13)<0,(T32-'Fert selector'!$E$13)*-1,T32-'Fert selector'!$E$13)","v":25.372937780542248},{"$f":"IF(T32<('Fert selector'!$E$13+'Fert selector'!$E$13*'Fert selector'!$E$17),0,1)&IF(T32>('Fert selector'!$E$13-'Fert selector'!$E$13*'Fert selector'!$E$18),0,1)","v":"10"},{"$f":"IF(G32=0,0,'Fert selector'!$F$13/G32)","v":31.537045228470607},{"$f":"IF('Fert selector'!$D$15=\"Y\",$G32*$N32,IF('Fert selector'!$E$15=\"Y\",$G32*$S32,IF('Fert selector'!$F$15=\"Y\",$G32*$X32,IF('Fert selector'!$G$15=\"Y\",$G32*$AC32))))","v":113.25178704200034},23.251787042000345,{"$f":"IF((Y32-'Fert selector'!$F$13)<0,(Y32-'Fert selector'!$F$13)*-1,Y32-'Fert selector'!$F$13)","v":23.251787042000345},{"$f":"IF(Y32<('Fert selector'!$F$13+'Fert selector'!$F$13*'Fert selector'!$F$17),0,1)&IF(Y32>('Fert selector'!$F$13-'Fert selector'!$F$13*'Fert selector'!$F$18),0,1)","v":"10"},{"$f":"IF(H32=0,0,'Fert selector'!$G$13/H32)","v":0},{"$f":"IF('Fert selector'!$D$15=\"Y\",$H32*$N32,IF('Fert selector'!$E$15=\"Y\",$H32*$S32,IF('Fert selector'!$F$15=\"Y\",$H32*$X32,IF('Fert selector'!$G$15=\"Y\",$H32*$AC32))))","v":32.433939779997573},32.433939779997573,{"$f":"IF((AD32-'Fert selector'!$G$13)<0,(AD32-'Fert selector'!$G$13)*-1,AD32-'Fert selector'!$G$13)","v":32.433939779997573},{"$f":"IF(AD32<('Fert selector'!$G$13+'Fert selector'!$G$13*'Fert selector'!$G$17),0,1)&IF(AD32>('Fert selector'!$G$13-'Fert selector'!$G$13*'Fert selector'!$G$18),0,1)","v":"10"}]
[null,49.385061198381109,96985,{"$f":"VLOOKUP(C33,'Data sheet'!B53:C117,2,FALSE)","v":"PMR 2"},{"$f":"VLOOKUP(C33,'Data sheet'!$B$1:$AG$65,26,FALSE)","v":3.8317995180664601},{"$f":"VLOOKUP(C33,'Data sheet'!$B$1:$AG$65,27,FALSE)","v":0.71563794308986584},{"$f":"VLOOKUP(C33,'Data sheet'!$B$1:$AG$65,28,FALSE)","v":2.8449994590809395},{"$f":"VLOOKUP(C33,'Data sheet'!$B$1:$AG$65,29,FALSE)","v":0.86566692004992374},null,null,null,null,null,{"$f":"IF(E33=0,0,'Fert selector'!$D$13/E33)","v":39.146098143383696},{"$f":"IF('Fert selector'!$D$15=\"Y\",E33*N33,IF('Fert selector'!$E$15=\"Y\",F33*S33,IF('Fert selector'!$F$15=\"Y\",G33*X33,IF('Fert selector'!$G$15=\"Y\",H33*AC33))))","v":150},0,{"$f":"IF((O33-'Fert selector'!$D$13)<0,(O33-'Fert selector'!$D$13)*-1,O33-'Fert selector'!$D$13)","v":0},{"$f":"IF(O33<('Fert selector'!$D$13+'Fert selector'!$D$13*'Fert selector'!$D$17),0,1)&IF(O33>('Fert selector'!$D$13-'Fert selector'!$D$13*'Fert selector'!$D$18),0,1)","v":"00"},{"$f":"IF(F33=0,0,'Fert selector'!$E$13/F33)","v":0},{"$f":"IF('Fert selector'!$D$15=\"Y\",$F33*$N33,IF('Fert selector'!$E$15=\"Y\",$F33*$S33,IF('Fert selector'!$F$15=\"Y\",$F33*$X33,IF('Fert selector'!$G$15=\"Y\",$F33*$AC33))))","v":28.014433155325126},28.014433155325126,{"$f":"IF((T33-'Fert selector'!$E$13)<0,(T33-'Fert selector'!$E$13)*-1,T33-'Fert selector'!$E$13)","v":28.014433155325126},{"$f":"IF(T33<('Fert selector'!$E$13+'Fert selector'!$E$13*'Fert selector'!$E$17),0,1)&IF(T33>('Fert selector'!$E$13-'Fert selector'!$E$13*'Fert selector'!$E$18),0,1)","v":"10"},{"$f":"IF(G33=0,0,'Fert selector'!$F$13/G33)","v":31.634452411837707},{"$f":"IF('Fert selector'!$D$15=\"Y\",$G33*$N33,IF('Fert selector'!$E$15=\"Y\",$G33*$S33,IF('Fert selector'!$F$15=\"Y\",$G33*$X33,IF('Fert selector'!$G$15=\"Y\",$G33*$AC33))))","v":111.37062804305599},21.370628043055987,{"$f":"IF((Y33-'Fert selector'!$F$13)<0,(Y33-'Fert selector'!$F$13)*-1,Y33-'Fert selector'!$F$13)","v":21.370628043055987},{"$f":"IF(Y33<('Fert selector'!$F$13+'Fert selector'!$F$13*'Fert selector'!$F$17),0,1)&IF(Y33>('Fert selector'!$F$13-'Fert selector'!$F$13*'Fert selector'!$F$18),0,1)","v":"10"},{"$f":"IF(H33=0,0,'Fert selector'!$G$13/H33)","v":0},{"$f":"IF('Fert selector'!$D$15=\"Y\",$H33*$N33,IF('Fert selector'!$E$15=\"Y\",$H33*$S33,IF('Fert selector'!$F$15=\"Y\",$H33*$X33,IF('Fert selector'!$G$15=\"Y\",$H33*$AC33))))","v":33.887482211755},33.887482211755,{"$f":"IF((AD33-'Fert selector'!$G$13)<0,(AD33-'Fert selector'!$G$13)*-1,AD33-'Fert selector'!$G$13)","v":33.887482211755},{"$f":"IF(AD33<('Fert selector'!$G$13+'Fert selector'!$G$13*'Fert selector'!$G$17),0,1)&IF(AD33>('Fert selector'!$G$13-'Fert selector'!$G$13*'Fert selector'!$G$18),0,1)","v":"10"}]
[null,53.211618189359363,102200,{"$f":"VLOOKUP(C34,'Data sheet'!B54:C118,2,FALSE)","v":"PMR 3"},{"$f":"VLOOKUP(C34,'Data sheet'!$B$1:$AG$65,26,FALSE)","v":3.4443682617158968},{"$f":"VLOOKUP(C34,'Data sheet'!$B$1:$AG$65,27,FALSE)","v":0.39785494799021981},{"$f":"VLOOKUP(C34,'Data sheet'!$B$1:$AG$65,28,FALSE)","v":2.89063540134581},{"$f":"VLOOKUP(C34,'Data sheet'!$B$1:$AG$65,29,FALSE)","v":0.65825255851211117},null,null,null,null,null,{"$f":"IF(E34=0,0,'Fert selector'!$D$13/E34)","v":43.549350302419114},{"$f":"IF('Fert selector'!$D$15=\"Y\",E34*N34,IF('Fert selector'!$E$15=\"Y\",F34*S34,IF('Fert selector'!$F$15=\"Y\",G34*X34,IF('Fert selector'!$G$15=\"Y\",H34*AC34))))","v":150},0,{"$f":"IF((O34-'Fert selector'!$D$13)<0,(O34-'Fert selector'!$D$13)*-1,O34-'Fert selector'!$D$13)","v":0},{"$f":"IF(O34<('Fert selector'!$D$13+'Fert selector'!$D$13*'Fert selector'!$D$17),0,1)&IF(O34>('Fert selector'!$D$13-'Fert selector'!$D$13*'Fert selector'!$D$18),0,1)","v":"00"},{"$f":"IF(F34=0,0,'Fert selector'!$E$13/F34)","v":0},{"$f":"IF('Fert selector'!$D$15=\"Y\",$F34*$N34,IF('Fert selector'!$E$15=\"Y\",$F34*$S34,IF('Fert selector'!$F$15=\"Y\",$F34*$X34,IF('Fert selector'!$G$15=\"Y\",$F34*$AC34))))","v":17.32632449957682},17.32632449957682,{"$f":"IF((T34-'Fert selector'!$E$13)<0,(T34-'Fert selector'!$E$13)*-1,T34-'Fert selector'!$E$13)","v":17.32632449957682},{"$f":"IF(T34<('Fert selector'!$E$13+'Fert selector'!$E$13*'Fert selector'!$E$17),0,1)&IF(T34>('Fert selector'!$E$13-'Fert selector'!$E$13*'Fert selector'!$E$18),0,1)","v":"10"},{"$f":"IF(G34=0,0,'Fert selector'!$F$13/G34)","v":31.13502310187517},{"$f":"IF('Fert selector'!$D$15=\"Y\",$G34*$N34,IF('Fert selector'!$E$15=\"Y\",$G34*$S34,IF('Fert selector'!$F$15=\"Y\",$G34*$X34,IF('Fert selector'!$G$15=\"Y\",$G34*$AC34))))","v":125.88529368978254},35.885293689782543,{"$f":"IF((Y34-'Fert selector'!$F$13)<0,(Y34-'Fert selector'!$F$13)*-1,Y34-'Fert selector'!$F$13)","v":35.885293689782543},{"$f":"IF(Y34<('Fert selector'!$F$13+'Fert selector'!$F$13*'Fert selector'!$F$17),0,1)&IF(Y34>('Fert selector'!$F$13-'Fert selector'!$F$13*'Fert selector'!$F$18),0,1)","v":"10"},{"$f":"IF(H34=0,0,'Fert selector'!$G$13/H34)","v":0},{"$f":"IF('Fert selector'!$D$15=\"Y\",$H34*$N34,IF('Fert selector'!$E$15=\"Y\",$H34*$S34,IF('Fert selector'!$F$15=\"Y\",$H34*$X34,IF('Fert selector'!$G$15=\"Y\",$H34*$AC34))))","v":28.666471258107563},28.666471258107563,{"$f":"IF((AD34-'Fert selector'!$G$13)<0,(AD34-'Fert selector'!$G$13)*-1,AD34-'Fert selector'!$G$13)","v":28.666471258107563},{"$f":"IF(AD34<('Fert selector'!$G$13+'Fert selector'!$G$13*'Fert selector'!$G$17),0,1)&IF(AD34>('Fert selector'!$G$13-'Fert selector'!$G$13*'Fert selector'!$G$18),0,1)","v":"10"}]
[null,{"$f":"P35+U35+Z35","v":53.976665937196671},95514,{"$f":"VLOOKUP(C35,'Data sheet'!B38:C102,2,FALSE)","v":"MKY 150P"},{"$f":"VLOOKUP(C35,'Data sheet'!$B$1:$AG$65,26,FALSE)","v":3.496377499335555},{"$f":"VLOOKUP(C35,'Data sheet'!$B$1:$AG$65,27,FALSE)","v":0.47413033368491853},{"$f":"VLOOKUP(C35,'Data sheet'!$B$1:$AG$65,28,FALSE)","v":2.8818481677295229},{"$f":"VLOOKUP(C35,'Data sheet'!$B$1:$AG$65,29,FALSE)","v":0.70662954298182346},null,null,null,null,null,{"$f":"IF(E35=0,0,'Fert selector'!$D$13/E35)","v":42.9015459653615},{"$f":"IF('Fert selector'!$D$15=\"Y\",E35*N35,IF('Fert selector'!$E$15=\"Y\",F35*S35,IF('Fert selector'!$F$15=\"Y\",G35*X35,IF('Fert selector'!$G$15=\"Y\",H35*AC35))))","v":150},0,{"$f":"IF((O35-'Fert selector'!$D$13)<0,(O35-'Fert selector'!$D$13)*-1,O35-'Fert selector'!$D$13)","v":0},{"$f":"IF(O35<('Fert selector'!$D$13+'Fert selector'!$D$13*'Fert selector'!$D$17),0,1)&IF(O35>('Fert selector'!$D$13-'Fert selector'!$D$13*'Fert selector'!$D$18),0,1)","v":"00"},{"$f":"IF(F35=0,0,'Fert selector'!$E$13/F35)","v":0},{"$f":"IF('Fert selector'!$D$15=\"Y\",$F35*$N35,IF('Fert selector'!$E$15=\"Y\",$F35*$S35,IF('Fert selector'!$F$15=\"Y\",$F35*$X35,IF('Fert selector'!$G$15=\"Y\",$F35*$AC35))))","v":20.340924304155717},20.340924304155717,{"$f":"IF((T35-'Fert selector'!$E$13)<0,(T35-'Fert selector'!$E$13)*-1,T35-'Fert selector'!$E$13)","v":20.340924304155717},{"$f":"IF(T35<('Fert selector'!$E$13+'Fert selector'!$E$13*'Fert selector'!$E$17),0,1)&IF(T35>('Fert selector'!$E$13-'Fert selector'!$E$13*'Fert selector'!$E$18),0,1)","v":"10"},{"$f":"IF(G35=0,0,'Fert selector'!$F$13/G35)","v":31.229958957520967},{"$f":"IF('Fert selector'!$D$15=\"Y\",$G35*$N35,IF('Fert selector'!$E$15=\"Y\",$G35*$S35,IF('Fert selector'!$F$15=\"Y\",$G35*$X35,IF('Fert selector'!$G$15=\"Y\",$G35*$AC35))))","v":123.63574163304095},33.635741633040951,{"$f":"IF((Y35-'Fert selector'!$F$13)<0,(Y35-'Fert selector'!$F$13)*-1,Y35-'Fert selector'!$F$13)","v":33.635741633040951},{"$f":"IF(Y35<('Fert selector'!$F$13+'Fert selector'!$F$13*'Fert selector'!$F$17),0,1)&IF(Y35>('Fert selector'!$F$13-'Fert selector'!$F$13*'Fert selector'!$F$18),0,1)","v":"10"},{"$f":"IF(H35=0,0,'Fert selector'!$G$13/H35)","v":0},{"$f":"IF('Fert selector'!$D$15=\"Y\",$H35*$N35,IF('Fert selector'!$E$15=\"Y\",$H35*$S35,IF('Fert selector'!$F$15=\"Y\",$H35*$X35,IF('Fert selector'!$G$15=\"Y\",$H35*$AC35))))","v":30.31549981871709},30.31549981871709,{"$f":"IF((AD35-'Fert selector'!$G$13)<0,(AD35-'Fert selector'!$G$13)*-1,AD35-'Fert selector'!$G$13)","v":30.31549981871709},{"$f":"IF(AD35<('Fert selector'!$G$13+'Fert selector'!$G$13*'Fert selector'!$G$17),0,1)&IF(AD35>('Fert selector'!$G$13-'Fert selector'!$G$13*'Fert selector'!$G$18),0,1)","v":"10"}]
[null,55.643518819882324,81811,{"$f":"VLOOKUP(C36,'Data sheet'!B20:C84,2,FALSE)","v":"LIQUID 50/50"},{"$f":"VLOOKUP(C36,'Data sheet'!$B$1:$AG$65,26,FALSE)","v":3.0411137551347496},{"$f":"VLOOKUP(C36,'Data sheet'!$B$1:$AG$65,27,FALSE)","v":1.0147044866652258E-2},{"$f":"VLOOKUP(C36,'Data sheet'!$B$1:$AG$65,28,FALSE)","v":2.942643011329154},{"$f":"VLOOKUP(C36,'Data sheet'!$B$1:$AG$65,29,FALSE)","v":0.40758285043564674},null,null,null,null,null,{"$f":"IF(E36=0,0,'Fert selector'!$D$13/E36)","v":49.324034573430026},{"$f":"IF('Fert selector'!$D$15=\"Y\",E36*N36,IF('Fert selector'!$E$15=\"Y\",F36*S36,IF('Fert selector'!$F$15=\"Y\",G36*X36,IF('Fert selector'!$G$15=\"Y\",H36*AC36))))","v":150},0,{"$f":"IF((O36-'Fert selector'!$D$13)<0,(O36-'Fert selector'!$D$13)*-1,O36-'Fert selector'!$D$13)","v":0},{"$f":"IF(O36<('Fert selector'!$D$13+'Fert selector'!$D$13*'Fert selector'!$D$17),0,1)&IF(O36>('Fert selector'!$D$13-'Fert selector'!$D$13*'Fert selector'!$D$18),0,1)","v":"00"},{"$f":"IF(F36=0,0,'Fert selector'!$E$13/F36)","v":0},{"$f":"IF('Fert selector'!$D$15=\"Y\",$F36*$N36,IF('Fert selector'!$E$15=\"Y\",$F36*$S36,IF('Fert selector'!$F$15=\"Y\",$F36*$X36,IF('Fert selector'!$G$15=\"Y\",$F36*$AC36))))","v":0.50049319182090168},0.50049319182090168,{"$f":"IF((T36-'Fert selector'!$E$13)<0,(T36-'Fert selector'!$E$13)*-1,T36-'Fert selector'!$E$13)","v":0.50049319182090168},{"$f":"IF(T36<('Fert selector'!$E$13+'Fert selector'!$E$13*'Fert selector'!$E$17),0,1)&IF(T36>('Fert selector'!$E$13-'Fert selector'!$E$13*'Fert selector'!$E$18),0,1)","v":"10"},{"$f":"IF(G36=0,0,'Fert selector'!$F$13/G36)","v":30.584749714287685},{"$f":"IF('Fert selector'!$D$15=\"Y\",$G36*$N36,IF('Fert selector'!$E$15=\"Y\",$G36*$S36,IF('Fert selector'!$F$15=\"Y\",$G36*$X36,IF('Fert selector'!$G$15=\"Y\",$G36*$AC36))))","v":145.14302562806142},55.143025628061423,{"$f":"IF((Y36-'Fert selector'!$F$13)<0,(Y36-'Fert selector'!$F$13)*-1,Y36-'Fert selector'!$F$13)","v":55.143025628061423},{"$f":"IF(Y36<('Fert selector'!$F$13+'Fert selector'!$F$13*'Fert selector'!$F$17),0,1)&IF(Y36>('Fert selector'!$F$13-'Fert selector'!$F$13*'Fert selector'!$F$18),0,1)","v":"10"},{"$f":"IF(H36=0,0,'Fert selector'!$G$13/H36)","v":0},{"$f":"IF('Fert selector'!$D$15=\"Y\",$H36*$N36,IF('Fert selector'!$E$15=\"Y\",$H36*$S36,IF('Fert selector'!$F$15=\"Y\",$H36*$X36,IF('Fert selector'!$G$15=\"Y\",$H36*$AC36))))","v":20.103630606425},20.103630606425,{"$f":"IF((AD36-'Fert selector'!$G$13)<0,(AD36-'Fert selector'!$G$13)*-1,AD36-'Fert selector'!$G$13)","v":20.103630606425},{"$f":"IF(AD36<('Fert selector'!$G$13+'Fert selector'!$G$13*'Fert selector'!$G$17),0,1)&IF(AD36>('Fert selector'!$G$13-'Fert selector'!$G$13*'Fert selector'!$G$18),0,1)","v":"10"}]
[null,57.112373704738651,98866,{"$f":"VLOOKUP(C37,'Data sheet'!B11:C75,2,FALSE)","v":"DELTA 1"},{"$f":"VLOOKUP(C37,'Data sheet'!$B$1:$AG$65,26,FALSE)","v":11.373566676007917},{"$f":"VLOOKUP(C37,'Data sheet'!$B$1:$AG$65,27,FALSE)","v":8.6285953975729236E-3},{"$f":"VLOOKUP(C37,'Data sheet'!$B$1:$AG$65,28,FALSE)","v":2.5022926652961472},{"$f":"VLOOKUP(C37,'Data sheet'!$B$1:$AG$65,29,FALSE)","v":0.6927850717612849},null,null,null,null,null,{"$f":"IF(E37=0,0,'Fert selector'!$D$13/E37)","v":13.188475020454137},{"$f":"IF('Fert selector'!$D$15=\"Y\",E37*N37,IF('Fert selector'!$E$15=\"Y\",F37*S37,IF('Fert selector'!$F$15=\"Y\",G37*X37,IF('Fert selector'!$G$15=\"Y\",H37*AC37))))","v":150},0,{"$f":"IF((O37-'Fert selector'!$D$13)<0,(O37-'Fert selector'!$D$13)*-1,O37-'Fert selector'!$D$13)","v":0},{"$f":"IF(O37<('Fert selector'!$D$13+'Fert selector'!$D$13*'Fert selector'!$D$17),0,1)&IF(O37>('Fert selector'!$D$13-'Fert selector'!$D$13*'Fert selector'!$D$18),0,1)","v":"00"},{"$f":"IF(F37=0,0,'Fert selector'!$E$13/F37)","v":0},{"$f":"IF('Fert selector'!$D$15=\"Y\",$F37*$N37,IF('Fert selector'!$E$15=\"Y\",$F37*$S37,IF('Fert selector'!$F$15=\"Y\",$F37*$X37,IF('Fert selector'!$G$15=\"Y\",$F37*$AC37))))","v":0.11379801486249604},0.11379801486249604,{"$f":"IF((T37-'Fert selector'!$E$13)<0,(T37-'Fert selector'!$E$13)*-1,T37-'Fert selector'!$E$13)","v":0.11379801486249604},{"$f":"IF(T37<('Fert selector'!$E$13+'Fert selector'!$E$13*'Fert selector'!$E$17),0,1)&IF(T37>('Fert selector'!$E$13-'Fert selector'!$E$13*'Fert selector'!$E$18),0,1)","v":"10"},{"$f":"IF(G37=0,0,'Fert selector'!$F$13/G37)","v":35.967015868365046},{"$f":"IF('Fert selector'!$D$15=\"Y\",$G37*$N37,IF('Fert selector'!$E$15=\"Y\",$G37*$S37,IF('Fert selector'!$F$15=\"Y\",$G37*$X37,IF('Fert selector'!$G$15=\"Y\",$G37*$AC37))))","v":33.001424310123845},56.998575689876155,{"$f":"IF((Y37-'Fert selector'!$F$13)<0,(Y37-'Fert selector'!$F$13)*-1,Y37-'Fert selector'!$F$13)","v":56.998575689876155},{"$f":"IF(Y37<('Fert selector'!$F$13+'Fert selector'!$F$13*'Fert selector'!$F$17),0,1)&IF(Y37>('Fert selector'!$F$13-'Fert selector'!$F$13*'Fert selector'!$F$18),0,1)","v":"01"},{"$f":"IF(H37=0,0,'Fert selector'!$G$13/H37)","v":0},{"$f":"IF('Fert selector'!$D$15=\"Y\",$H37*$N37,IF('Fert selector'!$E$15=\"Y\",$H37*$S37,IF('Fert selector'!$F$15=\"Y\",$H37*$X37,IF('Fert selector'!$G$15=\"Y\",$H37*$AC37))))","v":9.1367786134672322},9.1367786134672322,{"$f":"IF((AD37-'Fert selector'!$G$13)<0,(AD37-'Fert selector'!$G$13)*-1,AD37-'Fert selector'!$G$13)","v":9.1367786134672322},{"$f":"IF(AD37<('Fert selector'!$G$13+'Fert selector'!$G$13*'Fert selector'!$G$17),0,1)&IF(AD37>('Fert selector'!$G$13-'Fert selector'!$G$13*'Fert selector'!$G$18),0,1)","v":"10"}]
[null,58.354053716405573,81051,{"$f":"VLOOKUP(C38,'Data sheet'!B18:C82,2,FALSE)","v":"HI N + P"},{"$f":"VLOOKUP(C38,'Data sheet'!$B$1:$AG$65,26,FALSE)","v":8.1917416066783275},{"$f":"VLOOKUP(C38,'Data sheet'!$B$1:$AG$65,27,FALSE)","v":0.87377021590514925},{"$f":"VLOOKUP(C38,'Data sheet'!$B$1:$AG$65,28,FALSE)","v":2.6020063149320016},{"$f":"VLOOKUP(C38,'Data sheet'!$B$1:$AG$65,29,FALSE)","v":1.111975211481649},null,null,null,null,null,{"$f":"IF(E38=0,0,'Fert selector'!$D$13/E38)","v":18.311124447298521},{"$f":"IF('Fert selector'!$D$15=\"Y\",E38*N38,IF('Fert selector'!$E$15=\"Y\",F38*S38,IF('Fert selector'!$F$15=\"Y\",G38*X38,IF('Fert selector'!$G$15=\"Y\",H38*AC38))))","v":150},0,{"$f":"IF((O38-'Fert selector'!$D$13)<0,(O38-'Fert selector'!$D$13)*-1,O38-'Fert selector'!$D$13)","v":0},{"$f":"IF(O38<('Fert selector'!$D$13+'Fert selector'!$D$13*'Fert selector'!$D$17),0,1)&IF(O38>('Fert selector'!$D$13-'Fert selector'!$D$13*'Fert selector'!$D$18),0,1)","v":"00"},{"$f":"IF(F38=0,0,'Fert selector'!$E$13/F38)","v":0},{"$f":"IF('Fert selector'!$D$15=\"Y\",$F38*$N38,IF('Fert selector'!$E$15=\"Y\",$F38*$S38,IF('Fert selector'!$F$15=\"Y\",$F38*$X38,IF('Fert selector'!$G$15=\"Y\",$F38*$AC38))))","v":15.999715161782087},15.999715161782087,{"$f":"IF((T38-'Fert selector'!$E$13)<0,(T38-'Fert selector'!$E$13)*-1,T38-'Fert selector'!$E$13)","v":15.999715161782087},{"$f":"IF(T38<('Fert selector'!$E$13+'Fert selector'!$E$13*'Fert selector'!$E$17),0,1)&IF(T38>('Fert selector'!$E$13-'Fert selector'!$E$13*'Fert selector'!$E$18),0,1)","v":"10"},{"$f":"IF(G38=0,0,'Fert selector'!$F$13/G38)","v":34.588693918043766},{"$f":"IF('Fert selector'!$D$15=\"Y\",$G38*$N38,IF('Fert selector'!$E$15=\"Y\",$G38*$S38,IF('Fert selector'!$F$15=\"Y\",$G38*$X38,IF('Fert selector'!$G$15=\"Y\",$G38*$AC38))))","v":47.645661445376511},42.354338554623489,{"$f":"IF((Y38-'Fert selector'!$F$13)<0,(Y38-'Fert selector'!$F$13)*-1,Y38-'Fert selector'!$F$13)","v":42.354338554623489},{"$f":"IF(Y38<('Fert selector'!$F$13+'Fert selector'!$F$13*'Fert selector'!$F$17),0,1)&IF(Y38>('Fert selector'!$F$13-'Fert selector'!$F$13*'Fert selector'!$F$18),0,1)","v":"01"},{"$f":"IF(H38=0,0,'Fert selector'!$G$13/H38)","v":0},{"$f":"IF('Fert selector'!$D$15=\"Y\",$H38*$N38,IF('Fert selector'!$E$15=\"Y\",$H38*$S38,IF('Fert selector'!$F$15=\"Y\",$H38*$X38,IF('Fert selector'!$G$15=\"Y\",$H38*$AC38))))","v":20.361516479751568},20.361516479751568,{"$f":"IF((AD38-'Fert selector'!$G$13)<0,(AD38-'Fert selector'!$G$13)*-1,AD38-'Fert selector'!$G$13)","v":20.361516479751568},{"$f":"IF(AD38<('Fert selector'!$G$13+'Fert selector'!$G$13*'Fert selector'!$G$17),0,1)&IF(AD38>('Fert selector'!$G$13-'Fert selector'!$G$13*'Fert selector'!$G$18),0,1)","v":"10"}]
[null,59.886913732180687,88636,{"$f":"VLOOKUP(C39,'Data sheet'!B9:C73,2,FALSE)","v":"CORN 2"},{"$f":"VLOOKUP(C39,'Data sheet'!$B$1:$AG$65,26,FALSE)","v":4.1887877781179004},{"$f":"VLOOKUP(C39,'Data sheet'!$B$1:$AG$65,27,FALSE)","v":1.4148508034334875},{"$f":"VLOOKUP(C39,'Data sheet'!$B$1:$AG$65,28,FALSE)","v":2.7707790121743159},{"$f":"VLOOKUP(C39,'Data sheet'!$B$1:$AG$65,29,FALSE)","v":1.305023374202009},null,null,null,null,null,{"$f":"IF(E39=0,0,'Fert selector'!$D$13/E39)","v":35.809882941216415},{"$f":"IF('Fert selector'!$D$15=\"Y\",E39*N39,IF('Fert selector'!$E$15=\"Y\",F39*S39,IF('Fert selector'!$F$15=\"Y\",G39*X39,IF('Fert selector'!$G$15=\"Y\",H39*AC39))))","v":150},0,{"$f":"IF((O39-'Fert selector'!$D$13)<0,(O39-'Fert selector'!$D$13)*-1,O39-'Fert selector'!$D$13)","v":0},{"$f":"IF(O39<('Fert selector'!$D$13+'Fert selector'!$D$13*'Fert selector'!$D$17),0,1)&IF(O39>('Fert selector'!$D$13-'Fert selector'!$D$13*'Fert selector'!$D$18),0,1)","v":"00"},{"$f":"IF(F39=0,0,'Fert selector'!$E$13/F39)","v":0},{"$f":"IF('Fert selector'!$D$15=\"Y\",$F39*$N39,IF('Fert selector'!$E$15=\"Y\",$F39*$S39,IF('Fert selector'!$F$15=\"Y\",$F39*$X39,IF('Fert selector'!$G$15=\"Y\",$F39*$AC39))))","v":50.665641650239181},50.665641650239181,{"$f":"IF((T39-'Fert selector'!$E$13)<0,(T39-'Fert selector'!$E$13)*-1,T39-'Fert selector'!$E$13)","v":50.665641650239181},{"$f":"IF(T39<('Fert selector'!$E$13+'Fert selector'!$E$13*'Fert selector'!$E$17),0,1)&IF(T39>('Fert selector'!$E$13-'Fert selector'!$E$13*'Fert selector'!$E$18),0,1)","v":"10"},{"$f":"IF(G39=0,0,'Fert selector'!$F$13/G39)","v":32.48183980193145},{"$f":"IF('Fert selector'!$D$15=\"Y\",$G39*$N39,IF('Fert selector'!$E$15=\"Y\",$G39*$S39,IF('Fert selector'!$F$15=\"Y\",$G39*$X39,IF('Fert selector'!$G$15=\"Y\",$G39*$AC39))))","v":99.221272081941507},9.2212720819415068,{"$f":"IF((Y39-'Fert selector'!$F$13)<0,(Y39-'Fert selector'!$F$13)*-1,Y39-'Fert selector'!$F$13)","v":9.2212720819415068},{"$f":"IF(Y39<('Fert selector'!$F$13+'Fert selector'!$F$13*'Fert selector'!$F$17),0,1)&IF(Y39>('Fert selector'!$F$13-'Fert selector'!$F$13*'Fert selector'!$F$18),0,1)","v":"10"},{"$f":"IF(H39=0,0,'Fert selector'!$G$13/H39)","v":0},{"$f":"IF('Fert selector'!$D$15=\"Y\",$H39*$N39,IF('Fert selector'!$E$15=\"Y\",$H39*$S39,IF('Fert selector'!$F$15=\"Y\",$H39*$X39,IF('Fert selector'!$G$15=\"Y\",$H39*$AC39))))","v":46.732734265725206},46.732734265725206,{"$f":"IF((AD39-'Fert selector'!$G$13)<0,(AD39-'Fert selector'!$G$13)*-1,AD39-'Fert selector'!$G$13)","v":46.732734265725206},{"$f":"IF(AD39<('Fert selector'!$G$13+'Fert selector'!$G$13*'Fert selector'!$G$17),0,1)&IF(AD39>('Fert selector'!$G$13-'Fert selector'!$G$13*'Fert selector'!$G$18),0,1)","v":"10"}]
[null,61.967010130421563,96561,{"$f":"VLOOKUP(C40,'Data sheet'!B51:C115,2,FALSE)","v":"PB165_76"},{"$f":"VLOOKUP(C40,'Data sheet'!$B$1:$AG$65,26,FALSE)","v":5.8079434241855958},{"$f":"VLOOKUP(C40,'Data sheet'!$B$1:$AG$65,27,FALSE)","v":1.5861966824202534},{"$f":"VLOOKUP(C40,'Data sheet'!$B$1:$AG$65,28,FALSE)","v":2.6716234769087834},{"$f":"VLOOKUP(C40,'Data sheet'!$B$1:$AG$65,29,FALSE)","v":1.4652864851216945},null,null,null,null,null,{"$f":"IF(E40=0,0,'Fert selector'!$D$13/E40)","v":25.8266978592398},{"$f":"IF('Fert selector'!$D$15=\"Y\",E40*N40,IF('Fert selector'!$E$15=\"Y\",F40*S40,IF('Fert selector'!$F$15=\"Y\",G40*X40,IF('Fert selector'!$G$15=\"Y\",H40*AC40))))","v":150},0,{"$f":"IF((O40-'Fert selector'!$D$13)<0,(O40-'Fert selector'!$D$13)*-1,O40-'Fert selector'!$D$13)","v":0},{"$f":"IF(O40<('Fert selector'!$D$13+'Fert selector'!$D$13*'Fert selector'!$D$17),0,1)&IF(O40>('Fert selector'!$D$13-'Fert selector'!$D$13*'Fert selector'!$D$18),0,1)","v":"00"},{"$f":"IF(F40=0,0,'Fert selector'!$E$13/F40)","v":0},{"$f":"IF('Fert selector'!$D$15=\"Y\",$F40*$N40,IF('Fert selector'!$E$15=\"Y\",$F40*$S40,IF('Fert selector'!$F$15=\"Y\",$F40*$X40,IF('Fert selector'!$G$15=\"Y\",$F40*$AC40))))","v":40.966222462196434},40.966222462196434,{"$f":"IF((T40-'Fert selector'!$E$13)<0,(T40-'Fert selector'!$E$13)*-1,T40-'Fert selector'!$E$13)","v":40.966222462196434},{"$f":"IF(T40<('Fert selector'!$E$13+'Fert selector'!$E$13*'Fert selector'!$E$17),0,1)&IF(T40>('Fert selector'!$E$13-'Fert selector'!$E$13*'Fert selector'!$E$18),0,1)","v":"10"},{"$f":"IF(G40=0,0,'Fert selector'!$F$13/G40)","v":33.68738176538821},{"$f":"IF('Fert selector'!$D$15=\"Y\",$G40*$N40,IF('Fert selector'!$E$15=\"Y\",$G40*$S40,IF('Fert selector'!$F$15=\"Y\",$G40*$X40,IF('Fert selector'!$G$15=\"Y\",$G40*$AC40))))","v":68.999212331774871},21.000787668225129,{"$f":"IF((Y40-'Fert selector'!$F$13)<0,(Y40-'Fert selector'!$F$13)*-1,Y40-'Fert selector'!$F$13)","v":21.000787668225129},{"$f":"IF(Y40<('Fert selector'!$F$13+'Fert selector'!$F$13*'Fert selector'!$F$17),0,1)&IF(Y40>('Fert selector'!$F$13-'Fert selector'!$F$13*'Fert selector'!$F$18),0,1)","v":"01"},{"$f":"IF(H40=0,0,'Fert selector'!$G$13/H40)","v":0},{"$f":"IF('Fert selector'!$D$15=\"Y\",$H40*$N40,IF('Fert selector'!$E$15=\"Y\",$H40*$S40,IF('Fert selector'!$F$15=\"Y\",$H40*$X40,IF('Fert selector'!$G$15=\"Y\",$H40*$AC40))))","v":37.843511328465475},37.843511328465475,{"$f":"IF((AD40-'Fert selector'!$G$13)<0,(AD40-'Fert selector'!$G$13)*-1,AD40-'Fert selector'!$G$13)","v":37.843511328465475},{"$f":"IF(AD40<('Fert selector'!$G$13+'Fert selector'!$G$13*'Fert selector'!$G$17),0,1)&IF(AD40>('Fert selector'!$G$13-'Fert selector'!$G$13*'Fert selector'!$G$18),0,1)","v":"10"}]
[null,64.889295528296927,102199,{"$f":"VLOOKUP(C41,'Data sheet'!B35:C99,2,FALSE)","v":"MKY 130P"},{"$f":"VLOOKUP(C41,'Data sheet'!$B$1:$AG$65,26,FALSE)","v":3.1380558270879},{"$f":"VLOOKUP(C41,'Data sheet'!$B$1:$AG$65,27,FALSE)","v":0.32798297673678001},{"$f":"VLOOKUP(C41,'Data sheet'!$B$1:$AG$65,28,FALSE)","v":2.9123587325039666},{"$f":"VLOOKUP(C41,'Data sheet'!$B$1:$AG$65,29,FALSE)","v":0.60505438223917096},null,null,null,null,null,{"$f":"IF(E41=0,0,'Fert selector'!$D$13/E41)","v":47.800296828753119},{"$f":"IF('Fert selector'!$D$15=\"Y\",E41*N41,IF('Fert selector'!$E$15=\"Y\",F41*S41,IF('Fert selector'!$F$15=\"Y\",G41*X41,IF('Fert selector'!$G$15=\"Y\",H41*AC41))))","v":150},0,{"$f":"IF((O41-'Fert selector'!$D$13)<0,(O41-'Fert selector'!$D$13)*-1,O41-'Fert selector'!$D$13)","v":0},{"$f":"IF(O41<('Fert selector'!$D$13+'Fert selector'!$D$13*'Fert selector'!$D$17),0,1)&IF(O41>('Fert selector'!$D$13-'Fert selector'!$D$13*'Fert selector'!$D$18),0,1)","v":"00"},{"$f":"IF(F41=0,0,'Fert selector'!$E$13/F41)","v":0},{"$f":"IF('Fert selector'!$D$15=\"Y\",$F41*$N41,IF('Fert selector'!$E$15=\"Y\",$F41*$S41,IF('Fert selector'!$F$15=\"Y\",$F41*$X41,IF('Fert selector'!$G$15=\"Y\",$F41*$AC41))))","v":15.677683642796113},15.677683642796113,{"$f":"IF((T41-'Fert selector'!$E$13)<0,(T41-'Fert selector'!$E$13)*-1,T41-'Fert selector'!$E$13)","v":15.677683642796113},{"$f":"IF(T41<('Fert selector'!$E$13+'Fert selector'!$E$13*'Fert selector'!$E$17),0,1)&IF(T41>('Fert selector'!$E$13-'Fert selector'!$E$13*'Fert selector'!$E$18),0,1)","v":"10"},{"$f":"IF(G41=0,0,'Fert selector'!$F$13/G41)","v":30.902786458116186},{"$f":"IF('Fert selector'!$D$15=\"Y\",$G41*$N41,IF('Fert selector'!$E$15=\"Y\",$G41*$S41,IF('Fert selector'!$F$15=\"Y\",$G41*$X41,IF('Fert selector'!$G$15=\"Y\",$G41*$AC41))))","v":139.21161188550082},49.211611885500815,{"$f":"IF((Y41-'Fert selector'!$F$13)<0,(Y41-'Fert selector'!$F$13)*-1,Y41-'Fert selector'!$F$13)","v":49.211611885500815},{"$f":"IF(Y41<('Fert selector'!$F$13+'Fert selector'!$F$13*'Fert selector'!$F$17),0,1)&IF(Y41>('Fert selector'!$F$13-'Fert selector'!$F$13*'Fert selector'!$F$18),0,1)","v":"10"},{"$f":"IF(H41=0,0,'Fert selector'!$G$13/H41)","v":0},{"$f":"IF('Fert selector'!$D$15=\"Y\",$H41*$N41,IF('Fert selector'!$E$15=\"Y\",$H41*$S41,IF('Fert selector'!$F$15=\"Y\",$H41*$X41,IF('Fert selector'!$G$15=\"Y\",$H41*$AC41))))","v":28.921779068570221},28.921779068570221,{"$f":"IF((AD41-'Fert selector'!$G$13)<0,(AD41-'Fert selector'!$G$13)*-1,AD41-'Fert selector'!$G$13)","v":28.921779068570221},{"$f":"IF(AD41<('Fert selector'!$G$13+'Fert selector'!$G$13*'Fert selector'!$G$17),0,1)&IF(AD41>('Fert selector'!$G$13-'Fert selector'!$G$13*'Fert selector'!$G$18),0,1)","v":"10"}]
[null,65.360916294088213,96281,{"$f":"VLOOKUP(C42,'Data sheet'!B15:C79,2,FALSE)","v":"EMERALD 4"},{"$f":"VLOOKUP(C42,'Data sheet'!$B$1:$AG$65,26,FALSE)","v":8.1847326096845681},{"$f":"VLOOKUP(C42,'Data sheet'!$B$1:$AG$65,27,FALSE)","v":1.2297675228620526},{"$f":"VLOOKUP(C42,'Data sheet'!$B$1:$AG$65,28,FALSE)","v":2.5741962687322122},{"$f":"VLOOKUP(C42,'Data sheet'!$B$1:$AG$65,29,FALSE)","v":1.3291871274810056},null,null,null,null,null,{"$f":"IF(E42=0,0,'Fert selector'!$D$13/E42)","v":18.32680518145612},{"$f":"IF('Fert selector'!$D$15=\"Y\",E42*N42,IF('Fert selector'!$E$15=\"Y\",F42*S42,IF('Fert selector'!$F$15=\"Y\",G42*X42,IF('Fert selector'!$G$15=\"Y\",H42*AC42))))","v":150},0,{"$f":"IF((O42-'Fert selector'!$D$13)<0,(O42-'Fert selector'!$D$13)*-1,O42-'Fert selector'!$D$13)","v":0},{"$f":"IF(O42<('Fert selector'!$D$13+'Fert selector'!$D$13*'Fert selector'!$D$17),0,1)&IF(O42>('Fert selector'!$D$13-'Fert selector'!$D$13*'Fert selector'!$D$18),0,1)","v":"00"},{"$f":"IF(F42=0,0,'Fert selector'!$E$13/F42)","v":0},{"$f":"IF('Fert selector'!$D$15=\"Y\",$F42*$N42,IF('Fert selector'!$E$15=\"Y\",$F42*$S42,IF('Fert selector'!$F$15=\"Y\",$F42*$X42,IF('Fert selector'!$G$15=\"Y\",$F42*$AC42))))","v":22.537709809974722},22.537709809974722,{"$f":"IF((T42-'Fert selector'!$E$13)<0,(T42-'Fert selector'!$E$13)*-1,T42-'Fert selector'!$E$13)","v":22.537709809974722},{"$f":"IF(T42<('Fert selector'!$E$13+'Fert selector'!$E$13*'Fert selector'!$E$17),0,1)&IF(T42>('Fert selector'!$E$13-'Fert selector'!$E$13*'Fert selector'!$E$18),0,1)","v":"10"},{"$f":"IF(G42=0,0,'Fert selector'!$F$13/G42)","v":34.962369067656546},{"$f":"IF('Fert selector'!$D$15=\"Y\",$G42*$N42,IF('Fert selector'!$E$15=\"Y\",$G42*$S42,IF('Fert selector'!$F$15=\"Y\",$G42*$X42,IF('Fert selector'!$G$15=\"Y\",$G42*$AC42))))","v":47.176793515886516},42.823206484113484,{"$f":"IF((Y42-'Fert selector'!$F$13)<0,(Y42-'Fert selector'!$F$13)*-1,Y42-'Fert selector'!$F$13)","v":42.823206484113484},{"$f":"IF(Y42<('Fert selector'!$F$13+'Fert selector'!$F$13*'Fert selector'!$F$17),0,1)&IF(Y42>('Fert selector'!$F$13-'Fert selector'!$F$13*'Fert selector'!$F$18),0,1)","v":"01"},{"$f":"IF(H42=0,0,'Fert selector'!$G$13/H42)","v":0},{"$f":"IF('Fert selector'!$D$15=\"Y\",$H42*$N42,IF('Fert selector'!$E$15=\"Y\",$H42*$S42,IF('Fert selector'!$F$15=\"Y\",$H42*$X42,IF('Fert selector'!$G$15=\"Y\",$H42*$AC42))))","v":24.359753535043669},24.359753535043669,{"$f":"IF((AD42-'Fert selector'!$G$13)<0,(AD42-'Fert selector'!$G$13)*-1,AD42-'Fert selector'!$G$13)","v":24.359753535043669},{"$f":"IF(AD42<('Fert selector'!$G$13+'Fert selector'!$G$13*'Fert selector'!$G$17),0,1)&IF(AD42>('Fert selector'!$G$13-'Fert selector'!$G$13*'Fert selector'!$G$18),0,1)","v":"10"}]
[null,67.266893493279397,81812,{"$f":"VLOOKUP(C43,'Data sheet'!B26:C90,2,FALSE)","v":"U.L.C."},{"$f":"VLOOKUP(C43,'Data sheet'!$B$1:$AG$65,26,FALSE)","v":14.12},{"$f":"VLOOKUP(C43,'Data sheet'!$B$1:$AG$65,27,FALSE)","v":7.4046473788903127E-3},{"$f":"VLOOKUP(C43,'Data sheet'!$B$1:$AG$65,28,FALSE)","v":2.1473477398781906},{"$f":"VLOOKUP(C43,'Data sheet'!$B$1:$AG$65,29,FALSE)","v":0.22213942136670939},null,null,null,null,null,{"$f":"IF(E43=0,0,'Fert selector'!$D$13/E43)","v":10.623229461756374},{"$f":"IF('Fert selector'!$D$15=\"Y\",E43*N43,IF('Fert selector'!$E$15=\"Y\",F43*S43,IF('Fert selector'!$F$15=\"Y\",G43*X43,IF('Fert selector'!$G$15=\"Y\",H43*AC43))))","v":150},0,{"$f":"IF((O43-'Fert selector'!$D$13)<0,(O43-'Fert selector'!$D$13)*-1,O43-'Fert selector'!$D$13)","v":0},{"$f":"IF(O43<('Fert selector'!$D$13+'Fert selector'!$D$13*'Fert selector'!$D$17),0,1)&IF(O43>('Fert selector'!$D$13-'Fert selector'!$D$13*'Fert selector'!$D$18),0,1)","v":"00"},{"$f":"IF(F43=0,0,'Fert selector'!$E$13/F43)","v":0},{"$f":"IF('Fert selector'!$D$15=\"Y\",$F43*$N43,IF('Fert selector'!$E$15=\"Y\",$F43*$S43,IF('Fert selector'!$F$15=\"Y\",$F43*$X43,IF('Fert selector'!$G$15=\"Y\",$F43*$AC43))))","v":7.8661268189344685E-2},7.8661268189344685E-2,{"$f":"IF((T43-'Fert selector'!$E$13)<0,(T43-'Fert selector'!$E$13)*-1,T43-'Fert selector'!$E$13)","v":7.8661268189344685E-2},{"$f":"IF(T43<('Fert selector'!$E$13+'Fert selector'!$E$13*'Fert selector'!$E$17),0,1)&IF(T43>('Fert selector'!$E$13-'Fert selector'!$E$13*'Fert selector'!$E$18),0,1)","v":"10"},{"$f":"IF(G43=0,0,'Fert selector'!$F$13/G43)","v":41.912168359422445},{"$f":"IF('Fert selector'!$D$15=\"Y\",$G43*$N43,IF('Fert selector'!$E$15=\"Y\",$G43*$S43,IF('Fert selector'!$F$15=\"Y\",$G43*$X43,IF('Fert selector'!$G$15=\"Y\",$G43*$AC43))))","v":22.811767774909956},67.188232225090047,{"$f":"IF((Y43-'Fert selector'!$F$13)<0,(Y43-'Fert selector'!$F$13)*-1,Y43-'Fert selector'!$F$13)","v":67.188232225090047},{"$f":"IF(Y43<('Fert selector'!$F$13+'Fert selector'!$F$13*'Fert selector'!$F$17),0,1)&IF(Y43>('Fert selector'!$F$13-'Fert selector'!$F$13*'Fert selector'!$F$18),0,1)","v":"01"},{"$f":"IF(H43=0,0,'Fert selector'!$G$13/H43)","v":0},{"$f":"IF('Fert selector'!$D$15=\"Y\",$H43*$N43,IF('Fert selector'!$E$15=\"Y\",$H43*$S43,IF('Fert selector'!$F$15=\"Y\",$H43*$X43,IF('Fert selector'!$G$15=\"Y\",$H43*$AC43))))","v":2.3598380456803407},2.3598380456803407,{"$f":"IF((AD43-'Fert selector'!$G$13)<0,(AD43-'Fert selector'!$G$13)*-1,AD43-'Fert selector'!$G$13)","v":2.3598380456803407},{"$f":"IF(AD43<('Fert selector'!$G$13+'Fert selector'!$G$13*'Fert selector'!$G$17),0,1)&IF(AD43>('Fert selector'!$G$13-'Fert selector'!$G$13*'Fert selector'!$G$18),0,1)","v":"10"}]
[null,68.4101749055841,80797,{"$f":"VLOOKUP(C44,'Data sheet'!B27:C91,2,FALSE)","v":"LTD"},{"$f":"VLOOKUP(C44,'Data sheet'!$B$1:$AG$65,26,FALSE)","v":15.730904441969116},{"$f":"VLOOKUP(C44,'Data sheet'!$B$1:$AG$65,27,FALSE)","v":7.8345438403479503E-3},{"$f":"VLOOKUP(C44,'Data sheet'!$B$1:$AG$65,28,FALSE)","v":2.272017713700905},{"$f":"VLOOKUP(C44,'Data sheet'!$B$1:$AG$65,29,FALSE)","v":0.84192751777560948},null,null,null,null,null,{"$f":"IF(E44=0,0,'Fert selector'!$D$13/E44)","v":9.5353703630548363},{"$f":"IF('Fert selector'!$D$15=\"Y\",E44*N44,IF('Fert selector'!$E$15=\"Y\",F44*S44,IF('Fert selector'!$F$15=\"Y\",G44*X44,IF('Fert selector'!$G$15=\"Y\",H44*AC44))))","v":150},0,{"$f":"IF((O44-'Fert selector'!$D$13)<0,(O44-'Fert selector'!$D$13)*-1,O44-'Fert selector'!$D$13)","v":0},{"$f":"IF(O44<('Fert selector'!$D$13+'Fert selector'!$D$13*'Fert selector'!$D$17),0,1)&IF(O44>('Fert selector'!$D$13-'Fert selector'!$D$13*'Fert selector'!$D$18),0,1)","v":"00"},{"$f":"IF(F44=0,0,'Fert selector'!$E$13/F44)","v":0},{"$f":"IF('Fert selector'!$D$15=\"Y\",$F44*$N44,IF('Fert selector'!$E$15=\"Y\",$F44*$S44,IF('Fert selector'!$F$15=\"Y\",$F44*$X44,IF('Fert selector'!$G$15=\"Y\",$F44*$AC44))))","v":7.4705277143307672E-2},7.4705277143307672E-2,{"$f":"IF((T44-'Fert selector'!$E$13)<0,(T44-'Fert selector'!$E$13)*-1,T44-'Fert selector'!$E$13)","v":7.4705277143307672E-2},{"$f":"IF(T44<('Fert selector'!$E$13+'Fert selector'!$E$13*'Fert selector'!$E$17),0,1)&IF(T44>('Fert selector'!$E$13-'Fert selector'!$E$13*'Fert selector'!$E$18),0,1)","v":"10"},{"$f":"IF(G44=0,0,'Fert selector'!$F$13/G44)","v":39.612367217594617},{"$f":"IF('Fert selector'!$D$15=\"Y\",$G44*$N44,IF('Fert selector'!$E$15=\"Y\",$G44*$S44,IF('Fert selector'!$F$15=\"Y\",$G44*$X44,IF('Fert selector'!$G$15=\"Y\",$G44*$AC44))))","v":21.664530371559216},68.335469628440791,{"$f":"IF((Y44-'Fert selector'!$F$13)<0,(Y44-'Fert selector'!$F$13)*-1,Y44-'Fert selector'!$F$13)","v":68.335469628440791},{"$f":"IF(Y44<('Fert selector'!$F$13+'Fert selector'!$F$13*'Fert selector'!$F$17),0,1)&IF(Y44>('Fert selector'!$F$13-'Fert selector'!$F$13*'Fert selector'!$F$18),0,1)","v":"01"},{"$f":"IF(H44=0,0,'Fert selector'!$G$13/H44)","v":0},{"$f":"IF('Fert selector'!$D$15=\"Y\",$H44*$N44,IF('Fert selector'!$E$15=\"Y\",$H44*$S44,IF('Fert selector'!$F$15=\"Y\",$H44*$X44,IF('Fert selector'!$G$15=\"Y\",$H44*$AC44))))","v":8.0280907008378701},8.0280907008378701,{"$f":"IF((AD44-'Fert selector'!$G$13)<0,(AD44-'Fert selector'!$G$13)*-1,AD44-'Fert selector'!$G$13)","v":8.0280907008378701},{"$f":"IF(AD44<('Fert selector'!$G$13+'Fert selector'!$G$13*'Fert selector'!$G$17),0,1)&IF(AD44>('Fert selector'!$G$13-'Fert selector'!$G$13*'Fert selector'!$G$18),0,1)","v":"10"}]
[null,70.317868033784208,95321,{"$f":"VLOOKUP(C45,'Data sheet'!B14:C78,2,FALSE)","v":"EMERALD 2"},{"$f":"VLOOKUP(C45,'Data sheet'!$B$1:$AG$65,26,FALSE)","v":10.663003354064594},{"$f":"VLOOKUP(C45,'Data sheet'!$B$1:$AG$65,27,FALSE)","v":1.0576749567969137},{"$f":"VLOOKUP(C45,'Data sheet'!$B$1:$AG$65,28,FALSE)","v":2.4568125512695871},{"$f":"VLOOKUP(C45,'Data sheet'!$B$1:$AG$65,29,FALSE)","v":1.3091702464975974},null,null,null,null,null,{"$f":"IF(E45=0,0,'Fert selector'!$D$13/E45)","v":14.067331221725819},{"$f":"IF('Fert selector'!$D$15=\"Y\",E45*N45,IF('Fert selector'!$E$15=\"Y\",F45*S45,IF('Fert selector'!$F$15=\"Y\",G45*X45,IF('Fert selector'!$G$15=\"Y\",H45*AC45))))","v":150},0,{"$f":"IF((O45-'Fert selector'!$D$13)<0,(O45-'Fert selector'!$D$13)*-1,O45-'Fert selector'!$D$13)","v":0},{"$f":"IF(O45<('Fert selector'!$D$13+'Fert selector'!$D$13*'Fert selector'!$D$17),0,1)&IF(O45>('Fert selector'!$D$13-'Fert selector'!$D$13*'Fert selector'!$D$18),0,1)","v":"00"},{"$f":"IF(F45=0,0,'Fert selector'!$E$13/F45)","v":0},{"$f":"IF('Fert selector'!$D$15=\"Y\",$F45*$N45,IF('Fert selector'!$E$15=\"Y\",$F45*$S45,IF('Fert selector'!$F$15=\"Y\",$F45*$X45,IF('Fert selector'!$G$15=\"Y\",$F45*$AC45))))","v":14.878663942186732},14.878663942186732,{"$f":"IF((T45-'Fert selector'!$E$13)<0,(T45-'Fert selector'!$E$13)*-1,T45-'Fert selector'!$E$13)","v":14.878663942186732},{"$f":"IF(T45<('Fert selector'!$E$13+'Fert selector'!$E$13*'Fert selector'!$E$17),0,1)&IF(T45>('Fert selector'!$E$13-'Fert selector'!$E$13*'Fert selector'!$E$18),0,1)","v":"10"},{"$f":"IF(G45=0,0,'Fert selector'!$F$13/G45)","v":36.632831411371384},{"$f":"IF('Fert selector'!$D$15=\"Y\",$G45*$N45,IF('Fert selector'!$E$15=\"Y\",$G45*$S45,IF('Fert selector'!$F$15=\"Y\",$G45*$X45,IF('Fert selector'!$G$15=\"Y\",$G45*$AC45))))","v":34.560795908402525},55.439204091597475,{"$f":"IF((Y45-'Fert selector'!$F$13)<0,(Y45-'Fert selector'!$F$13)*-1,Y45-'Fert selector'!$F$13)","v":55.439204091597475},{"$f":"IF(Y45<('Fert selector'!$F$13+'Fert selector'!$F$13*'Fert selector'!$F$17),0,1)&IF(Y45>('Fert selector'!$F$13-'Fert selector'!$F$13*'Fert selector'!$F$18),0,1)","v":"01"},{"$f":"IF(H45=0,0,'Fert selector'!$G$13/H45)","v":0},{"$f":"IF('Fert selector'!$D$15=\"Y\",$H45*$N45,IF('Fert selector'!$E$15=\"Y\",$H45*$S45,IF('Fert selector'!$F$15=\"Y\",$H45*$X45,IF('Fert selector'!$G$15=\"Y\",$H45*$AC45))))","v":18.416531483110138},18.416531483110138,{"$f":"IF((AD45-'Fert selector'!$G$13)<0,(AD45-'Fert selector'!$G$13)*-1,AD45-'Fert selector'!$G$13)","v":18.416531483110138},{"$f":"IF(AD45<('Fert selector'!$G$13+'Fert selector'!$G$13*'Fert selector'!$G$17),0,1)&IF(AD45>('Fert selector'!$G$13-'Fert selector'!$G$13*'Fert selector'!$G$18),0,1)","v":"10"}]
[null,76.526011709260047,96322,{"$f":"VLOOKUP(C46,'Data sheet'!B6:C70,2,FALSE)","v":"COMET 3"},{"$f":"VLOOKUP(C46,'Data sheet'!$B$1:$AG$65,26,FALSE)","v":3.5049919859704808},{"$f":"VLOOKUP(C46,'Data sheet'!$B$1:$AG$65,27,FALSE)","v":1.0558008480570478},{"$f":"VLOOKUP(C46,'Data sheet'!$B$1:$AG$65,28,FALSE)","v":2.8353480619201719},{"$f":"VLOOKUP(C46,'Data sheet'!$B$1:$AG$65,29,FALSE)","v":1.0622251387998229},null,null,null,null,null,{"$f":"IF(E46=0,0,'Fert selector'!$D$13/E46)","v":42.796103557556982},{"$f":"IF('Fert selector'!$D$15=\"Y\",E46*N46,IF('Fert selector'!$E$15=\"Y\",F46*S46,IF('Fert selector'!$F$15=\"Y\",G46*X46,IF('Fert selector'!$G$15=\"Y\",H46*AC46))))","v":150},0,{"$f":"IF((O46-'Fert selector'!$D$13)<0,(O46-'Fert selector'!$D$13)*-1,O46-'Fert selector'!$D$13)","v":0},{"$f":"IF(O46<('Fert selector'!$D$13+'Fert selector'!$D$13*'Fert selector'!$D$17),0,1)&IF(O46>('Fert selector'!$D$13-'Fert selector'!$D$13*'Fert selector'!$D$18),0,1)","v":"00"},{"$f":"IF(F46=0,0,'Fert selector'!$E$13/F46)","v":0},{"$f":"IF('Fert selector'!$D$15=\"Y\",$F46*$N46,IF('Fert selector'!$E$15=\"Y\",$F46*$S46,IF('Fert selector'!$F$15=\"Y\",$F46*$X46,IF('Fert selector'!$G$15=\"Y\",$F46*$AC46))))","v":45.184162429605898},45.184162429605898,{"$f":"IF((T46-'Fert selector'!$E$13)<0,(T46-'Fert selector'!$E$13)*-1,T46-'Fert selector'!$E$13)","v":45.184162429605898},{"$f":"IF(T46<('Fert selector'!$E$13+'Fert selector'!$E$13*'Fert selector'!$E$17),0,1)&IF(T46>('Fert selector'!$E$13-'Fert selector'!$E$13*'Fert selector'!$E$18),0,1)","v":"10"},{"$f":"IF(G46=0,0,'Fert selector'!$F$13/G46)","v":31.742134663724372},{"$f":"IF('Fert selector'!$D$15=\"Y\",$G46*$N46,IF('Fert selector'!$E$15=\"Y\",$G46*$S46,IF('Fert selector'!$F$15=\"Y\",$G46*$X46,IF('Fert selector'!$G$15=\"Y\",$G46*$AC46))))","v":121.34184927965416},31.341849279654156,{"$f":"IF((Y46-'Fert selector'!$F$13)<0,(Y46-'Fert selector'!$F$13)*-1,Y46-'Fert selector'!$F$13)","v":31.341849279654156},{"$f":"IF(Y46<('Fert selector'!$F$13+'Fert selector'!$F$13*'Fert selector'!$F$17),0,1)&IF(Y46>('Fert selector'!$F$13-'Fert selector'!$F$13*'Fert selector'!$F$18),0,1)","v":"10"},{"$f":"IF(H46=0,0,'Fert selector'!$G$13/H46)","v":0},{"$f":"IF('Fert selector'!$D$15=\"Y\",$H46*$N46,IF('Fert selector'!$E$15=\"Y\",$H46*$S46,IF('Fert selector'!$F$15=\"Y\",$H46*$X46,IF('Fert selector'!$G$15=\"Y\",$H46*$AC46))))","v":45.459097041517559},45.459097041517559,{"$f":"IF((AD46-'Fert selector'!$G$13)<0,(AD46-'Fert selector'!$G$13)*-1,AD46-'Fert selector'!$G$13)","v":45.459097041517559},{"$f":"IF(AD46<('Fert selector'!$G$13+'Fert selector'!$G$13*'Fert selector'!$G$17),0,1)&IF(AD46>('Fert selector'!$G$13-'Fert selector'!$G$13*'Fert selector'!$G$18),0,1)","v":"10"}]
[null,81.027965595741222,96412,{"$f":"VLOOKUP(C47,'Data sheet'!B17:C81,2,FALSE)","v":"HI  K RATOONER"},{"$f":"VLOOKUP(C47,'Data sheet'!$B$1:$AG$65,26,FALSE)","v":3.0145435396654241},{"$f":"VLOOKUP(C47,'Data sheet'!$B$1:$AG$65,27,FALSE)","v":0.53461032343130388},{"$f":"VLOOKUP(C47,'Data sheet'!$B$1:$AG$65,28,FALSE)","v":2.9025313351604436},{"$f":"VLOOKUP(C47,'Data sheet'!$B$1:$AG$65,29,FALSE)","v":0.72702653460839239},null,null,null,null,null,{"$f":"IF(E47=0,0,'Fert selector'!$D$13/E47)","v":49.758777083925644},{"$f":"IF('Fert selector'!$D$15=\"Y\",E47*N47,IF('Fert selector'!$E$15=\"Y\",F47*S47,IF('Fert selector'!$F$15=\"Y\",G47*X47,IF('Fert selector'!$G$15=\"Y\",H47*AC47))))","v":150},0,{"$f":"IF((O47-'Fert selector'!$D$13)<0,(O47-'Fert selector'!$D$13)*-1,O47-'Fert selector'!$D$13)","v":0},{"$f":"IF(O47<('Fert selector'!$D$13+'Fert selector'!$D$13*'Fert selector'!$D$17),0,1)&IF(O47>('Fert selector'!$D$13-'Fert selector'!$D$13*'Fert selector'!$D$18),0,1)","v":"00"},{"$f":"IF(F47=0,0,'Fert selector'!$E$13/F47)","v":0},{"$f":"IF('Fert selector'!$D$15=\"Y\",$F47*$N47,IF('Fert selector'!$E$15=\"Y\",$F47*$S47,IF('Fert selector'!$F$15=\"Y\",$F47*$X47,IF('Fert selector'!$G$15=\"Y\",$F47*$AC47))))","v":26.601555910383642},26.601555910383642,{"$f":"IF((T47-'Fert selector'!$E$13)<0,(T47-'Fert selector'!$E$13)*-1,T47-'Fert selector'!$E$13)","v":26.601555910383642},{"$f":"IF(T47<('Fert selector'!$E$13+'Fert selector'!$E$13*'Fert selector'!$E$17),0,1)&IF(T47>('Fert selector'!$E$13-'Fert selector'!$E$13*'Fert selector'!$E$18),0,1)","v":"10"},{"$f":"IF(G47=0,0,'Fert selector'!$F$13/G47)","v":31.007417184360925},{"$f":"IF('Fert selector'!$D$15=\"Y\",$G47*$N47,IF('Fert selector'!$E$15=\"Y\",$G47*$S47,IF('Fert selector'!$F$15=\"Y\",$G47*$X47,IF('Fert selector'!$G$15=\"Y\",$G47*$AC47))))","v":144.42640968535758},54.426409685357584,{"$f":"IF((Y47-'Fert selector'!$F$13)<0,(Y47-'Fert selector'!$F$13)*-1,Y47-'Fert selector'!$F$13)","v":54.426409685357584},{"$f":"IF(Y47<('Fert selector'!$F$13+'Fert selector'!$F$13*'Fert selector'!$F$17),0,1)&IF(Y47>('Fert selector'!$F$13-'Fert selector'!$F$13*'Fert selector'!$F$18),0,1)","v":"10"},{"$f":"IF(H47=0,0,'Fert selector'!$G$13/H47)","v":0},{"$f":"IF('Fert selector'!$D$15=\"Y\",$H47*$N47,IF('Fert selector'!$E$15=\"Y\",$H47*$S47,IF('Fert selector'!$F$15=\"Y\",$H47*$X47,IF('Fert selector'!$G$15=\"Y\",$H47*$AC47))))","v":36.175951269677952},36.175951269677952,{"$f":"IF((AD47-'Fert selector'!$G$13)<0,(AD47-'Fert selector'!$G$13)*-1,AD47-'Fert selector'!$G$13)","v":36.175951269677952},{"$f":"IF(AD47<('Fert selector'!$G$13+'Fert selector'!$G$13*'Fert selector'!$G$17),0,1)&IF(AD47>('Fert selector'!$G$13-'Fert selector'!$G$13*'Fert selector'!$G$18),0,1)","v":"10"}]
[null,81.859431641955425,102205,{"$f":"VLOOKUP(C48,'Data sheet'!B33:C97,2,FALSE)","v":"MKY 110"},{"$f":"VLOOKUP(C48,'Data sheet'!$B$1:$AG$65,26,FALSE)","v":2.5977355263176451},{"$f":"VLOOKUP(C48,'Data sheet'!$B$1:$AG$65,27,FALSE)","v":1.0227843095282166E-2},{"$f":"VLOOKUP(C48,'Data sheet'!$B$1:$AG$65,28,FALSE)","v":2.9660744976318276},{"$f":"VLOOKUP(C48,'Data sheet'!$B$1:$AG$65,29,FALSE)","v":0.39240695242015411},null,null,null,null,null,{"$f":"IF(E48=0,0,'Fert selector'!$D$13/E48)","v":57.742598690417395},{"$f":"IF('Fert selector'!$D$15=\"Y\",E48*N48,IF('Fert selector'!$E$15=\"Y\",F48*S48,IF('Fert selector'!$F$15=\"Y\",G48*X48,IF('Fert selector'!$G$15=\"Y\",H48*AC48))))","v":150},0,{"$f":"IF((O48-'Fert selector'!$D$13)<0,(O48-'Fert selector'!$D$13)*-1,O48-'Fert selector'!$D$13)","v":0},{"$f":"IF(O48<('Fert selector'!$D$13+'Fert selector'!$D$13*'Fert selector'!$D$17),0,1)&IF(O48>('Fert selector'!$D$13-'Fert selector'!$D$13*'Fert selector'!$D$18),0,1)","v":"00"},{"$f":"IF(F48=0,0,'Fert selector'!$E$13/F48)","v":0},{"$f":"IF('Fert selector'!$D$15=\"Y\",$F48*$N48,IF('Fert selector'!$E$15=\"Y\",$F48*$S48,IF('Fert selector'!$F$15=\"Y\",$F48*$X48,IF('Fert selector'!$G$15=\"Y\",$F48*$AC48))))","v":0.59058223931943465},0.59058223931943465,{"$f":"IF((T48-'Fert selector'!$E$13)<0,(T48-'Fert selector'!$E$13)*-1,T48-'Fert selector'!$E$13)","v":0.59058223931943465},{"$f":"IF(T48<('Fert selector'!$E$13+'Fert selector'!$E$13*'Fert selector'!$E$17),0,1)&IF(T48>('Fert selector'!$E$13-'Fert selector'!$E$13*'Fert selector'!$E$18),0,1)","v":"10"},{"$f":"IF(G48=0,0,'Fert selector'!$F$13/G48)","v":30.343135370287488},{"$f":"IF('Fert selector'!$D$15=\"Y\",$G48*$N48,IF('Fert selector'!$E$15=\"Y\",$G48*$S48,IF('Fert selector'!$F$15=\"Y\",$G48*$X48,IF('Fert selector'!$G$15=\"Y\",$G48*$AC48))))","v":171.26884940263599},81.268849402635993,{"$f":"IF((Y48-'Fert selector'!$F$13)<0,(Y48-'Fert selector'!$F$13)*-1,Y48-'Fert selector'!$F$13)","v":81.268849402635993},{"$f":"IF(Y48<('Fert selector'!$F$13+'Fert selector'!$F$13*'Fert selector'!$F$17),0,1)&IF(Y48>('Fert selector'!$F$13-'Fert selector'!$F$13*'Fert selector'!$F$18),0,1)","v":"10"},{"$f":"IF(H48=0,0,'Fert selector'!$G$13/H48)","v":0},{"$f":"IF('Fert selector'!$D$15=\"Y\",$H48*$N48,IF('Fert selector'!$E$15=\"Y\",$H48*$S48,IF('Fert selector'!$F$15=\"Y\",$H48*$X48,IF('Fert selector'!$G$15=\"Y\",$H48*$AC48))))","v":22.658597176926673},22.658597176926673,{"$f":"IF((AD48-'Fert selector'!$G$13)<0,(AD48-'Fert selector'!$G$13)*-1,AD48-'Fert selector'!$G$13)","v":22.658597176926673},{"$f":"IF(AD48<('Fert selector'!$G$13+'Fert selector'!$G$13*'Fert selector'!$G$17),0,1)&IF(AD48>('Fert selector'!$G$13-'Fert selector'!$G$13*'Fert selector'!$G$18),0,1)","v":"10"}]
[null,89.054502099270678,102198,{"$f":"VLOOKUP(C49,'Data sheet'!B34:C98,2,FALSE)","v":"MKY 120P"},{"$f":"VLOOKUP(C49,'Data sheet'!$B$1:$AG$65,26,FALSE)","v":2.7701208351958186},{"$f":"VLOOKUP(C49,'Data sheet'!$B$1:$AG$65,27,FALSE)","v":0.37890660237303619},{"$f":"VLOOKUP(C49,'Data sheet'!$B$1:$AG$65,28,FALSE)","v":2.9277774436323178},{"$f":"VLOOKUP(C49,'Data sheet'!$B$1:$AG$65,29,FALSE)","v":0.62352529207847429},null,null,null,null,null,{"$f":"IF(E49=0,0,'Fert selector'!$D$13/E49)","v":54.149262405514008},{"$f":"IF('Fert selector'!$D$15=\"Y\",E49*N49,IF('Fert selector'!$E$15=\"Y\",F49*S49,IF('Fert selector'!$F$15=\"Y\",G49*X49,IF('Fert selector'!$G$15=\"Y\",H49*AC49))))","v":150},0,{"$f":"IF((O49-'Fert selector'!$D$13)<0,(O49-'Fert selector'!$D$13)*-1,O49-'Fert selector'!$D$13)","v":0},{"$f":"IF(O49<('Fert selector'!$D$13+'Fert selector'!$D$13*'Fert selector'!$D$17),0,1)&IF(O49>('Fert selector'!$D$13-'Fert selector'!$D$13*'Fert selector'!$D$18),0,1)","v":"00"},{"$f":"IF(F49=0,0,'Fert selector'!$E$13/F49)","v":0},{"$f":"IF('Fert selector'!$D$15=\"Y\",$F49*$N49,IF('Fert selector'!$E$15=\"Y\",$F49*$S49,IF('Fert selector'!$F$15=\"Y\",$F49*$X49,IF('Fert selector'!$G$15=\"Y\",$F49*$AC49))))","v":20.517513039079294},20.517513039079294,{"$f":"IF((T49-'Fert selector'!$E$13)<0,(T49-'Fert selector'!$E$13)*-1,T49-'Fert selector'!$E$13)","v":20.517513039079294},{"$f":"IF(T49<('Fert selector'!$E$13+'Fert selector'!$E$13*'Fert selector'!$E$17),0,1)&IF(T49>('Fert selector'!$E$13-'Fert selector'!$E$13*'Fert selector'!$E$18),0,1)","v":"10"},{"$f":"IF(G49=0,0,'Fert selector'!$F$13/G49)","v":30.740041459005983},{"$f":"IF('Fert selector'!$D$15=\"Y\",$G49*$N49,IF('Fert selector'!$E$15=\"Y\",$G49*$S49,IF('Fert selector'!$F$15=\"Y\",$G49*$X49,IF('Fert selector'!$G$15=\"Y\",$G49*$AC49))))","v":158.53698906019139},68.536989060191388,{"$f":"IF((Y49-'Fert selector'!$F$13)<0,(Y49-'Fert selector'!$F$13)*-1,Y49-'Fert selector'!$F$13)","v":68.536989060191388},{"$f":"IF(Y49<('Fert selector'!$F$13+'Fert selector'!$F$13*'Fert selector'!$F$17),0,1)&IF(Y49>('Fert selector'!$F$13-'Fert selector'!$F$13*'Fert selector'!$F$18),0,1)","v":"10"},{"$f":"IF(H49=0,0,'Fert selector'!$G$13/H49)","v":0},{"$f":"IF('Fert selector'!$D$15=\"Y\",$H49*$N49,IF('Fert selector'!$E$15=\"Y\",$H49*$S49,IF('Fert selector'!$F$15=\"Y\",$H49*$X49,IF('Fert selector'!$G$15=\"Y\",$H49*$AC49))))","v":33.763434657232068},33.763434657232068,{"$f":"IF((AD49-'Fert selector'!$G$13)<0,(AD49-'Fert selector'!$G$13)*-1,AD49-'Fert selector'!$G$13)","v":33.763434657232068},{"$f":"IF(AD49<('Fert selector'!$G$13+'Fert selector'!$G$13*'Fert selector'!$G$17),0,1)&IF(AD49>('Fert selector'!$G$13-'Fert selector'!$G$13*'Fert selector'!$G$18),0,1)","v":"10"}]
[null,105.10739251033297,95513,{"$f":"VLOOKUP(C50,'Data sheet'!B63:C127,2,FALSE)","v":"SUNFLOWER 1"},{"$f":"VLOOKUP(C50,'Data sheet'!$B$1:$AG$65,26,FALSE)","v":2.8949040330727462},{"$f":"VLOOKUP(C50,'Data sheet'!$B$1:$AG$65,27,FALSE)","v":0.88427108344650396},{"$f":"VLOOKUP(C50,'Data sheet'!$B$1:$AG$65,28,FALSE)","v":2.8811767662899639},{"$f":"VLOOKUP(C50,'Data sheet'!$B$1:$AG$65,29,FALSE)","v":0.93650027853608653},null,null,null,null,null,{"$f":"IF(E50=0,0,'Fert selector'!$D$13/E50)","v":51.81518913453759},{"$f":"IF('Fert selector'!$D$15=\"Y\",E50*N50,IF('Fert selector'!$E$15=\"Y\",F50*S50,IF('Fert selector'!$F$15=\"Y\",G50*X50,IF('Fert selector'!$G$15=\"Y\",H50*AC50))))","v":150},0,{"$f":"IF((O50-'Fert selector'!$D$13)<0,(O50-'Fert selector'!$D$13)*-1,O50-'Fert selector'!$D$13)","v":0},{"$f":"IF(O50<('Fert selector'!$D$13+'Fert selector'!$D$13*'Fert selector'!$D$17),0,1)&IF(O50>('Fert selector'!$D$13-'Fert selector'!$D$13*'Fert selector'!$D$18),0,1)","v":"00"},{"$f":"IF(F50=0,0,'Fert selector'!$E$13/F50)","v":0},{"$f":"IF('Fert selector'!$D$15=\"Y\",$F50*$N50,IF('Fert selector'!$E$15=\"Y\",$F50*$S50,IF('Fert selector'!$F$15=\"Y\",$F50*$X50,IF('Fert selector'!$G$15=\"Y\",$F50*$AC50))))","v":45.818673434983076},45.818673434983076,{"$f":"IF((T50-'Fert selector'!$E$13)<0,(T50-'Fert selector'!$E$13)*-1,T50-'Fert selector'!$E$13)","v":45.818673434983076},{"$f":"IF(T50<('Fert selector'!$E$13+'Fert selector'!$E$13*'Fert selector'!$E$17),0,1)&IF(T50>('Fert selector'!$E$13-'Fert selector'!$E$13*'Fert selector'!$E$18),0,1)","v":"10"},{"$f":"IF(G50=0,0,'Fert selector'!$F$13/G50)","v":31.237236483720253},{"$f":"IF('Fert selector'!$D$15=\"Y\",$G50*$N50,IF('Fert selector'!$E$15=\"Y\",$G50*$S50,IF('Fert selector'!$F$15=\"Y\",$G50*$X50,IF('Fert selector'!$G$15=\"Y\",$G50*$AC50))))","v":149.28871907534989},59.288719075349888,{"$f":"IF((Y50-'Fert selector'!$F$13)<0,(Y50-'Fert selector'!$F$13)*-1,Y50-'Fert selector'!$F$13)","v":59.288719075349888},{"$f":"IF(Y50<('Fert selector'!$F$13+'Fert selector'!$F$13*'Fert selector'!$F$17),0,1)&IF(Y50>('Fert selector'!$F$13-'Fert selector'!$F$13*'Fert selector'!$F$18),0,1)","v":"10"},{"$f":"IF(H50=0,0,'Fert selector'!$G$13/H50)","v":0},{"$f":"IF('Fert selector'!$D$15=\"Y\",$H50*$N50,IF('Fert selector'!$E$15=\"Y\",$H50*$S50,IF('Fert selector'!$F$15=\"Y\",$H50*$X50,IF('Fert selector'!$G$15=\"Y\",$H50*$AC50))))","v":48.524939056894461},48.524939056894461,{"$f":"IF((AD50-'Fert selector'!$G$13)<0,(AD50-'Fert selector'!$G$13)*-1,AD50-'Fert selector'!$G$13)","v":48.524939056894461},{"$f":"IF(AD50<('Fert selector'!$G$13+'Fert selector'!$G$13*'Fert selector'!$G$17),0,1)&IF(AD50>('Fert selector'!$G$13-'Fert selector'!$G$13*'Fert selector'!$G$18),0,1)","v":"10"}]
[null,112.88111598529629,102194,{"$f":"VLOOKUP(C51,'Data sheet'!B32:C96,2,FALSE)","v":"MKY 100"},{"$f":"VLOOKUP(C51,'Data sheet'!$B$1:$AG$65,26,FALSE)","v":2.2155129152684174},{"$f":"VLOOKUP(C51,'Data sheet'!$B$1:$AG$65,27,FALSE)","v":1.0297496740652777E-2},{"$f":"VLOOKUP(C51,'Data sheet'!$B$1:$AG$65,28,FALSE)","v":2.986274054789305},{"$f":"VLOOKUP(C51,'Data sheet'!$B$1:$AG$65,29,FALSE)","v":0.37932428171714311},null,null,null,null,null,{"$f":"IF(E51=0,0,'Fert selector'!$D$13/E51)","v":67.704412358086827},{"$f":"IF('Fert selector'!$D$15=\"Y\",E51*N51,IF('Fert selector'!$E$15=\"Y\",F51*S51,IF('Fert selector'!$F$15=\"Y\",G51*X51,IF('Fert selector'!$G$15=\"Y\",H51*AC51))))","v":150.00000000000003},0,{"$f":"IF((O51-'Fert selector'!$D$13)<0,(O51-'Fert selector'!$D$13)*-1,O51-'Fert selector'!$D$13)","v":2.8421709430404007E-14},{"$f":"IF(O51<('Fert selector'!$D$13+'Fert selector'!$D$13*'Fert selector'!$D$17),0,1)&IF(O51>('Fert selector'!$D$13-'Fert selector'!$D$13*'Fert selector'!$D$18),0,1)","v":"00"},{"$f":"IF(F51=0,0,'Fert selector'!$E$13/F51)","v":0},{"$f":"IF('Fert selector'!$D$15=\"Y\",$F51*$N51,IF('Fert selector'!$E$15=\"Y\",$F51*$S51,IF('Fert selector'!$F$15=\"Y\",$F51*$X51,IF('Fert selector'!$G$15=\"Y\",$F51*$AC51))))","v":0.69718596558521073},0.69718596558521073,{"$f":"IF((T51-'Fert selector'!$E$13)<0,(T51-'Fert selector'!$E$13)*-1,T51-'Fert selector'!$E$13)","v":0.69718596558521073},{"$f":"IF(T51<('Fert selector'!$E$13+'Fert selector'!$E$13*'Fert selector'!$E$17),0,1)&IF(T51>('Fert selector'!$E$13-'Fert selector'!$E$13*'Fert selector'!$E$18),0,1)","v":"10"},{"$f":"IF(G51=0,0,'Fert selector'!$F$13/G51)","v":30.137890343875323},{"$f":"IF('Fert selector'!$D$15=\"Y\",$G51*$N51,IF('Fert selector'!$E$15=\"Y\",$G51*$S51,IF('Fert selector'!$F$15=\"Y\",$G51*$X51,IF('Fert selector'!$G$15=\"Y\",$G51*$AC51))))","v":202.18393001971108},112.18393001971108,{"$f":"IF((Y51-'Fert selector'!$F$13)<0,(Y51-'Fert selector'!$F$13)*-1,Y51-'Fert selector'!$F$13)","v":112.18393001971108},{"$f":"IF(Y51<('Fert selector'!$F$13+'Fert selector'!$F$13*'Fert selector'!$F$17),0,1)&IF(Y51>('Fert selector'!$F$13-'Fert selector'!$F$13*'Fert selector'!$F$18),0,1)","v":"10"},{"$f":"IF(H51=0,0,'Fert selector'!$G$13/H51)","v":0},{"$f":"IF('Fert selector'!$D$15=\"Y\",$H51*$N51,IF('Fert selector'!$E$15=\"Y\",$H51*$S51,IF('Fert selector'!$F$15=\"Y\",$H51*$X51,IF('Fert selector'!$G$15=\"Y\",$H51*$AC51))))","v":25.681927586812552},25.681927586812552,{"$f":"IF((AD51-'Fert selector'!$G$13)<0,(AD51-'Fert selector'!$G$13)*-1,AD51-'Fert selector'!$G$13)","v":25.681927586812552},{"$f":"IF(AD51<('Fert selector'!$G$13+'Fert selector'!$G$13*'Fert selector'!$G$17),0,1)&IF(AD51>('Fert selector'!$G$13-'Fert selector'!$G$13*'Fert selector'!$G$18),0,1)","v":"10"}]
[null,136.31591456517353,93370,{"$f":"VLOOKUP(C52,'Data sheet'!B29:C93,2,FALSE)","v":"LUCERNE"},{"$f":"VLOOKUP(C52,'Data sheet'!$B$1:$AG$65,26,FALSE)","v":2.4099314049633325},{"$f":"VLOOKUP(C52,'Data sheet'!$B$1:$AG$65,27,FALSE)","v":0.71589705465064457},{"$f":"VLOOKUP(C52,'Data sheet'!$B$1:$AG$65,28,FALSE)","v":2.9201418117067561},{"$f":"VLOOKUP(C52,'Data sheet'!$B$1:$AG$65,29,FALSE)","v":0.81699938503472325},null,null,null,null,null,{"$f":"IF(E52=0,0,'Fert selector'!$D$13/E52)","v":62.242435486367},{"$f":"IF('Fert selector'!$D$15=\"Y\",E52*N52,IF('Fert selector'!$E$15=\"Y\",F52*S52,IF('Fert selector'!$F$15=\"Y\",G52*X52,IF('Fert selector'!$G$15=\"Y\",H52*AC52))))","v":150},0,{"$f":"IF((O52-'Fert selector'!$D$13)<0,(O52-'Fert selector'!$D$13)*-1,O52-'Fert selector'!$D$13)","v":0},{"$f":"IF(O52<('Fert selector'!$D$13+'Fert selector'!$D$13*'Fert selector'!$D$17),0,1)&IF(O52>('Fert selector'!$D$13-'Fert selector'!$D$13*'Fert selector'!$D$18),0,1)","v":"00"},{"$f":"IF(F52=0,0,'Fert selector'!$E$13/F52)","v":0},{"$f":"IF('Fert selector'!$D$15=\"Y\",$F52*$N52,IF('Fert selector'!$E$15=\"Y\",$F52*$S52,IF('Fert selector'!$F$15=\"Y\",$F52*$X52,IF('Fert selector'!$G$15=\"Y\",$F52*$AC52))))","v":44.559176238972896},44.559176238972896,{"$f":"IF((T52-'Fert selector'!$E$13)<0,(T52-'Fert selector'!$E$13)*-1,T52-'Fert selector'!$E$13)","v":44.559176238972896},{"$f":"IF(T52<('Fert selector'!$E$13+'Fert selector'!$E$13*'Fert selector'!$E$17),0,1)&IF(T52>('Fert selector'!$E$13-'Fert selector'!$E$13*'Fert selector'!$E$18),0,1)","v":"10"},{"$f":"IF(G52=0,0,'Fert selector'!$F$13/G52)","v":30.820420994347895},{"$f":"IF('Fert selector'!$D$15=\"Y\",$G52*$N52,IF('Fert selector'!$E$15=\"Y\",$G52*$S52,IF('Fert selector'!$F$15=\"Y\",$G52*$X52,IF('Fert selector'!$G$15=\"Y\",$G52*$AC52))))","v":181.75673832620063},91.756738326200633,{"$f":"IF((Y52-'Fert selector'!$F$13)<0,(Y52-'Fert selector'!$F$13)*-1,Y52-'Fert selector'!$F$13)","v":91.756738326200633},{"$f":"IF(Y52<('Fert selector'!$F$13+'Fert selector'!$F$13*'Fert selector'!$F$17),0,1)&IF(Y52>('Fert selector'!$F$13-'Fert selector'!$F$13*'Fert selector'!$F$18),0,1)","v":"10"},{"$f":"IF(H52=0,0,'Fert selector'!$G$13/H52)","v":0},{"$f":"IF('Fert selector'!$D$15=\"Y\",$H52*$N52,IF('Fert selector'!$E$15=\"Y\",$H52*$S52,IF('Fert selector'!$F$15=\"Y\",$H52*$X52,IF('Fert selector'!$G$15=\"Y\",$H52*$AC52))))","v":50.852031515425274},50.852031515425274,{"$f":"IF((AD52-'Fert selector'!$G$13)<0,(AD52-'Fert selector'!$G$13)*-1,AD52-'Fert selector'!$G$13)","v":50.852031515425274},{"$f":"IF(AD52<('Fert selector'!$G$13+'Fert selector'!$G$13*'Fert selector'!$G$17),0,1)&IF(AD52>('Fert selector'!$G$13-'Fert selector'!$G$13*'Fert selector'!$G$18),0,1)","v":"10"}]
[null,148.67521234756268,94740,{"$f":"VLOOKUP(C53,'Data sheet'!B5:C69,2,FALSE)","v":"COMET 1"},{"$f":"VLOOKUP(C53,'Data sheet'!$B$1:$AG$65,26,FALSE)","v":2.8766137250516315},{"$f":"VLOOKUP(C53,'Data sheet'!$B$1:$AG$65,27,FALSE)","v":1.7647288828222436},{"$f":"VLOOKUP(C53,'Data sheet'!$B$1:$AG$65,28,FALSE)","v":2.812447061635166},{"$f":"VLOOKUP(C53,'Data sheet'!$B$1:$AG$65,29,FALSE)","v":1.4736791855363092},null,null,null,null,null,{"$f":"IF(E53=0,0,'Fert selector'!$D$13/E53)","v":52.144644480310852},{"$f":"IF('Fert selector'!$D$15=\"Y\",E53*N53,IF('Fert selector'!$E$15=\"Y\",F53*S53,IF('Fert selector'!$F$15=\"Y\",G53*X53,IF('Fert selector'!$G$15=\"Y\",H53*AC53))))","v":150},0,{"$f":"IF((O53-'Fert selector'!$D$13)<0,(O53-'Fert selector'!$D$13)*-1,O53-'Fert selector'!$D$13)","v":0},{"$f":"IF(O53<('Fert selector'!$D$13+'Fert selector'!$D$13*'Fert selector'!$D$17),0,1)&IF(O53>('Fert selector'!$D$13-'Fert selector'!$D$13*'Fert selector'!$D$18),0,1)","v":"00"},{"$f":"IF(F53=0,0,'Fert selector'!$E$13/F53)","v":0},{"$f":"IF('Fert selector'!$D$15=\"Y\",$F53*$N53,IF('Fert selector'!$E$15=\"Y\",$F53*$S53,IF('Fert selector'!$F$15=\"Y\",$F53*$X53,IF('Fert selector'!$G$15=\"Y\",$F53*$AC53))))","v":92.021160198902038},92.021160198902038,{"$f":"IF((T53-'Fert selector'!$E$13)<0,(T53-'Fert selector'!$E$13)*-1,T53-'Fert selector'!$E$13)","v":92.021160198902038},{"$f":"IF(T53<('Fert selector'!$E$13+'Fert selector'!$E$13*'Fert selector'!$E$17),0,1)&IF(T53>('Fert selector'!$E$13-'Fert selector'!$E$13*'Fert selector'!$E$18),0,1)","v":"10"},{"$f":"IF(G53=0,0,'Fert selector'!$F$13/G53)","v":32.000602332288416},{"$f":"IF('Fert selector'!$D$15=\"Y\",$G53*$N53,IF('Fert selector'!$E$15=\"Y\",$G53*$S53,IF('Fert selector'!$F$15=\"Y\",$G53*$X53,IF('Fert selector'!$G$15=\"Y\",$G53*$AC53))))","v":146.65405214866064},56.654052148660639,{"$f":"IF((Y53-'Fert selector'!$F$13)<0,(Y53-'Fert selector'!$F$13)*-1,Y53-'Fert selector'!$F$13)","v":56.654052148660639},{"$f":"IF(Y53<('Fert selector'!$F$13+'Fert selector'!$F$13*'Fert selector'!$F$17),0,1)&IF(Y53>('Fert selector'!$F$13-'Fert selector'!$F$13*'Fert selector'!$F$18),0,1)","v":"10"},{"$f":"IF(H53=0,0,'Fert selector'!$G$13/H53)","v":0},{"$f":"IF('Fert selector'!$D$15=\"Y\",$H53*$N53,IF('Fert selector'!$E$15=\"Y\",$H53*$S53,IF('Fert selector'!$F$15=\"Y\",$H53*$X53,IF('Fert selector'!$G$15=\"Y\",$H53*$AC53))))","v":76.844477207824895},76.844477207824895,{"$f":"IF((AD53-'Fert selector'!$G$13)<0,(AD53-'Fert selector'!$G$13)*-1,AD53-'Fert selector'!$G$13)","v":76.844477207824895},{"$f":"IF(AD53<('Fert selector'!$G$13+'Fert selector'!$G$13*'Fert selector'!$G$17),0,1)&IF(AD53>('Fert selector'!$G$13-'Fert selector'!$G$13*'Fert selector'!$G$18),0,1)","v":"10"}]
[null,154.7309246828323,102195,{"$f":"VLOOKUP(C54,'Data sheet'!B48:C112,2,FALSE)","v":"MKY 80"},{"$f":"VLOOKUP(C54,'Data sheet'!$B$1:$AG$65,26,FALSE)","v":1.848579208661159},{"$f":"VLOOKUP(C54,'Data sheet'!$B$1:$AG$65,27,FALSE)","v":1.0364364240208566E-2},{"$f":"VLOOKUP(C54,'Data sheet'!$B$1:$AG$65,28,FALSE)","v":3.0056656296604833},{"$f":"VLOOKUP(C54,'Data sheet'!$B$1:$AG$65,29,FALSE)","v":0.36676491784225262},null,null,null,null,null,{"$f":"IF(E54=0,0,'Fert selector'!$D$13/E54)","v":81.143398831494011},{"$f":"IF('Fert selector'!$D$15=\"Y\",E54*N54,IF('Fert selector'!$E$15=\"Y\",F54*S54,IF('Fert selector'!$F$15=\"Y\",G54*X54,IF('Fert selector'!$G$15=\"Y\",H54*AC54))))","v":150},0,{"$f":"IF((O54-'Fert selector'!$D$13)<0,(O54-'Fert selector'!$D$13)*-1,O54-'Fert selector'!$D$13)","v":0},{"$f":"IF(O54<('Fert selector'!$D$13+'Fert selector'!$D$13*'Fert selector'!$D$17),0,1)&IF(O54>('Fert selector'!$D$13-'Fert selector'!$D$13*'Fert selector'!$D$18),0,1)","v":"00"},{"$f":"IF(F54=0,0,'Fert selector'!$E$13/F54)","v":0},{"$f":"IF('Fert selector'!$D$15=\"Y\",$F54*$N54,IF('Fert selector'!$E$15=\"Y\",$F54*$S54,IF('Fert selector'!$F$15=\"Y\",$F54*$X54,IF('Fert selector'!$G$15=\"Y\",$F54*$AC54))))","v":0.84099974117811804},0.84099974117811804,{"$f":"IF((T54-'Fert selector'!$E$13)<0,(T54-'Fert selector'!$E$13)*-1,T54-'Fert selector'!$E$13)","v":0.84099974117811804},{"$f":"IF(T54<('Fert selector'!$E$13+'Fert selector'!$E$13*'Fert selector'!$E$17),0,1)&IF(T54>('Fert selector'!$E$13-'Fert selector'!$E$13*'Fert selector'!$E$18),0,1)","v":"10"},{"$f":"IF(G54=0,0,'Fert selector'!$F$13/G54)","v":29.943450499570805},{"$f":"IF('Fert selector'!$D$15=\"Y\",$G54*$N54,IF('Fert selector'!$E$15=\"Y\",$G54*$S54,IF('Fert selector'!$F$15=\"Y\",$G54*$X54,IF('Fert selector'!$G$15=\"Y\",$G54*$AC54))))","v":243.88992494165419},153.88992494165419,{"$f":"IF((Y54-'Fert selector'!$F$13)<0,(Y54-'Fert selector'!$F$13)*-1,Y54-'Fert selector'!$F$13)","v":153.88992494165419},{"$f":"IF(Y54<('Fert selector'!$F$13+'Fert selector'!$F$13*'Fert selector'!$F$17),0,1)&IF(Y54>('Fert selector'!$F$13-'Fert selector'!$F$13*'Fert selector'!$F$18),0,1)","v":"10"},{"$f":"IF(H54=0,0,'Fert selector'!$G$13/H54)","v":0},{"$f":"IF('Fert selector'!$D$15=\"Y\",$H54*$N54,IF('Fert selector'!$E$15=\"Y\",$H54*$S54,IF('Fert selector'!$F$15=\"Y\",$H54*$X54,IF('Fert selector'!$G$15=\"Y\",$H54*$AC54))))","v":29.76055200587404},29.76055200587404,{"$f":"IF((AD54-'Fert selector'!$G$13)<0,(AD54-'Fert selector'!$G$13)*-1,AD54-'Fert selector'!$G$13)","v":29.76055200587404},{"$f":"IF(AD54<('Fert selector'!$G$13+'Fert selector'!$G$13*'Fert selector'!$G$17),0,1)&IF(AD54>('Fert selector'!$G$13-'Fert selector'!$G$13*'Fert selector'!$G$18),0,1)","v":"10"}]
[null,181.19610175267357,81814,{"$f":"VLOOKUP(C55,'Data sheet'!B28:C92,2,FALSE)","v":"LTD + P"},{"$f":"VLOOKUP(C55,'Data sheet'!$B$1:$AG$65,26,FALSE)","v":3.2460892525677947},{"$f":"VLOOKUP(C55,'Data sheet'!$B$1:$AG$65,27,FALSE)","v":3.188645670858671},{"$f":"VLOOKUP(C55,'Data sheet'!$B$1:$AG$65,28,FALSE)","v":2.6801993373922341},{"$f":"VLOOKUP(C55,'Data sheet'!$B$1:$AG$65,29,FALSE)","v":2.3561328270648669},null,null,null,null,null,{"$f":"IF(E55=0,0,'Fert selector'!$D$13/E55)","v":46.209450304345026},{"$f":"IF('Fert selector'!$D$15=\"Y\",E55*N55,IF('Fert selector'!$E$15=\"Y\",F55*S55,IF('Fert selector'!$F$15=\"Y\",G55*X55,IF('Fert selector'!$G$15=\"Y\",H55*AC55))))","v":150},0,{"$f":"IF((O55-'Fert selector'!$D$13)<0,(O55-'Fert selector'!$D$13)*-1,O55-'Fert selector'!$D$13)","v":0},{"$f":"IF(O55<('Fert selector'!$D$13+'Fert selector'!$D$13*'Fert selector'!$D$17),0,1)&IF(O55>('Fert selector'!$D$13-'Fert selector'!$D$13*'Fert selector'!$D$18),0,1)","v":"00"},{"$f":"IF(F55=0,0,'Fert selector'!$E$13/F55)","v":0},{"$f":"IF('Fert selector'!$D$15=\"Y\",$F55*$N55,IF('Fert selector'!$E$15=\"Y\",$F55*$S55,IF('Fert selector'!$F$15=\"Y\",$F55*$X55,IF('Fert selector'!$G$15=\"Y\",$F55*$AC55))))","v":147.34556366570865},147.34556366570865,{"$f":"IF((T55-'Fert selector'!$E$13)<0,(T55-'Fert selector'!$E$13)*-1,T55-'Fert selector'!$E$13)","v":147.34556366570865},{"$f":"IF(T55<('Fert selector'!$E$13+'Fert selector'!$E$13*'Fert selector'!$E$17),0,1)&IF(T55>('Fert selector'!$E$13-'Fert selector'!$E$13*'Fert selector'!$E$18),0,1)","v":"10"},{"$f":"IF(G55=0,0,'Fert selector'!$F$13/G55)","v":33.579591914819183},{"$f":"IF('Fert selector'!$D$15=\"Y\",$G55*$N55,IF('Fert selector'!$E$15=\"Y\",$G55*$S55,IF('Fert selector'!$F$15=\"Y\",$G55*$X55,IF('Fert selector'!$G$15=\"Y\",$G55*$AC55))))","v":123.85053808696492},33.850538086964917,{"$f":"IF((Y55-'Fert selector'!$F$13)<0,(Y55-'Fert selector'!$F$13)*-1,Y55-'Fert selector'!$F$13)","v":33.850538086964917},{"$f":"IF(Y55<('Fert selector'!$F$13+'Fert selector'!$F$13*'Fert selector'!$F$17),0,1)&IF(Y55>('Fert selector'!$F$13-'Fert selector'!$F$13*'Fert selector'!$F$18),0,1)","v":"10"},{"$f":"IF(H55=0,0,'Fert selector'!$G$13/H55)","v":0},{"$f":"IF('Fert selector'!$D$15=\"Y\",$H55*$N55,IF('Fert selector'!$E$15=\"Y\",$H55*$S55,IF('Fert selector'!$F$15=\"Y\",$H55*$X55,IF('Fert selector'!$G$15=\"Y\",$H55*$AC55))))","v":108.87560278268992},108.87560278268992,{"$f":"IF((AD55-'Fert selector'!$G$13)<0,(AD55-'Fert selector'!$G$13)*-1,AD55-'Fert selector'!$G$13)","v":108.87560278268992},{"$f":"IF(AD55<('Fert selector'!$G$13+'Fert selector'!$G$13*'Fert selector'!$G$17),0,1)&IF(AD55>('Fert selector'!$G$13-'Fert selector'!$G$13*'Fert selector'!$G$18),0,1)","v":"10"}]
[null,187.82044360717342,102204,{"$f":"VLOOKUP(C56,'Data sheet'!B47:C111,2,FALSE)","v":"MKY 70"},{"$f":"VLOOKUP(C56,'Data sheet'!$B$1:$AG$65,26,FALSE)","v":1.634534546473591},{"$f":"VLOOKUP(C56,'Data sheet'!$B$1:$AG$65,27,FALSE)","v":1.0403370281616107E-2},{"$f":"VLOOKUP(C56,'Data sheet'!$B$1:$AG$65,28,FALSE)","v":3.0169773816686707},{"$f":"VLOOKUP(C56,'Data sheet'!$B$1:$AG$65,29,FALSE)","v":0.35943862224856654},null,null,null,null,null,{"$f":"IF(E56=0,0,'Fert selector'!$D$13/E56)","v":91.769244231402695},{"$f":"IF('Fert selector'!$D$15=\"Y\",E56*N56,IF('Fert selector'!$E$15=\"Y\",F56*S56,IF('Fert selector'!$F$15=\"Y\",G56*X56,IF('Fert selector'!$G$15=\"Y\",H56*AC56))))","v":150},0,{"$f":"IF((O56-'Fert selector'!$D$13)<0,(O56-'Fert selector'!$D$13)*-1,O56-'Fert selector'!$D$13)","v":0},{"$f":"IF(O56<('Fert selector'!$D$13+'Fert selector'!$D$13*'Fert selector'!$D$17),0,1)&IF(O56>('Fert selector'!$D$13-'Fert selector'!$D$13*'Fert selector'!$D$18),0,1)","v":"00"},{"$f":"IF(F56=0,0,'Fert selector'!$E$13/F56)","v":0},{"$f":"IF('Fert selector'!$D$15=\"Y\",$F56*$N56,IF('Fert selector'!$E$15=\"Y\",$F56*$S56,IF('Fert selector'!$F$15=\"Y\",$F56*$X56,IF('Fert selector'!$G$15=\"Y\",$F56*$AC56))))","v":0.95470942820334526},0.95470942820334526,{"$f":"IF((T56-'Fert selector'!$E$13)<0,(T56-'Fert selector'!$E$13)*-1,T56-'Fert selector'!$E$13)","v":0.95470942820334526},{"$f":"IF(T56<('Fert selector'!$E$13+'Fert selector'!$E$13*'Fert selector'!$E$17),0,1)&IF(T56>('Fert selector'!$E$13-'Fert selector'!$E$13*'Fert selector'!$E$18),0,1)","v":"10"},{"$f":"IF(G56=0,0,'Fert selector'!$F$13/G56)","v":29.83118154840842},{"$f":"IF('Fert selector'!$D$15=\"Y\",$G56*$N56,IF('Fert selector'!$E$15=\"Y\",$G56*$S56,IF('Fert selector'!$F$15=\"Y\",$G56*$X56,IF('Fert selector'!$G$15=\"Y\",$G56*$AC56))))","v":276.86573417897006},186.86573417897006,{"$f":"IF((Y56-'Fert selector'!$F$13)<0,(Y56-'Fert selector'!$F$13)*-1,Y56-'Fert selector'!$F$13)","v":186.86573417897006},{"$f":"IF(Y56<('Fert selector'!$F$13+'Fert selector'!$F$13*'Fert selector'!$F$17),0,1)&IF(Y56>('Fert selector'!$F$13-'Fert selector'!$F$13*'Fert selector'!$F$18),0,1)","v":"10"},{"$f":"IF(H56=0,0,'Fert selector'!$G$13/H56)","v":0},{"$f":"IF('Fert selector'!$D$15=\"Y\",$H56*$N56,IF('Fert selector'!$E$15=\"Y\",$H56*$S56,IF('Fert selector'!$F$15=\"Y\",$H56*$X56,IF('Fert selector'!$G$15=\"Y\",$H56*$AC56))))","v":32.985410711327596},32.985410711327596,{"$f":"IF((AD56-'Fert selector'!$G$13)<0,(AD56-'Fert selector'!$G$13)*-1,AD56-'Fert selector'!$G$13)","v":32.985410711327596},{"$f":"IF(AD56<('Fert selector'!$G$13+'Fert selector'!$G$13*'Fert selector'!$G$17),0,1)&IF(AD56>('Fert selector'!$G$13-'Fert selector'!$G$13*'Fert selector'!$G$18),0,1)","v":"10"}]
[null,248.67325164639882,88676,{"$f":"VLOOKUP(C57,'Data sheet'!B56:C120,2,FALSE)","v":"PUMPKIN 1"},{"$f":"VLOOKUP(C57,'Data sheet'!$B$1:$AG$65,26,FALSE)","v":2.0936085697624311},{"$f":"VLOOKUP(C57,'Data sheet'!$B$1:$AG$65,27,FALSE)","v":1.8824774035840335},{"$f":"VLOOKUP(C57,'Data sheet'!$B$1:$AG$65,28,FALSE)","v":2.844517409724026},{"$f":"VLOOKUP(C57,'Data sheet'!$B$1:$AG$65,29,FALSE)","v":1.5187153385894825},null,null,null,null,null,{"$f":"IF(E57=0,0,'Fert selector'!$D$13/E57)","v":71.646630686566695},{"$f":"IF('Fert selector'!$D$15=\"Y\",E57*N57,IF('Fert selector'!$E$15=\"Y\",F57*S57,IF('Fert selector'!$F$15=\"Y\",G57*X57,IF('Fert selector'!$G$15=\"Y\",H57*AC57))))","v":150},0,{"$f":"IF((O57-'Fert selector'!$D$13)<0,(O57-'Fert selector'!$D$13)*-1,O57-'Fert selector'!$D$13)","v":0},{"$f":"IF(O57<('Fert selector'!$D$13+'Fert selector'!$D$13*'Fert selector'!$D$17),0,1)&IF(O57>('Fert selector'!$D$13-'Fert selector'!$D$13*'Fert selector'!$D$18),0,1)","v":"00"},{"$f":"IF(F57=0,0,'Fert selector'!$E$13/F57)","v":0},{"$f":"IF('Fert selector'!$D$15=\"Y\",$F57*$N57,IF('Fert selector'!$E$15=\"Y\",$F57*$S57,IF('Fert selector'!$F$15=\"Y\",$F57*$X57,IF('Fert selector'!$G$15=\"Y\",$F57*$AC57))))","v":134.87316331039221},134.87316331039221,{"$f":"IF((T57-'Fert selector'!$E$13)<0,(T57-'Fert selector'!$E$13)*-1,T57-'Fert selector'!$E$13)","v":134.87316331039221},{"$f":"IF(T57<('Fert selector'!$E$13+'Fert selector'!$E$13*'Fert selector'!$E$17),0,1)&IF(T57>('Fert selector'!$E$13-'Fert selector'!$E$13*'Fert selector'!$E$18),0,1)","v":"10"},{"$f":"IF(G57=0,0,'Fert selector'!$F$13/G57)","v":31.639813380060051},{"$f":"IF('Fert selector'!$D$15=\"Y\",$G57*$N57,IF('Fert selector'!$E$15=\"Y\",$G57*$S57,IF('Fert selector'!$F$15=\"Y\",$G57*$X57,IF('Fert selector'!$G$15=\"Y\",$G57*$AC57))))","v":203.80008833600661},113.80008833600661,{"$f":"IF((Y57-'Fert selector'!$F$13)<0,(Y57-'Fert selector'!$F$13)*-1,Y57-'Fert selector'!$F$13)","v":113.80008833600661},{"$f":"IF(Y57<('Fert selector'!$F$13+'Fert selector'!$F$13*'Fert selector'!$F$17),0,1)&IF(Y57>('Fert selector'!$F$13-'Fert selector'!$F$13*'Fert selector'!$F$18),0,1)","v":"10"},{"$f":"IF(H57=0,0,'Fert selector'!$G$13/H57)","v":0},{"$f":"IF('Fert selector'!$D$15=\"Y\",$H57*$N57,IF('Fert selector'!$E$15=\"Y\",$H57*$S57,IF('Fert selector'!$F$15=\"Y\",$H57*$X57,IF('Fert selector'!$G$15=\"Y\",$H57*$AC57))))","v":108.81083698194475},108.81083698194475,{"$f":"IF((AD57-'Fert selector'!$G$13)<0,(AD57-'Fert selector'!$G$13)*-1,AD57-'Fert selector'!$G$13)","v":108.81083698194475},{"$f":"IF(AD57<('Fert selector'!$G$13+'Fert selector'!$G$13*'Fert selector'!$G$17),0,1)&IF(AD57>('Fert selector'!$G$13-'Fert selector'!$G$13*'Fert selector'!$G$18),0,1)","v":"10"}]
[null,295.26615063577157,88753,{"$f":"VLOOKUP(C58,'Data sheet'!B16:C80,2,FALSE)","v":"HALL 2"},{"$f":"VLOOKUP(C58,'Data sheet'!$B$1:$AG$65,26,FALSE)","v":1.6814074496349651},{"$f":"VLOOKUP(C58,'Data sheet'!$B$1:$AG$65,27,FALSE)","v":1.4153077313471187},{"$f":"VLOOKUP(C58,'Data sheet'!$B$1:$AG$65,28,FALSE)","v":2.9032881071273673},{"$f":"VLOOKUP(C58,'Data sheet'!$B$1:$AG$65,29,FALSE)","v":1.2192010543902574},null,null,null,null,null,{"$f":"IF(E58=0,0,'Fert selector'!$D$13/E58)","v":89.210976216719587},{"$f":"IF('Fert selector'!$D$15=\"Y\",E58*N58,IF('Fert selector'!$E$15=\"Y\",F58*S58,IF('Fert selector'!$F$15=\"Y\",G58*X58,IF('Fert selector'!$G$15=\"Y\",H58*AC58))))","v":150},0,{"$f":"IF((O58-'Fert selector'!$D$13)<0,(O58-'Fert selector'!$D$13)*-1,O58-'Fert selector'!$D$13)","v":0},{"$f":"IF(O58<('Fert selector'!$D$13+'Fert selector'!$D$13*'Fert selector'!$D$17),0,1)&IF(O58>('Fert selector'!$D$13-'Fert selector'!$D$13*'Fert selector'!$D$18),0,1)","v":"00"},{"$f":"IF(F58=0,0,'Fert selector'!$E$13/F58)","v":0},{"$f":"IF('Fert selector'!$D$15=\"Y\",$F58*$N58,IF('Fert selector'!$E$15=\"Y\",$F58*$S58,IF('Fert selector'!$F$15=\"Y\",$F58*$X58,IF('Fert selector'!$G$15=\"Y\",$F58*$AC58))))","v":126.26098436054717},126.26098436054717,{"$f":"IF((T58-'Fert selector'!$E$13)<0,(T58-'Fert selector'!$E$13)*-1,T58-'Fert selector'!$E$13)","v":126.26098436054717},{"$f":"IF(T58<('Fert selector'!$E$13+'Fert selector'!$E$13*'Fert selector'!$E$17),0,1)&IF(T58>('Fert selector'!$E$13-'Fert selector'!$E$13*'Fert selector'!$E$18),0,1)","v":"10"},{"$f":"IF(G58=0,0,'Fert selector'!$F$13/G58)","v":30.999334781503894},{"$f":"IF('Fert selector'!$D$15=\"Y\",$G58*$N58,IF('Fert selector'!$E$15=\"Y\",$G58*$S58,IF('Fert selector'!$F$15=\"Y\",$G58*$X58,IF('Fert selector'!$G$15=\"Y\",$G58*$AC58))))","v":259.00516627522438},169.00516627522438,{"$f":"IF((Y58-'Fert selector'!$F$13)<0,(Y58-'Fert selector'!$F$13)*-1,Y58-'Fert selector'!$F$13)","v":169.00516627522438},{"$f":"IF(Y58<('Fert selector'!$F$13+'Fert selector'!$F$13*'Fert selector'!$F$17),0,1)&IF(Y58>('Fert selector'!$F$13-'Fert selector'!$F$13*'Fert selector'!$F$18),0,1)","v":"10"},{"$f":"IF(H58=0,0,'Fert selector'!$G$13/H58)","v":0},{"$f":"IF('Fert selector'!$D$15=\"Y\",$H58*$N58,IF('Fert selector'!$E$15=\"Y\",$H58*$S58,IF('Fert selector'!$F$15=\"Y\",$H58*$X58,IF('Fert selector'!$G$15=\"Y\",$H58*$AC58))))","v":108.76611626660869},108.76611626660869,{"$f":"IF((AD58-'Fert selector'!$G$13)<0,(AD58-'Fert selector'!$G$13)*-1,AD58-'Fert selector'!$G$13)","v":108.76611626660869},{"$f":"IF(AD58<('Fert selector'!$G$13+'Fert selector'!$G$13*'Fert selector'!$G$17),0,1)&IF(AD58>('Fert selector'!$G$13-'Fert selector'!$G$13*'Fert selector'!$G$18),0,1)","v":"10"}]
[null,374.21485186128461,96562,{"$f":"VLOOKUP(C59,'Data sheet'!B7:C71,2,FALSE)","v":"COMPANION 2"},{"$f":"VLOOKUP(C59,'Data sheet'!$B$1:$AG$65,26,FALSE)","v":1.2607940617497961},{"$f":"VLOOKUP(C59,'Data sheet'!$B$1:$AG$65,27,FALSE)","v":0.93860398416659385},{"$f":"VLOOKUP(C59,'Data sheet'!$B$1:$AG$65,28,FALSE)","v":2.9632582065185327},{"$f":"VLOOKUP(C59,'Data sheet'!$B$1:$AG$65,29,FALSE)","v":0.91357423377880309},null,null,null,null,null,{"$f":"IF(E59=0,0,'Fert selector'!$D$13/E59)","v":118.97264156830032},{"$f":"IF('Fert selector'!$D$15=\"Y\",E59*N59,IF('Fert selector'!$E$15=\"Y\",F59*S59,IF('Fert selector'!$F$15=\"Y\",G59*X59,IF('Fert selector'!$G$15=\"Y\",H59*AC59))))","v":150},0,{"$f":"IF((O59-'Fert selector'!$D$13)<0,(O59-'Fert selector'!$D$13)*-1,O59-'Fert selector'!$D$13)","v":0},{"$f":"IF(O59<('Fert selector'!$D$13+'Fert selector'!$D$13*'Fert selector'!$D$17),0,1)&IF(O59>('Fert selector'!$D$13-'Fert selector'!$D$13*'Fert selector'!$D$18),0,1)","v":"00"},{"$f":"IF(F59=0,0,'Fert selector'!$E$13/F59)","v":0},{"$f":"IF('Fert selector'!$D$15=\"Y\",$F59*$N59,IF('Fert selector'!$E$15=\"Y\",$F59*$S59,IF('Fert selector'!$F$15=\"Y\",$F59*$X59,IF('Fert selector'!$G$15=\"Y\",$F59*$AC59))))","v":111.6681953828308},111.6681953828308,{"$f":"IF((T59-'Fert selector'!$E$13)<0,(T59-'Fert selector'!$E$13)*-1,T59-'Fert selector'!$E$13)","v":111.6681953828308},{"$f":"IF(T59<('Fert selector'!$E$13+'Fert selector'!$E$13*'Fert selector'!$E$17),0,1)&IF(T59>('Fert selector'!$E$13-'Fert selector'!$E$13*'Fert selector'!$E$18),0,1)","v":"10"},{"$f":"IF(G59=0,0,'Fert selector'!$F$13/G59)","v":30.371973593802693},{"$f":"IF('Fert selector'!$D$15=\"Y\",$G59*$N59,IF('Fert selector'!$E$15=\"Y\",$G59*$S59,IF('Fert selector'!$F$15=\"Y\",$G59*$X59,IF('Fert selector'!$G$15=\"Y\",$G59*$AC59))))","v":352.54665647845383},262.54665647845383,{"$f":"IF((Y59-'Fert selector'!$F$13)<0,(Y59-'Fert selector'!$F$13)*-1,Y59-'Fert selector'!$F$13)","v":262.54665647845383},{"$f":"IF(Y59<('Fert selector'!$F$13+'Fert selector'!$F$13*'Fert selector'!$F$17),0,1)&IF(Y59>('Fert selector'!$F$13-'Fert selector'!$F$13*'Fert selector'!$F$18),0,1)","v":"10"},{"$f":"IF(H59=0,0,'Fert selector'!$G$13/H59)","v":0},{"$f":"IF('Fert selector'!$D$15=\"Y\",$H59*$N59,IF('Fert selector'!$E$15=\"Y\",$H59*$S59,IF('Fert selector'!$F$15=\"Y\",$H59*$X59,IF('Fert selector'!$G$15=\"Y\",$H59*$AC59))))","v":108.69033986140015},108.69033986140015,{"$f":"IF((AD59-'Fert selector'!$G$13)<0,(AD59-'Fert selector'!$G$13)*-1,AD59-'Fert selector'!$G$13)","v":108.69033986140015},{"$f":"IF(AD59<('Fert selector'!$G$13+'Fert selector'!$G$13*'Fert selector'!$G$17),0,1)&IF(AD59>('Fert selector'!$G$13-'Fert selector'!$G$13*'Fert selector'!$G$18),0,1)","v":"10"}]
[null,380.09629514575863,102192,{"$f":"VLOOKUP(C60,'Data sheet'!B46:C110,2,FALSE)","v":"MKY 60"},{"$f":"VLOOKUP(C60,'Data sheet'!$B$1:$AG$65,26,FALSE)","v":0.97711165546891898},{"$f":"VLOOKUP(C60,'Data sheet'!$B$1:$AG$65,27,FALSE)","v":1.0523174551653559E-2},{"$f":"VLOOKUP(C60,'Data sheet'!$B$1:$AG$65,28,FALSE)","v":3.0517206199795317},{"$f":"VLOOKUP(C60,'Data sheet'!$B$1:$AG$65,29,FALSE)","v":0.33693642863938772},null,null,null,null,null,{"$f":"IF(E60=0,0,'Fert selector'!$D$13/E60)","v":153.51367385748205},{"$f":"IF('Fert selector'!$D$15=\"Y\",E60*N60,IF('Fert selector'!$E$15=\"Y\",F60*S60,IF('Fert selector'!$F$15=\"Y\",G60*X60,IF('Fert selector'!$G$15=\"Y\",H60*AC60))))","v":150},0,{"$f":"IF((O60-'Fert selector'!$D$13)<0,(O60-'Fert selector'!$D$13)*-1,O60-'Fert selector'!$D$13)","v":0},{"$f":"IF(O60<('Fert selector'!$D$13+'Fert selector'!$D$13*'Fert selector'!$D$17),0,1)&IF(O60>('Fert selector'!$D$13-'Fert selector'!$D$13*'Fert selector'!$D$18),0,1)","v":"00"},{"$f":"IF(F60=0,0,'Fert selector'!$E$13/F60)","v":0},{"$f":"IF('Fert selector'!$D$15=\"Y\",$F60*$N60,IF('Fert selector'!$E$15=\"Y\",$F60*$S60,IF('Fert selector'!$F$15=\"Y\",$F60*$X60,IF('Fert selector'!$G$15=\"Y\",$F60*$AC60))))","v":1.6154511860678993},1.6154511860678993,{"$f":"IF((T60-'Fert selector'!$E$13)<0,(T60-'Fert selector'!$E$13)*-1,T60-'Fert selector'!$E$13)","v":1.6154511860678993},{"$f":"IF(T60<('Fert selector'!$E$13+'Fert selector'!$E$13*'Fert selector'!$E$17),0,1)&IF(T60>('Fert selector'!$E$13-'Fert selector'!$E$13*'Fert selector'!$E$18),0,1)","v":"10"},{"$f":"IF(G60=0,0,'Fert selector'!$F$13/G60)","v":29.491559420863251},{"$f":"IF('Fert selector'!$D$15=\"Y\",$G60*$N60,IF('Fert selector'!$E$15=\"Y\",$G60*$S60,IF('Fert selector'!$F$15=\"Y\",$G60*$X60,IF('Fert selector'!$G$15=\"Y\",$G60*$AC60))))","v":468.48084395969073},378.48084395969073,{"$f":"IF((Y60-'Fert selector'!$F$13)<0,(Y60-'Fert selector'!$F$13)*-1,Y60-'Fert selector'!$F$13)","v":378.48084395969073},{"$f":"IF(Y60<('Fert selector'!$F$13+'Fert selector'!$F$13*'Fert selector'!$F$17),0,1)&IF(Y60>('Fert selector'!$F$13-'Fert selector'!$F$13*'Fert selector'!$F$18),0,1)","v":"10"},{"$f":"IF(H60=0,0,'Fert selector'!$G$13/H60)","v":0},{"$f":"IF('Fert selector'!$D$15=\"Y\",$H60*$N60,IF('Fert selector'!$E$15=\"Y\",$H60*$S60,IF('Fert selector'!$F$15=\"Y\",$H60*$X60,IF('Fert selector'!$G$15=\"Y\",$H60*$AC60))))","v":51.72434901685174},51.72434901685174,{"$f":"IF((AD60-'Fert selector'!$G$13)<0,(AD60-'Fert selector'!$G$13)*-1,AD60-'Fert selector'!$G$13)","v":51.72434901685174},{"$f":"IF(AD60<('Fert selector'!$G$13+'Fert selector'!$G$13*'Fert selector'!$G$17),0,1)&IF(AD60>('Fert selector'!$G$13-'Fert selector'!$G$13*'Fert selector'!$G$18),0,1)","v":"10"}]
[null,422.81494944163052,88635,{"$f":"VLOOKUP(C61,'Data sheet'!B21:C85,2,FALSE)","v":"LO N PLANTER"},{"$f":"VLOOKUP(C61,'Data sheet'!$B$1:$AG$65,26,FALSE)","v":1.0925487065957284},{"$f":"VLOOKUP(C61,'Data sheet'!$B$1:$AG$65,27,FALSE)","v":0.74792248529438399},{"$f":"VLOOKUP(C61,'Data sheet'!$B$1:$AG$65,28,FALSE)","v":2.9872462462749985},{"$f":"VLOOKUP(C61,'Data sheet'!$B$1:$AG$65,29,FALSE)","v":0.79132350553422159},null,null,null,null,null,{"$f":"IF(E61=0,0,'Fert selector'!$D$13/E61)","v":137.29365024593261},{"$f":"IF('Fert selector'!$D$15=\"Y\",E61*N61,IF('Fert selector'!$E$15=\"Y\",F61*S61,IF('Fert selector'!$F$15=\"Y\",G61*X61,IF('Fert selector'!$G$15=\"Y\",H61*AC61))))","v":150},0,{"$f":"IF((O61-'Fert selector'!$D$13)<0,(O61-'Fert selector'!$D$13)*-1,O61-'Fert selector'!$D$13)","v":0},{"$f":"IF(O61<('Fert selector'!$D$13+'Fert selector'!$D$13*'Fert selector'!$D$17),0,1)&IF(O61>('Fert selector'!$D$13-'Fert selector'!$D$13*'Fert selector'!$D$18),0,1)","v":"00"},{"$f":"IF(F61=0,0,'Fert selector'!$E$13/F61)","v":0},{"$f":"IF('Fert selector'!$D$15=\"Y\",$F61*$N61,IF('Fert selector'!$E$15=\"Y\",$F61*$S61,IF('Fert selector'!$F$15=\"Y\",$F61*$X61,IF('Fert selector'!$G$15=\"Y\",$F61*$AC61))))","v":102.68500810707583},102.68500810707583,{"$f":"IF((T61-'Fert selector'!$E$13)<0,(T61-'Fert selector'!$E$13)*-1,T61-'Fert selector'!$E$13)","v":102.68500810707583},{"$f":"IF(T61<('Fert selector'!$E$13+'Fert selector'!$E$13*'Fert selector'!$E$17),0,1)&IF(T61>('Fert selector'!$E$13-'Fert selector'!$E$13*'Fert selector'!$E$18),0,1)","v":"10"},{"$f":"IF(G61=0,0,'Fert selector'!$F$13/G61)","v":30.128082046207993},{"$f":"IF('Fert selector'!$D$15=\"Y\",$G61*$N61,IF('Fert selector'!$E$15=\"Y\",$G61*$S61,IF('Fert selector'!$F$15=\"Y\",$G61*$X61,IF('Fert selector'!$G$15=\"Y\",$G61*$AC61))))","v":410.1299413345547},320.1299413345547,{"$f":"IF((Y61-'Fert selector'!$F$13)<0,(Y61-'Fert selector'!$F$13)*-1,Y61-'Fert selector'!$F$13)","v":320.1299413345547},{"$f":"IF(Y61<('Fert selector'!$F$13+'Fert selector'!$F$13*'Fert selector'!$F$17),0,1)&IF(Y61>('Fert selector'!$F$13-'Fert selector'!$F$13*'Fert selector'!$F$18),0,1)","v":"10"},{"$f":"IF(H61=0,0,'Fert selector'!$G$13/H61)","v":0},{"$f":"IF('Fert selector'!$D$15=\"Y\",$H61*$N61,IF('Fert selector'!$E$15=\"Y\",$H61*$S61,IF('Fert selector'!$F$15=\"Y\",$H61*$X61,IF('Fert selector'!$G$15=\"Y\",$H61*$AC61))))","v":108.64369260020074},108.64369260020074,{"$f":"IF((AD61-'Fert selector'!$G$13)<0,(AD61-'Fert selector'!$G$13)*-1,AD61-'Fert selector'!$G$13)","v":108.64369260020074},{"$f":"IF(AD61<('Fert selector'!$G$13+'Fert selector'!$G$13*'Fert selector'!$G$17),0,1)&IF(AD61>('Fert selector'!$G$13-'Fert selector'!$G$13*'Fert selector'!$G$18),0,1)","v":"10"}]
[null,468.77224872728158,88122,{"$f":"VLOOKUP(C62,'Data sheet'!B50:C114,2,FALSE)","v":"VILLIS MUNG BEAN MIX"},{"$f":"VLOOKUP(C62,'Data sheet'!$B$1:$AG$65,26,FALSE)","v":0.82422261104922789},{"$f":"VLOOKUP(C62,'Data sheet'!$B$1:$AG$65,27,FALSE)","v":1.0551036009801803E-2},{"$f":"VLOOKUP(C62,'Data sheet'!$B$1:$AG$65,28,FALSE)","v":3.0598004428425227},{"$f":"VLOOKUP(C62,'Data sheet'!$B$1:$AG$65,29,FALSE)","v":0.33170336035818337},null,null,null,null,null,{"$f":"IF(E62=0,0,'Fert selector'!$D$13/E62)","v":181.98966879718498},{"$f":"IF('Fert selector'!$D$15=\"Y\",E62*N62,IF('Fert selector'!$E$15=\"Y\",F62*S62,IF('Fert selector'!$F$15=\"Y\",G62*X62,IF('Fert selector'!$G$15=\"Y\",H62*AC62))))","v":150},0,{"$f":"IF((O62-'Fert selector'!$D$13)<0,(O62-'Fert selector'!$D$13)*-1,O62-'Fert selector'!$D$13)","v":0},{"$f":"IF(O62<('Fert selector'!$D$13+'Fert selector'!$D$13*'Fert selector'!$D$17),0,1)&IF(O62>('Fert selector'!$D$13-'Fert selector'!$D$13*'Fert selector'!$D$18),0,1)","v":"00"},{"$f":"IF(F62=0,0,'Fert selector'!$E$13/F62)","v":0},{"$f":"IF('Fert selector'!$D$15=\"Y\",$F62*$N62,IF('Fert selector'!$E$15=\"Y\",$F62*$S62,IF('Fert selector'!$F$15=\"Y\",$F62*$X62,IF('Fert selector'!$G$15=\"Y\",$F62*$AC62))))","v":1.9201795488910023},1.9201795488910023,{"$f":"IF((T62-'Fert selector'!$E$13)<0,(T62-'Fert selector'!$E$13)*-1,T62-'Fert selector'!$E$13)","v":1.9201795488910023},{"$f":"IF(T62<('Fert selector'!$E$13+'Fert selector'!$E$13*'Fert selector'!$E$17),0,1)&IF(T62>('Fert selector'!$E$13-'Fert selector'!$E$13*'Fert selector'!$E$18),0,1)","v":"10"},{"$f":"IF(G62=0,0,'Fert selector'!$F$13/G62)","v":29.413682912076101},{"$f":"IF('Fert selector'!$D$15=\"Y\",$G62*$N62,IF('Fert selector'!$E$15=\"Y\",$G62*$S62,IF('Fert selector'!$F$15=\"Y\",$G62*$X62,IF('Fert selector'!$G$15=\"Y\",$G62*$AC62))))","v":556.85206917839059},466.85206917839059,{"$f":"IF((Y62-'Fert selector'!$F$13)<0,(Y62-'Fert selector'!$F$13)*-1,Y62-'Fert selector'!$F$13)","v":466.85206917839059},{"$f":"IF(Y62<('Fert selector'!$F$13+'Fert selector'!$F$13*'Fert selector'!$F$17),0,1)&IF(Y62>('Fert selector'!$F$13-'Fert selector'!$F$13*'Fert selector'!$F$18),0,1)","v":"10"},{"$f":"IF(H62=0,0,'Fert selector'!$G$13/H62)","v":0},{"$f":"IF('Fert selector'!$D$15=\"Y\",$H62*$N62,IF('Fert selector'!$E$15=\"Y\",$H62*$S62,IF('Fert selector'!$F$15=\"Y\",$H62*$X62,IF('Fert selector'!$G$15=\"Y\",$H62*$AC62))))","v":60.366584690499089},60.366584690499089,{"$f":"IF((AD62-'Fert selector'!$G$13)<0,(AD62-'Fert selector'!$G$13)*-1,AD62-'Fert selector'!$G$13)","v":60.366584690499089},{"$f":"IF(AD62<('Fert selector'!$G$13+'Fert selector'!$G$13*'Fert selector'!$G$17),0,1)&IF(AD62>('Fert selector'!$G$13-'Fert selector'!$G$13*'Fert selector'!$G$18),0,1)","v":"10"}]
[null,581.02985036108271,89521,{"$f":"VLOOKUP(C63,'Data sheet'!B59:C123,2,FALSE)","v":"SOY STARTER"},{"$f":"VLOOKUP(C63,'Data sheet'!$B$1:$AG$65,26,FALSE)","v":0.76166617479272858},{"$f":"VLOOKUP(C63,'Data sheet'!$B$1:$AG$65,27,FALSE)","v":0.37291553751237128},{"$f":"VLOOKUP(C63,'Data sheet'!$B$1:$AG$65,28,FALSE)","v":3.0344227244627149},{"$f":"VLOOKUP(C63,'Data sheet'!$B$1:$AG$65,29,FALSE)","v":0.55089707331987758},null,null,null,null,null,{"$f":"IF(E63=0,0,'Fert selector'!$D$13/E63)","v":196.93666984859783},{"$f":"IF('Fert selector'!$D$15=\"Y\",E63*N63,IF('Fert selector'!$E$15=\"Y\",F63*S63,IF('Fert selector'!$F$15=\"Y\",G63*X63,IF('Fert selector'!$G$15=\"Y\",H63*AC63))))","v":150},0,{"$f":"IF((O63-'Fert selector'!$D$13)<0,(O63-'Fert selector'!$D$13)*-1,O63-'Fert selector'!$D$13)","v":0},{"$f":"IF(O63<('Fert selector'!$D$13+'Fert selector'!$D$13*'Fert selector'!$D$17),0,1)&IF(O63>('Fert selector'!$D$13-'Fert selector'!$D$13*'Fert selector'!$D$18),0,1)","v":"00"},{"$f":"IF(F63=0,0,'Fert selector'!$E$13/F63)","v":0},{"$f":"IF('Fert selector'!$D$15=\"Y\",$F63*$N63,IF('Fert selector'!$E$15=\"Y\",$F63*$S63,IF('Fert selector'!$F$15=\"Y\",$F63*$X63,IF('Fert selector'!$G$15=\"Y\",$F63*$AC63))))","v":73.440744092486256},73.440744092486256,{"$f":"IF((T63-'Fert selector'!$E$13)<0,(T63-'Fert selector'!$E$13)*-1,T63-'Fert selector'!$E$13)","v":73.440744092486256},{"$f":"IF(T63<('Fert selector'!$E$13+'Fert selector'!$E$13*'Fert selector'!$E$17),0,1)&IF(T63>('Fert selector'!$E$13-'Fert selector'!$E$13*'Fert selector'!$E$18),0,1)","v":"10"},{"$f":"IF(G63=0,0,'Fert selector'!$F$13/G63)","v":29.659677695676269},{"$f":"IF('Fert selector'!$D$15=\"Y\",$G63*$N63,IF('Fert selector'!$E$15=\"Y\",$G63*$S63,IF('Fert selector'!$F$15=\"Y\",$G63*$X63,IF('Fert selector'!$G$15=\"Y\",$G63*$AC63))))","v":597.58910626859642},507.58910626859642,{"$f":"IF((Y63-'Fert selector'!$F$13)<0,(Y63-'Fert selector'!$F$13)*-1,Y63-'Fert selector'!$F$13)","v":507.58910626859642},{"$f":"IF(Y63<('Fert selector'!$F$13+'Fert selector'!$F$13*'Fert selector'!$F$17),0,1)&IF(Y63>('Fert selector'!$F$13-'Fert selector'!$F$13*'Fert selector'!$F$18),0,1)","v":"10"},{"$f":"IF(H63=0,0,'Fert selector'!$G$13/H63)","v":0},{"$f":"IF('Fert selector'!$D$15=\"Y\",$H63*$N63,IF('Fert selector'!$E$15=\"Y\",$H63*$S63,IF('Fert selector'!$F$15=\"Y\",$H63*$X63,IF('Fert selector'!$G$15=\"Y\",$H63*$AC63))))","v":108.49183504895552},108.49183504895552,{"$f":"IF((AD63-'Fert selector'!$G$13)<0,(AD63-'Fert selector'!$G$13)*-1,AD63-'Fert selector'!$G$13)","v":108.49183504895552},{"$f":"IF(AD63<('Fert selector'!$G$13+'Fert selector'!$G$13*'Fert selector'!$G$17),0,1)&IF(AD63>('Fert selector'!$G$13-'Fert selector'!$G$13*'Fert selector'!$G$18),0,1)","v":"10"}]
[null,871.21477616592529,102182,{"$f":"VLOOKUP(C64,'Data sheet'!B22:C86,2,FALSE)","v":"LO P PLANTER"},{"$f":"VLOOKUP(C64,'Data sheet'!$B$1:$AG$65,26,FALSE)","v":0.4896695172936526},{"$f":"VLOOKUP(C64,'Data sheet'!$B$1:$AG$65,27,FALSE)","v":6.4647114335631889E-2},{"$f":"VLOOKUP(C64,'Data sheet'!$B$1:$AG$65,28,FALSE)","v":3.073203388735668},{"$f":"VLOOKUP(C64,'Data sheet'!$B$1:$AG$65,29,FALSE)","v":0.35325839599113723},null,null,null,null,null,{"$f":"IF(E64=0,0,'Fert selector'!$D$13/E64)","v":306.32905398937805},{"$f":"IF('Fert selector'!$D$15=\"Y\",E64*N64,IF('Fert selector'!$E$15=\"Y\",F64*S64,IF('Fert selector'!$F$15=\"Y\",G64*X64,IF('Fert selector'!$G$15=\"Y\",H64*AC64))))","v":150},0,{"$f":"IF((O64-'Fert selector'!$D$13)<0,(O64-'Fert selector'!$D$13)*-1,O64-'Fert selector'!$D$13)","v":0},{"$f":"IF(O64<('Fert selector'!$D$13+'Fert selector'!$D$13*'Fert selector'!$D$17),0,1)&IF(O64>('Fert selector'!$D$13-'Fert selector'!$D$13*'Fert selector'!$D$18),0,1)","v":"00"},{"$f":"IF(F64=0,0,'Fert selector'!$E$13/F64)","v":0},{"$f":"IF('Fert selector'!$D$15=\"Y\",$F64*$N64,IF('Fert selector'!$E$15=\"Y\",$F64*$S64,IF('Fert selector'!$F$15=\"Y\",$F64*$X64,IF('Fert selector'!$G$15=\"Y\",$F64*$AC64))))","v":19.803289377577276},19.803289377577276,{"$f":"IF((T64-'Fert selector'!$E$13)<0,(T64-'Fert selector'!$E$13)*-1,T64-'Fert selector'!$E$13)","v":19.803289377577276},{"$f":"IF(T64<('Fert selector'!$E$13+'Fert selector'!$E$13*'Fert selector'!$E$17),0,1)&IF(T64>('Fert selector'!$E$13-'Fert selector'!$E$13*'Fert selector'!$E$18),0,1)","v":"10"},{"$f":"IF(G64=0,0,'Fert selector'!$F$13/G64)","v":29.285403084573087},{"$f":"IF('Fert selector'!$D$15=\"Y\",$G64*$N64,IF('Fert selector'!$E$15=\"Y\",$G64*$S64,IF('Fert selector'!$F$15=\"Y\",$G64*$X64,IF('Fert selector'!$G$15=\"Y\",$G64*$AC64))))","v":941.41148678834804},851.41148678834804,{"$f":"IF((Y64-'Fert selector'!$F$13)<0,(Y64-'Fert selector'!$F$13)*-1,Y64-'Fert selector'!$F$13)","v":851.41148678834804},{"$f":"IF(Y64<('Fert selector'!$F$13+'Fert selector'!$F$13*'Fert selector'!$F$17),0,1)&IF(Y64>('Fert selector'!$F$13-'Fert selector'!$F$13*'Fert selector'!$F$18),0,1)","v":"10"},{"$f":"IF(H64=0,0,'Fert selector'!$G$13/H64)","v":0},{"$f":"IF('Fert selector'!$D$15=\"Y\",$H64*$N64,IF('Fert selector'!$E$15=\"Y\",$H64*$S64,IF('Fert selector'!$F$15=\"Y\",$H64*$X64,IF('Fert selector'!$G$15=\"Y\",$H64*$AC64))))","v":108.21331025777017},108.21331025777017,{"$f":"IF((AD64-'Fert selector'!$G$13)<0,(AD64-'Fert selector'!$G$13)*-1,AD64-'Fert selector'!$G$13)","v":108.21331025777017},{"$f":"IF(AD64<('Fert selector'!$G$13+'Fert selector'!$G$13*'Fert selector'!$G$17),0,1)&IF(AD64>('Fert selector'!$G$13-'Fert selector'!$G$13*'Fert selector'!$G$18),0,1)","v":"10"}]
[null,958.85317522234368,80788,{"$f":"VLOOKUP(C65,'Data sheet'!B1:C65,2,FALSE)","v":"BIODUNDER"},{"$f":"VLOOKUP(C65,'Data sheet'!$B$1:$AG$65,26,FALSE)","v":0.442},{"$f":"VLOOKUP(C65,'Data sheet'!$B$1:$AG$65,27,FALSE)","v":1.0620689655172415E-2},{"$f":"VLOOKUP(C65,'Data sheet'!$B$1:$AG$65,28,FALSE)","v":3.08},{"$f":"VLOOKUP(C65,'Data sheet'!$B$1:$AG$65,29,FALSE)","v":0.31862068965517243},null,null,null,null,null,{"$f":"IF(E65=0,0,'Fert selector'!$D$13/E65)","v":339.36651583710409},{"$f":"IF('Fert selector'!$D$15=\"Y\",E65*N65,IF('Fert selector'!$E$15=\"Y\",F65*S65,IF('Fert selector'!$F$15=\"Y\",G65*X65,IF('Fert selector'!$G$15=\"Y\",H65*AC65))))","v":150},{"$f":"IF(R65=\"00\",0,Q65)","v":0},{"$f":"IF((O65-'Fert selector'!$D$13)<0,(O65-'Fert selector'!$D$13)*-1,O65-'Fert selector'!$D$13)","v":0},{"$f":"IF(O65<('Fert selector'!$D$13+'Fert selector'!$D$13*'Fert selector'!$D$17),0,1)&IF(O65>('Fert selector'!$D$13-'Fert selector'!$D$13*'Fert selector'!$D$18),0,1)","v":"00"},{"$f":"IF(F65=0,0,'Fert selector'!$E$13/F65)","v":0},{"$f":"IF('Fert selector'!$D$15=\"Y\",$F65*$N65,IF('Fert selector'!$E$15=\"Y\",$F65*$S65,IF('Fert selector'!$F$15=\"Y\",$F65*$X65,IF('Fert selector'!$G$15=\"Y\",$F65*$AC65))))","v":3.6043064440630372},{"$f":"IF(W65=\"00\",0,V65)","v":3.6043064440630372},{"$f":"IF((T65-'Fert selector'!$E$13)<0,(T65-'Fert selector'!$E$13)*-1,T65-'Fert selector'!$E$13)","v":3.6043064440630372},{"$f":"IF(T65<('Fert selector'!$E$13+'Fert selector'!$E$13*'Fert selector'!$E$17),0,1)&IF(T65>('Fert selector'!$E$13-'Fert selector'!$E$13*'Fert selector'!$E$18),0,1)","v":"10"},{"$f":"IF(G65=0,0,'Fert selector'!$F$13/G65)","v":29.220779220779221},{"$f":"IF('Fert selector'!$D$15=\"Y\",$G65*$N65,IF('Fert selector'!$E$15=\"Y\",$G65*$S65,IF('Fert selector'!$F$15=\"Y\",$G65*$X65,IF('Fert selector'!$G$15=\"Y\",$G65*$AC65))))","v":1045.2488687782807},{"$f":"IF(AB65=\"00\",0,AA65)","v":955.24886877828067},{"$f":"IF((Y65-'Fert selector'!$F$13)<0,(Y65-'Fert selector'!$F$13)*-1,Y65-'Fert selector'!$F$13)","v":955.24886877828067},{"$f":"IF(Y65<('Fert selector'!$F$13+'Fert selector'!$F$13*'Fert selector'!$F$17),0,1)&IF(Y65>('Fert selector'!$F$13-'Fert selector'!$F$13*'Fert selector'!$F$18),0,1)","v":"10"},{"$f":"IF(H65=0,0,'Fert selector'!$G$13/H65)","v":0},{"$f":"IF('Fert selector'!$D$15=\"Y\",$H65*$N65,IF('Fert selector'!$E$15=\"Y\",$H65*$S65,IF('Fert selector'!$F$15=\"Y\",$H65*$X65,IF('Fert selector'!$G$15=\"Y\",$H65*$AC65))))","v":108.12919332189109},{"$f":"IF(AG65=\"00\",0,AF65)","v":108.12919332189109},{"$f":"IF((AD65-'Fert selector'!$G$13)<0,(AD65-'Fert selector'!$G$13)*-1,AD65-'Fert selector'!$G$13)","v":108.12919332189109},{"$f":"IF(AD65<('Fert selector'!$G$13+'Fert selector'!$G$13*'Fert selector'!$G$17),0,1)&IF(AD65>('Fert selector'!$G$13-'Fert selector'!$G$13*'Fert selector'!$G$18),0,1)","v":"10"}]
[null,958.85317522234368,80795,{"$f":"VLOOKUP(C66,'Data sheet'!B64:C128,2,FALSE)","v":"SUPLAFLO 10NP"},{"$f":"VLOOKUP(C66,'Data sheet'!$B$1:$AG$65,26,FALSE)","v":0.442},{"$f":"VLOOKUP(C66,'Data sheet'!$B$1:$AG$65,27,FALSE)","v":1.0620689655172415E-2},{"$f":"VLOOKUP(C66,'Data sheet'!$B$1:$AG$65,28,FALSE)","v":3.08},{"$f":"VLOOKUP(C66,'Data sheet'!$B$1:$AG$65,29,FALSE)","v":0.31862068965517243},null,null,null,null,null,{"$f":"IF(E66=0,0,'Fert selector'!$D$13/E66)","v":339.36651583710409},{"$f":"IF('Fert selector'!$D$15=\"Y\",E66*N66,IF('Fert selector'!$E$15=\"Y\",F66*S66,IF('Fert selector'!$F$15=\"Y\",G66*X66,IF('Fert selector'!$G$15=\"Y\",H66*AC66))))","v":150},0,{"$f":"IF((O66-'Fert selector'!$D$13)<0,(O66-'Fert selector'!$D$13)*-1,O66-'Fert selector'!$D$13)","v":0},{"$f":"IF(O66<('Fert selector'!$D$13+'Fert selector'!$D$13*'Fert selector'!$D$17),0,1)&IF(O66>('Fert selector'!$D$13-'Fert selector'!$D$13*'Fert selector'!$D$18),0,1)","v":"00"},{"$f":"IF(F66=0,0,'Fert selector'!$E$13/F66)","v":0},{"$f":"IF('Fert selector'!$D$15=\"Y\",$F66*$N66,IF('Fert selector'!$E$15=\"Y\",$F66*$S66,IF('Fert selector'!$F$15=\"Y\",$F66*$X66,IF('Fert selector'!$G$15=\"Y\",$F66*$AC66))))","v":3.6043064440630372},3.6043064440630372,{"$f":"IF((T66-'Fert selector'!$E$13)<0,(T66-'Fert selector'!$E$13)*-1,T66-'Fert selector'!$E$13)","v":3.6043064440630372},{"$f":"IF(T66<('Fert selector'!$E$13+'Fert selector'!$E$13*'Fert selector'!$E$17),0,1)&IF(T66>('Fert selector'!$E$13-'Fert selector'!$E$13*'Fert selector'!$E$18),0,1)","v":"10"},{"$f":"IF(G66=0,0,'Fert selector'!$F$13/G66)","v":29.220779220779221},{"$f":"IF('Fert selector'!$D$15=\"Y\",$G66*$N66,IF('Fert selector'!$E$15=\"Y\",$G66*$S66,IF('Fert selector'!$F$15=\"Y\",$G66*$X66,IF('Fert selector'!$G$15=\"Y\",$G66*$AC66))))","v":1045.2488687782807},955.24886877828067,{"$f":"IF((Y66-'Fert selector'!$F$13)<0,(Y66-'Fert selector'!$F$13)*-1,Y66-'Fert selector'!$F$13)","v":955.24886877828067},{"$f":"IF(Y66<('Fert selector'!$F$13+'Fert selector'!$F$13*'Fert selector'!$F$17),0,1)&IF(Y66>('Fert selector'!$F$13-'Fert selector'!$F$13*'Fert selector'!$F$18),0,1)","v":"10"},{"$f":"IF(H66=0,0,'Fert selector'!$G$13/H66)","v":0},{"$f":"IF('Fert selector'!$D$15=\"Y\",$H66*$N66,IF('Fert selector'!$E$15=\"Y\",$H66*$S66,IF('Fert selector'!$F$15=\"Y\",$H66*$X66,IF('Fert selector'!$G$15=\"Y\",$H66*$AC66))))","v":108.12919332189109},108.12919332189109,{"$f":"IF((AD66-'Fert selector'!$G$13)<0,(AD66-'Fert selector'!$G$13)*-1,AD66-'Fert selector'!$G$13)","v":108.12919332189109},{"$f":"IF(AD66<('Fert selector'!$G$13+'Fert selector'!$G$13*'Fert selector'!$G$17),0,1)&IF(AD66>('Fert selector'!$G$13-'Fert selector'!$G$13*'Fert selector'!$G$18),0,1)","v":"10"}]
[null,null,null,null,null,null,null,null,null,null,null,null,null,{"$f":"IF(E67=0,0,'Fert selector'!$D$13/E67)","v":0},{"$f":"IF('Fert selector'!$D$15=\"Y\",E67*N67,IF('Fert selector'!$E$15=\"Y\",F67*S67,IF('Fert selector'!$F$15=\"Y\",G67*X67,IF('Fert selector'!$G$15=\"Y\",H67*AC67))))","v":0},150,{"$f":"IF((O67-'Fert selector'!$D$13)<0,(O67-'Fert selector'!$D$13)*-1,O67-'Fert selector'!$D$13)","v":150},{"$f":"IF(O67<('Fert selector'!$D$13+'Fert selector'!$D$13*'Fert selector'!$D$17),0,1)&IF(O67>('Fert selector'!$D$13-'Fert selector'!$D$13*'Fert selector'!$D$18),0,1)","v":"01"},{"$f":"IF(F67=0,0,'Fert selector'!$E$13/F67)","v":0},{"$f":"IF('Fert selector'!$D$15=\"Y\",$F67*$N67,IF('Fert selector'!$E$15=\"Y\",$F67*$S67,IF('Fert selector'!$F$15=\"Y\",$F67*$X67,IF('Fert selector'!$G$15=\"Y\",$F67*$AC67))))","v":0},0,{"$f":"IF((T67-'Fert selector'!$E$13)<0,(T67-'Fert selector'!$E$13)*-1,T67-'Fert selector'!$E$13)","v":0},{"$f":"IF(T67<('Fert selector'!$E$13+'Fert selector'!$E$13*'Fert selector'!$E$17),0,1)&IF(T67>('Fert selector'!$E$13-'Fert selector'!$E$13*'Fert selector'!$E$18),0,1)","v":"11"},{"$f":"IF(G67=0,0,'Fert selector'!$F$13/G67)","v":0},{"$f":"IF('Fert selector'!$D$15=\"Y\",$G67*$N67,IF('Fert selector'!$E$15=\"Y\",$G67*$S67,IF('Fert selector'!$F$15=\"Y\",$G67*$X67,IF('Fert selector'!$G$15=\"Y\",$G67*$AC67))))","v":0},90,{"$f":"IF((Y67-'Fert selector'!$F$13)<0,(Y67-'Fert selector'!$F$13)*-1,Y67-'Fert selector'!$F$13)","v":90},{"$f":"IF(Y67<('Fert selector'!$F$13+'Fert selector'!$F$13*'Fert selector'!$F$17),0,1)&IF(Y67>('Fert selector'!$F$13-'Fert selector'!$F$13*'Fert selector'!$F$18),0,1)","v":"01"},{"$f":"IF(H67=0,0,'Fert selector'!$G$13/H67)","v":0},{"$f":"IF('Fert selector'!$D$15=\"Y\",$H67*$N67,IF('Fert selector'!$E$15=\"Y\",$H67*$S67,IF('Fert selector'!$F$15=\"Y\",$H67*$X67,IF('Fert selector'!$G$15=\"Y\",$H67*$AC67))))","v":0},0,{"$f":"IF((AD67-'Fert selector'!$G$13)<0,(AD67-'Fert selector'!$G$13)*-1,AD67-'Fert selector'!$G$13)","v":0},{"$f":"IF(AD67<('Fert selector'!$G$13+'Fert selector'!$G$13*'Fert selector'!$G$17),0,1)&IF(AD67>('Fert selector'!$G$13-'Fert selector'!$G$13*'Fert selector'!$G$18),0,1)","v":"11"}]
[null,null,null,null,null,null,null,null,null,null,null,null,null,{"$f":"IF(E68=0,0,'Fert selector'!$D$13/E68)","v":0},{"$f":"IF('Fert selector'!$D$15=\"Y\",E68*N68,IF('Fert selector'!$E$15=\"Y\",F68*S68,IF('Fert selector'!$F$15=\"Y\",G68*X68,IF('Fert selector'!$G$15=\"Y\",H68*AC68))))","v":0},150,{"$f":"IF((O68-'Fert selector'!$D$13)<0,(O68-'Fert selector'!$D$13)*-1,O68-'Fert selector'!$D$13)","v":150},{"$f":"IF(O68<('Fert selector'!$D$13+'Fert selector'!$D$13*'Fert selector'!$D$17),0,1)&IF(O68>('Fert selector'!$D$13-'Fert selector'!$D$13*'Fert selector'!$D$18),0,1)","v":"01"},{"$f":"IF(F68=0,0,'Fert selector'!$E$13/F68)","v":0},{"$f":"IF('Fert selector'!$D$15=\"Y\",$F68*$N68,IF('Fert selector'!$E$15=\"Y\",$F68*$S68,IF('Fert selector'!$F$15=\"Y\",$F68*$X68,IF('Fert selector'!$G$15=\"Y\",$F68*$AC68))))","v":0},0,{"$f":"IF((T68-'Fert selector'!$E$13)<0,(T68-'Fert selector'!$E$13)*-1,T68-'Fert selector'!$E$13)","v":0},{"$f":"IF(T68<('Fert selector'!$E$13+'Fert selector'!$E$13*'Fert selector'!$E$17),0,1)&IF(T68>('Fert selector'!$E$13-'Fert selector'!$E$13*'Fert selector'!$E$18),0,1)","v":"11"},{"$f":"IF(G68=0,0,'Fert selector'!$F$13/G68)","v":0},{"$f":"IF('Fert selector'!$D$15=\"Y\",$G68*$N68,IF('Fert selector'!$E$15=\"Y\",$G68*$S68,IF('Fert selector'!$F$15=\"Y\",$G68*$X68,IF('Fert selector'!$G$15=\"Y\",$G68*$AC68))))","v":0},90,{"$f":"IF((Y68-'Fert selector'!$F$13)<0,(Y68-'Fert selector'!$F$13)*-1,Y68-'Fert selector'!$F$13)","v":90},{"$f":"IF(Y68<('Fert selector'!$F$13+'Fert selector'!$F$13*'Fert selector'!$F$17),0,1)&IF(Y68>('Fert selector'!$F$13-'Fert selector'!$F$13*'Fert selector'!$F$18),0,1)","v":"01"},{"$f":"IF(H68=0,0,'Fert selector'!$G$13/H68)","v":0},{"$f":"IF('Fert selector'!$D$15=\"Y\",$H68*$N68,IF('Fert selector'!$E$15=\"Y\",$H68*$S68,IF('Fert selector'!$F$15=\"Y\",$H68*$X68,IF('Fert selector'!$G$15=\"Y\",$H68*$AC68))))","v":0},0,{"$f":"IF((AD68-'Fert selector'!$G$13)<0,(AD68-'Fert selector'!$G$13)*-1,AD68-'Fert selector'!$G$13)","v":0},{"$f":"IF(AD68<('Fert selector'!$G$13+'Fert selector'!$G$13*'Fert selector'!$G$17),0,1)&IF(AD68>('Fert selector'!$G$13-'Fert selector'!$G$13*'Fert selector'!$G$18),0,1)","v":"11"}]
[null,null,null,null,null,null,null,null,null,null,null,null,null,{"$f":"IF(E69=0,0,'Fert selector'!$D$13/E69)","v":0},{"$f":"IF('Fert selector'!$D$15=\"Y\",E69*N69,IF('Fert selector'!$E$15=\"Y\",F69*S69,IF('Fert selector'!$F$15=\"Y\",G69*X69,IF('Fert selector'!$G$15=\"Y\",H69*AC69))))","v":0},150,{"$f":"IF((O69-'Fert selector'!$D$13)<0,(O69-'Fert selector'!$D$13)*-1,O69-'Fert selector'!$D$13)","v":150},{"$f":"IF(O69<('Fert selector'!$D$13+'Fert selector'!$D$13*'Fert selector'!$D$17),0,1)&IF(O69>('Fert selector'!$D$13-'Fert selector'!$D$13*'Fert selector'!$D$18),0,1)","v":"01"},{"$f":"IF(F69=0,0,'Fert selector'!$E$13/F69)","v":0},{"$f":"IF('Fert selector'!$D$15=\"Y\",$F69*$N69,IF('Fert selector'!$E$15=\"Y\",$F69*$S69,IF('Fert selector'!$F$15=\"Y\",$F69*$X69,IF('Fert selector'!$G$15=\"Y\",$F69*$AC69))))","v":0},0,{"$f":"IF((T69-'Fert selector'!$E$13)<0,(T69-'Fert selector'!$E$13)*-1,T69-'Fert selector'!$E$13)","v":0},{"$f":"IF(T69<('Fert selector'!$E$13+'Fert selector'!$E$13*'Fert selector'!$E$17),0,1)&IF(T69>('Fert selector'!$E$13-'Fert selector'!$E$13*'Fert selector'!$E$18),0,1)","v":"11"},{"$f":"IF(G69=0,0,'Fert selector'!$F$13/G69)","v":0},{"$f":"IF('Fert selector'!$D$15=\"Y\",$G69*$N69,IF('Fert selector'!$E$15=\"Y\",$G69*$S69,IF('Fert selector'!$F$15=\"Y\",$G69*$X69,IF('Fert selector'!$G$15=\"Y\",$G69*$AC69))))","v":0},90,{"$f":"IF((Y69-'Fert selector'!$F$13)<0,(Y69-'Fert selector'!$F$13)*-1,Y69-'Fert selector'!$F$13)","v":90},{"$f":"IF(Y69<('Fert selector'!$F$13+'Fert selector'!$F$13*'Fert selector'!$F$17),0,1)&IF(Y69>('Fert selector'!$F$13-'Fert selector'!$F$13*'Fert selector'!$F$18),0,1)","v":"01"},{"$f":"IF(H69=0,0,'Fert selector'!$G$13/H69)","v":0},{"$f":"IF('Fert selector'!$D$15=\"Y\",$H69*$N69,IF('Fert selector'!$E$15=\"Y\",$H69*$S69,IF('Fert selector'!$F$15=\"Y\",$H69*$X69,IF('Fert selector'!$G$15=\"Y\",$H69*$AC69))))","v":0},0,{"$f":"IF((AD69-'Fert selector'!$G$13)<0,(AD69-'Fert selector'!$G$13)*-1,AD69-'Fert selector'!$G$13)","v":0},{"$f":"IF(AD69<('Fert selector'!$G$13+'Fert selector'!$G$13*'Fert selector'!$G$17),0,1)&IF(AD69>('Fert selector'!$G$13-'Fert selector'!$G$13*'Fert selector'!$G$18),0,1)","v":"11"}]
[null,null,null,null,null,null,null,null,null,null,null,null,null,{"$f":"IF(E70=0,0,'Fert selector'!$D$13/E70)","v":0},{"$f":"IF('Fert selector'!$D$15=\"Y\",E70*N70,IF('Fert selector'!$E$15=\"Y\",F70*S70,IF('Fert selector'!$F$15=\"Y\",G70*X70,IF('Fert selector'!$G$15=\"Y\",H70*AC70))))","v":0},150,{"$f":"IF((O70-'Fert selector'!$D$13)<0,(O70-'Fert selector'!$D$13)*-1,O70-'Fert selector'!$D$13)","v":150},{"$f":"IF(O70<('Fert selector'!$D$13+'Fert selector'!$D$13*'Fert selector'!$D$17),0,1)&IF(O70>('Fert selector'!$D$13-'Fert selector'!$D$13*'Fert selector'!$D$18),0,1)","v":"01"},{"$f":"IF(F70=0,0,'Fert selector'!$E$13/F70)","v":0},{"$f":"IF('Fert selector'!$D$15=\"Y\",$F70*$N70,IF('Fert selector'!$E$15=\"Y\",$F70*$S70,IF('Fert selector'!$F$15=\"Y\",$F70*$X70,IF('Fert selector'!$G$15=\"Y\",$F70*$AC70))))","v":0},0,{"$f":"IF((T70-'Fert selector'!$E$13)<0,(T70-'Fert selector'!$E$13)*-1,T70-'Fert selector'!$E$13)","v":0},{"$f":"IF(T70<('Fert selector'!$E$13+'Fert selector'!$E$13*'Fert selector'!$E$17),0,1)&IF(T70>('Fert selector'!$E$13-'Fert selector'!$E$13*'Fert selector'!$E$18),0,1)","v":"11"},{"$f":"IF(G70=0,0,'Fert selector'!$F$13/G70)","v":0},{"$f":"IF('Fert selector'!$D$15=\"Y\",$G70*$N70,IF('Fert selector'!$E$15=\"Y\",$G70*$S70,IF('Fert selector'!$F$15=\"Y\",$G70*$X70,IF('Fert selector'!$G$15=\"Y\",$G70*$AC70))))","v":0},90,{"$f":"IF((Y70-'Fert selector'!$F$13)<0,(Y70-'Fert selector'!$F$13)*-1,Y70-'Fert selector'!$F$13)","v":90},{"$f":"IF(Y70<('Fert selector'!$F$13+'Fert selector'!$F$13*'Fert selector'!$F$17),0,1)&IF(Y70>('Fert selector'!$F$13-'Fert selector'!$F$13*'Fert selector'!$F$18),0,1)","v":"01"},{"$f":"IF(H70=0,0,'Fert selector'!$G$13/H70)","v":0},{"$f":"IF('Fert selector'!$D$15=\"Y\",$H70*$N70,IF('Fert selector'!$E$15=\"Y\",$H70*$S70,IF('Fert selector'!$F$15=\"Y\",$H70*$X70,IF('Fert selector'!$G$15=\"Y\",$H70*$AC70))))","v":0},0,{"$f":"IF((AD70-'Fert selector'!$G$13)<0,(AD70-'Fert selector'!$G$13)*-1,AD70-'Fert selector'!$G$13)","v":0},{"$f":"IF(AD70<('Fert selector'!$G$13+'Fert selector'!$G$13*'Fert selector'!$G$17),0,1)&IF(AD70>('Fert selector'!$G$13-'Fert selector'!$G$13*'Fert selector'!$G$18),0,1)","v":"11"}]
[null,null,null,null,null,null,null,null,null,null,null,null,null,{"$f":"IF(E71=0,0,'Fert selector'!$D$13/E71)","v":0},{"$f":"IF('Fert selector'!$D$15=\"Y\",E71*N71,IF('Fert selector'!$E$15=\"Y\",F71*S71,IF('Fert selector'!$F$15=\"Y\",G71*X71,IF('Fert selector'!$G$15=\"Y\",H71*AC71))))","v":0},150,{"$f":"IF((O71-'Fert selector'!$D$13)<0,(O71-'Fert selector'!$D$13)*-1,O71-'Fert selector'!$D$13)","v":150},{"$f":"IF(O71<('Fert selector'!$D$13+'Fert selector'!$D$13*'Fert selector'!$D$17),0,1)&IF(O71>('Fert selector'!$D$13-'Fert selector'!$D$13*'Fert selector'!$D$18),0,1)","v":"01"},{"$f":"IF(F71=0,0,'Fert selector'!$E$13/F71)","v":0},{"$f":"IF('Fert selector'!$D$15=\"Y\",$F71*$N71,IF('Fert selector'!$E$15=\"Y\",$F71*$S71,IF('Fert selector'!$F$15=\"Y\",$F71*$X71,IF('Fert selector'!$G$15=\"Y\",$F71*$AC71))))","v":0},0,{"$f":"IF((T71-'Fert selector'!$E$13)<0,(T71-'Fert selector'!$E$13)*-1,T71-'Fert selector'!$E$13)","v":0},{"$f":"IF(T71<('Fert selector'!$E$13+'Fert selector'!$E$13*'Fert selector'!$E$17),0,1)&IF(T71>('Fert selector'!$E$13-'Fert selector'!$E$13*'Fert selector'!$E$18),0,1)","v":"11"},{"$f":"IF(G71=0,0,'Fert selector'!$F$13/G71)","v":0},{"$f":"IF('Fert selector'!$D$15=\"Y\",$G71*$N71,IF('Fert selector'!$E$15=\"Y\",$G71*$S71,IF('Fert selector'!$F$15=\"Y\",$G71*$X71,IF('Fert selector'!$G$15=\"Y\",$G71*$AC71))))","v":0},90,{"$f":"IF((Y71-'Fert selector'!$F$13)<0,(Y71-'Fert selector'!$F$13)*-1,Y71-'Fert selector'!$F$13)","v":90},{"$f":"IF(Y71<('Fert selector'!$F$13+'Fert selector'!$F$13*'Fert selector'!$F$17),0,1)&IF(Y71>('Fert selector'!$F$13-'Fert selector'!$F$13*'Fert selector'!$F$18),0,1)","v":"01"},{"$f":"IF(H71=0,0,'Fert selector'!$G$13/H71)","v":0},{"$f":"IF('Fert selector'!$D$15=\"Y\",$H71*$N71,IF('Fert selector'!$E$15=\"Y\",$H71*$S71,IF('Fert selector'!$F$15=\"Y\",$H71*$X71,IF('Fert selector'!$G$15=\"Y\",$H71*$AC71))))","v":0},0,{"$f":"IF((AD71-'Fert selector'!$G$13)<0,(AD71-'Fert selector'!$G$13)*-1,AD71-'Fert selector'!$G$13)","v":0},{"$f":"IF(AD71<('Fert selector'!$G$13+'Fert selector'!$G$13*'Fert selector'!$G$17),0,1)&IF(AD71>('Fert selector'!$G$13-'Fert selector'!$G$13*'Fert selector'!$G$18),0,1)","v":"11"}]
[null,null,null,null,null,null,null,null,null,null,null,null,null,{"$f":"IF(E72=0,0,'Fert selector'!$D$13/E72)","v":0},{"$f":"IF('Fert selector'!$D$15=\"Y\",E72*N72,IF('Fert selector'!$E$15=\"Y\",F72*S72,IF('Fert selector'!$F$15=\"Y\",G72*X72,IF('Fert selector'!$G$15=\"Y\",H72*AC72))))","v":0},150,{"$f":"IF((O72-'Fert selector'!$D$13)<0,(O72-'Fert selector'!$D$13)*-1,O72-'Fert selector'!$D$13)","v":150},{"$f":"IF(O72<('Fert selector'!$D$13+'Fert selector'!$D$13*'Fert selector'!$D$17),0,1)&IF(O72>('Fert selector'!$D$13-'Fert selector'!$D$13*'Fert selector'!$D$18),0,1)","v":"01"},{"$f":"IF(F72=0,0,'Fert selector'!$E$13/F72)","v":0},{"$f":"IF('Fert selector'!$D$15=\"Y\",$F72*$N72,IF('Fert selector'!$E$15=\"Y\",$F72*$S72,IF('Fert selector'!$F$15=\"Y\",$F72*$X72,IF('Fert selector'!$G$15=\"Y\",$F72*$AC72))))","v":0},0,{"$f":"IF((T72-'Fert selector'!$E$13)<0,(T72-'Fert selector'!$E$13)*-1,T72-'Fert selector'!$E$13)","v":0},{"$f":"IF(T72<('Fert selector'!$E$13+'Fert selector'!$E$13*'Fert selector'!$E$17),0,1)&IF(T72>('Fert selector'!$E$13-'Fert selector'!$E$13*'Fert selector'!$E$18),0,1)","v":"11"},{"$f":"IF(G72=0,0,'Fert selector'!$F$13/G72)","v":0},{"$f":"IF('Fert selector'!$D$15=\"Y\",$G72*$N72,IF('Fert selector'!$E$15=\"Y\",$G72*$S72,IF('Fert selector'!$F$15=\"Y\",$G72*$X72,IF('Fert selector'!$G$15=\"Y\",$G72*$AC72))))","v":0},90,{"$f":"IF((Y72-'Fert selector'!$F$13)<0,(Y72-'Fert selector'!$F$13)*-1,Y72-'Fert selector'!$F$13)","v":90},{"$f":"IF(Y72<('Fert selector'!$F$13+'Fert selector'!$F$13*'Fert selector'!$F$17),0,1)&IF(Y72>('Fert selector'!$F$13-'Fert selector'!$F$13*'Fert selector'!$F$18),0,1)","v":"01"},{"$f":"IF(H72=0,0,'Fert selector'!$G$13/H72)","v":0},{"$f":"IF('Fert selector'!$D$15=\"Y\",$H72*$N72,IF('Fert selector'!$E$15=\"Y\",$H72*$S72,IF('Fert selector'!$F$15=\"Y\",$H72*$X72,IF('Fert selector'!$G$15=\"Y\",$H72*$AC72))))","v":0},0,{"$f":"IF((AD72-'Fert selector'!$G$13)<0,(AD72-'Fert selector'!$G$13)*-1,AD72-'Fert selector'!$G$13)","v":0},{"$f":"IF(AD72<('Fert selector'!$G$13+'Fert selector'!$G$13*'Fert selector'!$G$17),0,1)&IF(AD72>('Fert selector'!$G$13-'Fert selector'!$G$13*'Fert selector'!$G$18),0,1)","v":"11"}]
[null,null,null,null,null,null,null,null,null,null,null,null,null,{"$f":"IF(E73=0,0,'Fert selector'!$D$13/E73)","v":0},{"$f":"IF('Fert selector'!$D$15=\"Y\",E73*N73,IF('Fert selector'!$E$15=\"Y\",F73*S73,IF('Fert selector'!$F$15=\"Y\",G73*X73,IF('Fert selector'!$G$15=\"Y\",H73*AC73))))","v":0},150,{"$f":"IF((O73-'Fert selector'!$D$13)<0,(O73-'Fert selector'!$D$13)*-1,O73-'Fert selector'!$D$13)","v":150},{"$f":"IF(O73<('Fert selector'!$D$13+'Fert selector'!$D$13*'Fert selector'!$D$17),0,1)&IF(O73>('Fert selector'!$D$13-'Fert selector'!$D$13*'Fert selector'!$D$18),0,1)","v":"01"},{"$f":"IF(F73=0,0,'Fert selector'!$E$13/F73)","v":0},{"$f":"IF('Fert selector'!$D$15=\"Y\",$F73*$N73,IF('Fert selector'!$E$15=\"Y\",$F73*$S73,IF('Fert selector'!$F$15=\"Y\",$F73*$X73,IF('Fert selector'!$G$15=\"Y\",$F73*$AC73))))","v":0},0,{"$f":"IF((T73-'Fert selector'!$E$13)<0,(T73-'Fert selector'!$E$13)*-1,T73-'Fert selector'!$E$13)","v":0},{"$f":"IF(T73<('Fert selector'!$E$13+'Fert selector'!$E$13*'Fert selector'!$E$17),0,1)&IF(T73>('Fert selector'!$E$13-'Fert selector'!$E$13*'Fert selector'!$E$18),0,1)","v":"11"},{"$f":"IF(G73=0,0,'Fert selector'!$F$13/G73)","v":0},{"$f":"IF('Fert selector'!$D$15=\"Y\",$G73*$N73,IF('Fert selector'!$E$15=\"Y\",$G73*$S73,IF('Fert selector'!$F$15=\"Y\",$G73*$X73,IF('Fert selector'!$G$15=\"Y\",$G73*$AC73))))","v":0},90,{"$f":"IF((Y73-'Fert selector'!$F$13)<0,(Y73-'Fert selector'!$F$13)*-1,Y73-'Fert selector'!$F$13)","v":90},{"$f":"IF(Y73<('Fert selector'!$F$13+'Fert selector'!$F$13*'Fert selector'!$F$17),0,1)&IF(Y73>('Fert selector'!$F$13-'Fert selector'!$F$13*'Fert selector'!$F$18),0,1)","v":"01"},{"$f":"IF(H73=0,0,'Fert selector'!$G$13/H73)","v":0},{"$f":"IF('Fert selector'!$D$15=\"Y\",$H73*$N73,IF('Fert selector'!$E$15=\"Y\",$H73*$S73,IF('Fert selector'!$F$15=\"Y\",$H73*$X73,IF('Fert selector'!$G$15=\"Y\",$H73*$AC73))))","v":0},0,{"$f":"IF((AD73-'Fert selector'!$G$13)<0,(AD73-'Fert selector'!$G$13)*-1,AD73-'Fert selector'!$G$13)","v":0},{"$f":"IF(AD73<('Fert selector'!$G$13+'Fert selector'!$G$13*'Fert selector'!$G$17),0,1)&IF(AD73>('Fert selector'!$G$13-'Fert selector'!$G$13*'Fert selector'!$G$18),0,1)","v":"11"}]
[null,null,null,null,null,null,null,null,null,null,null,null,null,{"$f":"IF(E74=0,0,'Fert selector'!$D$13/E74)","v":0},{"$f":"IF('Fert selector'!$D$15=\"Y\",E74*N74,IF('Fert selector'!$E$15=\"Y\",F74*S74,IF('Fert selector'!$F$15=\"Y\",G74*X74,IF('Fert selector'!$G$15=\"Y\",H74*AC74))))","v":0},150,{"$f":"IF((O74-'Fert selector'!$D$13)<0,(O74-'Fert selector'!$D$13)*-1,O74-'Fert selector'!$D$13)","v":150},{"$f":"IF(O74<('Fert selector'!$D$13+'Fert selector'!$D$13*'Fert selector'!$D$17),0,1)&IF(O74>('Fert selector'!$D$13-'Fert selector'!$D$13*'Fert selector'!$D$18),0,1)","v":"01"},{"$f":"IF(F74=0,0,'Fert selector'!$E$13/F74)","v":0},{"$f":"IF('Fert selector'!$D$15=\"Y\",$F74*$N74,IF('Fert selector'!$E$15=\"Y\",$F74*$S74,IF('Fert selector'!$F$15=\"Y\",$F74*$X74,IF('Fert selector'!$G$15=\"Y\",$F74*$AC74))))","v":0},0,{"$f":"IF((T74-'Fert selector'!$E$13)<0,(T74-'Fert selector'!$E$13)*-1,T74-'Fert selector'!$E$13)","v":0},{"$f":"IF(T74<('Fert selector'!$E$13+'Fert selector'!$E$13*'Fert selector'!$E$17),0,1)&IF(T74>('Fert selector'!$E$13-'Fert selector'!$E$13*'Fert selector'!$E$18),0,1)","v":"11"},{"$f":"IF(G74=0,0,'Fert selector'!$F$13/G74)","v":0},{"$f":"IF('Fert selector'!$D$15=\"Y\",$G74*$N74,IF('Fert selector'!$E$15=\"Y\",$G74*$S74,IF('Fert selector'!$F$15=\"Y\",$G74*$X74,IF('Fert selector'!$G$15=\"Y\",$G74*$AC74))))","v":0},90,{"$f":"IF((Y74-'Fert selector'!$F$13)<0,(Y74-'Fert selector'!$F$13)*-1,Y74-'Fert selector'!$F$13)","v":90},{"$f":"IF(Y74<('Fert selector'!$F$13+'Fert selector'!$F$13*'Fert selector'!$F$17),0,1)&IF(Y74>('Fert selector'!$F$13-'Fert selector'!$F$13*'Fert selector'!$F$18),0,1)","v":"01"},{"$f":"IF(H74=0,0,'Fert selector'!$G$13/H74)","v":0},{"$f":"IF('Fert selector'!$D$15=\"Y\",$H74*$N74,IF('Fert selector'!$E$15=\"Y\",$H74*$S74,IF('Fert selector'!$F$15=\"Y\",$H74*$X74,IF('Fert selector'!$G$15=\"Y\",$H74*$AC74))))","v":0},0,{"$f":"IF((AD74-'Fert selector'!$G$13)<0,(AD74-'Fert selector'!$G$13)*-1,AD74-'Fert selector'!$G$13)","v":0},{"$f":"IF(AD74<('Fert selector'!$G$13+'Fert selector'!$G$13*'Fert selector'!$G$17),0,1)&IF(AD74>('Fert selector'!$G$13-'Fert selector'!$G$13*'Fert selector'!$G$18),0,1)","v":"11"}]
[null,null,null,null,null,null,null,null,null,null,null,null,null,{"$f":"IF(E75=0,0,'Fert selector'!$D$13/E75)","v":0},{"$f":"IF('Fert selector'!$D$15=\"Y\",E75*N75,IF('Fert selector'!$E$15=\"Y\",F75*S75,IF('Fert selector'!$F$15=\"Y\",G75*X75,IF('Fert selector'!$G$15=\"Y\",H75*AC75))))","v":0},150,{"$f":"IF((O75-'Fert selector'!$D$13)<0,(O75-'Fert selector'!$D$13)*-1,O75-'Fert selector'!$D$13)","v":150},{"$f":"IF(O75<('Fert selector'!$D$13+'Fert selector'!$D$13*'Fert selector'!$D$17),0,1)&IF(O75>('Fert selector'!$D$13-'Fert selector'!$D$13*'Fert selector'!$D$18),0,1)","v":"01"},{"$f":"IF(F75=0,0,'Fert selector'!$E$13/F75)","v":0},{"$f":"IF('Fert selector'!$D$15=\"Y\",$F75*$N75,IF('Fert selector'!$E$15=\"Y\",$F75*$S75,IF('Fert selector'!$F$15=\"Y\",$F75*$X75,IF('Fert selector'!$G$15=\"Y\",$F75*$AC75))))","v":0},0,{"$f":"IF((T75-'Fert selector'!$E$13)<0,(T75-'Fert selector'!$E$13)*-1,T75-'Fert selector'!$E$13)","v":0},{"$f":"IF(T75<('Fert selector'!$E$13+'Fert selector'!$E$13*'Fert selector'!$E$17),0,1)&IF(T75>('Fert selector'!$E$13-'Fert selector'!$E$13*'Fert selector'!$E$18),0,1)","v":"11"},{"$f":"IF(G75=0,0,'Fert selector'!$F$13/G75)","v":0},{"$f":"IF('Fert selector'!$D$15=\"Y\",$G75*$N75,IF('Fert selector'!$E$15=\"Y\",$G75*$S75,IF('Fert selector'!$F$15=\"Y\",$G75*$X75,IF('Fert selector'!$G$15=\"Y\",$G75*$AC75))))","v":0},90,{"$f":"IF((Y75-'Fert selector'!$F$13)<0,(Y75-'Fert selector'!$F$13)*-1,Y75-'Fert selector'!$F$13)","v":90},{"$f":"IF(Y75<('Fert selector'!$F$13+'Fert selector'!$F$13*'Fert selector'!$F$17),0,1)&IF(Y75>('Fert selector'!$F$13-'Fert selector'!$F$13*'Fert selector'!$F$18),0,1)","v":"01"},{"$f":"IF(H75=0,0,'Fert selector'!$G$13/H75)","v":0},{"$f":"IF('Fert selector'!$D$15=\"Y\",$H75*$N75,IF('Fert selector'!$E$15=\"Y\",$H75*$S75,IF('Fert selector'!$F$15=\"Y\",$H75*$X75,IF('Fert selector'!$G$15=\"Y\",$H75*$AC75))))","v":0},0,{"$f":"IF((AD75-'Fert selector'!$G$13)<0,(AD75-'Fert selector'!$G$13)*-1,AD75-'Fert selector'!$G$13)","v":0},{"$f":"IF(AD75<('Fert selector'!$G$13+'Fert selector'!$G$13*'Fert selector'!$G$17),0,1)&IF(AD75>('Fert selector'!$G$13-'Fert selector'!$G$13*'Fert selector'!$G$18),0,1)","v":"11"}]
[null,null,null,null,null,null,null,null,null,null,null,null,null,{"$f":"IF(E76=0,0,'Fert selector'!$D$13/E76)","v":0},{"$f":"IF('Fert selector'!$D$15=\"Y\",E76*N76,IF('Fert selector'!$E$15=\"Y\",F76*S76,IF('Fert selector'!$F$15=\"Y\",G76*X76,IF('Fert selector'!$G$15=\"Y\",H76*AC76))))","v":0},150,{"$f":"IF((O76-'Fert selector'!$D$13)<0,(O76-'Fert selector'!$D$13)*-1,O76-'Fert selector'!$D$13)","v":150},{"$f":"IF(O76<('Fert selector'!$D$13+'Fert selector'!$D$13*'Fert selector'!$D$17),0,1)&IF(O76>('Fert selector'!$D$13-'Fert selector'!$D$13*'Fert selector'!$D$18),0,1)","v":"01"},{"$f":"IF(F76=0,0,'Fert selector'!$E$13/F76)","v":0},{"$f":"IF('Fert selector'!$D$15=\"Y\",$F76*$N76,IF('Fert selector'!$E$15=\"Y\",$F76*$S76,IF('Fert selector'!$F$15=\"Y\",$F76*$X76,IF('Fert selector'!$G$15=\"Y\",$F76*$AC76))))","v":0},0,{"$f":"IF((T76-'Fert selector'!$E$13)<0,(T76-'Fert selector'!$E$13)*-1,T76-'Fert selector'!$E$13)","v":0},{"$f":"IF(T76<('Fert selector'!$E$13+'Fert selector'!$E$13*'Fert selector'!$E$17),0,1)&IF(T76>('Fert selector'!$E$13-'Fert selector'!$E$13*'Fert selector'!$E$18),0,1)","v":"11"},{"$f":"IF(G76=0,0,'Fert selector'!$F$13/G76)","v":0},{"$f":"IF('Fert selector'!$D$15=\"Y\",$G76*$N76,IF('Fert selector'!$E$15=\"Y\",$G76*$S76,IF('Fert selector'!$F$15=\"Y\",$G76*$X76,IF('Fert selector'!$G$15=\"Y\",$G76*$AC76))))","v":0},90,{"$f":"IF((Y76-'Fert selector'!$F$13)<0,(Y76-'Fert selector'!$F$13)*-1,Y76-'Fert selector'!$F$13)","v":90},{"$f":"IF(Y76<('Fert selector'!$F$13+'Fert selector'!$F$13*'Fert selector'!$F$17),0,1)&IF(Y76>('Fert selector'!$F$13-'Fert selector'!$F$13*'Fert selector'!$F$18),0,1)","v":"01"},{"$f":"IF(H76=0,0,'Fert selector'!$G$13/H76)","v":0},{"$f":"IF('Fert selector'!$D$15=\"Y\",$H76*$N76,IF('Fert selector'!$E$15=\"Y\",$H76*$S76,IF('Fert selector'!$F$15=\"Y\",$H76*$X76,IF('Fert selector'!$G$15=\"Y\",$H76*$AC76))))","v":0},0,{"$f":"IF((AD76-'Fert selector'!$G$13)<0,(AD76-'Fert selector'!$G$13)*-1,AD76-'Fert selector'!$G$13)","v":0},{"$f":"IF(AD76<('Fert selector'!$G$13+'Fert selector'!$G$13*'Fert selector'!$G$17),0,1)&IF(AD76>('Fert selector'!$G$13-'Fert selector'!$G$13*'Fert selector'!$G$18),0,1)","v":"11"}]
[null,null,null,null,null,null,null,null,null,null,null,null,null,{"$f":"IF(E77=0,0,'Fert selector'!$D$13/E77)","v":0},{"$f":"IF('Fert selector'!$D$15=\"Y\",E77*N77,IF('Fert selector'!$E$15=\"Y\",F77*S77,IF('Fert selector'!$F$15=\"Y\",G77*X77,IF('Fert selector'!$G$15=\"Y\",H77*AC77))))","v":0},150,{"$f":"IF((O77-'Fert selector'!$D$13)<0,(O77-'Fert selector'!$D$13)*-1,O77-'Fert selector'!$D$13)","v":150},{"$f":"IF(O77<('Fert selector'!$D$13+'Fert selector'!$D$13*'Fert selector'!$D$17),0,1)&IF(O77>('Fert selector'!$D$13-'Fert selector'!$D$13*'Fert selector'!$D$18),0,1)","v":"01"},{"$f":"IF(F77=0,0,'Fert selector'!$E$13/F77)","v":0},{"$f":"IF('Fert selector'!$D$15=\"Y\",$F77*$N77,IF('Fert selector'!$E$15=\"Y\",$F77*$S77,IF('Fert selector'!$F$15=\"Y\",$F77*$X77,IF('Fert selector'!$G$15=\"Y\",$F77*$AC77))))","v":0},0,{"$f":"IF((T77-'Fert selector'!$E$13)<0,(T77-'Fert selector'!$E$13)*-1,T77-'Fert selector'!$E$13)","v":0},{"$f":"IF(T77<('Fert selector'!$E$13+'Fert selector'!$E$13*'Fert selector'!$E$17),0,1)&IF(T77>('Fert selector'!$E$13-'Fert selector'!$E$13*'Fert selector'!$E$18),0,1)","v":"11"},{"$f":"IF(G77=0,0,'Fert selector'!$F$13/G77)","v":0},{"$f":"IF('Fert selector'!$D$15=\"Y\",$G77*$N77,IF('Fert selector'!$E$15=\"Y\",$G77*$S77,IF('Fert selector'!$F$15=\"Y\",$G77*$X77,IF('Fert selector'!$G$15=\"Y\",$G77*$AC77))))","v":0},90,{"$f":"IF((Y77-'Fert selector'!$F$13)<0,(Y77-'Fert selector'!$F$13)*-1,Y77-'Fert selector'!$F$13)","v":90},{"$f":"IF(Y77<('Fert selector'!$F$13+'Fert selector'!$F$13*'Fert selector'!$F$17),0,1)&IF(Y77>('Fert selector'!$F$13-'Fert selector'!$F$13*'Fert selector'!$F$18),0,1)","v":"01"},{"$f":"IF(H77=0,0,'Fert selector'!$G$13/H77)","v":0},{"$f":"IF('Fert selector'!$D$15=\"Y\",$H77*$N77,IF('Fert selector'!$E$15=\"Y\",$H77*$S77,IF('Fert selector'!$F$15=\"Y\",$H77*$X77,IF('Fert selector'!$G$15=\"Y\",$H77*$AC77))))","v":0},0,{"$f":"IF((AD77-'Fert selector'!$G$13)<0,(AD77-'Fert selector'!$G$13)*-1,AD77-'Fert selector'!$G$13)","v":0},{"$f":"IF(AD77<('Fert selector'!$G$13+'Fert selector'!$G$13*'Fert selector'!$G$17),0,1)&IF(AD77>('Fert selector'!$G$13-'Fert selector'!$G$13*'Fert selector'!$G$18),0,1)","v":"11"}]
[null,null,null,null,null,null,null,null,null,null,null,null,null,{"$f":"IF(E78=0,0,'Fert selector'!$D$13/E78)","v":0},{"$f":"IF('Fert selector'!$D$15=\"Y\",E78*N78,IF('Fert selector'!$E$15=\"Y\",F78*S78,IF('Fert selector'!$F$15=\"Y\",G78*X78,IF('Fert selector'!$G$15=\"Y\",H78*AC78))))","v":0},150,{"$f":"IF((O78-'Fert selector'!$D$13)<0,(O78-'Fert selector'!$D$13)*-1,O78-'Fert selector'!$D$13)","v":150},{"$f":"IF(O78<('Fert selector'!$D$13+'Fert selector'!$D$13*'Fert selector'!$D$17),0,1)&IF(O78>('Fert selector'!$D$13-'Fert selector'!$D$13*'Fert selector'!$D$18),0,1)","v":"01"},{"$f":"IF(F78=0,0,'Fert selector'!$E$13/F78)","v":0},{"$f":"IF('Fert selector'!$D$15=\"Y\",$F78*$N78,IF('Fert selector'!$E$15=\"Y\",$F78*$S78,IF('Fert selector'!$F$15=\"Y\",$F78*$X78,IF('Fert selector'!$G$15=\"Y\",$F78*$AC78))))","v":0},0,{"$f":"IF((T78-'Fert selector'!$E$13)<0,(T78-'Fert selector'!$E$13)*-1,T78-'Fert selector'!$E$13)","v":0},{"$f":"IF(T78<('Fert selector'!$E$13+'Fert selector'!$E$13*'Fert selector'!$E$17),0,1)&IF(T78>('Fert selector'!$E$13-'Fert selector'!$E$13*'Fert selector'!$E$18),0,1)","v":"11"},{"$f":"IF(G78=0,0,'Fert selector'!$F$13/G78)","v":0},{"$f":"IF('Fert selector'!$D$15=\"Y\",$G78*$N78,IF('Fert selector'!$E$15=\"Y\",$G78*$S78,IF('Fert selector'!$F$15=\"Y\",$G78*$X78,IF('Fert selector'!$G$15=\"Y\",$G78*$AC78))))","v":0},90,{"$f":"IF((Y78-'Fert selector'!$F$13)<0,(Y78-'Fert selector'!$F$13)*-1,Y78-'Fert selector'!$F$13)","v":90},{"$f":"IF(Y78<('Fert selector'!$F$13+'Fert selector'!$F$13*'Fert selector'!$F$17),0,1)&IF(Y78>('Fert selector'!$F$13-'Fert selector'!$F$13*'Fert selector'!$F$18),0,1)","v":"01"},{"$f":"IF(H78=0,0,'Fert selector'!$G$13/H78)","v":0},{"$f":"IF('Fert selector'!$D$15=\"Y\",$H78*$N78,IF('Fert selector'!$E$15=\"Y\",$H78*$S78,IF('Fert selector'!$F$15=\"Y\",$H78*$X78,IF('Fert selector'!$G$15=\"Y\",$H78*$AC78))))","v":0},0,{"$f":"IF((AD78-'Fert selector'!$G$13)<0,(AD78-'Fert selector'!$G$13)*-1,AD78-'Fert selector'!$G$13)","v":0},{"$f":"IF(AD78<('Fert selector'!$G$13+'Fert selector'!$G$13*'Fert selector'!$G$17),0,1)&IF(AD78>('Fert selector'!$G$13-'Fert selector'!$G$13*'Fert selector'!$G$18),0,1)","v":"11"}]
[null,null,null,null,null,null,null,null,null,null,null,null,null,{"$f":"IF(E79=0,0,'Fert selector'!$D$13/E79)","v":0},{"$f":"IF('Fert selector'!$D$15=\"Y\",E79*N79,IF('Fert selector'!$E$15=\"Y\",F79*S79,IF('Fert selector'!$F$15=\"Y\",G79*X79,IF('Fert selector'!$G$15=\"Y\",H79*AC79))))","v":0},150,{"$f":"IF((O79-'Fert selector'!$D$13)<0,(O79-'Fert selector'!$D$13)*-1,O79-'Fert selector'!$D$13)","v":150},{"$f":"IF(O79<('Fert selector'!$D$13+'Fert selector'!$D$13*'Fert selector'!$D$17),0,1)&IF(O79>('Fert selector'!$D$13-'Fert selector'!$D$13*'Fert selector'!$D$18),0,1)","v":"01"},{"$f":"IF(F79=0,0,'Fert selector'!$E$13/F79)","v":0},{"$f":"IF('Fert selector'!$D$15=\"Y\",$F79*$N79,IF('Fert selector'!$E$15=\"Y\",$F79*$S79,IF('Fert selector'!$F$15=\"Y\",$F79*$X79,IF('Fert selector'!$G$15=\"Y\",$F79*$AC79))))","v":0},0,{"$f":"IF((T79-'Fert selector'!$E$13)<0,(T79-'Fert selector'!$E$13)*-1,T79-'Fert selector'!$E$13)","v":0},{"$f":"IF(T79<('Fert selector'!$E$13+'Fert selector'!$E$13*'Fert selector'!$E$17),0,1)&IF(T79>('Fert selector'!$E$13-'Fert selector'!$E$13*'Fert selector'!$E$18),0,1)","v":"11"},{"$f":"IF(G79=0,0,'Fert selector'!$F$13/G79)","v":0},{"$f":"IF('Fert selector'!$D$15=\"Y\",$G79*$N79,IF('Fert selector'!$E$15=\"Y\",$G79*$S79,IF('Fert selector'!$F$15=\"Y\",$G79*$X79,IF('Fert selector'!$G$15=\"Y\",$G79*$AC79))))","v":0},90,{"$f":"IF((Y79-'Fert selector'!$F$13)<0,(Y79-'Fert selector'!$F$13)*-1,Y79-'Fert selector'!$F$13)","v":90},{"$f":"IF(Y79<('Fert selector'!$F$13+'Fert selector'!$F$13*'Fert selector'!$F$17),0,1)&IF(Y79>('Fert selector'!$F$13-'Fert selector'!$F$13*'Fert selector'!$F$18),0,1)","v":"01"},{"$f":"IF(H79=0,0,'Fert selector'!$G$13/H79)","v":0},{"$f":"IF('Fert selector'!$D$15=\"Y\",$H79*$N79,IF('Fert selector'!$E$15=\"Y\",$H79*$S79,IF('Fert selector'!$F$15=\"Y\",$H79*$X79,IF('Fert selector'!$G$15=\"Y\",$H79*$AC79))))","v":0},0,{"$f":"IF((AD79-'Fert selector'!$G$13)<0,(AD79-'Fert selector'!$G$13)*-1,AD79-'Fert selector'!$G$13)","v":0},{"$f":"IF(AD79<('Fert selector'!$G$13+'Fert selector'!$G$13*'Fert selector'!$G$17),0,1)&IF(AD79>('Fert selector'!$G$13-'Fert selector'!$G$13*'Fert selector'!$G$18),0,1)","v":"11"}]
[null,null,null,null,null,null,null,null,null,null,null,null,null,{"$f":"IF(E80=0,0,'Fert selector'!$D$13/E80)","v":0},{"$f":"IF('Fert selector'!$D$15=\"Y\",E80*N80,IF('Fert selector'!$E$15=\"Y\",F80*S80,IF('Fert selector'!$F$15=\"Y\",G80*X80,IF('Fert selector'!$G$15=\"Y\",H80*AC80))))","v":0},150,{"$f":"IF((O80-'Fert selector'!$D$13)<0,(O80-'Fert selector'!$D$13)*-1,O80-'Fert selector'!$D$13)","v":150},{"$f":"IF(O80<('Fert selector'!$D$13+'Fert selector'!$D$13*'Fert selector'!$D$17),0,1)&IF(O80>('Fert selector'!$D$13-'Fert selector'!$D$13*'Fert selector'!$D$18),0,1)","v":"01"},{"$f":"IF(F80=0,0,'Fert selector'!$E$13/F80)","v":0},{"$f":"IF('Fert selector'!$D$15=\"Y\",$F80*$N80,IF('Fert selector'!$E$15=\"Y\",$F80*$S80,IF('Fert selector'!$F$15=\"Y\",$F80*$X80,IF('Fert selector'!$G$15=\"Y\",$F80*$AC80))))","v":0},0,{"$f":"IF((T80-'Fert selector'!$E$13)<0,(T80-'Fert selector'!$E$13)*-1,T80-'Fert selector'!$E$13)","v":0},{"$f":"IF(T80<('Fert selector'!$E$13+'Fert selector'!$E$13*'Fert selector'!$E$17),0,1)&IF(T80>('Fert selector'!$E$13-'Fert selector'!$E$13*'Fert selector'!$E$18),0,1)","v":"11"},{"$f":"IF(G80=0,0,'Fert selector'!$F$13/G80)","v":0},{"$f":"IF('Fert selector'!$D$15=\"Y\",$G80*$N80,IF('Fert selector'!$E$15=\"Y\",$G80*$S80,IF('Fert selector'!$F$15=\"Y\",$G80*$X80,IF('Fert selector'!$G$15=\"Y\",$G80*$AC80))))","v":0},90,{"$f":"IF((Y80-'Fert selector'!$F$13)<0,(Y80-'Fert selector'!$F$13)*-1,Y80-'Fert selector'!$F$13)","v":90},{"$f":"IF(Y80<('Fert selector'!$F$13+'Fert selector'!$F$13*'Fert selector'!$F$17),0,1)&IF(Y80>('Fert selector'!$F$13-'Fert selector'!$F$13*'Fert selector'!$F$18),0,1)","v":"01"},{"$f":"IF(H80=0,0,'Fert selector'!$G$13/H80)","v":0},{"$f":"IF('Fert selector'!$D$15=\"Y\",$H80*$N80,IF('Fert selector'!$E$15=\"Y\",$H80*$S80,IF('Fert selector'!$F$15=\"Y\",$H80*$X80,IF('Fert selector'!$G$15=\"Y\",$H80*$AC80))))","v":0},0,{"$f":"IF((AD80-'Fert selector'!$G$13)<0,(AD80-'Fert selector'!$G$13)*-1,AD80-'Fert selector'!$G$13)","v":0},{"$f":"IF(AD80<('Fert selector'!$G$13+'Fert selector'!$G$13*'Fert selector'!$G$17),0,1)&IF(AD80>('Fert selector'!$G$13-'Fert selector'!$G$13*'Fert selector'!$G$18),0,1)","v":"11"}]
[null,null,null,null,null,null,null,null,null,null,null,null,null,{"$f":"IF(E81=0,0,'Fert selector'!$D$13/E81)","v":0},{"$f":"IF('Fert selector'!$D$15=\"Y\",E81*N81,IF('Fert selector'!$E$15=\"Y\",F81*S81,IF('Fert selector'!$F$15=\"Y\",G81*X81,IF('Fert selector'!$G$15=\"Y\",H81*AC81))))","v":0},150,{"$f":"IF((O81-'Fert selector'!$D$13)<0,(O81-'Fert selector'!$D$13)*-1,O81-'Fert selector'!$D$13)","v":150},{"$f":"IF(O81<('Fert selector'!$D$13+'Fert selector'!$D$13*'Fert selector'!$D$17),0,1)&IF(O81>('Fert selector'!$D$13-'Fert selector'!$D$13*'Fert selector'!$D$18),0,1)","v":"01"},{"$f":"IF(F81=0,0,'Fert selector'!$E$13/F81)","v":0},{"$f":"IF('Fert selector'!$D$15=\"Y\",$F81*$N81,IF('Fert selector'!$E$15=\"Y\",$F81*$S81,IF('Fert selector'!$F$15=\"Y\",$F81*$X81,IF('Fert selector'!$G$15=\"Y\",$F81*$AC81))))","v":0},0,{"$f":"IF((T81-'Fert selector'!$E$13)<0,(T81-'Fert selector'!$E$13)*-1,T81-'Fert selector'!$E$13)","v":0},{"$f":"IF(T81<('Fert selector'!$E$13+'Fert selector'!$E$13*'Fert selector'!$E$17),0,1)&IF(T81>('Fert selector'!$E$13-'Fert selector'!$E$13*'Fert selector'!$E$18),0,1)","v":"11"},{"$f":"IF(G81=0,0,'Fert selector'!$F$13/G81)","v":0},{"$f":"IF('Fert selector'!$D$15=\"Y\",$G81*$N81,IF('Fert selector'!$E$15=\"Y\",$G81*$S81,IF('Fert selector'!$F$15=\"Y\",$G81*$X81,IF('Fert selector'!$G$15=\"Y\",$G81*$AC81))))","v":0},90,{"$f":"IF((Y81-'Fert selector'!$F$13)<0,(Y81-'Fert selector'!$F$13)*-1,Y81-'Fert selector'!$F$13)","v":90},{"$f":"IF(Y81<('Fert selector'!$F$13+'Fert selector'!$F$13*'Fert selector'!$F$17),0,1)&IF(Y81>('Fert selector'!$F$13-'Fert selector'!$F$13*'Fert selector'!$F$18),0,1)","v":"01"},{"$f":"IF(H81=0,0,'Fert selector'!$G$13/H81)","v":0},{"$f":"IF('Fert selector'!$D$15=\"Y\",$H81*$N81,IF('Fert selector'!$E$15=\"Y\",$H81*$S81,IF('Fert selector'!$F$15=\"Y\",$H81*$X81,IF('Fert selector'!$G$15=\"Y\",$H81*$AC81))))","v":0},0,{"$f":"IF((AD81-'Fert selector'!$G$13)<0,(AD81-'Fert selector'!$G$13)*-1,AD81-'Fert selector'!$G$13)","v":0},{"$f":"IF(AD81<('Fert selector'!$G$13+'Fert selector'!$G$13*'Fert selector'!$G$17),0,1)&IF(AD81>('Fert selector'!$G$13-'Fert selector'!$G$13*'Fert selector'!$G$18),0,1)","v":"11"}]
[null,null,null,null,null,null,null,null,null,null,null,null,null,{"$f":"IF(E82=0,0,'Fert selector'!$D$13/E82)","v":0},{"$f":"IF('Fert selector'!$D$15=\"Y\",E82*N82,IF('Fert selector'!$E$15=\"Y\",F82*S82,IF('Fert selector'!$F$15=\"Y\",G82*X82,IF('Fert selector'!$G$15=\"Y\",H82*AC82))))","v":0},150,{"$f":"IF((O82-'Fert selector'!$D$13)<0,(O82-'Fert selector'!$D$13)*-1,O82-'Fert selector'!$D$13)","v":150},{"$f":"IF(O82<('Fert selector'!$D$13+'Fert selector'!$D$13*'Fert selector'!$D$17),0,1)&IF(O82>('Fert selector'!$D$13-'Fert selector'!$D$13*'Fert selector'!$D$18),0,1)","v":"01"},{"$f":"IF(F82=0,0,'Fert selector'!$E$13/F82)","v":0},{"$f":"IF('Fert selector'!$D$15=\"Y\",$F82*$N82,IF('Fert selector'!$E$15=\"Y\",$F82*$S82,IF('Fert selector'!$F$15=\"Y\",$F82*$X82,IF('Fert selector'!$G$15=\"Y\",$F82*$AC82))))","v":0},0,{"$f":"IF((T82-'Fert selector'!$E$13)<0,(T82-'Fert selector'!$E$13)*-1,T82-'Fert selector'!$E$13)","v":0},{"$f":"IF(T82<('Fert selector'!$E$13+'Fert selector'!$E$13*'Fert selector'!$E$17),0,1)&IF(T82>('Fert selector'!$E$13-'Fert selector'!$E$13*'Fert selector'!$E$18),0,1)","v":"11"},{"$f":"IF(G82=0,0,'Fert selector'!$F$13/G82)","v":0},{"$f":"IF('Fert selector'!$D$15=\"Y\",$G82*$N82,IF('Fert selector'!$E$15=\"Y\",$G82*$S82,IF('Fert selector'!$F$15=\"Y\",$G82*$X82,IF('Fert selector'!$G$15=\"Y\",$G82*$AC82))))","v":0},90,{"$f":"IF((Y82-'Fert selector'!$F$13)<0,(Y82-'Fert selector'!$F$13)*-1,Y82-'Fert selector'!$F$13)","v":90},{"$f":"IF(Y82<('Fert selector'!$F$13+'Fert selector'!$F$13*'Fert selector'!$F$17),0,1)&IF(Y82>('Fert selector'!$F$13-'Fert selector'!$F$13*'Fert selector'!$F$18),0,1)","v":"01"},{"$f":"IF(H82=0,0,'Fert selector'!$G$13/H82)","v":0},{"$f":"IF('Fert selector'!$D$15=\"Y\",$H82*$N82,IF('Fert selector'!$E$15=\"Y\",$H82*$S82,IF('Fert selector'!$F$15=\"Y\",$H82*$X82,IF('Fert selector'!$G$15=\"Y\",$H82*$AC82))))","v":0},0,{"$f":"IF((AD82-'Fert selector'!$G$13)<0,(AD82-'Fert selector'!$G$13)*-1,AD82-'Fert selector'!$G$13)","v":0},{"$f":"IF(AD82<('Fert selector'!$G$13+'Fert selector'!$G$13*'Fert selector'!$G$17),0,1)&IF(AD82>('Fert selector'!$G$13-'Fert selector'!$G$13*'Fert selector'!$G$18),0,1)","v":"11"}]
[null,null,null,null,null,null,null,null,null,null,null,null,null,{"$f":"IF(E83=0,0,'Fert selector'!$D$13/E83)","v":0},{"$f":"IF('Fert selector'!$D$15=\"Y\",E83*N83,IF('Fert selector'!$E$15=\"Y\",F83*S83,IF('Fert selector'!$F$15=\"Y\",G83*X83,IF('Fert selector'!$G$15=\"Y\",H83*AC83))))","v":0},150,{"$f":"IF((O83-'Fert selector'!$D$13)<0,(O83-'Fert selector'!$D$13)*-1,O83-'Fert selector'!$D$13)","v":150},{"$f":"IF(O83<('Fert selector'!$D$13+'Fert selector'!$D$13*'Fert selector'!$D$17),0,1)&IF(O83>('Fert selector'!$D$13-'Fert selector'!$D$13*'Fert selector'!$D$18),0,1)","v":"01"},{"$f":"IF(F83=0,0,'Fert selector'!$E$13/F83)","v":0},{"$f":"IF('Fert selector'!$D$15=\"Y\",$F83*$N83,IF('Fert selector'!$E$15=\"Y\",$F83*$S83,IF('Fert selector'!$F$15=\"Y\",$F83*$X83,IF('Fert selector'!$G$15=\"Y\",$F83*$AC83))))","v":0},0,{"$f":"IF((T83-'Fert selector'!$E$13)<0,(T83-'Fert selector'!$E$13)*-1,T83-'Fert selector'!$E$13)","v":0},{"$f":"IF(T83<('Fert selector'!$E$13+'Fert selector'!$E$13*'Fert selector'!$E$17),0,1)&IF(T83>('Fert selector'!$E$13-'Fert selector'!$E$13*'Fert selector'!$E$18),0,1)","v":"11"},{"$f":"IF(G83=0,0,'Fert selector'!$F$13/G83)","v":0},{"$f":"IF('Fert selector'!$D$15=\"Y\",$G83*$N83,IF('Fert selector'!$E$15=\"Y\",$G83*$S83,IF('Fert selector'!$F$15=\"Y\",$G83*$X83,IF('Fert selector'!$G$15=\"Y\",$G83*$AC83))))","v":0},90,{"$f":"IF((Y83-'Fert selector'!$F$13)<0,(Y83-'Fert selector'!$F$13)*-1,Y83-'Fert selector'!$F$13)","v":90},{"$f":"IF(Y83<('Fert selector'!$F$13+'Fert selector'!$F$13*'Fert selector'!$F$17),0,1)&IF(Y83>('Fert selector'!$F$13-'Fert selector'!$F$13*'Fert selector'!$F$18),0,1)","v":"01"},{"$f":"IF(H83=0,0,'Fert selector'!$G$13/H83)","v":0},{"$f":"IF('Fert selector'!$D$15=\"Y\",$H83*$N83,IF('Fert selector'!$E$15=\"Y\",$H83*$S83,IF('Fert selector'!$F$15=\"Y\",$H83*$X83,IF('Fert selector'!$G$15=\"Y\",$H83*$AC83))))","v":0},0,{"$f":"IF((AD83-'Fert selector'!$G$13)<0,(AD83-'Fert selector'!$G$13)*-1,AD83-'Fert selector'!$G$13)","v":0},{"$f":"IF(AD83<('Fert selector'!$G$13+'Fert selector'!$G$13*'Fert selector'!$G$17),0,1)&IF(AD83>('Fert selector'!$G$13-'Fert selector'!$G$13*'Fert selector'!$G$18),0,1)","v":"11"}]
[null,null,null,null,null,null,null,null,null,null,null,null,null,{"$f":"IF(E84=0,0,'Fert selector'!$D$13/E84)","v":0},{"$f":"IF('Fert selector'!$D$15=\"Y\",E84*N84,IF('Fert selector'!$E$15=\"Y\",F84*S84,IF('Fert selector'!$F$15=\"Y\",G84*X84,IF('Fert selector'!$G$15=\"Y\",H84*AC84))))","v":0},150,{"$f":"IF((O84-'Fert selector'!$D$13)<0,(O84-'Fert selector'!$D$13)*-1,O84-'Fert selector'!$D$13)","v":150},{"$f":"IF(O84<('Fert selector'!$D$13+'Fert selector'!$D$13*'Fert selector'!$D$17),0,1)&IF(O84>('Fert selector'!$D$13-'Fert selector'!$D$13*'Fert selector'!$D$18),0,1)","v":"01"},{"$f":"IF(F84=0,0,'Fert selector'!$E$13/F84)","v":0},{"$f":"IF('Fert selector'!$D$15=\"Y\",$F84*$N84,IF('Fert selector'!$E$15=\"Y\",$F84*$S84,IF('Fert selector'!$F$15=\"Y\",$F84*$X84,IF('Fert selector'!$G$15=\"Y\",$F84*$AC84))))","v":0},0,{"$f":"IF((T84-'Fert selector'!$E$13)<0,(T84-'Fert selector'!$E$13)*-1,T84-'Fert selector'!$E$13)","v":0},{"$f":"IF(T84<('Fert selector'!$E$13+'Fert selector'!$E$13*'Fert selector'!$E$17),0,1)&IF(T84>('Fert selector'!$E$13-'Fert selector'!$E$13*'Fert selector'!$E$18),0,1)","v":"11"},{"$f":"IF(G84=0,0,'Fert selector'!$F$13/G84)","v":0},{"$f":"IF('Fert selector'!$D$15=\"Y\",$G84*$N84,IF('Fert selector'!$E$15=\"Y\",$G84*$S84,IF('Fert selector'!$F$15=\"Y\",$G84*$X84,IF('Fert selector'!$G$15=\"Y\",$G84*$AC84))))","v":0},90,{"$f":"IF((Y84-'Fert selector'!$F$13)<0,(Y84-'Fert selector'!$F$13)*-1,Y84-'Fert selector'!$F$13)","v":90},{"$f":"IF(Y84<('Fert selector'!$F$13+'Fert selector'!$F$13*'Fert selector'!$F$17),0,1)&IF(Y84>('Fert selector'!$F$13-'Fert selector'!$F$13*'Fert selector'!$F$18),0,1)","v":"01"},{"$f":"IF(H84=0,0,'Fert selector'!$G$13/H84)","v":0},{"$f":"IF('Fert selector'!$D$15=\"Y\",$H84*$N84,IF('Fert selector'!$E$15=\"Y\",$H84*$S84,IF('Fert selector'!$F$15=\"Y\",$H84*$X84,IF('Fert selector'!$G$15=\"Y\",$H84*$AC84))))","v":0},0,{"$f":"IF((AD84-'Fert selector'!$G$13)<0,(AD84-'Fert selector'!$G$13)*-1,AD84-'Fert selector'!$G$13)","v":0},{"$f":"IF(AD84<('Fert selector'!$G$13+'Fert selector'!$G$13*'Fert selector'!$G$17),0,1)&IF(AD84>('Fert selector'!$G$13-'Fert selector'!$G$13*'Fert selector'!$G$18),0,1)","v":"11"}]
[null,null,null,null,null,null,null,null,null,null,null,null,null,{"$f":"IF(E85=0,0,'Fert selector'!$D$13/E85)","v":0},{"$f":"IF('Fert selector'!$D$15=\"Y\",E85*N85,IF('Fert selector'!$E$15=\"Y\",F85*S85,IF('Fert selector'!$F$15=\"Y\",G85*X85,IF('Fert selector'!$G$15=\"Y\",H85*AC85))))","v":0},150,{"$f":"IF((O85-'Fert selector'!$D$13)<0,(O85-'Fert selector'!$D$13)*-1,O85-'Fert selector'!$D$13)","v":150},{"$f":"IF(O85<('Fert selector'!$D$13+'Fert selector'!$D$13*'Fert selector'!$D$17),0,1)&IF(O85>('Fert selector'!$D$13-'Fert selector'!$D$13*'Fert selector'!$D$18),0,1)","v":"01"},{"$f":"IF(F85=0,0,'Fert selector'!$E$13/F85)","v":0},{"$f":"IF('Fert selector'!$D$15=\"Y\",$F85*$N85,IF('Fert selector'!$E$15=\"Y\",$F85*$S85,IF('Fert selector'!$F$15=\"Y\",$F85*$X85,IF('Fert selector'!$G$15=\"Y\",$F85*$AC85))))","v":0},0,{"$f":"IF((T85-'Fert selector'!$E$13)<0,(T85-'Fert selector'!$E$13)*-1,T85-'Fert selector'!$E$13)","v":0},{"$f":"IF(T85<('Fert selector'!$E$13+'Fert selector'!$E$13*'Fert selector'!$E$17),0,1)&IF(T85>('Fert selector'!$E$13-'Fert selector'!$E$13*'Fert selector'!$E$18),0,1)","v":"11"},{"$f":"IF(G85=0,0,'Fert selector'!$F$13/G85)","v":0},{"$f":"IF('Fert selector'!$D$15=\"Y\",$G85*$N85,IF('Fert selector'!$E$15=\"Y\",$G85*$S85,IF('Fert selector'!$F$15=\"Y\",$G85*$X85,IF('Fert selector'!$G$15=\"Y\",$G85*$AC85))))","v":0},90,{"$f":"IF((Y85-'Fert selector'!$F$13)<0,(Y85-'Fert selector'!$F$13)*-1,Y85-'Fert selector'!$F$13)","v":90},{"$f":"IF(Y85<('Fert selector'!$F$13+'Fert selector'!$F$13*'Fert selector'!$F$17),0,1)&IF(Y85>('Fert selector'!$F$13-'Fert selector'!$F$13*'Fert selector'!$F$18),0,1)","v":"01"},{"$f":"IF(H85=0,0,'Fert selector'!$G$13/H85)","v":0},{"$f":"IF('Fert selector'!$D$15=\"Y\",$H85*$N85,IF('Fert selector'!$E$15=\"Y\",$H85*$S85,IF('Fert selector'!$F$15=\"Y\",$H85*$X85,IF('Fert selector'!$G$15=\"Y\",$H85*$AC85))))","v":0},0,{"$f":"IF((AD85-'Fert selector'!$G$13)<0,(AD85-'Fert selector'!$G$13)*-1,AD85-'Fert selector'!$G$13)","v":0},{"$f":"IF(AD85<('Fert selector'!$G$13+'Fert selector'!$G$13*'Fert selector'!$G$17),0,1)&IF(AD85>('Fert selector'!$G$13-'Fert selector'!$G$13*'Fert selector'!$G$18),0,1)","v":"11"}]
[null,null,null,null,null,null,null,null,null,null,null,null,null,{"$f":"IF(E86=0,0,'Fert selector'!$D$13/E86)","v":0},{"$f":"IF('Fert selector'!$D$15=\"Y\",E86*N86,IF('Fert selector'!$E$15=\"Y\",F86*S86,IF('Fert selector'!$F$15=\"Y\",G86*X86,IF('Fert selector'!$G$15=\"Y\",H86*AC86))))","v":0},150,{"$f":"IF((O86-'Fert selector'!$D$13)<0,(O86-'Fert selector'!$D$13)*-1,O86-'Fert selector'!$D$13)","v":150},{"$f":"IF(O86<('Fert selector'!$D$13+'Fert selector'!$D$13*'Fert selector'!$D$17),0,1)&IF(O86>('Fert selector'!$D$13-'Fert selector'!$D$13*'Fert selector'!$D$18),0,1)","v":"01"},{"$f":"IF(F86=0,0,'Fert selector'!$E$13/F86)","v":0},{"$f":"IF('Fert selector'!$D$15=\"Y\",$F86*$N86,IF('Fert selector'!$E$15=\"Y\",$F86*$S86,IF('Fert selector'!$F$15=\"Y\",$F86*$X86,IF('Fert selector'!$G$15=\"Y\",$F86*$AC86))))","v":0},0,{"$f":"IF((T86-'Fert selector'!$E$13)<0,(T86-'Fert selector'!$E$13)*-1,T86-'Fert selector'!$E$13)","v":0},{"$f":"IF(T86<('Fert selector'!$E$13+'Fert selector'!$E$13*'Fert selector'!$E$17),0,1)&IF(T86>('Fert selector'!$E$13-'Fert selector'!$E$13*'Fert selector'!$E$18),0,1)","v":"11"},{"$f":"IF(G86=0,0,'Fert selector'!$F$13/G86)","v":0},{"$f":"IF('Fert selector'!$D$15=\"Y\",$G86*$N86,IF('Fert selector'!$E$15=\"Y\",$G86*$S86,IF('Fert selector'!$F$15=\"Y\",$G86*$X86,IF('Fert selector'!$G$15=\"Y\",$G86*$AC86))))","v":0},90,{"$f":"IF((Y86-'Fert selector'!$F$13)<0,(Y86-'Fert selector'!$F$13)*-1,Y86-'Fert selector'!$F$13)","v":90},{"$f":"IF(Y86<('Fert selector'!$F$13+'Fert selector'!$F$13*'Fert selector'!$F$17),0,1)&IF(Y86>('Fert selector'!$F$13-'Fert selector'!$F$13*'Fert selector'!$F$18),0,1)","v":"01"},{"$f":"IF(H86=0,0,'Fert selector'!$G$13/H86)","v":0},{"$f":"IF('Fert selector'!$D$15=\"Y\",$H86*$N86,IF('Fert selector'!$E$15=\"Y\",$H86*$S86,IF('Fert selector'!$F$15=\"Y\",$H86*$X86,IF('Fert selector'!$G$15=\"Y\",$H86*$AC86))))","v":0},0,{"$f":"IF((AD86-'Fert selector'!$G$13)<0,(AD86-'Fert selector'!$G$13)*-1,AD86-'Fert selector'!$G$13)","v":0},{"$f":"IF(AD86<('Fert selector'!$G$13+'Fert selector'!$G$13*'Fert selector'!$G$17),0,1)&IF(AD86>('Fert selector'!$G$13-'Fert selector'!$G$13*'Fert selector'!$G$18),0,1)","v":"11"}]
[null,null,null,null,null,null,null,null,null,null,null,null,null,{"$f":"IF(E87=0,0,'Fert selector'!$D$13/E87)","v":0},{"$f":"IF('Fert selector'!$D$15=\"Y\",E87*N87,IF('Fert selector'!$E$15=\"Y\",F87*S87,IF('Fert selector'!$F$15=\"Y\",G87*X87,IF('Fert selector'!$G$15=\"Y\",H87*AC87))))","v":0},150,{"$f":"IF((O87-'Fert selector'!$D$13)<0,(O87-'Fert selector'!$D$13)*-1,O87-'Fert selector'!$D$13)","v":150},{"$f":"IF(O87<('Fert selector'!$D$13+'Fert selector'!$D$13*'Fert selector'!$D$17),0,1)&IF(O87>('Fert selector'!$D$13-'Fert selector'!$D$13*'Fert selector'!$D$18),0,1)","v":"01"},{"$f":"IF(F87=0,0,'Fert selector'!$E$13/F87)","v":0},{"$f":"IF('Fert selector'!$D$15=\"Y\",$F87*$N87,IF('Fert selector'!$E$15=\"Y\",$F87*$S87,IF('Fert selector'!$F$15=\"Y\",$F87*$X87,IF('Fert selector'!$G$15=\"Y\",$F87*$AC87))))","v":0},0,{"$f":"IF((T87-'Fert selector'!$E$13)<0,(T87-'Fert selector'!$E$13)*-1,T87-'Fert selector'!$E$13)","v":0},{"$f":"IF(T87<('Fert selector'!$E$13+'Fert selector'!$E$13*'Fert selector'!$E$17),0,1)&IF(T87>('Fert selector'!$E$13-'Fert selector'!$E$13*'Fert selector'!$E$18),0,1)","v":"11"},{"$f":"IF(G87=0,0,'Fert selector'!$F$13/G87)","v":0},{"$f":"IF('Fert selector'!$D$15=\"Y\",$G87*$N87,IF('Fert selector'!$E$15=\"Y\",$G87*$S87,IF('Fert selector'!$F$15=\"Y\",$G87*$X87,IF('Fert selector'!$G$15=\"Y\",$G87*$AC87))))","v":0},90,{"$f":"IF((Y87-'Fert selector'!$F$13)<0,(Y87-'Fert selector'!$F$13)*-1,Y87-'Fert selector'!$F$13)","v":90},{"$f":"IF(Y87<('Fert selector'!$F$13+'Fert selector'!$F$13*'Fert selector'!$F$17),0,1)&IF(Y87>('Fert selector'!$F$13-'Fert selector'!$F$13*'Fert selector'!$F$18),0,1)","v":"01"},{"$f":"IF(H87=0,0,'Fert selector'!$G$13/H87)","v":0},{"$f":"IF('Fert selector'!$D$15=\"Y\",$H87*$N87,IF('Fert selector'!$E$15=\"Y\",$H87*$S87,IF('Fert selector'!$F$15=\"Y\",$H87*$X87,IF('Fert selector'!$G$15=\"Y\",$H87*$AC87))))","v":0},0,{"$f":"IF((AD87-'Fert selector'!$G$13)<0,(AD87-'Fert selector'!$G$13)*-1,AD87-'Fert selector'!$G$13)","v":0},{"$f":"IF(AD87<('Fert selector'!$G$13+'Fert selector'!$G$13*'Fert selector'!$G$17),0,1)&IF(AD87>('Fert selector'!$G$13-'Fert selector'!$G$13*'Fert selector'!$G$18),0,1)","v":"11"}]
[null,null,null,null,null,null,null,null,null,null,null,null,null,{"$f":"IF(E88=0,0,'Fert selector'!$D$13/E88)","v":0},{"$f":"IF('Fert selector'!$D$15=\"Y\",E88*N88,IF('Fert selector'!$E$15=\"Y\",F88*S88,IF('Fert selector'!$F$15=\"Y\",G88*X88,IF('Fert selector'!$G$15=\"Y\",H88*AC88))))","v":0},150,{"$f":"IF((O88-'Fert selector'!$D$13)<0,(O88-'Fert selector'!$D$13)*-1,O88-'Fert selector'!$D$13)","v":150},{"$f":"IF(O88<('Fert selector'!$D$13+'Fert selector'!$D$13*'Fert selector'!$D$17),0,1)&IF(O88>('Fert selector'!$D$13-'Fert selector'!$D$13*'Fert selector'!$D$18),0,1)","v":"01"},{"$f":"IF(F88=0,0,'Fert selector'!$E$13/F88)","v":0},{"$f":"IF('Fert selector'!$D$15=\"Y\",$F88*$N88,IF('Fert selector'!$E$15=\"Y\",$F88*$S88,IF('Fert selector'!$F$15=\"Y\",$F88*$X88,IF('Fert selector'!$G$15=\"Y\",$F88*$AC88))))","v":0},0,{"$f":"IF((T88-'Fert selector'!$E$13)<0,(T88-'Fert selector'!$E$13)*-1,T88-'Fert selector'!$E$13)","v":0},{"$f":"IF(T88<('Fert selector'!$E$13+'Fert selector'!$E$13*'Fert selector'!$E$17),0,1)&IF(T88>('Fert selector'!$E$13-'Fert selector'!$E$13*'Fert selector'!$E$18),0,1)","v":"11"},{"$f":"IF(G88=0,0,'Fert selector'!$F$13/G88)","v":0},{"$f":"IF('Fert selector'!$D$15=\"Y\",$G88*$N88,IF('Fert selector'!$E$15=\"Y\",$G88*$S88,IF('Fert selector'!$F$15=\"Y\",$G88*$X88,IF('Fert selector'!$G$15=\"Y\",$G88*$AC88))))","v":0},90,{"$f":"IF((Y88-'Fert selector'!$F$13)<0,(Y88-'Fert selector'!$F$13)*-1,Y88-'Fert selector'!$F$13)","v":90},{"$f":"IF(Y88<('Fert selector'!$F$13+'Fert selector'!$F$13*'Fert selector'!$F$17),0,1)&IF(Y88>('Fert selector'!$F$13-'Fert selector'!$F$13*'Fert selector'!$F$18),0,1)","v":"01"},{"$f":"IF(H88=0,0,'Fert selector'!$G$13/H88)","v":0},{"$f":"IF('Fert selector'!$D$15=\"Y\",$H88*$N88,IF('Fert selector'!$E$15=\"Y\",$H88*$S88,IF('Fert selector'!$F$15=\"Y\",$H88*$X88,IF('Fert selector'!$G$15=\"Y\",$H88*$AC88))))","v":0},0,{"$f":"IF((AD88-'Fert selector'!$G$13)<0,(AD88-'Fert selector'!$G$13)*-1,AD88-'Fert selector'!$G$13)","v":0},{"$f":"IF(AD88<('Fert selector'!$G$13+'Fert selector'!$G$13*'Fert selector'!$G$17),0,1)&IF(AD88>('Fert selector'!$G$13-'Fert selector'!$G$13*'Fert selector'!$G$18),0,1)","v":"11"}]
[null,null,null,null,null,null,null,null,null,null,null,null,null,{"$f":"IF(E89=0,0,'Fert selector'!$D$13/E89)","v":0},{"$f":"IF('Fert selector'!$D$15=\"Y\",E89*N89,IF('Fert selector'!$E$15=\"Y\",F89*S89,IF('Fert selector'!$F$15=\"Y\",G89*X89,IF('Fert selector'!$G$15=\"Y\",H89*AC89))))","v":0},150,{"$f":"IF((O89-'Fert selector'!$D$13)<0,(O89-'Fert selector'!$D$13)*-1,O89-'Fert selector'!$D$13)","v":150},{"$f":"IF(O89<('Fert selector'!$D$13+'Fert selector'!$D$13*'Fert selector'!$D$17),0,1)&IF(O89>('Fert selector'!$D$13-'Fert selector'!$D$13*'Fert selector'!$D$18),0,1)","v":"01"},{"$f":"IF(F89=0,0,'Fert selector'!$E$13/F89)","v":0},{"$f":"IF('Fert selector'!$D$15=\"Y\",$F89*$N89,IF('Fert selector'!$E$15=\"Y\",$F89*$S89,IF('Fert selector'!$F$15=\"Y\",$F89*$X89,IF('Fert selector'!$G$15=\"Y\",$F89*$AC89))))","v":0},0,{"$f":"IF((T89-'Fert selector'!$E$13)<0,(T89-'Fert selector'!$E$13)*-1,T89-'Fert selector'!$E$13)","v":0},{"$f":"IF(T89<('Fert selector'!$E$13+'Fert selector'!$E$13*'Fert selector'!$E$17),0,1)&IF(T89>('Fert selector'!$E$13-'Fert selector'!$E$13*'Fert selector'!$E$18),0,1)","v":"11"},{"$f":"IF(G89=0,0,'Fert selector'!$F$13/G89)","v":0},{"$f":"IF('Fert selector'!$D$15=\"Y\",$G89*$N89,IF('Fert selector'!$E$15=\"Y\",$G89*$S89,IF('Fert selector'!$F$15=\"Y\",$G89*$X89,IF('Fert selector'!$G$15=\"Y\",$G89*$AC89))))","v":0},90,{"$f":"IF((Y89-'Fert selector'!$F$13)<0,(Y89-'Fert selector'!$F$13)*-1,Y89-'Fert selector'!$F$13)","v":90},{"$f":"IF(Y89<('Fert selector'!$F$13+'Fert selector'!$F$13*'Fert selector'!$F$17),0,1)&IF(Y89>('Fert selector'!$F$13-'Fert selector'!$F$13*'Fert selector'!$F$18),0,1)","v":"01"},{"$f":"IF(H89=0,0,'Fert selector'!$G$13/H89)","v":0},{"$f":"IF('Fert selector'!$D$15=\"Y\",$H89*$N89,IF('Fert selector'!$E$15=\"Y\",$H89*$S89,IF('Fert selector'!$F$15=\"Y\",$H89*$X89,IF('Fert selector'!$G$15=\"Y\",$H89*$AC89))))","v":0},0,{"$f":"IF((AD89-'Fert selector'!$G$13)<0,(AD89-'Fert selector'!$G$13)*-1,AD89-'Fert selector'!$G$13)","v":0},{"$f":"IF(AD89<('Fert selector'!$G$13+'Fert selector'!$G$13*'Fert selector'!$G$17),0,1)&IF(AD89>('Fert selector'!$G$13-'Fert selector'!$G$13*'Fert selector'!$G$18),0,1)","v":"11"}]
[null,null,null,null,null,null,null,null,null,null,null,null,null,{"$f":"IF(E90=0,0,'Fert selector'!$D$13/E90)","v":0},{"$f":"IF('Fert selector'!$D$15=\"Y\",E90*N90,IF('Fert selector'!$E$15=\"Y\",F90*S90,IF('Fert selector'!$F$15=\"Y\",G90*X90,IF('Fert selector'!$G$15=\"Y\",H90*AC90))))","v":0},150,{"$f":"IF((O90-'Fert selector'!$D$13)<0,(O90-'Fert selector'!$D$13)*-1,O90-'Fert selector'!$D$13)","v":150},{"$f":"IF(O90<('Fert selector'!$D$13+'Fert selector'!$D$13*'Fert selector'!$D$17),0,1)&IF(O90>('Fert selector'!$D$13-'Fert selector'!$D$13*'Fert selector'!$D$18),0,1)","v":"01"},{"$f":"IF(F90=0,0,'Fert selector'!$E$13/F90)","v":0},{"$f":"IF('Fert selector'!$D$15=\"Y\",$F90*$N90,IF('Fert selector'!$E$15=\"Y\",$F90*$S90,IF('Fert selector'!$F$15=\"Y\",$F90*$X90,IF('Fert selector'!$G$15=\"Y\",$F90*$AC90))))","v":0},0,{"$f":"IF((T90-'Fert selector'!$E$13)<0,(T90-'Fert selector'!$E$13)*-1,T90-'Fert selector'!$E$13)","v":0},{"$f":"IF(T90<('Fert selector'!$E$13+'Fert selector'!$E$13*'Fert selector'!$E$17),0,1)&IF(T90>('Fert selector'!$E$13-'Fert selector'!$E$13*'Fert selector'!$E$18),0,1)","v":"11"},{"$f":"IF(G90=0,0,'Fert selector'!$F$13/G90)","v":0},{"$f":"IF('Fert selector'!$D$15=\"Y\",$G90*$N90,IF('Fert selector'!$E$15=\"Y\",$G90*$S90,IF('Fert selector'!$F$15=\"Y\",$G90*$X90,IF('Fert selector'!$G$15=\"Y\",$G90*$AC90))))","v":0},90,{"$f":"IF((Y90-'Fert selector'!$F$13)<0,(Y90-'Fert selector'!$F$13)*-1,Y90-'Fert selector'!$F$13)","v":90},{"$f":"IF(Y90<('Fert selector'!$F$13+'Fert selector'!$F$13*'Fert selector'!$F$17),0,1)&IF(Y90>('Fert selector'!$F$13-'Fert selector'!$F$13*'Fert selector'!$F$18),0,1)","v":"01"},{"$f":"IF(H90=0,0,'Fert selector'!$G$13/H90)","v":0},{"$f":"IF('Fert selector'!$D$15=\"Y\",$H90*$N90,IF('Fert selector'!$E$15=\"Y\",$H90*$S90,IF('Fert selector'!$F$15=\"Y\",$H90*$X90,IF('Fert selector'!$G$15=\"Y\",$H90*$AC90))))","v":0},0,{"$f":"IF((AD90-'Fert selector'!$G$13)<0,(AD90-'Fert selector'!$G$13)*-1,AD90-'Fert selector'!$G$13)","v":0},{"$f":"IF(AD90<('Fert selector'!$G$13+'Fert selector'!$G$13*'Fert selector'!$G$17),0,1)&IF(AD90>('Fert selector'!$G$13-'Fert selector'!$G$13*'Fert selector'!$G$18),0,1)","v":"11"}]
[null,null,null,null,null,null,null,null,null,null,null,null,null,{"$f":"IF(E91=0,0,'Fert selector'!$D$13/E91)","v":0},{"$f":"IF('Fert selector'!$D$15=\"Y\",E91*N91,IF('Fert selector'!$E$15=\"Y\",F91*S91,IF('Fert selector'!$F$15=\"Y\",G91*X91,IF('Fert selector'!$G$15=\"Y\",H91*AC91))))","v":0},{"$f":"IF(R91=\"00\",0,Q91)","v":150},{"$f":"IF((O91-'Fert selector'!$D$13)<0,(O91-'Fert selector'!$D$13)*-1,O91-'Fert selector'!$D$13)","v":150},{"$f":"IF(O91<('Fert selector'!$D$13+'Fert selector'!$D$13*'Fert selector'!$D$17),0,1)&IF(O91>('Fert selector'!$D$13-'Fert selector'!$D$13*'Fert selector'!$D$18),0,1)","v":"01"},{"$f":"IF(F91=0,0,'Fert selector'!$E$13/F91)","v":0},{"$f":"IF('Fert selector'!$D$15=\"Y\",$F91*$N91,IF('Fert selector'!$E$15=\"Y\",$F91*$S91,IF('Fert selector'!$F$15=\"Y\",$F91*$X91,IF('Fert selector'!$G$15=\"Y\",$F91*$AC91))))","v":0},{"$f":"IF(W91=\"00\",0,V91)","v":0},{"$f":"IF((T91-'Fert selector'!$E$13)<0,(T91-'Fert selector'!$E$13)*-1,T91-'Fert selector'!$E$13)","v":0},{"$f":"IF(T91<('Fert selector'!$E$13+'Fert selector'!$E$13*'Fert selector'!$E$17),0,1)&IF(T91>('Fert selector'!$E$13-'Fert selector'!$E$13*'Fert selector'!$E$18),0,1)","v":"11"},{"$f":"IF(G91=0,0,'Fert selector'!$F$13/G91)","v":0},{"$f":"IF('Fert selector'!$D$15=\"Y\",$G91*$N91,IF('Fert selector'!$E$15=\"Y\",$G91*$S91,IF('Fert selector'!$F$15=\"Y\",$G91*$X91,IF('Fert selector'!$G$15=\"Y\",$G91*$AC91))))","v":0},{"$f":"IF(AB91=\"00\",0,AA91)","v":90},{"$f":"IF((Y91-'Fert selector'!$F$13)<0,(Y91-'Fert selector'!$F$13)*-1,Y91-'Fert selector'!$F$13)","v":90},{"$f":"IF(Y91<('Fert selector'!$F$13+'Fert selector'!$F$13*'Fert selector'!$F$17),0,1)&IF(Y91>('Fert selector'!$F$13-'Fert selector'!$F$13*'Fert selector'!$F$18),0,1)","v":"01"},{"$f":"IF(H91=0,0,'Fert selector'!$G$13/H91)","v":0},{"$f":"IF('Fert selector'!$D$15=\"Y\",$H91*$N91,IF('Fert selector'!$E$15=\"Y\",$H91*$S91,IF('Fert selector'!$F$15=\"Y\",$H91*$X91,IF('Fert selector'!$G$15=\"Y\",$H91*$AC91))))","v":0},{"$f":"IF(AG91=\"00\",0,AF91)","v":0},{"$f":"IF((AD91-'Fert selector'!$G$13)<0,(AD91-'Fert selector'!$G$13)*-1,AD91-'Fert selector'!$G$13)","v":0},{"$f":"IF(AD91<('Fert selector'!$G$13+'Fert selector'!$G$13*'Fert selector'!$G$17),0,1)&IF(AD91>('Fert selector'!$G$13-'Fert selector'!$G$13*'Fert selector'!$G$18),0,1)","v":"11"}]
[null,null,null,null,null,null,null,null,null,null,null,null,null,{"$f":"IF(E92=0,0,'Fert selector'!$D$13/E92)","v":0},{"$f":"IF('Fert selector'!$D$15=\"Y\",E92*N92,IF('Fert selector'!$E$15=\"Y\",F92*S92,IF('Fert selector'!$F$15=\"Y\",G92*X92,IF('Fert selector'!$G$15=\"Y\",H92*AC92))))","v":0},150,{"$f":"IF((O92-'Fert selector'!$D$13)<0,(O92-'Fert selector'!$D$13)*-1,O92-'Fert selector'!$D$13)","v":150},{"$f":"IF(O92<('Fert selector'!$D$13+'Fert selector'!$D$13*'Fert selector'!$D$17),0,1)&IF(O92>('Fert selector'!$D$13-'Fert selector'!$D$13*'Fert selector'!$D$18),0,1)","v":"01"},{"$f":"IF(F92=0,0,'Fert selector'!$E$13/F92)","v":0},{"$f":"IF('Fert selector'!$D$15=\"Y\",$F92*$N92,IF('Fert selector'!$E$15=\"Y\",$F92*$S92,IF('Fert selector'!$F$15=\"Y\",$F92*$X92,IF('Fert selector'!$G$15=\"Y\",$F92*$AC92))))","v":0},0,{"$f":"IF((T92-'Fert selector'!$E$13)<0,(T92-'Fert selector'!$E$13)*-1,T92-'Fert selector'!$E$13)","v":0},{"$f":"IF(T92<('Fert selector'!$E$13+'Fert selector'!$E$13*'Fert selector'!$E$17),0,1)&IF(T92>('Fert selector'!$E$13-'Fert selector'!$E$13*'Fert selector'!$E$18),0,1)","v":"11"},{"$f":"IF(G92=0,0,'Fert selector'!$F$13/G92)","v":0},{"$f":"IF('Fert selector'!$D$15=\"Y\",$G92*$N92,IF('Fert selector'!$E$15=\"Y\",$G92*$S92,IF('Fert selector'!$F$15=\"Y\",$G92*$X92,IF('Fert selector'!$G$15=\"Y\",$G92*$AC92))))","v":0},90,{"$f":"IF((Y92-'Fert selector'!$F$13)<0,(Y92-'Fert selector'!$F$13)*-1,Y92-'Fert selector'!$F$13)","v":90},{"$f":"IF(Y92<('Fert selector'!$F$13+'Fert selector'!$F$13*'Fert selector'!$F$17),0,1)&IF(Y92>('Fert selector'!$F$13-'Fert selector'!$F$13*'Fert selector'!$F$18),0,1)","v":"01"},{"$f":"IF(H92=0,0,'Fert selector'!$G$13/H92)","v":0},{"$f":"IF('Fert selector'!$D$15=\"Y\",$H92*$N92,IF('Fert selector'!$E$15=\"Y\",$H92*$S92,IF('Fert selector'!$F$15=\"Y\",$H92*$X92,IF('Fert selector'!$G$15=\"Y\",$H92*$AC92))))","v":0},0,{"$f":"IF((AD92-'Fert selector'!$G$13)<0,(AD92-'Fert selector'!$G$13)*-1,AD92-'Fert selector'!$G$13)","v":0},{"$f":"IF(AD92<('Fert selector'!$G$13+'Fert selector'!$G$13*'Fert selector'!$G$17),0,1)&IF(AD92>('Fert selector'!$G$13-'Fert selector'!$G$13*'Fert selector'!$G$18),0,1)","v":"11"}]
[null,null,null,null,null,null,null,null,null,null,null,null,null,{"$f":"IF(E93=0,0,'Fert selector'!$D$13/E93)","v":0},{"$f":"IF('Fert selector'!$D$15=\"Y\",E93*N93,IF('Fert selector'!$E$15=\"Y\",F93*S93,IF('Fert selector'!$F$15=\"Y\",G93*X93,IF('Fert selector'!$G$15=\"Y\",H93*AC93))))","v":0},150,{"$f":"IF((O93-'Fert selector'!$D$13)<0,(O93-'Fert selector'!$D$13)*-1,O93-'Fert selector'!$D$13)","v":150},{"$f":"IF(O93<('Fert selector'!$D$13+'Fert selector'!$D$13*'Fert selector'!$D$17),0,1)&IF(O93>('Fert selector'!$D$13-'Fert selector'!$D$13*'Fert selector'!$D$18),0,1)","v":"01"},{"$f":"IF(F93=0,0,'Fert selector'!$E$13/F93)","v":0},{"$f":"IF('Fert selector'!$D$15=\"Y\",$F93*$N93,IF('Fert selector'!$E$15=\"Y\",$F93*$S93,IF('Fert selector'!$F$15=\"Y\",$F93*$X93,IF('Fert selector'!$G$15=\"Y\",$F93*$AC93))))","v":0},0,{"$f":"IF((T93-'Fert selector'!$E$13)<0,(T93-'Fert selector'!$E$13)*-1,T93-'Fert selector'!$E$13)","v":0},{"$f":"IF(T93<('Fert selector'!$E$13+'Fert selector'!$E$13*'Fert selector'!$E$17),0,1)&IF(T93>('Fert selector'!$E$13-'Fert selector'!$E$13*'Fert selector'!$E$18),0,1)","v":"11"},{"$f":"IF(G93=0,0,'Fert selector'!$F$13/G93)","v":0},{"$f":"IF('Fert selector'!$D$15=\"Y\",$G93*$N93,IF('Fert selector'!$E$15=\"Y\",$G93*$S93,IF('Fert selector'!$F$15=\"Y\",$G93*$X93,IF('Fert selector'!$G$15=\"Y\",$G93*$AC93))))","v":0},90,{"$f":"IF((Y93-'Fert selector'!$F$13)<0,(Y93-'Fert selector'!$F$13)*-1,Y93-'Fert selector'!$F$13)","v":90},{"$f":"IF(Y93<('Fert selector'!$F$13+'Fert selector'!$F$13*'Fert selector'!$F$17),0,1)&IF(Y93>('Fert selector'!$F$13-'Fert selector'!$F$13*'Fert selector'!$F$18),0,1)","v":"01"},{"$f":"IF(H93=0,0,'Fert selector'!$G$13/H93)","v":0},{"$f":"IF('Fert selector'!$D$15=\"Y\",$H93*$N93,IF('Fert selector'!$E$15=\"Y\",$H93*$S93,IF('Fert selector'!$F$15=\"Y\",$H93*$X93,IF('Fert selector'!$G$15=\"Y\",$H93*$AC93))))","v":0},0,{"$f":"IF((AD93-'Fert selector'!$G$13)<0,(AD93-'Fert selector'!$G$13)*-1,AD93-'Fert selector'!$G$13)","v":0},{"$f":"IF(AD93<('Fert selector'!$G$13+'Fert selector'!$G$13*'Fert selector'!$G$17),0,1)&IF(AD93>('Fert selector'!$G$13-'Fert selector'!$G$13*'Fert selector'!$G$18),0,1)","v":"11"}]
[null,null,null,null,null,null,null,null,null,null,null,null,null,{"$f":"IF(E94=0,0,'Fert selector'!$D$13/E94)","v":0},{"$f":"IF('Fert selector'!$D$15=\"Y\",E94*N94,IF('Fert selector'!$E$15=\"Y\",F94*S94,IF('Fert selector'!$F$15=\"Y\",G94*X94,IF('Fert selector'!$G$15=\"Y\",H94*AC94))))","v":0},150,{"$f":"IF((O94-'Fert selector'!$D$13)<0,(O94-'Fert selector'!$D$13)*-1,O94-'Fert selector'!$D$13)","v":150},{"$f":"IF(O94<('Fert selector'!$D$13+'Fert selector'!$D$13*'Fert selector'!$D$17),0,1)&IF(O94>('Fert selector'!$D$13-'Fert selector'!$D$13*'Fert selector'!$D$18),0,1)","v":"01"},{"$f":"IF(F94=0,0,'Fert selector'!$E$13/F94)","v":0},{"$f":"IF('Fert selector'!$D$15=\"Y\",$F94*$N94,IF('Fert selector'!$E$15=\"Y\",$F94*$S94,IF('Fert selector'!$F$15=\"Y\",$F94*$X94,IF('Fert selector'!$G$15=\"Y\",$F94*$AC94))))","v":0},0,{"$f":"IF((T94-'Fert selector'!$E$13)<0,(T94-'Fert selector'!$E$13)*-1,T94-'Fert selector'!$E$13)","v":0},{"$f":"IF(T94<('Fert selector'!$E$13+'Fert selector'!$E$13*'Fert selector'!$E$17),0,1)&IF(T94>('Fert selector'!$E$13-'Fert selector'!$E$13*'Fert selector'!$E$18),0,1)","v":"11"},{"$f":"IF(G94=0,0,'Fert selector'!$F$13/G94)","v":0},{"$f":"IF('Fert selector'!$D$15=\"Y\",$G94*$N94,IF('Fert selector'!$E$15=\"Y\",$G94*$S94,IF('Fert selector'!$F$15=\"Y\",$G94*$X94,IF('Fert selector'!$G$15=\"Y\",$G94*$AC94))))","v":0},90,{"$f":"IF((Y94-'Fert selector'!$F$13)<0,(Y94-'Fert selector'!$F$13)*-1,Y94-'Fert selector'!$F$13)","v":90},{"$f":"IF(Y94<('Fert selector'!$F$13+'Fert selector'!$F$13*'Fert selector'!$F$17),0,1)&IF(Y94>('Fert selector'!$F$13-'Fert selector'!$F$13*'Fert selector'!$F$18),0,1)","v":"01"},{"$f":"IF(H94=0,0,'Fert selector'!$G$13/H94)","v":0},{"$f":"IF('Fert selector'!$D$15=\"Y\",$H94*$N94,IF('Fert selector'!$E$15=\"Y\",$H94*$S94,IF('Fert selector'!$F$15=\"Y\",$H94*$X94,IF('Fert selector'!$G$15=\"Y\",$H94*$AC94))))","v":0},0,{"$f":"IF((AD94-'Fert selector'!$G$13)<0,(AD94-'Fert selector'!$G$13)*-1,AD94-'Fert selector'!$G$13)","v":0},{"$f":"IF(AD94<('Fert selector'!$G$13+'Fert selector'!$G$13*'Fert selector'!$G$17),0,1)&IF(AD94>('Fert selector'!$G$13-'Fert selector'!$G$13*'Fert selector'!$G$18),0,1)","v":"11"}]
[null,null,null,null,null,null,null,null,null,null,null,null,null,{"$f":"IF(E95=0,0,'Fert selector'!$D$13/E95)","v":0},{"$f":"IF('Fert selector'!$D$15=\"Y\",E95*N95,IF('Fert selector'!$E$15=\"Y\",F95*S95,IF('Fert selector'!$F$15=\"Y\",G95*X95,IF('Fert selector'!$G$15=\"Y\",H95*AC95))))","v":0},150,{"$f":"IF((O95-'Fert selector'!$D$13)<0,(O95-'Fert selector'!$D$13)*-1,O95-'Fert selector'!$D$13)","v":150},{"$f":"IF(O95<('Fert selector'!$D$13+'Fert selector'!$D$13*'Fert selector'!$D$17),0,1)&IF(O95>('Fert selector'!$D$13-'Fert selector'!$D$13*'Fert selector'!$D$18),0,1)","v":"01"},{"$f":"IF(F95=0,0,'Fert selector'!$E$13/F95)","v":0},{"$f":"IF('Fert selector'!$D$15=\"Y\",$F95*$N95,IF('Fert selector'!$E$15=\"Y\",$F95*$S95,IF('Fert selector'!$F$15=\"Y\",$F95*$X95,IF('Fert selector'!$G$15=\"Y\",$F95*$AC95))))","v":0},0,{"$f":"IF((T95-'Fert selector'!$E$13)<0,(T95-'Fert selector'!$E$13)*-1,T95-'Fert selector'!$E$13)","v":0},{"$f":"IF(T95<('Fert selector'!$E$13+'Fert selector'!$E$13*'Fert selector'!$E$17),0,1)&IF(T95>('Fert selector'!$E$13-'Fert selector'!$E$13*'Fert selector'!$E$18),0,1)","v":"11"},{"$f":"IF(G95=0,0,'Fert selector'!$F$13/G95)","v":0},{"$f":"IF('Fert selector'!$D$15=\"Y\",$G95*$N95,IF('Fert selector'!$E$15=\"Y\",$G95*$S95,IF('Fert selector'!$F$15=\"Y\",$G95*$X95,IF('Fert selector'!$G$15=\"Y\",$G95*$AC95))))","v":0},90,{"$f":"IF((Y95-'Fert selector'!$F$13)<0,(Y95-'Fert selector'!$F$13)*-1,Y95-'Fert selector'!$F$13)","v":90},{"$f":"IF(Y95<('Fert selector'!$F$13+'Fert selector'!$F$13*'Fert selector'!$F$17),0,1)&IF(Y95>('Fert selector'!$F$13-'Fert selector'!$F$13*'Fert selector'!$F$18),0,1)","v":"01"},{"$f":"IF(H95=0,0,'Fert selector'!$G$13/H95)","v":0},{"$f":"IF('Fert selector'!$D$15=\"Y\",$H95*$N95,IF('Fert selector'!$E$15=\"Y\",$H95*$S95,IF('Fert selector'!$F$15=\"Y\",$H95*$X95,IF('Fert selector'!$G$15=\"Y\",$H95*$AC95))))","v":0},0,{"$f":"IF((AD95-'Fert selector'!$G$13)<0,(AD95-'Fert selector'!$G$13)*-1,AD95-'Fert selector'!$G$13)","v":0},{"$f":"IF(AD95<('Fert selector'!$G$13+'Fert selector'!$G$13*'Fert selector'!$G$17),0,1)&IF(AD95>('Fert selector'!$G$13-'Fert selector'!$G$13*'Fert selector'!$G$18),0,1)","v":"11"}]
[null,null,null,null,null,null,null,null,null,null,null,null,null,{"$f":"IF(E96=0,0,'Fert selector'!$D$13/E96)","v":0},{"$f":"IF('Fert selector'!$D$15=\"Y\",E96*N96,IF('Fert selector'!$E$15=\"Y\",F96*S96,IF('Fert selector'!$F$15=\"Y\",G96*X96,IF('Fert selector'!$G$15=\"Y\",H96*AC96))))","v":0},150,{"$f":"IF((O96-'Fert selector'!$D$13)<0,(O96-'Fert selector'!$D$13)*-1,O96-'Fert selector'!$D$13)","v":150},{"$f":"IF(O96<('Fert selector'!$D$13+'Fert selector'!$D$13*'Fert selector'!$D$17),0,1)&IF(O96>('Fert selector'!$D$13-'Fert selector'!$D$13*'Fert selector'!$D$18),0,1)","v":"01"},{"$f":"IF(F96=0,0,'Fert selector'!$E$13/F96)","v":0},{"$f":"IF('Fert selector'!$D$15=\"Y\",$F96*$N96,IF('Fert selector'!$E$15=\"Y\",$F96*$S96,IF('Fert selector'!$F$15=\"Y\",$F96*$X96,IF('Fert selector'!$G$15=\"Y\",$F96*$AC96))))","v":0},0,{"$f":"IF((T96-'Fert selector'!$E$13)<0,(T96-'Fert selector'!$E$13)*-1,T96-'Fert selector'!$E$13)","v":0},{"$f":"IF(T96<('Fert selector'!$E$13+'Fert selector'!$E$13*'Fert selector'!$E$17),0,1)&IF(T96>('Fert selector'!$E$13-'Fert selector'!$E$13*'Fert selector'!$E$18),0,1)","v":"11"},{"$f":"IF(G96=0,0,'Fert selector'!$F$13/G96)","v":0},{"$f":"IF('Fert selector'!$D$15=\"Y\",$G96*$N96,IF('Fert selector'!$E$15=\"Y\",$G96*$S96,IF('Fert selector'!$F$15=\"Y\",$G96*$X96,IF('Fert selector'!$G$15=\"Y\",$G96*$AC96))))","v":0},90,{"$f":"IF((Y96-'Fert selector'!$F$13)<0,(Y96-'Fert selector'!$F$13)*-1,Y96-'Fert selector'!$F$13)","v":90},{"$f":"IF(Y96<('Fert selector'!$F$13+'Fert selector'!$F$13*'Fert selector'!$F$17),0,1)&IF(Y96>('Fert selector'!$F$13-'Fert selector'!$F$13*'Fert selector'!$F$18),0,1)","v":"01"},{"$f":"IF(H96=0,0,'Fert selector'!$G$13/H96)","v":0},{"$f":"IF('Fert selector'!$D$15=\"Y\",$H96*$N96,IF('Fert selector'!$E$15=\"Y\",$H96*$S96,IF('Fert selector'!$F$15=\"Y\",$H96*$X96,IF('Fert selector'!$G$15=\"Y\",$H96*$AC96))))","v":0},0,{"$f":"IF((AD96-'Fert selector'!$G$13)<0,(AD96-'Fert selector'!$G$13)*-1,AD96-'Fert selector'!$G$13)","v":0},{"$f":"IF(AD96<('Fert selector'!$G$13+'Fert selector'!$G$13*'Fert selector'!$G$17),0,1)&IF(AD96>('Fert selector'!$G$13-'Fert selector'!$G$13*'Fert selector'!$G$18),0,1)","v":"11"}]
[null,null,null,null,null,null,null,null,null,null,null,null,null,{"$f":"IF(E97=0,0,'Fert selector'!$D$13/E97)","v":0},{"$f":"IF('Fert selector'!$D$15=\"Y\",E97*N97,IF('Fert selector'!$E$15=\"Y\",F97*S97,IF('Fert selector'!$F$15=\"Y\",G97*X97,IF('Fert selector'!$G$15=\"Y\",H97*AC97))))","v":0},150,{"$f":"IF((O97-'Fert selector'!$D$13)<0,(O97-'Fert selector'!$D$13)*-1,O97-'Fert selector'!$D$13)","v":150},{"$f":"IF(O97<('Fert selector'!$D$13+'Fert selector'!$D$13*'Fert selector'!$D$17),0,1)&IF(O97>('Fert selector'!$D$13-'Fert selector'!$D$13*'Fert selector'!$D$18),0,1)","v":"01"},{"$f":"IF(F97=0,0,'Fert selector'!$E$13/F97)","v":0},{"$f":"IF('Fert selector'!$D$15=\"Y\",$F97*$N97,IF('Fert selector'!$E$15=\"Y\",$F97*$S97,IF('Fert selector'!$F$15=\"Y\",$F97*$X97,IF('Fert selector'!$G$15=\"Y\",$F97*$AC97))))","v":0},0,{"$f":"IF((T97-'Fert selector'!$E$13)<0,(T97-'Fert selector'!$E$13)*-1,T97-'Fert selector'!$E$13)","v":0},{"$f":"IF(T97<('Fert selector'!$E$13+'Fert selector'!$E$13*'Fert selector'!$E$17),0,1)&IF(T97>('Fert selector'!$E$13-'Fert selector'!$E$13*'Fert selector'!$E$18),0,1)","v":"11"},{"$f":"IF(G97=0,0,'Fert selector'!$F$13/G97)","v":0},{"$f":"IF('Fert selector'!$D$15=\"Y\",$G97*$N97,IF('Fert selector'!$E$15=\"Y\",$G97*$S97,IF('Fert selector'!$F$15=\"Y\",$G97*$X97,IF('Fert selector'!$G$15=\"Y\",$G97*$AC97))))","v":0},90,{"$f":"IF((Y97-'Fert selector'!$F$13)<0,(Y97-'Fert selector'!$F$13)*-1,Y97-'Fert selector'!$F$13)","v":90},{"$f":"IF(Y97<('Fert selector'!$F$13+'Fert selector'!$F$13*'Fert selector'!$F$17),0,1)&IF(Y97>('Fert selector'!$F$13-'Fert selector'!$F$13*'Fert selector'!$F$18),0,1)","v":"01"},{"$f":"IF(H97=0,0,'Fert selector'!$G$13/H97)","v":0},{"$f":"IF('Fert selector'!$D$15=\"Y\",$H97*$N97,IF('Fert selector'!$E$15=\"Y\",$H97*$S97,IF('Fert selector'!$F$15=\"Y\",$H97*$X97,IF('Fert selector'!$G$15=\"Y\",$H97*$AC97))))","v":0},0,{"$f":"IF((AD97-'Fert selector'!$G$13)<0,(AD97-'Fert selector'!$G$13)*-1,AD97-'Fert selector'!$G$13)","v":0},{"$f":"IF(AD97<('Fert selector'!$G$13+'Fert selector'!$G$13*'Fert selector'!$G$17),0,1)&IF(AD97>('Fert selector'!$G$13-'Fert selector'!$G$13*'Fert selector'!$G$18),0,1)","v":"11"}]
[null,null,null,null,null,null,null,null,null,null,null,null,null,{"$f":"IF(E98=0,0,'Fert selector'!$D$13/E98)","v":0},{"$f":"IF('Fert selector'!$D$15=\"Y\",E98*N98,IF('Fert selector'!$E$15=\"Y\",F98*S98,IF('Fert selector'!$F$15=\"Y\",G98*X98,IF('Fert selector'!$G$15=\"Y\",H98*AC98))))","v":0},150,{"$f":"IF((O98-'Fert selector'!$D$13)<0,(O98-'Fert selector'!$D$13)*-1,O98-'Fert selector'!$D$13)","v":150},{"$f":"IF(O98<('Fert selector'!$D$13+'Fert selector'!$D$13*'Fert selector'!$D$17),0,1)&IF(O98>('Fert selector'!$D$13-'Fert selector'!$D$13*'Fert selector'!$D$18),0,1)","v":"01"},{"$f":"IF(F98=0,0,'Fert selector'!$E$13/F98)","v":0},{"$f":"IF('Fert selector'!$D$15=\"Y\",$F98*$N98,IF('Fert selector'!$E$15=\"Y\",$F98*$S98,IF('Fert selector'!$F$15=\"Y\",$F98*$X98,IF('Fert selector'!$G$15=\"Y\",$F98*$AC98))))","v":0},0,{"$f":"IF((T98-'Fert selector'!$E$13)<0,(T98-'Fert selector'!$E$13)*-1,T98-'Fert selector'!$E$13)","v":0},{"$f":"IF(T98<('Fert selector'!$E$13+'Fert selector'!$E$13*'Fert selector'!$E$17),0,1)&IF(T98>('Fert selector'!$E$13-'Fert selector'!$E$13*'Fert selector'!$E$18),0,1)","v":"11"},{"$f":"IF(G98=0,0,'Fert selector'!$F$13/G98)","v":0},{"$f":"IF('Fert selector'!$D$15=\"Y\",$G98*$N98,IF('Fert selector'!$E$15=\"Y\",$G98*$S98,IF('Fert selector'!$F$15=\"Y\",$G98*$X98,IF('Fert selector'!$G$15=\"Y\",$G98*$AC98))))","v":0},90,{"$f":"IF((Y98-'Fert selector'!$F$13)<0,(Y98-'Fert selector'!$F$13)*-1,Y98-'Fert selector'!$F$13)","v":90},{"$f":"IF(Y98<('Fert selector'!$F$13+'Fert selector'!$F$13*'Fert selector'!$F$17),0,1)&IF(Y98>('Fert selector'!$F$13-'Fert selector'!$F$13*'Fert selector'!$F$18),0,1)","v":"01"},{"$f":"IF(H98=0,0,'Fert selector'!$G$13/H98)","v":0},{"$f":"IF('Fert selector'!$D$15=\"Y\",$H98*$N98,IF('Fert selector'!$E$15=\"Y\",$H98*$S98,IF('Fert selector'!$F$15=\"Y\",$H98*$X98,IF('Fert selector'!$G$15=\"Y\",$H98*$AC98))))","v":0},0,{"$f":"IF((AD98-'Fert selector'!$G$13)<0,(AD98-'Fert selector'!$G$13)*-1,AD98-'Fert selector'!$G$13)","v":0},{"$f":"IF(AD98<('Fert selector'!$G$13+'Fert selector'!$G$13*'Fert selector'!$G$17),0,1)&IF(AD98>('Fert selector'!$G$13-'Fert selector'!$G$13*'Fert selector'!$G$18),0,1)","v":"11"}]
[null,null,null,null,null,null,null,null,null,null,null,null,null,{"$f":"IF(E99=0,0,'Fert selector'!$D$13/E99)","v":0},{"$f":"IF('Fert selector'!$D$15=\"Y\",E99*N99,IF('Fert selector'!$E$15=\"Y\",F99*S99,IF('Fert selector'!$F$15=\"Y\",G99*X99,IF('Fert selector'!$G$15=\"Y\",H99*AC99))))","v":0},150,{"$f":"IF((O99-'Fert selector'!$D$13)<0,(O99-'Fert selector'!$D$13)*-1,O99-'Fert selector'!$D$13)","v":150},{"$f":"IF(O99<('Fert selector'!$D$13+'Fert selector'!$D$13*'Fert selector'!$D$17),0,1)&IF(O99>('Fert selector'!$D$13-'Fert selector'!$D$13*'Fert selector'!$D$18),0,1)","v":"01"},{"$f":"IF(F99=0,0,'Fert selector'!$E$13/F99)","v":0},{"$f":"IF('Fert selector'!$D$15=\"Y\",$F99*$N99,IF('Fert selector'!$E$15=\"Y\",$F99*$S99,IF('Fert selector'!$F$15=\"Y\",$F99*$X99,IF('Fert selector'!$G$15=\"Y\",$F99*$AC99))))","v":0},0,{"$f":"IF((T99-'Fert selector'!$E$13)<0,(T99-'Fert selector'!$E$13)*-1,T99-'Fert selector'!$E$13)","v":0},{"$f":"IF(T99<('Fert selector'!$E$13+'Fert selector'!$E$13*'Fert selector'!$E$17),0,1)&IF(T99>('Fert selector'!$E$13-'Fert selector'!$E$13*'Fert selector'!$E$18),0,1)","v":"11"},{"$f":"IF(G99=0,0,'Fert selector'!$F$13/G99)","v":0},{"$f":"IF('Fert selector'!$D$15=\"Y\",$G99*$N99,IF('Fert selector'!$E$15=\"Y\",$G99*$S99,IF('Fert selector'!$F$15=\"Y\",$G99*$X99,IF('Fert selector'!$G$15=\"Y\",$G99*$AC99))))","v":0},90,{"$f":"IF((Y99-'Fert selector'!$F$13)<0,(Y99-'Fert selector'!$F$13)*-1,Y99-'Fert selector'!$F$13)","v":90},{"$f":"IF(Y99<('Fert selector'!$F$13+'Fert selector'!$F$13*'Fert selector'!$F$17),0,1)&IF(Y99>('Fert selector'!$F$13-'Fert selector'!$F$13*'Fert selector'!$F$18),0,1)","v":"01"},{"$f":"IF(H99=0,0,'Fert selector'!$G$13/H99)","v":0},{"$f":"IF('Fert selector'!$D$15=\"Y\",$H99*$N99,IF('Fert selector'!$E$15=\"Y\",$H99*$S99,IF('Fert selector'!$F$15=\"Y\",$H99*$X99,IF('Fert selector'!$G$15=\"Y\",$H99*$AC99))))","v":0},0,{"$f":"IF((AD99-'Fert selector'!$G$13)<0,(AD99-'Fert selector'!$G$13)*-1,AD99-'Fert selector'!$G$13)","v":0},{"$f":"IF(AD99<('Fert selector'!$G$13+'Fert selector'!$G$13*'Fert selector'!$G$17),0,1)&IF(AD99>('Fert selector'!$G$13-'Fert selector'!$G$13*'Fert selector'!$G$18),0,1)","v":"11"}]
[null,null,null,null,null,null,null,null,null,null,null,null,null,{"$f":"IF(E100=0,0,'Fert selector'!$D$13/E100)","v":0},{"$f":"IF('Fert selector'!$D$15=\"Y\",E100*N100,IF('Fert selector'!$E$15=\"Y\",F100*S100,IF('Fert selector'!$F$15=\"Y\",G100*X100,IF('Fert selector'!$G$15=\"Y\",H100*AC100))))","v":0},150,{"$f":"IF((O100-'Fert selector'!$D$13)<0,(O100-'Fert selector'!$D$13)*-1,O100-'Fert selector'!$D$13)","v":150},{"$f":"IF(O100<('Fert selector'!$D$13+'Fert selector'!$D$13*'Fert selector'!$D$17),0,1)&IF(O100>('Fert selector'!$D$13-'Fert selector'!$D$13*'Fert selector'!$D$18),0,1)","v":"01"},{"$f":"IF(F100=0,0,'Fert selector'!$E$13/F100)","v":0},{"$f":"IF('Fert selector'!$D$15=\"Y\",$F100*$N100,IF('Fert selector'!$E$15=\"Y\",$F100*$S100,IF('Fert selector'!$F$15=\"Y\",$F100*$X100,IF('Fert selector'!$G$15=\"Y\",$F100*$AC100))))","v":0},0,{"$f":"IF((T100-'Fert selector'!$E$13)<0,(T100-'Fert selector'!$E$13)*-1,T100-'Fert selector'!$E$13)","v":0},{"$f":"IF(T100<('Fert selector'!$E$13+'Fert selector'!$E$13*'Fert selector'!$E$17),0,1)&IF(T100>('Fert selector'!$E$13-'Fert selector'!$E$13*'Fert selector'!$E$18),0,1)","v":"11"},{"$f":"IF(G100=0,0,'Fert selector'!$F$13/G100)","v":0},{"$f":"IF('Fert selector'!$D$15=\"Y\",$G100*$N100,IF('Fert selector'!$E$15=\"Y\",$G100*$S100,IF('Fert selector'!$F$15=\"Y\",$G100*$X100,IF('Fert selector'!$G$15=\"Y\",$G100*$AC100))))","v":0},90,{"$f":"IF((Y100-'Fert selector'!$F$13)<0,(Y100-'Fert selector'!$F$13)*-1,Y100-'Fert selector'!$F$13)","v":90},{"$f":"IF(Y100<('Fert selector'!$F$13+'Fert selector'!$F$13*'Fert selector'!$F$17),0,1)&IF(Y100>('Fert selector'!$F$13-'Fert selector'!$F$13*'Fert selector'!$F$18),0,1)","v":"01"},{"$f":"IF(H100=0,0,'Fert selector'!$G$13/H100)","v":0},{"$f":"IF('Fert selector'!$D$15=\"Y\",$H100*$N100,IF('Fert selector'!$E$15=\"Y\",$H100*$S100,IF('Fert selector'!$F$15=\"Y\",$H100*$X100,IF('Fert selector'!$G$15=\"Y\",$H100*$AC100))))","v":0},0,{"$f":"IF((AD100-'Fert selector'!$G$13)<0,(AD100-'Fert selector'!$G$13)*-1,AD100-'Fert selector'!$G$13)","v":0},{"$f":"IF(AD100<('Fert selector'!$G$13+'Fert selector'!$G$13*'Fert selector'!$G$17),0,1)&IF(AD100>('Fert selector'!$G$13-'Fert selector'!$G$13*'Fert selector'!$G$18),0,1)","v":"11"}]
[null,null,null,null,null,null,null,null,null,null,null,null,null,{"$f":"IF(E101=0,0,'Fert selector'!$D$13/E101)","v":0},{"$f":"IF('Fert selector'!$D$15=\"Y\",E101*N101,IF('Fert selector'!$E$15=\"Y\",F101*S101,IF('Fert selector'!$F$15=\"Y\",G101*X101,IF('Fert selector'!$G$15=\"Y\",H101*AC101))))","v":0},150,{"$f":"IF((O101-'Fert selector'!$D$13)<0,(O101-'Fert selector'!$D$13)*-1,O101-'Fert selector'!$D$13)","v":150},{"$f":"IF(O101<('Fert selector'!$D$13+'Fert selector'!$D$13*'Fert selector'!$D$17),0,1)&IF(O101>('Fert selector'!$D$13-'Fert selector'!$D$13*'Fert selector'!$D$18),0,1)","v":"01"},{"$f":"IF(F101=0,0,'Fert selector'!$E$13/F101)","v":0},{"$f":"IF('Fert selector'!$D$15=\"Y\",$F101*$N101,IF('Fert selector'!$E$15=\"Y\",$F101*$S101,IF('Fert selector'!$F$15=\"Y\",$F101*$X101,IF('Fert selector'!$G$15=\"Y\",$F101*$AC101))))","v":0},0,{"$f":"IF((T101-'Fert selector'!$E$13)<0,(T101-'Fert selector'!$E$13)*-1,T101-'Fert selector'!$E$13)","v":0},{"$f":"IF(T101<('Fert selector'!$E$13+'Fert selector'!$E$13*'Fert selector'!$E$17),0,1)&IF(T101>('Fert selector'!$E$13-'Fert selector'!$E$13*'Fert selector'!$E$18),0,1)","v":"11"},{"$f":"IF(G101=0,0,'Fert selector'!$F$13/G101)","v":0},{"$f":"IF('Fert selector'!$D$15=\"Y\",$G101*$N101,IF('Fert selector'!$E$15=\"Y\",$G101*$S101,IF('Fert selector'!$F$15=\"Y\",$G101*$X101,IF('Fert selector'!$G$15=\"Y\",$G101*$AC101))))","v":0},90,{"$f":"IF((Y101-'Fert selector'!$F$13)<0,(Y101-'Fert selector'!$F$13)*-1,Y101-'Fert selector'!$F$13)","v":90},{"$f":"IF(Y101<('Fert selector'!$F$13+'Fert selector'!$F$13*'Fert selector'!$F$17),0,1)&IF(Y101>('Fert selector'!$F$13-'Fert selector'!$F$13*'Fert selector'!$F$18),0,1)","v":"01"},{"$f":"IF(H101=0,0,'Fert selector'!$G$13/H101)","v":0},{"$f":"IF('Fert selector'!$D$15=\"Y\",$H101*$N101,IF('Fert selector'!$E$15=\"Y\",$H101*$S101,IF('Fert selector'!$F$15=\"Y\",$H101*$X101,IF('Fert selector'!$G$15=\"Y\",$H101*$AC101))))","v":0},0,{"$f":"IF((AD101-'Fert selector'!$G$13)<0,(AD101-'Fert selector'!$G$13)*-1,AD101-'Fert selector'!$G$13)","v":0},{"$f":"IF(AD101<('Fert selector'!$G$13+'Fert selector'!$G$13*'Fert selector'!$G$17),0,1)&IF(AD101>('Fert selector'!$G$13-'Fert selector'!$G$13*'Fert selector'!$G$18),0,1)","v":"11"}]
[null,null,null,null,null,null,null,null,null,null,null,null,null,{"$f":"IF(E102=0,0,'Fert selector'!$D$13/E102)","v":0},{"$f":"IF('Fert selector'!$D$15=\"Y\",E102*N102,IF('Fert selector'!$E$15=\"Y\",F102*S102,IF('Fert selector'!$F$15=\"Y\",G102*X102,IF('Fert selector'!$G$15=\"Y\",H102*AC102))))","v":0},150,{"$f":"IF((O102-'Fert selector'!$D$13)<0,(O102-'Fert selector'!$D$13)*-1,O102-'Fert selector'!$D$13)","v":150},{"$f":"IF(O102<('Fert selector'!$D$13+'Fert selector'!$D$13*'Fert selector'!$D$17),0,1)&IF(O102>('Fert selector'!$D$13-'Fert selector'!$D$13*'Fert selector'!$D$18),0,1)","v":"01"},{"$f":"IF(F102=0,0,'Fert selector'!$E$13/F102)","v":0},{"$f":"IF('Fert selector'!$D$15=\"Y\",$F102*$N102,IF('Fert selector'!$E$15=\"Y\",$F102*$S102,IF('Fert selector'!$F$15=\"Y\",$F102*$X102,IF('Fert selector'!$G$15=\"Y\",$F102*$AC102))))","v":0},0,{"$f":"IF((T102-'Fert selector'!$E$13)<0,(T102-'Fert selector'!$E$13)*-1,T102-'Fert selector'!$E$13)","v":0},{"$f":"IF(T102<('Fert selector'!$E$13+'Fert selector'!$E$13*'Fert selector'!$E$17),0,1)&IF(T102>('Fert selector'!$E$13-'Fert selector'!$E$13*'Fert selector'!$E$18),0,1)","v":"11"},{"$f":"IF(G102=0,0,'Fert selector'!$F$13/G102)","v":0},{"$f":"IF('Fert selector'!$D$15=\"Y\",$G102*$N102,IF('Fert selector'!$E$15=\"Y\",$G102*$S102,IF('Fert selector'!$F$15=\"Y\",$G102*$X102,IF('Fert selector'!$G$15=\"Y\",$G102*$AC102))))","v":0},90,{"$f":"IF((Y102-'Fert selector'!$F$13)<0,(Y102-'Fert selector'!$F$13)*-1,Y102-'Fert selector'!$F$13)","v":90},{"$f":"IF(Y102<('Fert selector'!$F$13+'Fert selector'!$F$13*'Fert selector'!$F$17),0,1)&IF(Y102>('Fert selector'!$F$13-'Fert selector'!$F$13*'Fert selector'!$F$18),0,1)","v":"01"},{"$f":"IF(H102=0,0,'Fert selector'!$G$13/H102)","v":0},{"$f":"IF('Fert selector'!$D$15=\"Y\",$H102*$N102,IF('Fert selector'!$E$15=\"Y\",$H102*$S102,IF('Fert selector'!$F$15=\"Y\",$H102*$X102,IF('Fert selector'!$G$15=\"Y\",$H102*$AC102))))","v":0},0,{"$f":"IF((AD102-'Fert selector'!$G$13)<0,(AD102-'Fert selector'!$G$13)*-1,AD102-'Fert selector'!$G$13)","v":0},{"$f":"IF(AD102<('Fert selector'!$G$13+'Fert selector'!$G$13*'Fert selector'!$G$17),0,1)&IF(AD102>('Fert selector'!$G$13-'Fert selector'!$G$13*'Fert selector'!$G$18),0,1)","v":"11"}]
[null,null,null,null,null,null,null,null,null,null,null,null,null,{"$f":"IF(E103=0,0,'Fert selector'!$D$13/E103)","v":0},{"$f":"IF('Fert selector'!$D$15=\"Y\",E103*N103,IF('Fert selector'!$E$15=\"Y\",F103*S103,IF('Fert selector'!$F$15=\"Y\",G103*X103,IF('Fert selector'!$G$15=\"Y\",H103*AC103))))","v":0},150,{"$f":"IF((O103-'Fert selector'!$D$13)<0,(O103-'Fert selector'!$D$13)*-1,O103-'Fert selector'!$D$13)","v":150},{"$f":"IF(O103<('Fert selector'!$D$13+'Fert selector'!$D$13*'Fert selector'!$D$17),0,1)&IF(O103>('Fert selector'!$D$13-'Fert selector'!$D$13*'Fert selector'!$D$18),0,1)","v":"01"},{"$f":"IF(F103=0,0,'Fert selector'!$E$13/F103)","v":0},{"$f":"IF('Fert selector'!$D$15=\"Y\",$F103*$N103,IF('Fert selector'!$E$15=\"Y\",$F103*$S103,IF('Fert selector'!$F$15=\"Y\",$F103*$X103,IF('Fert selector'!$G$15=\"Y\",$F103*$AC103))))","v":0},0,{"$f":"IF((T103-'Fert selector'!$E$13)<0,(T103-'Fert selector'!$E$13)*-1,T103-'Fert selector'!$E$13)","v":0},{"$f":"IF(T103<('Fert selector'!$E$13+'Fert selector'!$E$13*'Fert selector'!$E$17),0,1)&IF(T103>('Fert selector'!$E$13-'Fert selector'!$E$13*'Fert selector'!$E$18),0,1)","v":"11"},{"$f":"IF(G103=0,0,'Fert selector'!$F$13/G103)","v":0},{"$f":"IF('Fert selector'!$D$15=\"Y\",$G103*$N103,IF('Fert selector'!$E$15=\"Y\",$G103*$S103,IF('Fert selector'!$F$15=\"Y\",$G103*$X103,IF('Fert selector'!$G$15=\"Y\",$G103*$AC103))))","v":0},90,{"$f":"IF((Y103-'Fert selector'!$F$13)<0,(Y103-'Fert selector'!$F$13)*-1,Y103-'Fert selector'!$F$13)","v":90},{"$f":"IF(Y103<('Fert selector'!$F$13+'Fert selector'!$F$13*'Fert selector'!$F$17),0,1)&IF(Y103>('Fert selector'!$F$13-'Fert selector'!$F$13*'Fert selector'!$F$18),0,1)","v":"01"},{"$f":"IF(H103=0,0,'Fert selector'!$G$13/H103)","v":0},{"$f":"IF('Fert selector'!$D$15=\"Y\",$H103*$N103,IF('Fert selector'!$E$15=\"Y\",$H103*$S103,IF('Fert selector'!$F$15=\"Y\",$H103*$X103,IF('Fert selector'!$G$15=\"Y\",$H103*$AC103))))","v":0},0,{"$f":"IF((AD103-'Fert selector'!$G$13)<0,(AD103-'Fert selector'!$G$13)*-1,AD103-'Fert selector'!$G$13)","v":0},{"$f":"IF(AD103<('Fert selector'!$G$13+'Fert selector'!$G$13*'Fert selector'!$G$17),0,1)&IF(AD103>('Fert selector'!$G$13-'Fert selector'!$G$13*'Fert selector'!$G$18),0,1)","v":"11"}]
[null,null,null,null,null,null,null,null,null,null,null,null,null,{"$f":"IF(E104=0,0,'Fert selector'!$D$13/E104)","v":0},{"$f":"IF('Fert selector'!$D$15=\"Y\",E104*N104,IF('Fert selector'!$E$15=\"Y\",F104*S104,IF('Fert selector'!$F$15=\"Y\",G104*X104,IF('Fert selector'!$G$15=\"Y\",H104*AC104))))","v":0},150,{"$f":"IF((O104-'Fert selector'!$D$13)<0,(O104-'Fert selector'!$D$13)*-1,O104-'Fert selector'!$D$13)","v":150},{"$f":"IF(O104<('Fert selector'!$D$13+'Fert selector'!$D$13*'Fert selector'!$D$17),0,1)&IF(O104>('Fert selector'!$D$13-'Fert selector'!$D$13*'Fert selector'!$D$18),0,1)","v":"01"},{"$f":"IF(F104=0,0,'Fert selector'!$E$13/F104)","v":0},{"$f":"IF('Fert selector'!$D$15=\"Y\",$F104*$N104,IF('Fert selector'!$E$15=\"Y\",$F104*$S104,IF('Fert selector'!$F$15=\"Y\",$F104*$X104,IF('Fert selector'!$G$15=\"Y\",$F104*$AC104))))","v":0},0,{"$f":"IF((T104-'Fert selector'!$E$13)<0,(T104-'Fert selector'!$E$13)*-1,T104-'Fert selector'!$E$13)","v":0},{"$f":"IF(T104<('Fert selector'!$E$13+'Fert selector'!$E$13*'Fert selector'!$E$17),0,1)&IF(T104>('Fert selector'!$E$13-'Fert selector'!$E$13*'Fert selector'!$E$18),0,1)","v":"11"},{"$f":"IF(G104=0,0,'Fert selector'!$F$13/G104)","v":0},{"$f":"IF('Fert selector'!$D$15=\"Y\",$G104*$N104,IF('Fert selector'!$E$15=\"Y\",$G104*$S104,IF('Fert selector'!$F$15=\"Y\",$G104*$X104,IF('Fert selector'!$G$15=\"Y\",$G104*$AC104))))","v":0},90,{"$f":"IF((Y104-'Fert selector'!$F$13)<0,(Y104-'Fert selector'!$F$13)*-1,Y104-'Fert selector'!$F$13)","v":90},{"$f":"IF(Y104<('Fert selector'!$F$13+'Fert selector'!$F$13*'Fert selector'!$F$17),0,1)&IF(Y104>('Fert selector'!$F$13-'Fert selector'!$F$13*'Fert selector'!$F$18),0,1)","v":"01"},{"$f":"IF(H104=0,0,'Fert selector'!$G$13/H104)","v":0},{"$f":"IF('Fert selector'!$D$15=\"Y\",$H104*$N104,IF('Fert selector'!$E$15=\"Y\",$H104*$S104,IF('Fert selector'!$F$15=\"Y\",$H104*$X104,IF('Fert selector'!$G$15=\"Y\",$H104*$AC104))))","v":0},0,{"$f":"IF((AD104-'Fert selector'!$G$13)<0,(AD104-'Fert selector'!$G$13)*-1,AD104-'Fert selector'!$G$13)","v":0},{"$f":"IF(AD104<('Fert selector'!$G$13+'Fert selector'!$G$13*'Fert selector'!$G$17),0,1)&IF(AD104>('Fert selector'!$G$13-'Fert selector'!$G$13*'Fert selector'!$G$18),0,1)","v":"11"}]
[null,null,null,null,null,null,null,null,null,null,null,null,null,{"$f":"IF(E105=0,0,'Fert selector'!$D$13/E105)","v":0},{"$f":"IF('Fert selector'!$D$15=\"Y\",E105*N105,IF('Fert selector'!$E$15=\"Y\",F105*S105,IF('Fert selector'!$F$15=\"Y\",G105*X105,IF('Fert selector'!$G$15=\"Y\",H105*AC105))))","v":0},150,{"$f":"IF((O105-'Fert selector'!$D$13)<0,(O105-'Fert selector'!$D$13)*-1,O105-'Fert selector'!$D$13)","v":150},{"$f":"IF(O105<('Fert selector'!$D$13+'Fert selector'!$D$13*'Fert selector'!$D$17),0,1)&IF(O105>('Fert selector'!$D$13-'Fert selector'!$D$13*'Fert selector'!$D$18),0,1)","v":"01"},{"$f":"IF(F105=0,0,'Fert selector'!$E$13/F105)","v":0},{"$f":"IF('Fert selector'!$D$15=\"Y\",$F105*$N105,IF('Fert selector'!$E$15=\"Y\",$F105*$S105,IF('Fert selector'!$F$15=\"Y\",$F105*$X105,IF('Fert selector'!$G$15=\"Y\",$F105*$AC105))))","v":0},0,{"$f":"IF((T105-'Fert selector'!$E$13)<0,(T105-'Fert selector'!$E$13)*-1,T105-'Fert selector'!$E$13)","v":0},{"$f":"IF(T105<('Fert selector'!$E$13+'Fert selector'!$E$13*'Fert selector'!$E$17),0,1)&IF(T105>('Fert selector'!$E$13-'Fert selector'!$E$13*'Fert selector'!$E$18),0,1)","v":"11"},{"$f":"IF(G105=0,0,'Fert selector'!$F$13/G105)","v":0},{"$f":"IF('Fert selector'!$D$15=\"Y\",$G105*$N105,IF('Fert selector'!$E$15=\"Y\",$G105*$S105,IF('Fert selector'!$F$15=\"Y\",$G105*$X105,IF('Fert selector'!$G$15=\"Y\",$G105*$AC105))))","v":0},90,{"$f":"IF((Y105-'Fert selector'!$F$13)<0,(Y105-'Fert selector'!$F$13)*-1,Y105-'Fert selector'!$F$13)","v":90},{"$f":"IF(Y105<('Fert selector'!$F$13+'Fert selector'!$F$13*'Fert selector'!$F$17),0,1)&IF(Y105>('Fert selector'!$F$13-'Fert selector'!$F$13*'Fert selector'!$F$18),0,1)","v":"01"},{"$f":"IF(H105=0,0,'Fert selector'!$G$13/H105)","v":0},{"$f":"IF('Fert selector'!$D$15=\"Y\",$H105*$N105,IF('Fert selector'!$E$15=\"Y\",$H105*$S105,IF('Fert selector'!$F$15=\"Y\",$H105*$X105,IF('Fert selector'!$G$15=\"Y\",$H105*$AC105))))","v":0},0,{"$f":"IF((AD105-'Fert selector'!$G$13)<0,(AD105-'Fert selector'!$G$13)*-1,AD105-'Fert selector'!$G$13)","v":0},{"$f":"IF(AD105<('Fert selector'!$G$13+'Fert selector'!$G$13*'Fert selector'!$G$17),0,1)&IF(AD105>('Fert selector'!$G$13-'Fert selector'!$G$13*'Fert selector'!$G$18),0,1)","v":"11"}]
[null,null,null,null,null,null,null,null,null,null,null,null,null,{"$f":"IF(E106=0,0,'Fert selector'!$D$13/E106)","v":0},{"$f":"IF('Fert selector'!$D$15=\"Y\",E106*N106,IF('Fert selector'!$E$15=\"Y\",F106*S106,IF('Fert selector'!$F$15=\"Y\",G106*X106,IF('Fert selector'!$G$15=\"Y\",H106*AC106))))","v":0},150,{"$f":"IF((O106-'Fert selector'!$D$13)<0,(O106-'Fert selector'!$D$13)*-1,O106-'Fert selector'!$D$13)","v":150},{"$f":"IF(O106<('Fert selector'!$D$13+'Fert selector'!$D$13*'Fert selector'!$D$17),0,1)&IF(O106>('Fert selector'!$D$13-'Fert selector'!$D$13*'Fert selector'!$D$18),0,1)","v":"01"},{"$f":"IF(F106=0,0,'Fert selector'!$E$13/F106)","v":0},{"$f":"IF('Fert selector'!$D$15=\"Y\",$F106*$N106,IF('Fert selector'!$E$15=\"Y\",$F106*$S106,IF('Fert selector'!$F$15=\"Y\",$F106*$X106,IF('Fert selector'!$G$15=\"Y\",$F106*$AC106))))","v":0},0,{"$f":"IF((T106-'Fert selector'!$E$13)<0,(T106-'Fert selector'!$E$13)*-1,T106-'Fert selector'!$E$13)","v":0},{"$f":"IF(T106<('Fert selector'!$E$13+'Fert selector'!$E$13*'Fert selector'!$E$17),0,1)&IF(T106>('Fert selector'!$E$13-'Fert selector'!$E$13*'Fert selector'!$E$18),0,1)","v":"11"},{"$f":"IF(G106=0,0,'Fert selector'!$F$13/G106)","v":0},{"$f":"IF('Fert selector'!$D$15=\"Y\",$G106*$N106,IF('Fert selector'!$E$15=\"Y\",$G106*$S106,IF('Fert selector'!$F$15=\"Y\",$G106*$X106,IF('Fert selector'!$G$15=\"Y\",$G106*$AC106))))","v":0},90,{"$f":"IF((Y106-'Fert selector'!$F$13)<0,(Y106-'Fert selector'!$F$13)*-1,Y106-'Fert selector'!$F$13)","v":90},{"$f":"IF(Y106<('Fert selector'!$F$13+'Fert selector'!$F$13*'Fert selector'!$F$17),0,1)&IF(Y106>('Fert selector'!$F$13-'Fert selector'!$F$13*'Fert selector'!$F$18),0,1)","v":"01"},{"$f":"IF(H106=0,0,'Fert selector'!$G$13/H106)","v":0},{"$f":"IF('Fert selector'!$D$15=\"Y\",$H106*$N106,IF('Fert selector'!$E$15=\"Y\",$H106*$S106,IF('Fert selector'!$F$15=\"Y\",$H106*$X106,IF('Fert selector'!$G$15=\"Y\",$H106*$AC106))))","v":0},0,{"$f":"IF((AD106-'Fert selector'!$G$13)<0,(AD106-'Fert selector'!$G$13)*-1,AD106-'Fert selector'!$G$13)","v":0},{"$f":"IF(AD106<('Fert selector'!$G$13+'Fert selector'!$G$13*'Fert selector'!$G$17),0,1)&IF(AD106>('Fert selector'!$G$13-'Fert selector'!$G$13*'Fert selector'!$G$18),0,1)","v":"11"}]
[null,null,null,null,null,null,null,null,null,null,null,null,null,{"$f":"IF(E107=0,0,'Fert selector'!$D$13/E107)","v":0},{"$f":"IF('Fert selector'!$D$15=\"Y\",E107*N107,IF('Fert selector'!$E$15=\"Y\",F107*S107,IF('Fert selector'!$F$15=\"Y\",G107*X107,IF('Fert selector'!$G$15=\"Y\",H107*AC107))))","v":0},150,{"$f":"IF((O107-'Fert selector'!$D$13)<0,(O107-'Fert selector'!$D$13)*-1,O107-'Fert selector'!$D$13)","v":150},{"$f":"IF(O107<('Fert selector'!$D$13+'Fert selector'!$D$13*'Fert selector'!$D$17),0,1)&IF(O107>('Fert selector'!$D$13-'Fert selector'!$D$13*'Fert selector'!$D$18),0,1)","v":"01"},{"$f":"IF(F107=0,0,'Fert selector'!$E$13/F107)","v":0},{"$f":"IF('Fert selector'!$D$15=\"Y\",$F107*$N107,IF('Fert selector'!$E$15=\"Y\",$F107*$S107,IF('Fert selector'!$F$15=\"Y\",$F107*$X107,IF('Fert selector'!$G$15=\"Y\",$F107*$AC107))))","v":0},0,{"$f":"IF((T107-'Fert selector'!$E$13)<0,(T107-'Fert selector'!$E$13)*-1,T107-'Fert selector'!$E$13)","v":0},{"$f":"IF(T107<('Fert selector'!$E$13+'Fert selector'!$E$13*'Fert selector'!$E$17),0,1)&IF(T107>('Fert selector'!$E$13-'Fert selector'!$E$13*'Fert selector'!$E$18),0,1)","v":"11"},{"$f":"IF(G107=0,0,'Fert selector'!$F$13/G107)","v":0},{"$f":"IF('Fert selector'!$D$15=\"Y\",$G107*$N107,IF('Fert selector'!$E$15=\"Y\",$G107*$S107,IF('Fert selector'!$F$15=\"Y\",$G107*$X107,IF('Fert selector'!$G$15=\"Y\",$G107*$AC107))))","v":0},90,{"$f":"IF((Y107-'Fert selector'!$F$13)<0,(Y107-'Fert selector'!$F$13)*-1,Y107-'Fert selector'!$F$13)","v":90},{"$f":"IF(Y107<('Fert selector'!$F$13+'Fert selector'!$F$13*'Fert selector'!$F$17),0,1)&IF(Y107>('Fert selector'!$F$13-'Fert selector'!$F$13*'Fert selector'!$F$18),0,1)","v":"01"},{"$f":"IF(H107=0,0,'Fert selector'!$G$13/H107)","v":0},{"$f":"IF('Fert selector'!$D$15=\"Y\",$H107*$N107,IF('Fert selector'!$E$15=\"Y\",$H107*$S107,IF('Fert selector'!$F$15=\"Y\",$H107*$X107,IF('Fert selector'!$G$15=\"Y\",$H107*$AC107))))","v":0},0,{"$f":"IF((AD107-'Fert selector'!$G$13)<0,(AD107-'Fert selector'!$G$13)*-1,AD107-'Fert selector'!$G$13)","v":0},{"$f":"IF(AD107<('Fert selector'!$G$13+'Fert selector'!$G$13*'Fert selector'!$G$17),0,1)&IF(AD107>('Fert selector'!$G$13-'Fert selector'!$G$13*'Fert selector'!$G$18),0,1)","v":"11"}]
[null,null,null,null,null,null,null,null,null,null,null,null,null,{"$f":"IF(E108=0,0,'Fert selector'!$D$13/E108)","v":0},{"$f":"IF('Fert selector'!$D$15=\"Y\",E108*N108,IF('Fert selector'!$E$15=\"Y\",F108*S108,IF('Fert selector'!$F$15=\"Y\",G108*X108,IF('Fert selector'!$G$15=\"Y\",H108*AC108))))","v":0},150,{"$f":"IF((O108-'Fert selector'!$D$13)<0,(O108-'Fert selector'!$D$13)*-1,O108-'Fert selector'!$D$13)","v":150},{"$f":"IF(O108<('Fert selector'!$D$13+'Fert selector'!$D$13*'Fert selector'!$D$17),0,1)&IF(O108>('Fert selector'!$D$13-'Fert selector'!$D$13*'Fert selector'!$D$18),0,1)","v":"01"},{"$f":"IF(F108=0,0,'Fert selector'!$E$13/F108)","v":0},{"$f":"IF('Fert selector'!$D$15=\"Y\",$F108*$N108,IF('Fert selector'!$E$15=\"Y\",$F108*$S108,IF('Fert selector'!$F$15=\"Y\",$F108*$X108,IF('Fert selector'!$G$15=\"Y\",$F108*$AC108))))","v":0},0,{"$f":"IF((T108-'Fert selector'!$E$13)<0,(T108-'Fert selector'!$E$13)*-1,T108-'Fert selector'!$E$13)","v":0},{"$f":"IF(T108<('Fert selector'!$E$13+'Fert selector'!$E$13*'Fert selector'!$E$17),0,1)&IF(T108>('Fert selector'!$E$13-'Fert selector'!$E$13*'Fert selector'!$E$18),0,1)","v":"11"},{"$f":"IF(G108=0,0,'Fert selector'!$F$13/G108)","v":0},{"$f":"IF('Fert selector'!$D$15=\"Y\",$G108*$N108,IF('Fert selector'!$E$15=\"Y\",$G108*$S108,IF('Fert selector'!$F$15=\"Y\",$G108*$X108,IF('Fert selector'!$G$15=\"Y\",$G108*$AC108))))","v":0},90,{"$f":"IF((Y108-'Fert selector'!$F$13)<0,(Y108-'Fert selector'!$F$13)*-1,Y108-'Fert selector'!$F$13)","v":90},{"$f":"IF(Y108<('Fert selector'!$F$13+'Fert selector'!$F$13*'Fert selector'!$F$17),0,1)&IF(Y108>('Fert selector'!$F$13-'Fert selector'!$F$13*'Fert selector'!$F$18),0,1)","v":"01"},{"$f":"IF(H108=0,0,'Fert selector'!$G$13/H108)","v":0},{"$f":"IF('Fert selector'!$D$15=\"Y\",$H108*$N108,IF('Fert selector'!$E$15=\"Y\",$H108*$S108,IF('Fert selector'!$F$15=\"Y\",$H108*$X108,IF('Fert selector'!$G$15=\"Y\",$H108*$AC108))))","v":0},0,{"$f":"IF((AD108-'Fert selector'!$G$13)<0,(AD108-'Fert selector'!$G$13)*-1,AD108-'Fert selector'!$G$13)","v":0},{"$f":"IF(AD108<('Fert selector'!$G$13+'Fert selector'!$G$13*'Fert selector'!$G$17),0,1)&IF(AD108>('Fert selector'!$G$13-'Fert selector'!$G$13*'Fert selector'!$G$18),0,1)","v":"11"}]
[null,null,null,null,null,null,null,null,null,null,null,null,null,{"$f":"IF(E109=0,0,'Fert selector'!$D$13/E109)","v":0},{"$f":"IF('Fert selector'!$D$15=\"Y\",E109*N109,IF('Fert selector'!$E$15=\"Y\",F109*S109,IF('Fert selector'!$F$15=\"Y\",G109*X109,IF('Fert selector'!$G$15=\"Y\",H109*AC109))))","v":0},150,{"$f":"IF((O109-'Fert selector'!$D$13)<0,(O109-'Fert selector'!$D$13)*-1,O109-'Fert selector'!$D$13)","v":150},{"$f":"IF(O109<('Fert selector'!$D$13+'Fert selector'!$D$13*'Fert selector'!$D$17),0,1)&IF(O109>('Fert selector'!$D$13-'Fert selector'!$D$13*'Fert selector'!$D$18),0,1)","v":"01"},{"$f":"IF(F109=0,0,'Fert selector'!$E$13/F109)","v":0},{"$f":"IF('Fert selector'!$D$15=\"Y\",$F109*$N109,IF('Fert selector'!$E$15=\"Y\",$F109*$S109,IF('Fert selector'!$F$15=\"Y\",$F109*$X109,IF('Fert selector'!$G$15=\"Y\",$F109*$AC109))))","v":0},0,{"$f":"IF((T109-'Fert selector'!$E$13)<0,(T109-'Fert selector'!$E$13)*-1,T109-'Fert selector'!$E$13)","v":0},{"$f":"IF(T109<('Fert selector'!$E$13+'Fert selector'!$E$13*'Fert selector'!$E$17),0,1)&IF(T109>('Fert selector'!$E$13-'Fert selector'!$E$13*'Fert selector'!$E$18),0,1)","v":"11"},{"$f":"IF(G109=0,0,'Fert selector'!$F$13/G109)","v":0},{"$f":"IF('Fert selector'!$D$15=\"Y\",$G109*$N109,IF('Fert selector'!$E$15=\"Y\",$G109*$S109,IF('Fert selector'!$F$15=\"Y\",$G109*$X109,IF('Fert selector'!$G$15=\"Y\",$G109*$AC109))))","v":0},90,{"$f":"IF((Y109-'Fert selector'!$F$13)<0,(Y109-'Fert selector'!$F$13)*-1,Y109-'Fert selector'!$F$13)","v":90},{"$f":"IF(Y109<('Fert selector'!$F$13+'Fert selector'!$F$13*'Fert selector'!$F$17),0,1)&IF(Y109>('Fert selector'!$F$13-'Fert selector'!$F$13*'Fert selector'!$F$18),0,1)","v":"01"},{"$f":"IF(H109=0,0,'Fert selector'!$G$13/H109)","v":0},{"$f":"IF('Fert selector'!$D$15=\"Y\",$H109*$N109,IF('Fert selector'!$E$15=\"Y\",$H109*$S109,IF('Fert selector'!$F$15=\"Y\",$H109*$X109,IF('Fert selector'!$G$15=\"Y\",$H109*$AC109))))","v":0},0,{"$f":"IF((AD109-'Fert selector'!$G$13)<0,(AD109-'Fert selector'!$G$13)*-1,AD109-'Fert selector'!$G$13)","v":0},{"$f":"IF(AD109<('Fert selector'!$G$13+'Fert selector'!$G$13*'Fert selector'!$G$17),0,1)&IF(AD109>('Fert selector'!$G$13-'Fert selector'!$G$13*'Fert selector'!$G$18),0,1)","v":"11"}]
[null,null,null,null,null,null,null,null,null,null,null,null,null,{"$f":"IF(E110=0,0,'Fert selector'!$D$13/E110)","v":0},{"$f":"IF('Fert selector'!$D$15=\"Y\",E110*N110,IF('Fert selector'!$E$15=\"Y\",F110*S110,IF('Fert selector'!$F$15=\"Y\",G110*X110,IF('Fert selector'!$G$15=\"Y\",H110*AC110))))","v":0},150,{"$f":"IF((O110-'Fert selector'!$D$13)<0,(O110-'Fert selector'!$D$13)*-1,O110-'Fert selector'!$D$13)","v":150},{"$f":"IF(O110<('Fert selector'!$D$13+'Fert selector'!$D$13*'Fert selector'!$D$17),0,1)&IF(O110>('Fert selector'!$D$13-'Fert selector'!$D$13*'Fert selector'!$D$18),0,1)","v":"01"},{"$f":"IF(F110=0,0,'Fert selector'!$E$13/F110)","v":0},{"$f":"IF('Fert selector'!$D$15=\"Y\",$F110*$N110,IF('Fert selector'!$E$15=\"Y\",$F110*$S110,IF('Fert selector'!$F$15=\"Y\",$F110*$X110,IF('Fert selector'!$G$15=\"Y\",$F110*$AC110))))","v":0},0,{"$f":"IF((T110-'Fert selector'!$E$13)<0,(T110-'Fert selector'!$E$13)*-1,T110-'Fert selector'!$E$13)","v":0},{"$f":"IF(T110<('Fert selector'!$E$13+'Fert selector'!$E$13*'Fert selector'!$E$17),0,1)&IF(T110>('Fert selector'!$E$13-'Fert selector'!$E$13*'Fert selector'!$E$18),0,1)","v":"11"},{"$f":"IF(G110=0,0,'Fert selector'!$F$13/G110)","v":0},{"$f":"IF('Fert selector'!$D$15=\"Y\",$G110*$N110,IF('Fert selector'!$E$15=\"Y\",$G110*$S110,IF('Fert selector'!$F$15=\"Y\",$G110*$X110,IF('Fert selector'!$G$15=\"Y\",$G110*$AC110))))","v":0},90,{"$f":"IF((Y110-'Fert selector'!$F$13)<0,(Y110-'Fert selector'!$F$13)*-1,Y110-'Fert selector'!$F$13)","v":90},{"$f":"IF(Y110<('Fert selector'!$F$13+'Fert selector'!$F$13*'Fert selector'!$F$17),0,1)&IF(Y110>('Fert selector'!$F$13-'Fert selector'!$F$13*'Fert selector'!$F$18),0,1)","v":"01"},{"$f":"IF(H110=0,0,'Fert selector'!$G$13/H110)","v":0},{"$f":"IF('Fert selector'!$D$15=\"Y\",$H110*$N110,IF('Fert selector'!$E$15=\"Y\",$H110*$S110,IF('Fert selector'!$F$15=\"Y\",$H110*$X110,IF('Fert selector'!$G$15=\"Y\",$H110*$AC110))))","v":0},0,{"$f":"IF((AD110-'Fert selector'!$G$13)<0,(AD110-'Fert selector'!$G$13)*-1,AD110-'Fert selector'!$G$13)","v":0},{"$f":"IF(AD110<('Fert selector'!$G$13+'Fert selector'!$G$13*'Fert selector'!$G$17),0,1)&IF(AD110>('Fert selector'!$G$13-'Fert selector'!$G$13*'Fert selector'!$G$18),0,1)","v":"11"}]
[null,null,null,null,null,null,null,null,null,null,null,null,null,{"$f":"IF(E111=0,0,'Fert selector'!$D$13/E111)","v":0},{"$f":"IF('Fert selector'!$D$15=\"Y\",E111*N111,IF('Fert selector'!$E$15=\"Y\",F111*S111,IF('Fert selector'!$F$15=\"Y\",G111*X111,IF('Fert selector'!$G$15=\"Y\",H111*AC111))))","v":0},150,{"$f":"IF((O111-'Fert selector'!$D$13)<0,(O111-'Fert selector'!$D$13)*-1,O111-'Fert selector'!$D$13)","v":150},{"$f":"IF(O111<('Fert selector'!$D$13+'Fert selector'!$D$13*'Fert selector'!$D$17),0,1)&IF(O111>('Fert selector'!$D$13-'Fert selector'!$D$13*'Fert selector'!$D$18),0,1)","v":"01"},{"$f":"IF(F111=0,0,'Fert selector'!$E$13/F111)","v":0},{"$f":"IF('Fert selector'!$D$15=\"Y\",$F111*$N111,IF('Fert selector'!$E$15=\"Y\",$F111*$S111,IF('Fert selector'!$F$15=\"Y\",$F111*$X111,IF('Fert selector'!$G$15=\"Y\",$F111*$AC111))))","v":0},0,{"$f":"IF((T111-'Fert selector'!$E$13)<0,(T111-'Fert selector'!$E$13)*-1,T111-'Fert selector'!$E$13)","v":0},{"$f":"IF(T111<('Fert selector'!$E$13+'Fert selector'!$E$13*'Fert selector'!$E$17),0,1)&IF(T111>('Fert selector'!$E$13-'Fert selector'!$E$13*'Fert selector'!$E$18),0,1)","v":"11"},{"$f":"IF(G111=0,0,'Fert selector'!$F$13/G111)","v":0},{"$f":"IF('Fert selector'!$D$15=\"Y\",$G111*$N111,IF('Fert selector'!$E$15=\"Y\",$G111*$S111,IF('Fert selector'!$F$15=\"Y\",$G111*$X111,IF('Fert selector'!$G$15=\"Y\",$G111*$AC111))))","v":0},90,{"$f":"IF((Y111-'Fert selector'!$F$13)<0,(Y111-'Fert selector'!$F$13)*-1,Y111-'Fert selector'!$F$13)","v":90},{"$f":"IF(Y111<('Fert selector'!$F$13+'Fert selector'!$F$13*'Fert selector'!$F$17),0,1)&IF(Y111>('Fert selector'!$F$13-'Fert selector'!$F$13*'Fert selector'!$F$18),0,1)","v":"01"},{"$f":"IF(H111=0,0,'Fert selector'!$G$13/H111)","v":0},{"$f":"IF('Fert selector'!$D$15=\"Y\",$H111*$N111,IF('Fert selector'!$E$15=\"Y\",$H111*$S111,IF('Fert selector'!$F$15=\"Y\",$H111*$X111,IF('Fert selector'!$G$15=\"Y\",$H111*$AC111))))","v":0},0,{"$f":"IF((AD111-'Fert selector'!$G$13)<0,(AD111-'Fert selector'!$G$13)*-1,AD111-'Fert selector'!$G$13)","v":0},{"$f":"IF(AD111<('Fert selector'!$G$13+'Fert selector'!$G$13*'Fert selector'!$G$17),0,1)&IF(AD111>('Fert selector'!$G$13-'Fert selector'!$G$13*'Fert selector'!$G$18),0,1)","v":"11"}]
[null,null,null,null,null,null,null,null,null,null,null,null,null,{"$f":"IF(E112=0,0,'Fert selector'!$D$13/E112)","v":0},{"$f":"IF('Fert selector'!$D$15=\"Y\",E112*N112,IF('Fert selector'!$E$15=\"Y\",F112*S112,IF('Fert selector'!$F$15=\"Y\",G112*X112,IF('Fert selector'!$G$15=\"Y\",H112*AC112))))","v":0},150,{"$f":"IF((O112-'Fert selector'!$D$13)<0,(O112-'Fert selector'!$D$13)*-1,O112-'Fert selector'!$D$13)","v":150},{"$f":"IF(O112<('Fert selector'!$D$13+'Fert selector'!$D$13*'Fert selector'!$D$17),0,1)&IF(O112>('Fert selector'!$D$13-'Fert selector'!$D$13*'Fert selector'!$D$18),0,1)","v":"01"},{"$f":"IF(F112=0,0,'Fert selector'!$E$13/F112)","v":0},{"$f":"IF('Fert selector'!$D$15=\"Y\",$F112*$N112,IF('Fert selector'!$E$15=\"Y\",$F112*$S112,IF('Fert selector'!$F$15=\"Y\",$F112*$X112,IF('Fert selector'!$G$15=\"Y\",$F112*$AC112))))","v":0},0,{"$f":"IF((T112-'Fert selector'!$E$13)<0,(T112-'Fert selector'!$E$13)*-1,T112-'Fert selector'!$E$13)","v":0},{"$f":"IF(T112<('Fert selector'!$E$13+'Fert selector'!$E$13*'Fert selector'!$E$17),0,1)&IF(T112>('Fert selector'!$E$13-'Fert selector'!$E$13*'Fert selector'!$E$18),0,1)","v":"11"},{"$f":"IF(G112=0,0,'Fert selector'!$F$13/G112)","v":0},{"$f":"IF('Fert selector'!$D$15=\"Y\",$G112*$N112,IF('Fert selector'!$E$15=\"Y\",$G112*$S112,IF('Fert selector'!$F$15=\"Y\",$G112*$X112,IF('Fert selector'!$G$15=\"Y\",$G112*$AC112))))","v":0},90,{"$f":"IF((Y112-'Fert selector'!$F$13)<0,(Y112-'Fert selector'!$F$13)*-1,Y112-'Fert selector'!$F$13)","v":90},{"$f":"IF(Y112<('Fert selector'!$F$13+'Fert selector'!$F$13*'Fert selector'!$F$17),0,1)&IF(Y112>('Fert selector'!$F$13-'Fert selector'!$F$13*'Fert selector'!$F$18),0,1)","v":"01"},{"$f":"IF(H112=0,0,'Fert selector'!$G$13/H112)","v":0},{"$f":"IF('Fert selector'!$D$15=\"Y\",$H112*$N112,IF('Fert selector'!$E$15=\"Y\",$H112*$S112,IF('Fert selector'!$F$15=\"Y\",$H112*$X112,IF('Fert selector'!$G$15=\"Y\",$H112*$AC112))))","v":0},0,{"$f":"IF((AD112-'Fert selector'!$G$13)<0,(AD112-'Fert selector'!$G$13)*-1,AD112-'Fert selector'!$G$13)","v":0},{"$f":"IF(AD112<('Fert selector'!$G$13+'Fert selector'!$G$13*'Fert selector'!$G$17),0,1)&IF(AD112>('Fert selector'!$G$13-'Fert selector'!$G$13*'Fert selector'!$G$18),0,1)","v":"11"}]
[null,null,null,null,null,null,null,null,null,null,null,null,null,{"$f":"IF(E113=0,0,'Fert selector'!$D$13/E113)","v":0},{"$f":"IF('Fert selector'!$D$15=\"Y\",E113*N113,IF('Fert selector'!$E$15=\"Y\",F113*S113,IF('Fert selector'!$F$15=\"Y\",G113*X113,IF('Fert selector'!$G$15=\"Y\",H113*AC113))))","v":0},150,{"$f":"IF((O113-'Fert selector'!$D$13)<0,(O113-'Fert selector'!$D$13)*-1,O113-'Fert selector'!$D$13)","v":150},{"$f":"IF(O113<('Fert selector'!$D$13+'Fert selector'!$D$13*'Fert selector'!$D$17),0,1)&IF(O113>('Fert selector'!$D$13-'Fert selector'!$D$13*'Fert selector'!$D$18),0,1)","v":"01"},{"$f":"IF(F113=0,0,'Fert selector'!$E$13/F113)","v":0},{"$f":"IF('Fert selector'!$D$15=\"Y\",$F113*$N113,IF('Fert selector'!$E$15=\"Y\",$F113*$S113,IF('Fert selector'!$F$15=\"Y\",$F113*$X113,IF('Fert selector'!$G$15=\"Y\",$F113*$AC113))))","v":0},0,{"$f":"IF((T113-'Fert selector'!$E$13)<0,(T113-'Fert selector'!$E$13)*-1,T113-'Fert selector'!$E$13)","v":0},{"$f":"IF(T113<('Fert selector'!$E$13+'Fert selector'!$E$13*'Fert selector'!$E$17),0,1)&IF(T113>('Fert selector'!$E$13-'Fert selector'!$E$13*'Fert selector'!$E$18),0,1)","v":"11"},{"$f":"IF(G113=0,0,'Fert selector'!$F$13/G113)","v":0},{"$f":"IF('Fert selector'!$D$15=\"Y\",$G113*$N113,IF('Fert selector'!$E$15=\"Y\",$G113*$S113,IF('Fert selector'!$F$15=\"Y\",$G113*$X113,IF('Fert selector'!$G$15=\"Y\",$G113*$AC113))))","v":0},90,{"$f":"IF((Y113-'Fert selector'!$F$13)<0,(Y113-'Fert selector'!$F$13)*-1,Y113-'Fert selector'!$F$13)","v":90},{"$f":"IF(Y113<('Fert selector'!$F$13+'Fert selector'!$F$13*'Fert selector'!$F$17),0,1)&IF(Y113>('Fert selector'!$F$13-'Fert selector'!$F$13*'Fert selector'!$F$18),0,1)","v":"01"},{"$f":"IF(H113=0,0,'Fert selector'!$G$13/H113)","v":0},{"$f":"IF('Fert selector'!$D$15=\"Y\",$H113*$N113,IF('Fert selector'!$E$15=\"Y\",$H113*$S113,IF('Fert selector'!$F$15=\"Y\",$H113*$X113,IF('Fert selector'!$G$15=\"Y\",$H113*$AC113))))","v":0},0,{"$f":"IF((AD113-'Fert selector'!$G$13)<0,(AD113-'Fert selector'!$G$13)*-1,AD113-'Fert selector'!$G$13)","v":0},{"$f":"IF(AD113<('Fert selector'!$G$13+'Fert selector'!$G$13*'Fert selector'!$G$17),0,1)&IF(AD113>('Fert selector'!$G$13-'Fert selector'!$G$13*'Fert selector'!$G$18),0,1)","v":"11"}]
[null,null,null,null,null,null,null,null,null,null,null,null,null,{"$f":"IF(E114=0,0,'Fert selector'!$D$13/E114)","v":0},{"$f":"IF('Fert selector'!$D$15=\"Y\",E114*N114,IF('Fert selector'!$E$15=\"Y\",F114*S114,IF('Fert selector'!$F$15=\"Y\",G114*X114,IF('Fert selector'!$G$15=\"Y\",H114*AC114))))","v":0},150,{"$f":"IF((O114-'Fert selector'!$D$13)<0,(O114-'Fert selector'!$D$13)*-1,O114-'Fert selector'!$D$13)","v":150},{"$f":"IF(O114<('Fert selector'!$D$13+'Fert selector'!$D$13*'Fert selector'!$D$17),0,1)&IF(O114>('Fert selector'!$D$13-'Fert selector'!$D$13*'Fert selector'!$D$18),0,1)","v":"01"},{"$f":"IF(F114=0,0,'Fert selector'!$E$13/F114)","v":0},{"$f":"IF('Fert selector'!$D$15=\"Y\",$F114*$N114,IF('Fert selector'!$E$15=\"Y\",$F114*$S114,IF('Fert selector'!$F$15=\"Y\",$F114*$X114,IF('Fert selector'!$G$15=\"Y\",$F114*$AC114))))","v":0},0,{"$f":"IF((T114-'Fert selector'!$E$13)<0,(T114-'Fert selector'!$E$13)*-1,T114-'Fert selector'!$E$13)","v":0},{"$f":"IF(T114<('Fert selector'!$E$13+'Fert selector'!$E$13*'Fert selector'!$E$17),0,1)&IF(T114>('Fert selector'!$E$13-'Fert selector'!$E$13*'Fert selector'!$E$18),0,1)","v":"11"},{"$f":"IF(G114=0,0,'Fert selector'!$F$13/G114)","v":0},{"$f":"IF('Fert selector'!$D$15=\"Y\",$G114*$N114,IF('Fert selector'!$E$15=\"Y\",$G114*$S114,IF('Fert selector'!$F$15=\"Y\",$G114*$X114,IF('Fert selector'!$G$15=\"Y\",$G114*$AC114))))","v":0},90,{"$f":"IF((Y114-'Fert selector'!$F$13)<0,(Y114-'Fert selector'!$F$13)*-1,Y114-'Fert selector'!$F$13)","v":90},{"$f":"IF(Y114<('Fert selector'!$F$13+'Fert selector'!$F$13*'Fert selector'!$F$17),0,1)&IF(Y114>('Fert selector'!$F$13-'Fert selector'!$F$13*'Fert selector'!$F$18),0,1)","v":"01"},{"$f":"IF(H114=0,0,'Fert selector'!$G$13/H114)","v":0},{"$f":"IF('Fert selector'!$D$15=\"Y\",$H114*$N114,IF('Fert selector'!$E$15=\"Y\",$H114*$S114,IF('Fert selector'!$F$15=\"Y\",$H114*$X114,IF('Fert selector'!$G$15=\"Y\",$H114*$AC114))))","v":0},0,{"$f":"IF((AD114-'Fert selector'!$G$13)<0,(AD114-'Fert selector'!$G$13)*-1,AD114-'Fert selector'!$G$13)","v":0},{"$f":"IF(AD114<('Fert selector'!$G$13+'Fert selector'!$G$13*'Fert selector'!$G$17),0,1)&IF(AD114>('Fert selector'!$G$13-'Fert selector'!$G$13*'Fert selector'!$G$18),0,1)","v":"11"}]
[null,null,null,null,null,null,null,null,null,null,null,null,null,{"$f":"IF(E115=0,0,'Fert selector'!$D$13/E115)","v":0},{"$f":"IF('Fert selector'!$D$15=\"Y\",E115*N115,IF('Fert selector'!$E$15=\"Y\",F115*S115,IF('Fert selector'!$F$15=\"Y\",G115*X115,IF('Fert selector'!$G$15=\"Y\",H115*AC115))))","v":0},150,{"$f":"IF((O115-'Fert selector'!$D$13)<0,(O115-'Fert selector'!$D$13)*-1,O115-'Fert selector'!$D$13)","v":150},{"$f":"IF(O115<('Fert selector'!$D$13+'Fert selector'!$D$13*'Fert selector'!$D$17),0,1)&IF(O115>('Fert selector'!$D$13-'Fert selector'!$D$13*'Fert selector'!$D$18),0,1)","v":"01"},{"$f":"IF(F115=0,0,'Fert selector'!$E$13/F115)","v":0},{"$f":"IF('Fert selector'!$D$15=\"Y\",$F115*$N115,IF('Fert selector'!$E$15=\"Y\",$F115*$S115,IF('Fert selector'!$F$15=\"Y\",$F115*$X115,IF('Fert selector'!$G$15=\"Y\",$F115*$AC115))))","v":0},0,{"$f":"IF((T115-'Fert selector'!$E$13)<0,(T115-'Fert selector'!$E$13)*-1,T115-'Fert selector'!$E$13)","v":0},{"$f":"IF(T115<('Fert selector'!$E$13+'Fert selector'!$E$13*'Fert selector'!$E$17),0,1)&IF(T115>('Fert selector'!$E$13-'Fert selector'!$E$13*'Fert selector'!$E$18),0,1)","v":"11"},{"$f":"IF(G115=0,0,'Fert selector'!$F$13/G115)","v":0},{"$f":"IF('Fert selector'!$D$15=\"Y\",$G115*$N115,IF('Fert selector'!$E$15=\"Y\",$G115*$S115,IF('Fert selector'!$F$15=\"Y\",$G115*$X115,IF('Fert selector'!$G$15=\"Y\",$G115*$AC115))))","v":0},90,{"$f":"IF((Y115-'Fert selector'!$F$13)<0,(Y115-'Fert selector'!$F$13)*-1,Y115-'Fert selector'!$F$13)","v":90},{"$f":"IF(Y115<('Fert selector'!$F$13+'Fert selector'!$F$13*'Fert selector'!$F$17),0,1)&IF(Y115>('Fert selector'!$F$13-'Fert selector'!$F$13*'Fert selector'!$F$18),0,1)","v":"01"},{"$f":"IF(H115=0,0,'Fert selector'!$G$13/H115)","v":0},{"$f":"IF('Fert selector'!$D$15=\"Y\",$H115*$N115,IF('Fert selector'!$E$15=\"Y\",$H115*$S115,IF('Fert selector'!$F$15=\"Y\",$H115*$X115,IF('Fert selector'!$G$15=\"Y\",$H115*$AC115))))","v":0},0,{"$f":"IF((AD115-'Fert selector'!$G$13)<0,(AD115-'Fert selector'!$G$13)*-1,AD115-'Fert selector'!$G$13)","v":0},{"$f":"IF(AD115<('Fert selector'!$G$13+'Fert selector'!$G$13*'Fert selector'!$G$17),0,1)&IF(AD115>('Fert selector'!$G$13-'Fert selector'!$G$13*'Fert selector'!$G$18),0,1)","v":"11"}]
[null,null,null,null,null,null,null,null,null,null,null,null,null,{"$f":"IF(E116=0,0,'Fert selector'!$D$13/E116)","v":0},{"$f":"IF('Fert selector'!$D$15=\"Y\",E116*N116,IF('Fert selector'!$E$15=\"Y\",F116*S116,IF('Fert selector'!$F$15=\"Y\",G116*X116,IF('Fert selector'!$G$15=\"Y\",H116*AC116))))","v":0},150,{"$f":"IF((O116-'Fert selector'!$D$13)<0,(O116-'Fert selector'!$D$13)*-1,O116-'Fert selector'!$D$13)","v":150},{"$f":"IF(O116<('Fert selector'!$D$13+'Fert selector'!$D$13*'Fert selector'!$D$17),0,1)&IF(O116>('Fert selector'!$D$13-'Fert selector'!$D$13*'Fert selector'!$D$18),0,1)","v":"01"},{"$f":"IF(F116=0,0,'Fert selector'!$E$13/F116)","v":0},{"$f":"IF('Fert selector'!$D$15=\"Y\",$F116*$N116,IF('Fert selector'!$E$15=\"Y\",$F116*$S116,IF('Fert selector'!$F$15=\"Y\",$F116*$X116,IF('Fert selector'!$G$15=\"Y\",$F116*$AC116))))","v":0},0,{"$f":"IF((T116-'Fert selector'!$E$13)<0,(T116-'Fert selector'!$E$13)*-1,T116-'Fert selector'!$E$13)","v":0},{"$f":"IF(T116<('Fert selector'!$E$13+'Fert selector'!$E$13*'Fert selector'!$E$17),0,1)&IF(T116>('Fert selector'!$E$13-'Fert selector'!$E$13*'Fert selector'!$E$18),0,1)","v":"11"},{"$f":"IF(G116=0,0,'Fert selector'!$F$13/G116)","v":0},{"$f":"IF('Fert selector'!$D$15=\"Y\",$G116*$N116,IF('Fert selector'!$E$15=\"Y\",$G116*$S116,IF('Fert selector'!$F$15=\"Y\",$G116*$X116,IF('Fert selector'!$G$15=\"Y\",$G116*$AC116))))","v":0},90,{"$f":"IF((Y116-'Fert selector'!$F$13)<0,(Y116-'Fert selector'!$F$13)*-1,Y116-'Fert selector'!$F$13)","v":90},{"$f":"IF(Y116<('Fert selector'!$F$13+'Fert selector'!$F$13*'Fert selector'!$F$17),0,1)&IF(Y116>('Fert selector'!$F$13-'Fert selector'!$F$13*'Fert selector'!$F$18),0,1)","v":"01"},{"$f":"IF(H116=0,0,'Fert selector'!$G$13/H116)","v":0},{"$f":"IF('Fert selector'!$D$15=\"Y\",$H116*$N116,IF('Fert selector'!$E$15=\"Y\",$H116*$S116,IF('Fert selector'!$F$15=\"Y\",$H116*$X116,IF('Fert selector'!$G$15=\"Y\",$H116*$AC116))))","v":0},0,{"$f":"IF((AD116-'Fert selector'!$G$13)<0,(AD116-'Fert selector'!$G$13)*-1,AD116-'Fert selector'!$G$13)","v":0},{"$f":"IF(AD116<('Fert selector'!$G$13+'Fert selector'!$G$13*'Fert selector'!$G$17),0,1)&IF(AD116>('Fert selector'!$G$13-'Fert selector'!$G$13*'Fert selector'!$G$18),0,1)","v":"11"}]
[null,null,null,null,null,null,null,null,null,null,null,null,null,{"$f":"IF(E117=0,0,'Fert selector'!$D$13/E117)","v":0},{"$f":"IF('Fert selector'!$D$15=\"Y\",E117*N117,IF('Fert selector'!$E$15=\"Y\",F117*S117,IF('Fert selector'!$F$15=\"Y\",G117*X117,IF('Fert selector'!$G$15=\"Y\",H117*AC117))))","v":0},150,{"$f":"IF((O117-'Fert selector'!$D$13)<0,(O117-'Fert selector'!$D$13)*-1,O117-'Fert selector'!$D$13)","v":150},{"$f":"IF(O117<('Fert selector'!$D$13+'Fert selector'!$D$13*'Fert selector'!$D$17),0,1)&IF(O117>('Fert selector'!$D$13-'Fert selector'!$D$13*'Fert selector'!$D$18),0,1)","v":"01"},{"$f":"IF(F117=0,0,'Fert selector'!$E$13/F117)","v":0},{"$f":"IF('Fert selector'!$D$15=\"Y\",$F117*$N117,IF('Fert selector'!$E$15=\"Y\",$F117*$S117,IF('Fert selector'!$F$15=\"Y\",$F117*$X117,IF('Fert selector'!$G$15=\"Y\",$F117*$AC117))))","v":0},0,{"$f":"IF((T117-'Fert selector'!$E$13)<0,(T117-'Fert selector'!$E$13)*-1,T117-'Fert selector'!$E$13)","v":0},{"$f":"IF(T117<('Fert selector'!$E$13+'Fert selector'!$E$13*'Fert selector'!$E$17),0,1)&IF(T117>('Fert selector'!$E$13-'Fert selector'!$E$13*'Fert selector'!$E$18),0,1)","v":"11"},{"$f":"IF(G117=0,0,'Fert selector'!$F$13/G117)","v":0},{"$f":"IF('Fert selector'!$D$15=\"Y\",$G117*$N117,IF('Fert selector'!$E$15=\"Y\",$G117*$S117,IF('Fert selector'!$F$15=\"Y\",$G117*$X117,IF('Fert selector'!$G$15=\"Y\",$G117*$AC117))))","v":0},90,{"$f":"IF((Y117-'Fert selector'!$F$13)<0,(Y117-'Fert selector'!$F$13)*-1,Y117-'Fert selector'!$F$13)","v":90},{"$f":"IF(Y117<('Fert selector'!$F$13+'Fert selector'!$F$13*'Fert selector'!$F$17),0,1)&IF(Y117>('Fert selector'!$F$13-'Fert selector'!$F$13*'Fert selector'!$F$18),0,1)","v":"01"},{"$f":"IF(H117=0,0,'Fert selector'!$G$13/H117)","v":0},{"$f":"IF('Fert selector'!$D$15=\"Y\",$H117*$N117,IF('Fert selector'!$E$15=\"Y\",$H117*$S117,IF('Fert selector'!$F$15=\"Y\",$H117*$X117,IF('Fert selector'!$G$15=\"Y\",$H117*$AC117))))","v":0},0,{"$f":"IF((AD117-'Fert selector'!$G$13)<0,(AD117-'Fert selector'!$G$13)*-1,AD117-'Fert selector'!$G$13)","v":0},{"$f":"IF(AD117<('Fert selector'!$G$13+'Fert selector'!$G$13*'Fert selector'!$G$17),0,1)&IF(AD117>('Fert selector'!$G$13-'Fert selector'!$G$13*'Fert selector'!$G$18),0,1)","v":"11"}]
[null,null,null,null,null,null,null,null,null,null,null,null,null,{"$f":"IF(E118=0,0,'Fert selector'!$D$13/E118)","v":0},{"$f":"IF('Fert selector'!$D$15=\"Y\",E118*N118,IF('Fert selector'!$E$15=\"Y\",F118*S118,IF('Fert selector'!$F$15=\"Y\",G118*X118,IF('Fert selector'!$G$15=\"Y\",H118*AC118))))","v":0},150,{"$f":"IF((O118-'Fert selector'!$D$13)<0,(O118-'Fert selector'!$D$13)*-1,O118-'Fert selector'!$D$13)","v":150},{"$f":"IF(O118<('Fert selector'!$D$13+'Fert selector'!$D$13*'Fert selector'!$D$17),0,1)&IF(O118>('Fert selector'!$D$13-'Fert selector'!$D$13*'Fert selector'!$D$18),0,1)","v":"01"},{"$f":"IF(F118=0,0,'Fert selector'!$E$13/F118)","v":0},{"$f":"IF('Fert selector'!$D$15=\"Y\",$F118*$N118,IF('Fert selector'!$E$15=\"Y\",$F118*$S118,IF('Fert selector'!$F$15=\"Y\",$F118*$X118,IF('Fert selector'!$G$15=\"Y\",$F118*$AC118))))","v":0},0,{"$f":"IF((T118-'Fert selector'!$E$13)<0,(T118-'Fert selector'!$E$13)*-1,T118-'Fert selector'!$E$13)","v":0},{"$f":"IF(T118<('Fert selector'!$E$13+'Fert selector'!$E$13*'Fert selector'!$E$17),0,1)&IF(T118>('Fert selector'!$E$13-'Fert selector'!$E$13*'Fert selector'!$E$18),0,1)","v":"11"},{"$f":"IF(G118=0,0,'Fert selector'!$F$13/G118)","v":0},{"$f":"IF('Fert selector'!$D$15=\"Y\",$G118*$N118,IF('Fert selector'!$E$15=\"Y\",$G118*$S118,IF('Fert selector'!$F$15=\"Y\",$G118*$X118,IF('Fert selector'!$G$15=\"Y\",$G118*$AC118))))","v":0},90,{"$f":"IF((Y118-'Fert selector'!$F$13)<0,(Y118-'Fert selector'!$F$13)*-1,Y118-'Fert selector'!$F$13)","v":90},{"$f":"IF(Y118<('Fert selector'!$F$13+'Fert selector'!$F$13*'Fert selector'!$F$17),0,1)&IF(Y118>('Fert selector'!$F$13-'Fert selector'!$F$13*'Fert selector'!$F$18),0,1)","v":"01"},{"$f":"IF(H118=0,0,'Fert selector'!$G$13/H118)","v":0},{"$f":"IF('Fert selector'!$D$15=\"Y\",$H118*$N118,IF('Fert selector'!$E$15=\"Y\",$H118*$S118,IF('Fert selector'!$F$15=\"Y\",$H118*$X118,IF('Fert selector'!$G$15=\"Y\",$H118*$AC118))))","v":0},0,{"$f":"IF((AD118-'Fert selector'!$G$13)<0,(AD118-'Fert selector'!$G$13)*-1,AD118-'Fert selector'!$G$13)","v":0},{"$f":"IF(AD118<('Fert selector'!$G$13+'Fert selector'!$G$13*'Fert selector'!$G$17),0,1)&IF(AD118>('Fert selector'!$G$13-'Fert selector'!$G$13*'Fert selector'!$G$18),0,1)","v":"11"}]
[null,null,null,null,null,null,null,null,null,null,null,null,null,{"$f":"IF(E119=0,0,'Fert selector'!$D$13/E119)","v":0},{"$f":"IF('Fert selector'!$D$15=\"Y\",E119*N119,IF('Fert selector'!$E$15=\"Y\",F119*S119,IF('Fert selector'!$F$15=\"Y\",G119*X119,IF('Fert selector'!$G$15=\"Y\",H119*AC119))))","v":0},150,{"$f":"IF((O119-'Fert selector'!$D$13)<0,(O119-'Fert selector'!$D$13)*-1,O119-'Fert selector'!$D$13)","v":150},{"$f":"IF(O119<('Fert selector'!$D$13+'Fert selector'!$D$13*'Fert selector'!$D$17),0,1)&IF(O119>('Fert selector'!$D$13-'Fert selector'!$D$13*'Fert selector'!$D$18),0,1)","v":"01"},{"$f":"IF(F119=0,0,'Fert selector'!$E$13/F119)","v":0},{"$f":"IF('Fert selector'!$D$15=\"Y\",$F119*$N119,IF('Fert selector'!$E$15=\"Y\",$F119*$S119,IF('Fert selector'!$F$15=\"Y\",$F119*$X119,IF('Fert selector'!$G$15=\"Y\",$F119*$AC119))))","v":0},0,{"$f":"IF((T119-'Fert selector'!$E$13)<0,(T119-'Fert selector'!$E$13)*-1,T119-'Fert selector'!$E$13)","v":0},{"$f":"IF(T119<('Fert selector'!$E$13+'Fert selector'!$E$13*'Fert selector'!$E$17),0,1)&IF(T119>('Fert selector'!$E$13-'Fert selector'!$E$13*'Fert selector'!$E$18),0,1)","v":"11"},{"$f":"IF(G119=0,0,'Fert selector'!$F$13/G119)","v":0},{"$f":"IF('Fert selector'!$D$15=\"Y\",$G119*$N119,IF('Fert selector'!$E$15=\"Y\",$G119*$S119,IF('Fert selector'!$F$15=\"Y\",$G119*$X119,IF('Fert selector'!$G$15=\"Y\",$G119*$AC119))))","v":0},90,{"$f":"IF((Y119-'Fert selector'!$F$13)<0,(Y119-'Fert selector'!$F$13)*-1,Y119-'Fert selector'!$F$13)","v":90},{"$f":"IF(Y119<('Fert selector'!$F$13+'Fert selector'!$F$13*'Fert selector'!$F$17),0,1)&IF(Y119>('Fert selector'!$F$13-'Fert selector'!$F$13*'Fert selector'!$F$18),0,1)","v":"01"},{"$f":"IF(H119=0,0,'Fert selector'!$G$13/H119)","v":0},{"$f":"IF('Fert selector'!$D$15=\"Y\",$H119*$N119,IF('Fert selector'!$E$15=\"Y\",$H119*$S119,IF('Fert selector'!$F$15=\"Y\",$H119*$X119,IF('Fert selector'!$G$15=\"Y\",$H119*$AC119))))","v":0},0,{"$f":"IF((AD119-'Fert selector'!$G$13)<0,(AD119-'Fert selector'!$G$13)*-1,AD119-'Fert selector'!$G$13)","v":0},{"$f":"IF(AD119<('Fert selector'!$G$13+'Fert selector'!$G$13*'Fert selector'!$G$17),0,1)&IF(AD119>('Fert selector'!$G$13-'Fert selector'!$G$13*'Fert selector'!$G$18),0,1)","v":"11"}]
[null,null,null,null,null,null,null,null,null,null,null,null,null,{"$f":"IF(E120=0,0,'Fert selector'!$D$13/E120)","v":0},{"$f":"IF('Fert selector'!$D$15=\"Y\",E120*N120,IF('Fert selector'!$E$15=\"Y\",F120*S120,IF('Fert selector'!$F$15=\"Y\",G120*X120,IF('Fert selector'!$G$15=\"Y\",H120*AC120))))","v":0},150,{"$f":"IF((O120-'Fert selector'!$D$13)<0,(O120-'Fert selector'!$D$13)*-1,O120-'Fert selector'!$D$13)","v":150},{"$f":"IF(O120<('Fert selector'!$D$13+'Fert selector'!$D$13*'Fert selector'!$D$17),0,1)&IF(O120>('Fert selector'!$D$13-'Fert selector'!$D$13*'Fert selector'!$D$18),0,1)","v":"01"},{"$f":"IF(F120=0,0,'Fert selector'!$E$13/F120)","v":0},{"$f":"IF('Fert selector'!$D$15=\"Y\",$F120*$N120,IF('Fert selector'!$E$15=\"Y\",$F120*$S120,IF('Fert selector'!$F$15=\"Y\",$F120*$X120,IF('Fert selector'!$G$15=\"Y\",$F120*$AC120))))","v":0},0,{"$f":"IF((T120-'Fert selector'!$E$13)<0,(T120-'Fert selector'!$E$13)*-1,T120-'Fert selector'!$E$13)","v":0},{"$f":"IF(T120<('Fert selector'!$E$13+'Fert selector'!$E$13*'Fert selector'!$E$17),0,1)&IF(T120>('Fert selector'!$E$13-'Fert selector'!$E$13*'Fert selector'!$E$18),0,1)","v":"11"},{"$f":"IF(G120=0,0,'Fert selector'!$F$13/G120)","v":0},{"$f":"IF('Fert selector'!$D$15=\"Y\",$G120*$N120,IF('Fert selector'!$E$15=\"Y\",$G120*$S120,IF('Fert selector'!$F$15=\"Y\",$G120*$X120,IF('Fert selector'!$G$15=\"Y\",$G120*$AC120))))","v":0},90,{"$f":"IF((Y120-'Fert selector'!$F$13)<0,(Y120-'Fert selector'!$F$13)*-1,Y120-'Fert selector'!$F$13)","v":90},{"$f":"IF(Y120<('Fert selector'!$F$13+'Fert selector'!$F$13*'Fert selector'!$F$17),0,1)&IF(Y120>('Fert selector'!$F$13-'Fert selector'!$F$13*'Fert selector'!$F$18),0,1)","v":"01"},{"$f":"IF(H120=0,0,'Fert selector'!$G$13/H120)","v":0},{"$f":"IF('Fert selector'!$D$15=\"Y\",$H120*$N120,IF('Fert selector'!$E$15=\"Y\",$H120*$S120,IF('Fert selector'!$F$15=\"Y\",$H120*$X120,IF('Fert selector'!$G$15=\"Y\",$H120*$AC120))))","v":0},0,{"$f":"IF((AD120-'Fert selector'!$G$13)<0,(AD120-'Fert selector'!$G$13)*-1,AD120-'Fert selector'!$G$13)","v":0},{"$f":"IF(AD120<('Fert selector'!$G$13+'Fert selector'!$G$13*'Fert selector'!$G$17),0,1)&IF(AD120>('Fert selector'!$G$13-'Fert selector'!$G$13*'Fert selector'!$G$18),0,1)","v":"11"}]
[null,null,null,null,null,null,null,null,null,null,null,null,null,{"$f":"IF(E121=0,0,'Fert selector'!$D$13/E121)","v":0},{"$f":"IF('Fert selector'!$D$15=\"Y\",E121*N121,IF('Fert selector'!$E$15=\"Y\",F121*S121,IF('Fert selector'!$F$15=\"Y\",G121*X121,IF('Fert selector'!$G$15=\"Y\",H121*AC121))))","v":0},150,{"$f":"IF((O121-'Fert selector'!$D$13)<0,(O121-'Fert selector'!$D$13)*-1,O121-'Fert selector'!$D$13)","v":150},{"$f":"IF(O121<('Fert selector'!$D$13+'Fert selector'!$D$13*'Fert selector'!$D$17),0,1)&IF(O121>('Fert selector'!$D$13-'Fert selector'!$D$13*'Fert selector'!$D$18),0,1)","v":"01"},{"$f":"IF(F121=0,0,'Fert selector'!$E$13/F121)","v":0},{"$f":"IF('Fert selector'!$D$15=\"Y\",$F121*$N121,IF('Fert selector'!$E$15=\"Y\",$F121*$S121,IF('Fert selector'!$F$15=\"Y\",$F121*$X121,IF('Fert selector'!$G$15=\"Y\",$F121*$AC121))))","v":0},0,{"$f":"IF((T121-'Fert selector'!$E$13)<0,(T121-'Fert selector'!$E$13)*-1,T121-'Fert selector'!$E$13)","v":0},{"$f":"IF(T121<('Fert selector'!$E$13+'Fert selector'!$E$13*'Fert selector'!$E$17),0,1)&IF(T121>('Fert selector'!$E$13-'Fert selector'!$E$13*'Fert selector'!$E$18),0,1)","v":"11"},{"$f":"IF(G121=0,0,'Fert selector'!$F$13/G121)","v":0},{"$f":"IF('Fert selector'!$D$15=\"Y\",$G121*$N121,IF('Fert selector'!$E$15=\"Y\",$G121*$S121,IF('Fert selector'!$F$15=\"Y\",$G121*$X121,IF('Fert selector'!$G$15=\"Y\",$G121*$AC121))))","v":0},90,{"$f":"IF((Y121-'Fert selector'!$F$13)<0,(Y121-'Fert selector'!$F$13)*-1,Y121-'Fert selector'!$F$13)","v":90},{"$f":"IF(Y121<('Fert selector'!$F$13+'Fert selector'!$F$13*'Fert selector'!$F$17),0,1)&IF(Y121>('Fert selector'!$F$13-'Fert selector'!$F$13*'Fert selector'!$F$18),0,1)","v":"01"},{"$f":"IF(H121=0,0,'Fert selector'!$G$13/H121)","v":0},{"$f":"IF('Fert selector'!$D$15=\"Y\",$H121*$N121,IF('Fert selector'!$E$15=\"Y\",$H121*$S121,IF('Fert selector'!$F$15=\"Y\",$H121*$X121,IF('Fert selector'!$G$15=\"Y\",$H121*$AC121))))","v":0},0,{"$f":"IF((AD121-'Fert selector'!$G$13)<0,(AD121-'Fert selector'!$G$13)*-1,AD121-'Fert selector'!$G$13)","v":0},{"$f":"IF(AD121<('Fert selector'!$G$13+'Fert selector'!$G$13*'Fert selector'!$G$17),0,1)&IF(AD121>('Fert selector'!$G$13-'Fert selector'!$G$13*'Fert selector'!$G$18),0,1)","v":"11"}]
[null,null,null,null,null,null,null,null,null,null,null,null,null,{"$f":"IF(E122=0,0,'Fert selector'!$D$13/E122)","v":0},{"$f":"IF('Fert selector'!$D$15=\"Y\",E122*N122,IF('Fert selector'!$E$15=\"Y\",F122*S122,IF('Fert selector'!$F$15=\"Y\",G122*X122,IF('Fert selector'!$G$15=\"Y\",H122*AC122))))","v":0},150,{"$f":"IF((O122-'Fert selector'!$D$13)<0,(O122-'Fert selector'!$D$13)*-1,O122-'Fert selector'!$D$13)","v":150},{"$f":"IF(O122<('Fert selector'!$D$13+'Fert selector'!$D$13*'Fert selector'!$D$17),0,1)&IF(O122>('Fert selector'!$D$13-'Fert selector'!$D$13*'Fert selector'!$D$18),0,1)","v":"01"},{"$f":"IF(F122=0,0,'Fert selector'!$E$13/F122)","v":0},{"$f":"IF('Fert selector'!$D$15=\"Y\",$F122*$N122,IF('Fert selector'!$E$15=\"Y\",$F122*$S122,IF('Fert selector'!$F$15=\"Y\",$F122*$X122,IF('Fert selector'!$G$15=\"Y\",$F122*$AC122))))","v":0},0,{"$f":"IF((T122-'Fert selector'!$E$13)<0,(T122-'Fert selector'!$E$13)*-1,T122-'Fert selector'!$E$13)","v":0},{"$f":"IF(T122<('Fert selector'!$E$13+'Fert selector'!$E$13*'Fert selector'!$E$17),0,1)&IF(T122>('Fert selector'!$E$13-'Fert selector'!$E$13*'Fert selector'!$E$18),0,1)","v":"11"},{"$f":"IF(G122=0,0,'Fert selector'!$F$13/G122)","v":0},{"$f":"IF('Fert selector'!$D$15=\"Y\",$G122*$N122,IF('Fert selector'!$E$15=\"Y\",$G122*$S122,IF('Fert selector'!$F$15=\"Y\",$G122*$X122,IF('Fert selector'!$G$15=\"Y\",$G122*$AC122))))","v":0},90,{"$f":"IF((Y122-'Fert selector'!$F$13)<0,(Y122-'Fert selector'!$F$13)*-1,Y122-'Fert selector'!$F$13)","v":90},{"$f":"IF(Y122<('Fert selector'!$F$13+'Fert selector'!$F$13*'Fert selector'!$F$17),0,1)&IF(Y122>('Fert selector'!$F$13-'Fert selector'!$F$13*'Fert selector'!$F$18),0,1)","v":"01"},{"$f":"IF(H122=0,0,'Fert selector'!$G$13/H122)","v":0},{"$f":"IF('Fert selector'!$D$15=\"Y\",$H122*$N122,IF('Fert selector'!$E$15=\"Y\",$H122*$S122,IF('Fert selector'!$F$15=\"Y\",$H122*$X122,IF('Fert selector'!$G$15=\"Y\",$H122*$AC122))))","v":0},0,{"$f":"IF((AD122-'Fert selector'!$G$13)<0,(AD122-'Fert selector'!$G$13)*-1,AD122-'Fert selector'!$G$13)","v":0},{"$f":"IF(AD122<('Fert selector'!$G$13+'Fert selector'!$G$13*'Fert selector'!$G$17),0,1)&IF(AD122>('Fert selector'!$G$13-'Fert selector'!$G$13*'Fert selector'!$G$18),0,1)","v":"11"}]
[null,null,null,null,null,null,null,null,null,null,null,null,null,{"$f":"IF(E123=0,0,'Fert selector'!$D$13/E123)","v":0},{"$f":"IF('Fert selector'!$D$15=\"Y\",E123*N123,IF('Fert selector'!$E$15=\"Y\",F123*S123,IF('Fert selector'!$F$15=\"Y\",G123*X123,IF('Fert selector'!$G$15=\"Y\",H123*AC123))))","v":0},150,{"$f":"IF((O123-'Fert selector'!$D$13)<0,(O123-'Fert selector'!$D$13)*-1,O123-'Fert selector'!$D$13)","v":150},{"$f":"IF(O123<('Fert selector'!$D$13+'Fert selector'!$D$13*'Fert selector'!$D$17),0,1)&IF(O123>('Fert selector'!$D$13-'Fert selector'!$D$13*'Fert selector'!$D$18),0,1)","v":"01"},{"$f":"IF(F123=0,0,'Fert selector'!$E$13/F123)","v":0},{"$f":"IF('Fert selector'!$D$15=\"Y\",$F123*$N123,IF('Fert selector'!$E$15=\"Y\",$F123*$S123,IF('Fert selector'!$F$15=\"Y\",$F123*$X123,IF('Fert selector'!$G$15=\"Y\",$F123*$AC123))))","v":0},0,{"$f":"IF((T123-'Fert selector'!$E$13)<0,(T123-'Fert selector'!$E$13)*-1,T123-'Fert selector'!$E$13)","v":0},{"$f":"IF(T123<('Fert selector'!$E$13+'Fert selector'!$E$13*'Fert selector'!$E$17),0,1)&IF(T123>('Fert selector'!$E$13-'Fert selector'!$E$13*'Fert selector'!$E$18),0,1)","v":"11"},{"$f":"IF(G123=0,0,'Fert selector'!$F$13/G123)","v":0},{"$f":"IF('Fert selector'!$D$15=\"Y\",$G123*$N123,IF('Fert selector'!$E$15=\"Y\",$G123*$S123,IF('Fert selector'!$F$15=\"Y\",$G123*$X123,IF('Fert selector'!$G$15=\"Y\",$G123*$AC123))))","v":0},90,{"$f":"IF((Y123-'Fert selector'!$F$13)<0,(Y123-'Fert selector'!$F$13)*-1,Y123-'Fert selector'!$F$13)","v":90},{"$f":"IF(Y123<('Fert selector'!$F$13+'Fert selector'!$F$13*'Fert selector'!$F$17),0,1)&IF(Y123>('Fert selector'!$F$13-'Fert selector'!$F$13*'Fert selector'!$F$18),0,1)","v":"01"},{"$f":"IF(H123=0,0,'Fert selector'!$G$13/H123)","v":0},{"$f":"IF('Fert selector'!$D$15=\"Y\",$H123*$N123,IF('Fert selector'!$E$15=\"Y\",$H123*$S123,IF('Fert selector'!$F$15=\"Y\",$H123*$X123,IF('Fert selector'!$G$15=\"Y\",$H123*$AC123))))","v":0},0,{"$f":"IF((AD123-'Fert selector'!$G$13)<0,(AD123-'Fert selector'!$G$13)*-1,AD123-'Fert selector'!$G$13)","v":0},{"$f":"IF(AD123<('Fert selector'!$G$13+'Fert selector'!$G$13*'Fert selector'!$G$17),0,1)&IF(AD123>('Fert selector'!$G$13-'Fert selector'!$G$13*'Fert selector'!$G$18),0,1)","v":"11"}]
[null,null,null,null,null,null,null,null,null,null,null,null,null,{"$f":"IF(E124=0,0,'Fert selector'!$D$13/E124)","v":0},{"$f":"IF('Fert selector'!$D$15=\"Y\",E124*N124,IF('Fert selector'!$E$15=\"Y\",F124*S124,IF('Fert selector'!$F$15=\"Y\",G124*X124,IF('Fert selector'!$G$15=\"Y\",H124*AC124))))","v":0},150,{"$f":"IF((O124-'Fert selector'!$D$13)<0,(O124-'Fert selector'!$D$13)*-1,O124-'Fert selector'!$D$13)","v":150},{"$f":"IF(O124<('Fert selector'!$D$13+'Fert selector'!$D$13*'Fert selector'!$D$17),0,1)&IF(O124>('Fert selector'!$D$13-'Fert selector'!$D$13*'Fert selector'!$D$18),0,1)","v":"01"},{"$f":"IF(F124=0,0,'Fert selector'!$E$13/F124)","v":0},{"$f":"IF('Fert selector'!$D$15=\"Y\",$F124*$N124,IF('Fert selector'!$E$15=\"Y\",$F124*$S124,IF('Fert selector'!$F$15=\"Y\",$F124*$X124,IF('Fert selector'!$G$15=\"Y\",$F124*$AC124))))","v":0},0,{"$f":"IF((T124-'Fert selector'!$E$13)<0,(T124-'Fert selector'!$E$13)*-1,T124-'Fert selector'!$E$13)","v":0},{"$f":"IF(T124<('Fert selector'!$E$13+'Fert selector'!$E$13*'Fert selector'!$E$17),0,1)&IF(T124>('Fert selector'!$E$13-'Fert selector'!$E$13*'Fert selector'!$E$18),0,1)","v":"11"},{"$f":"IF(G124=0,0,'Fert selector'!$F$13/G124)","v":0},{"$f":"IF('Fert selector'!$D$15=\"Y\",$G124*$N124,IF('Fert selector'!$E$15=\"Y\",$G124*$S124,IF('Fert selector'!$F$15=\"Y\",$G124*$X124,IF('Fert selector'!$G$15=\"Y\",$G124*$AC124))))","v":0},90,{"$f":"IF((Y124-'Fert selector'!$F$13)<0,(Y124-'Fert selector'!$F$13)*-1,Y124-'Fert selector'!$F$13)","v":90},{"$f":"IF(Y124<('Fert selector'!$F$13+'Fert selector'!$F$13*'Fert selector'!$F$17),0,1)&IF(Y124>('Fert selector'!$F$13-'Fert selector'!$F$13*'Fert selector'!$F$18),0,1)","v":"01"},{"$f":"IF(H124=0,0,'Fert selector'!$G$13/H124)","v":0},{"$f":"IF('Fert selector'!$D$15=\"Y\",$H124*$N124,IF('Fert selector'!$E$15=\"Y\",$H124*$S124,IF('Fert selector'!$F$15=\"Y\",$H124*$X124,IF('Fert selector'!$G$15=\"Y\",$H124*$AC124))))","v":0},0,{"$f":"IF((AD124-'Fert selector'!$G$13)<0,(AD124-'Fert selector'!$G$13)*-1,AD124-'Fert selector'!$G$13)","v":0},{"$f":"IF(AD124<('Fert selector'!$G$13+'Fert selector'!$G$13*'Fert selector'!$G$17),0,1)&IF(AD124>('Fert selector'!$G$13-'Fert selector'!$G$13*'Fert selector'!$G$18),0,1)","v":"11"}]
[null,null,null,null,null,null,null,null,null,null,null,null,null,{"$f":"IF(E125=0,0,'Fert selector'!$D$13/E125)","v":0},{"$f":"IF('Fert selector'!$D$15=\"Y\",E125*N125,IF('Fert selector'!$E$15=\"Y\",F125*S125,IF('Fert selector'!$F$15=\"Y\",G125*X125,IF('Fert selector'!$G$15=\"Y\",H125*AC125))))","v":0},150,{"$f":"IF((O125-'Fert selector'!$D$13)<0,(O125-'Fert selector'!$D$13)*-1,O125-'Fert selector'!$D$13)","v":150},{"$f":"IF(O125<('Fert selector'!$D$13+'Fert selector'!$D$13*'Fert selector'!$D$17),0,1)&IF(O125>('Fert selector'!$D$13-'Fert selector'!$D$13*'Fert selector'!$D$18),0,1)","v":"01"},{"$f":"IF(F125=0,0,'Fert selector'!$E$13/F125)","v":0},{"$f":"IF('Fert selector'!$D$15=\"Y\",$F125*$N125,IF('Fert selector'!$E$15=\"Y\",$F125*$S125,IF('Fert selector'!$F$15=\"Y\",$F125*$X125,IF('Fert selector'!$G$15=\"Y\",$F125*$AC125))))","v":0},0,{"$f":"IF((T125-'Fert selector'!$E$13)<0,(T125-'Fert selector'!$E$13)*-1,T125-'Fert selector'!$E$13)","v":0},{"$f":"IF(T125<('Fert selector'!$E$13+'Fert selector'!$E$13*'Fert selector'!$E$17),0,1)&IF(T125>('Fert selector'!$E$13-'Fert selector'!$E$13*'Fert selector'!$E$18),0,1)","v":"11"},{"$f":"IF(G125=0,0,'Fert selector'!$F$13/G125)","v":0},{"$f":"IF('Fert selector'!$D$15=\"Y\",$G125*$N125,IF('Fert selector'!$E$15=\"Y\",$G125*$S125,IF('Fert selector'!$F$15=\"Y\",$G125*$X125,IF('Fert selector'!$G$15=\"Y\",$G125*$AC125))))","v":0},90,{"$f":"IF((Y125-'Fert selector'!$F$13)<0,(Y125-'Fert selector'!$F$13)*-1,Y125-'Fert selector'!$F$13)","v":90},{"$f":"IF(Y125<('Fert selector'!$F$13+'Fert selector'!$F$13*'Fert selector'!$F$17),0,1)&IF(Y125>('Fert selector'!$F$13-'Fert selector'!$F$13*'Fert selector'!$F$18),0,1)","v":"01"},{"$f":"IF(H125=0,0,'Fert selector'!$G$13/H125)","v":0},{"$f":"IF('Fert selector'!$D$15=\"Y\",$H125*$N125,IF('Fert selector'!$E$15=\"Y\",$H125*$S125,IF('Fert selector'!$F$15=\"Y\",$H125*$X125,IF('Fert selector'!$G$15=\"Y\",$H125*$AC125))))","v":0},0,{"$f":"IF((AD125-'Fert selector'!$G$13)<0,(AD125-'Fert selector'!$G$13)*-1,AD125-'Fert selector'!$G$13)","v":0},{"$f":"IF(AD125<('Fert selector'!$G$13+'Fert selector'!$G$13*'Fert selector'!$G$17),0,1)&IF(AD125>('Fert selector'!$G$13-'Fert selector'!$G$13*'Fert selector'!$G$18),0,1)","v":"11"}]
[null,null,null,null,null,null,null,null,null,null,null,null,null,{"$f":"IF(E126=0,0,'Fert selector'!$D$13/E126)","v":0},{"$f":"IF('Fert selector'!$D$15=\"Y\",E126*N126,IF('Fert selector'!$E$15=\"Y\",F126*S126,IF('Fert selector'!$F$15=\"Y\",G126*X126,IF('Fert selector'!$G$15=\"Y\",H126*AC126))))","v":0},150,{"$f":"IF((O126-'Fert selector'!$D$13)<0,(O126-'Fert selector'!$D$13)*-1,O126-'Fert selector'!$D$13)","v":150},{"$f":"IF(O126<('Fert selector'!$D$13+'Fert selector'!$D$13*'Fert selector'!$D$17),0,1)&IF(O126>('Fert selector'!$D$13-'Fert selector'!$D$13*'Fert selector'!$D$18),0,1)","v":"01"},{"$f":"IF(F126=0,0,'Fert selector'!$E$13/F126)","v":0},{"$f":"IF('Fert selector'!$D$15=\"Y\",$F126*$N126,IF('Fert selector'!$E$15=\"Y\",$F126*$S126,IF('Fert selector'!$F$15=\"Y\",$F126*$X126,IF('Fert selector'!$G$15=\"Y\",$F126*$AC126))))","v":0},0,{"$f":"IF((T126-'Fert selector'!$E$13)<0,(T126-'Fert selector'!$E$13)*-1,T126-'Fert selector'!$E$13)","v":0},{"$f":"IF(T126<('Fert selector'!$E$13+'Fert selector'!$E$13*'Fert selector'!$E$17),0,1)&IF(T126>('Fert selector'!$E$13-'Fert selector'!$E$13*'Fert selector'!$E$18),0,1)","v":"11"},{"$f":"IF(G126=0,0,'Fert selector'!$F$13/G126)","v":0},{"$f":"IF('Fert selector'!$D$15=\"Y\",$G126*$N126,IF('Fert selector'!$E$15=\"Y\",$G126*$S126,IF('Fert selector'!$F$15=\"Y\",$G126*$X126,IF('Fert selector'!$G$15=\"Y\",$G126*$AC126))))","v":0},90,{"$f":"IF((Y126-'Fert selector'!$F$13)<0,(Y126-'Fert selector'!$F$13)*-1,Y126-'Fert selector'!$F$13)","v":90},{"$f":"IF(Y126<('Fert selector'!$F$13+'Fert selector'!$F$13*'Fert selector'!$F$17),0,1)&IF(Y126>('Fert selector'!$F$13-'Fert selector'!$F$13*'Fert selector'!$F$18),0,1)","v":"01"},{"$f":"IF(H126=0,0,'Fert selector'!$G$13/H126)","v":0},{"$f":"IF('Fert selector'!$D$15=\"Y\",$H126*$N126,IF('Fert selector'!$E$15=\"Y\",$H126*$S126,IF('Fert selector'!$F$15=\"Y\",$H126*$X126,IF('Fert selector'!$G$15=\"Y\",$H126*$AC126))))","v":0},0,{"$f":"IF((AD126-'Fert selector'!$G$13)<0,(AD126-'Fert selector'!$G$13)*-1,AD126-'Fert selector'!$G$13)","v":0},{"$f":"IF(AD126<('Fert selector'!$G$13+'Fert selector'!$G$13*'Fert selector'!$G$17),0,1)&IF(AD126>('Fert selector'!$G$13-'Fert selector'!$G$13*'Fert selector'!$G$18),0,1)","v":"11"}]
[null,null,null,null,null,null,null,null,null,null,null,null,null,{"$f":"IF(E127=0,0,'Fert selector'!$D$13/E127)","v":0},{"$f":"IF('Fert selector'!$D$15=\"Y\",E127*N127,IF('Fert selector'!$E$15=\"Y\",F127*S127,IF('Fert selector'!$F$15=\"Y\",G127*X127,IF('Fert selector'!$G$15=\"Y\",H127*AC127))))","v":0},150,{"$f":"IF((O127-'Fert selector'!$D$13)<0,(O127-'Fert selector'!$D$13)*-1,O127-'Fert selector'!$D$13)","v":150},{"$f":"IF(O127<('Fert selector'!$D$13+'Fert selector'!$D$13*'Fert selector'!$D$17),0,1)&IF(O127>('Fert selector'!$D$13-'Fert selector'!$D$13*'Fert selector'!$D$18),0,1)","v":"01"},{"$f":"IF(F127=0,0,'Fert selector'!$E$13/F127)","v":0},{"$f":"IF('Fert selector'!$D$15=\"Y\",$F127*$N127,IF('Fert selector'!$E$15=\"Y\",$F127*$S127,IF('Fert selector'!$F$15=\"Y\",$F127*$X127,IF('Fert selector'!$G$15=\"Y\",$F127*$AC127))))","v":0},0,{"$f":"IF((T127-'Fert selector'!$E$13)<0,(T127-'Fert selector'!$E$13)*-1,T127-'Fert selector'!$E$13)","v":0},{"$f":"IF(T127<('Fert selector'!$E$13+'Fert selector'!$E$13*'Fert selector'!$E$17),0,1)&IF(T127>('Fert selector'!$E$13-'Fert selector'!$E$13*'Fert selector'!$E$18),0,1)","v":"11"},{"$f":"IF(G127=0,0,'Fert selector'!$F$13/G127)","v":0},{"$f":"IF('Fert selector'!$D$15=\"Y\",$G127*$N127,IF('Fert selector'!$E$15=\"Y\",$G127*$S127,IF('Fert selector'!$F$15=\"Y\",$G127*$X127,IF('Fert selector'!$G$15=\"Y\",$G127*$AC127))))","v":0},90,{"$f":"IF((Y127-'Fert selector'!$F$13)<0,(Y127-'Fert selector'!$F$13)*-1,Y127-'Fert selector'!$F$13)","v":90},{"$f":"IF(Y127<('Fert selector'!$F$13+'Fert selector'!$F$13*'Fert selector'!$F$17),0,1)&IF(Y127>('Fert selector'!$F$13-'Fert selector'!$F$13*'Fert selector'!$F$18),0,1)","v":"01"},{"$f":"IF(H127=0,0,'Fert selector'!$G$13/H127)","v":0},{"$f":"IF('Fert selector'!$D$15=\"Y\",$H127*$N127,IF('Fert selector'!$E$15=\"Y\",$H127*$S127,IF('Fert selector'!$F$15=\"Y\",$H127*$X127,IF('Fert selector'!$G$15=\"Y\",$H127*$AC127))))","v":0},0,{"$f":"IF((AD127-'Fert selector'!$G$13)<0,(AD127-'Fert selector'!$G$13)*-1,AD127-'Fert selector'!$G$13)","v":0},{"$f":"IF(AD127<('Fert selector'!$G$13+'Fert selector'!$G$13*'Fert selector'!$G$17),0,1)&IF(AD127>('Fert selector'!$G$13-'Fert selector'!$G$13*'Fert selector'!$G$18),0,1)","v":"11"}]
[null,null,null,null,null,null,null,null,null,null,null,null,null,{"$f":"IF(E128=0,0,'Fert selector'!$D$13/E128)","v":0},{"$f":"IF('Fert selector'!$D$15=\"Y\",E128*N128,IF('Fert selector'!$E$15=\"Y\",F128*S128,IF('Fert selector'!$F$15=\"Y\",G128*X128,IF('Fert selector'!$G$15=\"Y\",H128*AC128))))","v":0},150,{"$f":"IF((O128-'Fert selector'!$D$13)<0,(O128-'Fert selector'!$D$13)*-1,O128-'Fert selector'!$D$13)","v":150},{"$f":"IF(O128<('Fert selector'!$D$13+'Fert selector'!$D$13*'Fert selector'!$D$17),0,1)&IF(O128>('Fert selector'!$D$13-'Fert selector'!$D$13*'Fert selector'!$D$18),0,1)","v":"01"},{"$f":"IF(F128=0,0,'Fert selector'!$E$13/F128)","v":0},{"$f":"IF('Fert selector'!$D$15=\"Y\",$F128*$N128,IF('Fert selector'!$E$15=\"Y\",$F128*$S128,IF('Fert selector'!$F$15=\"Y\",$F128*$X128,IF('Fert selector'!$G$15=\"Y\",$F128*$AC128))))","v":0},0,{"$f":"IF((T128-'Fert selector'!$E$13)<0,(T128-'Fert selector'!$E$13)*-1,T128-'Fert selector'!$E$13)","v":0},{"$f":"IF(T128<('Fert selector'!$E$13+'Fert selector'!$E$13*'Fert selector'!$E$17),0,1)&IF(T128>('Fert selector'!$E$13-'Fert selector'!$E$13*'Fert selector'!$E$18),0,1)","v":"11"},{"$f":"IF(G128=0,0,'Fert selector'!$F$13/G128)","v":0},{"$f":"IF('Fert selector'!$D$15=\"Y\",$G128*$N128,IF('Fert selector'!$E$15=\"Y\",$G128*$S128,IF('Fert selector'!$F$15=\"Y\",$G128*$X128,IF('Fert selector'!$G$15=\"Y\",$G128*$AC128))))","v":0},90,{"$f":"IF((Y128-'Fert selector'!$F$13)<0,(Y128-'Fert selector'!$F$13)*-1,Y128-'Fert selector'!$F$13)","v":90},{"$f":"IF(Y128<('Fert selector'!$F$13+'Fert selector'!$F$13*'Fert selector'!$F$17),0,1)&IF(Y128>('Fert selector'!$F$13-'Fert selector'!$F$13*'Fert selector'!$F$18),0,1)","v":"01"},{"$f":"IF(H128=0,0,'Fert selector'!$G$13/H128)","v":0},{"$f":"IF('Fert selector'!$D$15=\"Y\",$H128*$N128,IF('Fert selector'!$E$15=\"Y\",$H128*$S128,IF('Fert selector'!$F$15=\"Y\",$H128*$X128,IF('Fert selector'!$G$15=\"Y\",$H128*$AC128))))","v":0},0,{"$f":"IF((AD128-'Fert selector'!$G$13)<0,(AD128-'Fert selector'!$G$13)*-1,AD128-'Fert selector'!$G$13)","v":0},{"$f":"IF(AD128<('Fert selector'!$G$13+'Fert selector'!$G$13*'Fert selector'!$G$17),0,1)&IF(AD128>('Fert selector'!$G$13-'Fert selector'!$G$13*'Fert selector'!$G$18),0,1)","v":"11"}]
[null,null,null,null,null,null,null,null,null,null,null,null,null,{"$f":"IF(E129=0,0,'Fert selector'!$D$13/E129)","v":0},{"$f":"IF('Fert selector'!$D$15=\"Y\",E129*N129,IF('Fert selector'!$E$15=\"Y\",F129*S129,IF('Fert selector'!$F$15=\"Y\",G129*X129,IF('Fert selector'!$G$15=\"Y\",H129*AC129))))","v":0},150,{"$f":"IF((O129-'Fert selector'!$D$13)<0,(O129-'Fert selector'!$D$13)*-1,O129-'Fert selector'!$D$13)","v":150},{"$f":"IF(O129<('Fert selector'!$D$13+'Fert selector'!$D$13*'Fert selector'!$D$17),0,1)&IF(O129>('Fert selector'!$D$13-'Fert selector'!$D$13*'Fert selector'!$D$18),0,1)","v":"01"},{"$f":"IF(F129=0,0,'Fert selector'!$E$13/F129)","v":0},{"$f":"IF('Fert selector'!$D$15=\"Y\",$F129*$N129,IF('Fert selector'!$E$15=\"Y\",$F129*$S129,IF('Fert selector'!$F$15=\"Y\",$F129*$X129,IF('Fert selector'!$G$15=\"Y\",$F129*$AC129))))","v":0},0,{"$f":"IF((T129-'Fert selector'!$E$13)<0,(T129-'Fert selector'!$E$13)*-1,T129-'Fert selector'!$E$13)","v":0},{"$f":"IF(T129<('Fert selector'!$E$13+'Fert selector'!$E$13*'Fert selector'!$E$17),0,1)&IF(T129>('Fert selector'!$E$13-'Fert selector'!$E$13*'Fert selector'!$E$18),0,1)","v":"11"},{"$f":"IF(G129=0,0,'Fert selector'!$F$13/G129)","v":0},{"$f":"IF('Fert selector'!$D$15=\"Y\",$G129*$N129,IF('Fert selector'!$E$15=\"Y\",$G129*$S129,IF('Fert selector'!$F$15=\"Y\",$G129*$X129,IF('Fert selector'!$G$15=\"Y\",$G129*$AC129))))","v":0},90,{"$f":"IF((Y129-'Fert selector'!$F$13)<0,(Y129-'Fert selector'!$F$13)*-1,Y129-'Fert selector'!$F$13)","v":90},{"$f":"IF(Y129<('Fert selector'!$F$13+'Fert selector'!$F$13*'Fert selector'!$F$17),0,1)&IF(Y129>('Fert selector'!$F$13-'Fert selector'!$F$13*'Fert selector'!$F$18),0,1)","v":"01"},{"$f":"IF(H129=0,0,'Fert selector'!$G$13/H129)","v":0},{"$f":"IF('Fert selector'!$D$15=\"Y\",$H129*$N129,IF('Fert selector'!$E$15=\"Y\",$H129*$S129,IF('Fert selector'!$F$15=\"Y\",$H129*$X129,IF('Fert selector'!$G$15=\"Y\",$H129*$AC129))))","v":0},0,{"$f":"IF((AD129-'Fert selector'!$G$13)<0,(AD129-'Fert selector'!$G$13)*-1,AD129-'Fert selector'!$G$13)","v":0},{"$f":"IF(AD129<('Fert selector'!$G$13+'Fert selector'!$G$13*'Fert selector'!$G$17),0,1)&IF(AD129>('Fert selector'!$G$13-'Fert selector'!$G$13*'Fert selector'!$G$18),0,1)","v":"11"}]
[null,null,null,null,null,null,null,null,null,null,null,null,null,{"$f":"IF(E130=0,0,'Fert selector'!$D$13/E130)","v":0},{"$f":"IF('Fert selector'!$D$15=\"Y\",E130*N130,IF('Fert selector'!$E$15=\"Y\",F130*S130,IF('Fert selector'!$F$15=\"Y\",G130*X130,IF('Fert selector'!$G$15=\"Y\",H130*AC130))))","v":0},150,{"$f":"IF((O130-'Fert selector'!$D$13)<0,(O130-'Fert selector'!$D$13)*-1,O130-'Fert selector'!$D$13)","v":150},{"$f":"IF(O130<('Fert selector'!$D$13+'Fert selector'!$D$13*'Fert selector'!$D$17),0,1)&IF(O130>('Fert selector'!$D$13-'Fert selector'!$D$13*'Fert selector'!$D$18),0,1)","v":"01"},{"$f":"IF(F130=0,0,'Fert selector'!$E$13/F130)","v":0},{"$f":"IF('Fert selector'!$D$15=\"Y\",$F130*$N130,IF('Fert selector'!$E$15=\"Y\",$F130*$S130,IF('Fert selector'!$F$15=\"Y\",$F130*$X130,IF('Fert selector'!$G$15=\"Y\",$F130*$AC130))))","v":0},0,{"$f":"IF((T130-'Fert selector'!$E$13)<0,(T130-'Fert selector'!$E$13)*-1,T130-'Fert selector'!$E$13)","v":0},{"$f":"IF(T130<('Fert selector'!$E$13+'Fert selector'!$E$13*'Fert selector'!$E$17),0,1)&IF(T130>('Fert selector'!$E$13-'Fert selector'!$E$13*'Fert selector'!$E$18),0,1)","v":"11"},{"$f":"IF(G130=0,0,'Fert selector'!$F$13/G130)","v":0},{"$f":"IF('Fert selector'!$D$15=\"Y\",$G130*$N130,IF('Fert selector'!$E$15=\"Y\",$G130*$S130,IF('Fert selector'!$F$15=\"Y\",$G130*$X130,IF('Fert selector'!$G$15=\"Y\",$G130*$AC130))))","v":0},90,{"$f":"IF((Y130-'Fert selector'!$F$13)<0,(Y130-'Fert selector'!$F$13)*-1,Y130-'Fert selector'!$F$13)","v":90},{"$f":"IF(Y130<('Fert selector'!$F$13+'Fert selector'!$F$13*'Fert selector'!$F$17),0,1)&IF(Y130>('Fert selector'!$F$13-'Fert selector'!$F$13*'Fert selector'!$F$18),0,1)","v":"01"},{"$f":"IF(H130=0,0,'Fert selector'!$G$13/H130)","v":0},{"$f":"IF('Fert selector'!$D$15=\"Y\",$H130*$N130,IF('Fert selector'!$E$15=\"Y\",$H130*$S130,IF('Fert selector'!$F$15=\"Y\",$H130*$X130,IF('Fert selector'!$G$15=\"Y\",$H130*$AC130))))","v":0},0,{"$f":"IF((AD130-'Fert selector'!$G$13)<0,(AD130-'Fert selector'!$G$13)*-1,AD130-'Fert selector'!$G$13)","v":0},{"$f":"IF(AD130<('Fert selector'!$G$13+'Fert selector'!$G$13*'Fert selector'!$G$17),0,1)&IF(AD130>('Fert selector'!$G$13-'Fert selector'!$G$13*'Fert selector'!$G$18),0,1)","v":"11"}]
[null,null,null,null,null,null,null,null,null,null,null,null,null,{"$f":"IF(E131=0,0,'Fert selector'!$D$13/E131)","v":0},{"$f":"IF('Fert selector'!$D$15=\"Y\",E131*N131,IF('Fert selector'!$E$15=\"Y\",F131*S131,IF('Fert selector'!$F$15=\"Y\",G131*X131,IF('Fert selector'!$G$15=\"Y\",H131*AC131))))","v":0},150,{"$f":"IF((O131-'Fert selector'!$D$13)<0,(O131-'Fert selector'!$D$13)*-1,O131-'Fert selector'!$D$13)","v":150},{"$f":"IF(O131<('Fert selector'!$D$13+'Fert selector'!$D$13*'Fert selector'!$D$17),0,1)&IF(O131>('Fert selector'!$D$13-'Fert selector'!$D$13*'Fert selector'!$D$18),0,1)","v":"01"},{"$f":"IF(F131=0,0,'Fert selector'!$E$13/F131)","v":0},{"$f":"IF('Fert selector'!$D$15=\"Y\",$F131*$N131,IF('Fert selector'!$E$15=\"Y\",$F131*$S131,IF('Fert selector'!$F$15=\"Y\",$F131*$X131,IF('Fert selector'!$G$15=\"Y\",$F131*$AC131))))","v":0},0,{"$f":"IF((T131-'Fert selector'!$E$13)<0,(T131-'Fert selector'!$E$13)*-1,T131-'Fert selector'!$E$13)","v":0},{"$f":"IF(T131<('Fert selector'!$E$13+'Fert selector'!$E$13*'Fert selector'!$E$17),0,1)&IF(T131>('Fert selector'!$E$13-'Fert selector'!$E$13*'Fert selector'!$E$18),0,1)","v":"11"},{"$f":"IF(G131=0,0,'Fert selector'!$F$13/G131)","v":0},{"$f":"IF('Fert selector'!$D$15=\"Y\",$G131*$N131,IF('Fert selector'!$E$15=\"Y\",$G131*$S131,IF('Fert selector'!$F$15=\"Y\",$G131*$X131,IF('Fert selector'!$G$15=\"Y\",$G131*$AC131))))","v":0},90,{"$f":"IF((Y131-'Fert selector'!$F$13)<0,(Y131-'Fert selector'!$F$13)*-1,Y131-'Fert selector'!$F$13)","v":90},{"$f":"IF(Y131<('Fert selector'!$F$13+'Fert selector'!$F$13*'Fert selector'!$F$17),0,1)&IF(Y131>('Fert selector'!$F$13-'Fert selector'!$F$13*'Fert selector'!$F$18),0,1)","v":"01"},{"$f":"IF(H131=0,0,'Fert selector'!$G$13/H131)","v":0},{"$f":"IF('Fert selector'!$D$15=\"Y\",$H131*$N131,IF('Fert selector'!$E$15=\"Y\",$H131*$S131,IF('Fert selector'!$F$15=\"Y\",$H131*$X131,IF('Fert selector'!$G$15=\"Y\",$H131*$AC131))))","v":0},0,{"$f":"IF((AD131-'Fert selector'!$G$13)<0,(AD131-'Fert selector'!$G$13)*-1,AD131-'Fert selector'!$G$13)","v":0},{"$f":"IF(AD131<('Fert selector'!$G$13+'Fert selector'!$G$13*'Fert selector'!$G$17),0,1)&IF(AD131>('Fert selector'!$G$13-'Fert selector'!$G$13*'Fert selector'!$G$18),0,1)","v":"11"}]
[null,null,null,null,null,null,null,null,null,null,null,null,null,{"$f":"IF(E132=0,0,'Fert selector'!$D$13/E132)","v":0},{"$f":"IF('Fert selector'!$D$15=\"Y\",E132*N132,IF('Fert selector'!$E$15=\"Y\",F132*S132,IF('Fert selector'!$F$15=\"Y\",G132*X132,IF('Fert selector'!$G$15=\"Y\",H132*AC132))))","v":0},150,{"$f":"IF((O132-'Fert selector'!$D$13)<0,(O132-'Fert selector'!$D$13)*-1,O132-'Fert selector'!$D$13)","v":150},{"$f":"IF(O132<('Fert selector'!$D$13+'Fert selector'!$D$13*'Fert selector'!$D$17),0,1)&IF(O132>('Fert selector'!$D$13-'Fert selector'!$D$13*'Fert selector'!$D$18),0,1)","v":"01"},{"$f":"IF(F132=0,0,'Fert selector'!$E$13/F132)","v":0},{"$f":"IF('Fert selector'!$D$15=\"Y\",$F132*$N132,IF('Fert selector'!$E$15=\"Y\",$F132*$S132,IF('Fert selector'!$F$15=\"Y\",$F132*$X132,IF('Fert selector'!$G$15=\"Y\",$F132*$AC132))))","v":0},0,{"$f":"IF((T132-'Fert selector'!$E$13)<0,(T132-'Fert selector'!$E$13)*-1,T132-'Fert selector'!$E$13)","v":0},{"$f":"IF(T132<('Fert selector'!$E$13+'Fert selector'!$E$13*'Fert selector'!$E$17),0,1)&IF(T132>('Fert selector'!$E$13-'Fert selector'!$E$13*'Fert selector'!$E$18),0,1)","v":"11"},{"$f":"IF(G132=0,0,'Fert selector'!$F$13/G132)","v":0},{"$f":"IF('Fert selector'!$D$15=\"Y\",$G132*$N132,IF('Fert selector'!$E$15=\"Y\",$G132*$S132,IF('Fert selector'!$F$15=\"Y\",$G132*$X132,IF('Fert selector'!$G$15=\"Y\",$G132*$AC132))))","v":0},90,{"$f":"IF((Y132-'Fert selector'!$F$13)<0,(Y132-'Fert selector'!$F$13)*-1,Y132-'Fert selector'!$F$13)","v":90},{"$f":"IF(Y132<('Fert selector'!$F$13+'Fert selector'!$F$13*'Fert selector'!$F$17),0,1)&IF(Y132>('Fert selector'!$F$13-'Fert selector'!$F$13*'Fert selector'!$F$18),0,1)","v":"01"},{"$f":"IF(H132=0,0,'Fert selector'!$G$13/H132)","v":0},{"$f":"IF('Fert selector'!$D$15=\"Y\",$H132*$N132,IF('Fert selector'!$E$15=\"Y\",$H132*$S132,IF('Fert selector'!$F$15=\"Y\",$H132*$X132,IF('Fert selector'!$G$15=\"Y\",$H132*$AC132))))","v":0},0,{"$f":"IF((AD132-'Fert selector'!$G$13)<0,(AD132-'Fert selector'!$G$13)*-1,AD132-'Fert selector'!$G$13)","v":0},{"$f":"IF(AD132<('Fert selector'!$G$13+'Fert selector'!$G$13*'Fert selector'!$G$17),0,1)&IF(AD132>('Fert selector'!$G$13-'Fert selector'!$G$13*'Fert selector'!$G$18),0,1)","v":"11"}]
[null,null,null,null,null,null,null,null,null,null,null,null,null,{"$f":"IF(E133=0,0,'Fert selector'!$D$13/E133)","v":0},{"$f":"IF('Fert selector'!$D$15=\"Y\",E133*N133,IF('Fert selector'!$E$15=\"Y\",F133*S133,IF('Fert selector'!$F$15=\"Y\",G133*X133,IF('Fert selector'!$G$15=\"Y\",H133*AC133))))","v":0},150,{"$f":"IF((O133-'Fert selector'!$D$13)<0,(O133-'Fert selector'!$D$13)*-1,O133-'Fert selector'!$D$13)","v":150},{"$f":"IF(O133<('Fert selector'!$D$13+'Fert selector'!$D$13*'Fert selector'!$D$17),0,1)&IF(O133>('Fert selector'!$D$13-'Fert selector'!$D$13*'Fert selector'!$D$18),0,1)","v":"01"},{"$f":"IF(F133=0,0,'Fert selector'!$E$13/F133)","v":0},{"$f":"IF('Fert selector'!$D$15=\"Y\",$F133*$N133,IF('Fert selector'!$E$15=\"Y\",$F133*$S133,IF('Fert selector'!$F$15=\"Y\",$F133*$X133,IF('Fert selector'!$G$15=\"Y\",$F133*$AC133))))","v":0},0,{"$f":"IF((T133-'Fert selector'!$E$13)<0,(T133-'Fert selector'!$E$13)*-1,T133-'Fert selector'!$E$13)","v":0},{"$f":"IF(T133<('Fert selector'!$E$13+'Fert selector'!$E$13*'Fert selector'!$E$17),0,1)&IF(T133>('Fert selector'!$E$13-'Fert selector'!$E$13*'Fert selector'!$E$18),0,1)","v":"11"},{"$f":"IF(G133=0,0,'Fert selector'!$F$13/G133)","v":0},{"$f":"IF('Fert selector'!$D$15=\"Y\",$G133*$N133,IF('Fert selector'!$E$15=\"Y\",$G133*$S133,IF('Fert selector'!$F$15=\"Y\",$G133*$X133,IF('Fert selector'!$G$15=\"Y\",$G133*$AC133))))","v":0},90,{"$f":"IF((Y133-'Fert selector'!$F$13)<0,(Y133-'Fert selector'!$F$13)*-1,Y133-'Fert selector'!$F$13)","v":90},{"$f":"IF(Y133<('Fert selector'!$F$13+'Fert selector'!$F$13*'Fert selector'!$F$17),0,1)&IF(Y133>('Fert selector'!$F$13-'Fert selector'!$F$13*'Fert selector'!$F$18),0,1)","v":"01"},{"$f":"IF(H133=0,0,'Fert selector'!$G$13/H133)","v":0},{"$f":"IF('Fert selector'!$D$15=\"Y\",$H133*$N133,IF('Fert selector'!$E$15=\"Y\",$H133*$S133,IF('Fert selector'!$F$15=\"Y\",$H133*$X133,IF('Fert selector'!$G$15=\"Y\",$H133*$AC133))))","v":0},0,{"$f":"IF((AD133-'Fert selector'!$G$13)<0,(AD133-'Fert selector'!$G$13)*-1,AD133-'Fert selector'!$G$13)","v":0},{"$f":"IF(AD133<('Fert selector'!$G$13+'Fert selector'!$G$13*'Fert selector'!$G$17),0,1)&IF(AD133>('Fert selector'!$G$13-'Fert selector'!$G$13*'Fert selector'!$G$18),0,1)","v":"11"}]
[null,null,null,null,null,null,null,null,null,null,null,null,null,{"$f":"IF(E134=0,0,'Fert selector'!$D$13/E134)","v":0},{"$f":"IF('Fert selector'!$D$15=\"Y\",E134*N134,IF('Fert selector'!$E$15=\"Y\",F134*S134,IF('Fert selector'!$F$15=\"Y\",G134*X134,IF('Fert selector'!$G$15=\"Y\",H134*AC134))))","v":0},150,{"$f":"IF((O134-'Fert selector'!$D$13)<0,(O134-'Fert selector'!$D$13)*-1,O134-'Fert selector'!$D$13)","v":150},{"$f":"IF(O134<('Fert selector'!$D$13+'Fert selector'!$D$13*'Fert selector'!$D$17),0,1)&IF(O134>('Fert selector'!$D$13-'Fert selector'!$D$13*'Fert selector'!$D$18),0,1)","v":"01"},{"$f":"IF(F134=0,0,'Fert selector'!$E$13/F134)","v":0},{"$f":"IF('Fert selector'!$D$15=\"Y\",$F134*$N134,IF('Fert selector'!$E$15=\"Y\",$F134*$S134,IF('Fert selector'!$F$15=\"Y\",$F134*$X134,IF('Fert selector'!$G$15=\"Y\",$F134*$AC134))))","v":0},0,{"$f":"IF((T134-'Fert selector'!$E$13)<0,(T134-'Fert selector'!$E$13)*-1,T134-'Fert selector'!$E$13)","v":0},{"$f":"IF(T134<('Fert selector'!$E$13+'Fert selector'!$E$13*'Fert selector'!$E$17),0,1)&IF(T134>('Fert selector'!$E$13-'Fert selector'!$E$13*'Fert selector'!$E$18),0,1)","v":"11"},{"$f":"IF(G134=0,0,'Fert selector'!$F$13/G134)","v":0},{"$f":"IF('Fert selector'!$D$15=\"Y\",$G134*$N134,IF('Fert selector'!$E$15=\"Y\",$G134*$S134,IF('Fert selector'!$F$15=\"Y\",$G134*$X134,IF('Fert selector'!$G$15=\"Y\",$G134*$AC134))))","v":0},90,{"$f":"IF((Y134-'Fert selector'!$F$13)<0,(Y134-'Fert selector'!$F$13)*-1,Y134-'Fert selector'!$F$13)","v":90},{"$f":"IF(Y134<('Fert selector'!$F$13+'Fert selector'!$F$13*'Fert selector'!$F$17),0,1)&IF(Y134>('Fert selector'!$F$13-'Fert selector'!$F$13*'Fert selector'!$F$18),0,1)","v":"01"},{"$f":"IF(H134=0,0,'Fert selector'!$G$13/H134)","v":0},{"$f":"IF('Fert selector'!$D$15=\"Y\",$H134*$N134,IF('Fert selector'!$E$15=\"Y\",$H134*$S134,IF('Fert selector'!$F$15=\"Y\",$H134*$X134,IF('Fert selector'!$G$15=\"Y\",$H134*$AC134))))","v":0},0,{"$f":"IF((AD134-'Fert selector'!$G$13)<0,(AD134-'Fert selector'!$G$13)*-1,AD134-'Fert selector'!$G$13)","v":0},{"$f":"IF(AD134<('Fert selector'!$G$13+'Fert selector'!$G$13*'Fert selector'!$G$17),0,1)&IF(AD134>('Fert selector'!$G$13-'Fert selector'!$G$13*'Fert selector'!$G$18),0,1)","v":"11"}]
[null,null,null,null,null,null,null,null,null,null,null,null,null,{"$f":"IF(E135=0,0,'Fert selector'!$D$13/E135)","v":0},{"$f":"IF('Fert selector'!$D$15=\"Y\",E135*N135,IF('Fert selector'!$E$15=\"Y\",F135*S135,IF('Fert selector'!$F$15=\"Y\",G135*X135,IF('Fert selector'!$G$15=\"Y\",H135*AC135))))","v":0},150,{"$f":"IF((O135-'Fert selector'!$D$13)<0,(O135-'Fert selector'!$D$13)*-1,O135-'Fert selector'!$D$13)","v":150},{"$f":"IF(O135<('Fert selector'!$D$13+'Fert selector'!$D$13*'Fert selector'!$D$17),0,1)&IF(O135>('Fert selector'!$D$13-'Fert selector'!$D$13*'Fert selector'!$D$18),0,1)","v":"01"},{"$f":"IF(F135=0,0,'Fert selector'!$E$13/F135)","v":0},{"$f":"IF('Fert selector'!$D$15=\"Y\",$F135*$N135,IF('Fert selector'!$E$15=\"Y\",$F135*$S135,IF('Fert selector'!$F$15=\"Y\",$F135*$X135,IF('Fert selector'!$G$15=\"Y\",$F135*$AC135))))","v":0},0,{"$f":"IF((T135-'Fert selector'!$E$13)<0,(T135-'Fert selector'!$E$13)*-1,T135-'Fert selector'!$E$13)","v":0},{"$f":"IF(T135<('Fert selector'!$E$13+'Fert selector'!$E$13*'Fert selector'!$E$17),0,1)&IF(T135>('Fert selector'!$E$13-'Fert selector'!$E$13*'Fert selector'!$E$18),0,1)","v":"11"},{"$f":"IF(G135=0,0,'Fert selector'!$F$13/G135)","v":0},{"$f":"IF('Fert selector'!$D$15=\"Y\",$G135*$N135,IF('Fert selector'!$E$15=\"Y\",$G135*$S135,IF('Fert selector'!$F$15=\"Y\",$G135*$X135,IF('Fert selector'!$G$15=\"Y\",$G135*$AC135))))","v":0},90,{"$f":"IF((Y135-'Fert selector'!$F$13)<0,(Y135-'Fert selector'!$F$13)*-1,Y135-'Fert selector'!$F$13)","v":90},{"$f":"IF(Y135<('Fert selector'!$F$13+'Fert selector'!$F$13*'Fert selector'!$F$17),0,1)&IF(Y135>('Fert selector'!$F$13-'Fert selector'!$F$13*'Fert selector'!$F$18),0,1)","v":"01"},{"$f":"IF(H135=0,0,'Fert selector'!$G$13/H135)","v":0},{"$f":"IF('Fert selector'!$D$15=\"Y\",$H135*$N135,IF('Fert selector'!$E$15=\"Y\",$H135*$S135,IF('Fert selector'!$F$15=\"Y\",$H135*$X135,IF('Fert selector'!$G$15=\"Y\",$H135*$AC135))))","v":0},0,{"$f":"IF((AD135-'Fert selector'!$G$13)<0,(AD135-'Fert selector'!$G$13)*-1,AD135-'Fert selector'!$G$13)","v":0},{"$f":"IF(AD135<('Fert selector'!$G$13+'Fert selector'!$G$13*'Fert selector'!$G$17),0,1)&IF(AD135>('Fert selector'!$G$13-'Fert selector'!$G$13*'Fert selector'!$G$18),0,1)","v":"11"}]
[null,null,null,null,null,null,null,null,null,null,null,null,null,{"$f":"IF(E136=0,0,'Fert selector'!$D$13/E136)","v":0},{"$f":"IF('Fert selector'!$D$15=\"Y\",E136*N136,IF('Fert selector'!$E$15=\"Y\",F136*S136,IF('Fert selector'!$F$15=\"Y\",G136*X136,IF('Fert selector'!$G$15=\"Y\",H136*AC136))))","v":0},150,{"$f":"IF((O136-'Fert selector'!$D$13)<0,(O136-'Fert selector'!$D$13)*-1,O136-'Fert selector'!$D$13)","v":150},{"$f":"IF(O136<('Fert selector'!$D$13+'Fert selector'!$D$13*'Fert selector'!$D$17),0,1)&IF(O136>('Fert selector'!$D$13-'Fert selector'!$D$13*'Fert selector'!$D$18),0,1)","v":"01"},{"$f":"IF(F136=0,0,'Fert selector'!$E$13/F136)","v":0},{"$f":"IF('Fert selector'!$D$15=\"Y\",$F136*$N136,IF('Fert selector'!$E$15=\"Y\",$F136*$S136,IF('Fert selector'!$F$15=\"Y\",$F136*$X136,IF('Fert selector'!$G$15=\"Y\",$F136*$AC136))))","v":0},0,{"$f":"IF((T136-'Fert selector'!$E$13)<0,(T136-'Fert selector'!$E$13)*-1,T136-'Fert selector'!$E$13)","v":0},{"$f":"IF(T136<('Fert selector'!$E$13+'Fert selector'!$E$13*'Fert selector'!$E$17),0,1)&IF(T136>('Fert selector'!$E$13-'Fert selector'!$E$13*'Fert selector'!$E$18),0,1)","v":"11"},{"$f":"IF(G136=0,0,'Fert selector'!$F$13/G136)","v":0},{"$f":"IF('Fert selector'!$D$15=\"Y\",$G136*$N136,IF('Fert selector'!$E$15=\"Y\",$G136*$S136,IF('Fert selector'!$F$15=\"Y\",$G136*$X136,IF('Fert selector'!$G$15=\"Y\",$G136*$AC136))))","v":0},90,{"$f":"IF((Y136-'Fert selector'!$F$13)<0,(Y136-'Fert selector'!$F$13)*-1,Y136-'Fert selector'!$F$13)","v":90},{"$f":"IF(Y136<('Fert selector'!$F$13+'Fert selector'!$F$13*'Fert selector'!$F$17),0,1)&IF(Y136>('Fert selector'!$F$13-'Fert selector'!$F$13*'Fert selector'!$F$18),0,1)","v":"01"},{"$f":"IF(H136=0,0,'Fert selector'!$G$13/H136)","v":0},{"$f":"IF('Fert selector'!$D$15=\"Y\",$H136*$N136,IF('Fert selector'!$E$15=\"Y\",$H136*$S136,IF('Fert selector'!$F$15=\"Y\",$H136*$X136,IF('Fert selector'!$G$15=\"Y\",$H136*$AC136))))","v":0},0,{"$f":"IF((AD136-'Fert selector'!$G$13)<0,(AD136-'Fert selector'!$G$13)*-1,AD136-'Fert selector'!$G$13)","v":0},{"$f":"IF(AD136<('Fert selector'!$G$13+'Fert selector'!$G$13*'Fert selector'!$G$17),0,1)&IF(AD136>('Fert selector'!$G$13-'Fert selector'!$G$13*'Fert selector'!$G$18),0,1)","v":"11"}]
[null,null,null,null,null,null,null,null,null,null,null,null,null,{"$f":"IF(E137=0,0,'Fert selector'!$D$13/E137)","v":0},{"$f":"IF('Fert selector'!$D$15=\"Y\",E137*N137,IF('Fert selector'!$E$15=\"Y\",F137*S137,IF('Fert selector'!$F$15=\"Y\",G137*X137,IF('Fert selector'!$G$15=\"Y\",H137*AC137))))","v":0},150,{"$f":"IF((O137-'Fert selector'!$D$13)<0,(O137-'Fert selector'!$D$13)*-1,O137-'Fert selector'!$D$13)","v":150},{"$f":"IF(O137<('Fert selector'!$D$13+'Fert selector'!$D$13*'Fert selector'!$D$17),0,1)&IF(O137>('Fert selector'!$D$13-'Fert selector'!$D$13*'Fert selector'!$D$18),0,1)","v":"01"},{"$f":"IF(F137=0,0,'Fert selector'!$E$13/F137)","v":0},{"$f":"IF('Fert selector'!$D$15=\"Y\",$F137*$N137,IF('Fert selector'!$E$15=\"Y\",$F137*$S137,IF('Fert selector'!$F$15=\"Y\",$F137*$X137,IF('Fert selector'!$G$15=\"Y\",$F137*$AC137))))","v":0},0,{"$f":"IF((T137-'Fert selector'!$E$13)<0,(T137-'Fert selector'!$E$13)*-1,T137-'Fert selector'!$E$13)","v":0},{"$f":"IF(T137<('Fert selector'!$E$13+'Fert selector'!$E$13*'Fert selector'!$E$17),0,1)&IF(T137>('Fert selector'!$E$13-'Fert selector'!$E$13*'Fert selector'!$E$18),0,1)","v":"11"},{"$f":"IF(G137=0,0,'Fert selector'!$F$13/G137)","v":0},{"$f":"IF('Fert selector'!$D$15=\"Y\",$G137*$N137,IF('Fert selector'!$E$15=\"Y\",$G137*$S137,IF('Fert selector'!$F$15=\"Y\",$G137*$X137,IF('Fert selector'!$G$15=\"Y\",$G137*$AC137))))","v":0},90,{"$f":"IF((Y137-'Fert selector'!$F$13)<0,(Y137-'Fert selector'!$F$13)*-1,Y137-'Fert selector'!$F$13)","v":90},{"$f":"IF(Y137<('Fert selector'!$F$13+'Fert selector'!$F$13*'Fert selector'!$F$17),0,1)&IF(Y137>('Fert selector'!$F$13-'Fert selector'!$F$13*'Fert selector'!$F$18),0,1)","v":"01"},{"$f":"IF(H137=0,0,'Fert selector'!$G$13/H137)","v":0},{"$f":"IF('Fert selector'!$D$15=\"Y\",$H137*$N137,IF('Fert selector'!$E$15=\"Y\",$H137*$S137,IF('Fert selector'!$F$15=\"Y\",$H137*$X137,IF('Fert selector'!$G$15=\"Y\",$H137*$AC137))))","v":0},0,{"$f":"IF((AD137-'Fert selector'!$G$13)<0,(AD137-'Fert selector'!$G$13)*-1,AD137-'Fert selector'!$G$13)","v":0},{"$f":"IF(AD137<('Fert selector'!$G$13+'Fert selector'!$G$13*'Fert selector'!$G$17),0,1)&IF(AD137>('Fert selector'!$G$13-'Fert selector'!$G$13*'Fert selector'!$G$18),0,1)","v":"11"}]
[null,null,null,null,null,null,null,null,null,null,null,null,null,{"$f":"IF(E138=0,0,'Fert selector'!$D$13/E138)","v":0},{"$f":"IF('Fert selector'!$D$15=\"Y\",E138*N138,IF('Fert selector'!$E$15=\"Y\",F138*S138,IF('Fert selector'!$F$15=\"Y\",G138*X138,IF('Fert selector'!$G$15=\"Y\",H138*AC138))))","v":0},150,{"$f":"IF((O138-'Fert selector'!$D$13)<0,(O138-'Fert selector'!$D$13)*-1,O138-'Fert selector'!$D$13)","v":150},{"$f":"IF(O138<('Fert selector'!$D$13+'Fert selector'!$D$13*'Fert selector'!$D$17),0,1)&IF(O138>('Fert selector'!$D$13-'Fert selector'!$D$13*'Fert selector'!$D$18),0,1)","v":"01"},{"$f":"IF(F138=0,0,'Fert selector'!$E$13/F138)","v":0},{"$f":"IF('Fert selector'!$D$15=\"Y\",$F138*$N138,IF('Fert selector'!$E$15=\"Y\",$F138*$S138,IF('Fert selector'!$F$15=\"Y\",$F138*$X138,IF('Fert selector'!$G$15=\"Y\",$F138*$AC138))))","v":0},0,{"$f":"IF((T138-'Fert selector'!$E$13)<0,(T138-'Fert selector'!$E$13)*-1,T138-'Fert selector'!$E$13)","v":0},{"$f":"IF(T138<('Fert selector'!$E$13+'Fert selector'!$E$13*'Fert selector'!$E$17),0,1)&IF(T138>('Fert selector'!$E$13-'Fert selector'!$E$13*'Fert selector'!$E$18),0,1)","v":"11"},{"$f":"IF(G138=0,0,'Fert selector'!$F$13/G138)","v":0},{"$f":"IF('Fert selector'!$D$15=\"Y\",$G138*$N138,IF('Fert selector'!$E$15=\"Y\",$G138*$S138,IF('Fert selector'!$F$15=\"Y\",$G138*$X138,IF('Fert selector'!$G$15=\"Y\",$G138*$AC138))))","v":0},90,{"$f":"IF((Y138-'Fert selector'!$F$13)<0,(Y138-'Fert selector'!$F$13)*-1,Y138-'Fert selector'!$F$13)","v":90},{"$f":"IF(Y138<('Fert selector'!$F$13+'Fert selector'!$F$13*'Fert selector'!$F$17),0,1)&IF(Y138>('Fert selector'!$F$13-'Fert selector'!$F$13*'Fert selector'!$F$18),0,1)","v":"01"},{"$f":"IF(H138=0,0,'Fert selector'!$G$13/H138)","v":0},{"$f":"IF('Fert selector'!$D$15=\"Y\",$H138*$N138,IF('Fert selector'!$E$15=\"Y\",$H138*$S138,IF('Fert selector'!$F$15=\"Y\",$H138*$X138,IF('Fert selector'!$G$15=\"Y\",$H138*$AC138))))","v":0},0,{"$f":"IF((AD138-'Fert selector'!$G$13)<0,(AD138-'Fert selector'!$G$13)*-1,AD138-'Fert selector'!$G$13)","v":0},{"$f":"IF(AD138<('Fert selector'!$G$13+'Fert selector'!$G$13*'Fert selector'!$G$17),0,1)&IF(AD138>('Fert selector'!$G$13-'Fert selector'!$G$13*'Fert selector'!$G$18),0,1)","v":"11"}]
[null,null,null,null,null,null,null,null,null,null,null,null,null,{"$f":"IF(E139=0,0,'Fert selector'!$D$13/E139)","v":0},{"$f":"IF('Fert selector'!$D$15=\"Y\",E139*N139,IF('Fert selector'!$E$15=\"Y\",F139*S139,IF('Fert selector'!$F$15=\"Y\",G139*X139,IF('Fert selector'!$G$15=\"Y\",H139*AC139))))","v":0},150,{"$f":"IF((O139-'Fert selector'!$D$13)<0,(O139-'Fert selector'!$D$13)*-1,O139-'Fert selector'!$D$13)","v":150},{"$f":"IF(O139<('Fert selector'!$D$13+'Fert selector'!$D$13*'Fert selector'!$D$17),0,1)&IF(O139>('Fert selector'!$D$13-'Fert selector'!$D$13*'Fert selector'!$D$18),0,1)","v":"01"},{"$f":"IF(F139=0,0,'Fert selector'!$E$13/F139)","v":0},{"$f":"IF('Fert selector'!$D$15=\"Y\",$F139*$N139,IF('Fert selector'!$E$15=\"Y\",$F139*$S139,IF('Fert selector'!$F$15=\"Y\",$F139*$X139,IF('Fert selector'!$G$15=\"Y\",$F139*$AC139))))","v":0},0,{"$f":"IF((T139-'Fert selector'!$E$13)<0,(T139-'Fert selector'!$E$13)*-1,T139-'Fert selector'!$E$13)","v":0},{"$f":"IF(T139<('Fert selector'!$E$13+'Fert selector'!$E$13*'Fert selector'!$E$17),0,1)&IF(T139>('Fert selector'!$E$13-'Fert selector'!$E$13*'Fert selector'!$E$18),0,1)","v":"11"},{"$f":"IF(G139=0,0,'Fert selector'!$F$13/G139)","v":0},{"$f":"IF('Fert selector'!$D$15=\"Y\",$G139*$N139,IF('Fert selector'!$E$15=\"Y\",$G139*$S139,IF('Fert selector'!$F$15=\"Y\",$G139*$X139,IF('Fert selector'!$G$15=\"Y\",$G139*$AC139))))","v":0},90,{"$f":"IF((Y139-'Fert selector'!$F$13)<0,(Y139-'Fert selector'!$F$13)*-1,Y139-'Fert selector'!$F$13)","v":90},{"$f":"IF(Y139<('Fert selector'!$F$13+'Fert selector'!$F$13*'Fert selector'!$F$17),0,1)&IF(Y139>('Fert selector'!$F$13-'Fert selector'!$F$13*'Fert selector'!$F$18),0,1)","v":"01"},{"$f":"IF(H139=0,0,'Fert selector'!$G$13/H139)","v":0},{"$f":"IF('Fert selector'!$D$15=\"Y\",$H139*$N139,IF('Fert selector'!$E$15=\"Y\",$H139*$S139,IF('Fert selector'!$F$15=\"Y\",$H139*$X139,IF('Fert selector'!$G$15=\"Y\",$H139*$AC139))))","v":0},0,{"$f":"IF((AD139-'Fert selector'!$G$13)<0,(AD139-'Fert selector'!$G$13)*-1,AD139-'Fert selector'!$G$13)","v":0},{"$f":"IF(AD139<('Fert selector'!$G$13+'Fert selector'!$G$13*'Fert selector'!$G$17),0,1)&IF(AD139>('Fert selector'!$G$13-'Fert selector'!$G$13*'Fert selector'!$G$18),0,1)","v":"11"}]
[null,null,null,null,null,null,null,null,null,null,null,null,null,{"$f":"IF(E140=0,0,'Fert selector'!$D$13/E140)","v":0},{"$f":"IF('Fert selector'!$D$15=\"Y\",E140*N140,IF('Fert selector'!$E$15=\"Y\",F140*S140,IF('Fert selector'!$F$15=\"Y\",G140*X140,IF('Fert selector'!$G$15=\"Y\",H140*AC140))))","v":0},150,{"$f":"IF((O140-'Fert selector'!$D$13)<0,(O140-'Fert selector'!$D$13)*-1,O140-'Fert selector'!$D$13)","v":150},{"$f":"IF(O140<('Fert selector'!$D$13+'Fert selector'!$D$13*'Fert selector'!$D$17),0,1)&IF(O140>('Fert selector'!$D$13-'Fert selector'!$D$13*'Fert selector'!$D$18),0,1)","v":"01"},{"$f":"IF(F140=0,0,'Fert selector'!$E$13/F140)","v":0},{"$f":"IF('Fert selector'!$D$15=\"Y\",$F140*$N140,IF('Fert selector'!$E$15=\"Y\",$F140*$S140,IF('Fert selector'!$F$15=\"Y\",$F140*$X140,IF('Fert selector'!$G$15=\"Y\",$F140*$AC140))))","v":0},0,{"$f":"IF((T140-'Fert selector'!$E$13)<0,(T140-'Fert selector'!$E$13)*-1,T140-'Fert selector'!$E$13)","v":0},{"$f":"IF(T140<('Fert selector'!$E$13+'Fert selector'!$E$13*'Fert selector'!$E$17),0,1)&IF(T140>('Fert selector'!$E$13-'Fert selector'!$E$13*'Fert selector'!$E$18),0,1)","v":"11"},{"$f":"IF(G140=0,0,'Fert selector'!$F$13/G140)","v":0},{"$f":"IF('Fert selector'!$D$15=\"Y\",$G140*$N140,IF('Fert selector'!$E$15=\"Y\",$G140*$S140,IF('Fert selector'!$F$15=\"Y\",$G140*$X140,IF('Fert selector'!$G$15=\"Y\",$G140*$AC140))))","v":0},90,{"$f":"IF((Y140-'Fert selector'!$F$13)<0,(Y140-'Fert selector'!$F$13)*-1,Y140-'Fert selector'!$F$13)","v":90},{"$f":"IF(Y140<('Fert selector'!$F$13+'Fert selector'!$F$13*'Fert selector'!$F$17),0,1)&IF(Y140>('Fert selector'!$F$13-'Fert selector'!$F$13*'Fert selector'!$F$18),0,1)","v":"01"},{"$f":"IF(H140=0,0,'Fert selector'!$G$13/H140)","v":0},{"$f":"IF('Fert selector'!$D$15=\"Y\",$H140*$N140,IF('Fert selector'!$E$15=\"Y\",$H140*$S140,IF('Fert selector'!$F$15=\"Y\",$H140*$X140,IF('Fert selector'!$G$15=\"Y\",$H140*$AC140))))","v":0},0,{"$f":"IF((AD140-'Fert selector'!$G$13)<0,(AD140-'Fert selector'!$G$13)*-1,AD140-'Fert selector'!$G$13)","v":0},{"$f":"IF(AD140<('Fert selector'!$G$13+'Fert selector'!$G$13*'Fert selector'!$G$17),0,1)&IF(AD140>('Fert selector'!$G$13-'Fert selector'!$G$13*'Fert selector'!$G$18),0,1)","v":"11"}]
[null,null,null,null,null,null,null,null,null,null,null,null,null,{"$f":"IF(E141=0,0,'Fert selector'!$D$13/E141)","v":0},{"$f":"IF('Fert selector'!$D$15=\"Y\",E141*N141,IF('Fert selector'!$E$15=\"Y\",F141*S141,IF('Fert selector'!$F$15=\"Y\",G141*X141,IF('Fert selector'!$G$15=\"Y\",H141*AC141))))","v":0},150,{"$f":"IF((O141-'Fert selector'!$D$13)<0,(O141-'Fert selector'!$D$13)*-1,O141-'Fert selector'!$D$13)","v":150},{"$f":"IF(O141<('Fert selector'!$D$13+'Fert selector'!$D$13*'Fert selector'!$D$17),0,1)&IF(O141>('Fert selector'!$D$13-'Fert selector'!$D$13*'Fert selector'!$D$18),0,1)","v":"01"},{"$f":"IF(F141=0,0,'Fert selector'!$E$13/F141)","v":0},{"$f":"IF('Fert selector'!$D$15=\"Y\",$F141*$N141,IF('Fert selector'!$E$15=\"Y\",$F141*$S141,IF('Fert selector'!$F$15=\"Y\",$F141*$X141,IF('Fert selector'!$G$15=\"Y\",$F141*$AC141))))","v":0},0,{"$f":"IF((T141-'Fert selector'!$E$13)<0,(T141-'Fert selector'!$E$13)*-1,T141-'Fert selector'!$E$13)","v":0},{"$f":"IF(T141<('Fert selector'!$E$13+'Fert selector'!$E$13*'Fert selector'!$E$17),0,1)&IF(T141>('Fert selector'!$E$13-'Fert selector'!$E$13*'Fert selector'!$E$18),0,1)","v":"11"},{"$f":"IF(G141=0,0,'Fert selector'!$F$13/G141)","v":0},{"$f":"IF('Fert selector'!$D$15=\"Y\",$G141*$N141,IF('Fert selector'!$E$15=\"Y\",$G141*$S141,IF('Fert selector'!$F$15=\"Y\",$G141*$X141,IF('Fert selector'!$G$15=\"Y\",$G141*$AC141))))","v":0},90,{"$f":"IF((Y141-'Fert selector'!$F$13)<0,(Y141-'Fert selector'!$F$13)*-1,Y141-'Fert selector'!$F$13)","v":90},{"$f":"IF(Y141<('Fert selector'!$F$13+'Fert selector'!$F$13*'Fert selector'!$F$17),0,1)&IF(Y141>('Fert selector'!$F$13-'Fert selector'!$F$13*'Fert selector'!$F$18),0,1)","v":"01"},{"$f":"IF(H141=0,0,'Fert selector'!$G$13/H141)","v":0},{"$f":"IF('Fert selector'!$D$15=\"Y\",$H141*$N141,IF('Fert selector'!$E$15=\"Y\",$H141*$S141,IF('Fert selector'!$F$15=\"Y\",$H141*$X141,IF('Fert selector'!$G$15=\"Y\",$H141*$AC141))))","v":0},0,{"$f":"IF((AD141-'Fert selector'!$G$13)<0,(AD141-'Fert selector'!$G$13)*-1,AD141-'Fert selector'!$G$13)","v":0},{"$f":"IF(AD141<('Fert selector'!$G$13+'Fert selector'!$G$13*'Fert selector'!$G$17),0,1)&IF(AD141>('Fert selector'!$G$13-'Fert selector'!$G$13*'Fert selector'!$G$18),0,1)","v":"11"}]
[null,null,null,null,null,null,null,null,null,null,null,null,null,{"$f":"IF(E142=0,0,'Fert selector'!$D$13/E142)","v":0},{"$f":"IF('Fert selector'!$D$15=\"Y\",E142*N142,IF('Fert selector'!$E$15=\"Y\",F142*S142,IF('Fert selector'!$F$15=\"Y\",G142*X142,IF('Fert selector'!$G$15=\"Y\",H142*AC142))))","v":0},150,{"$f":"IF((O142-'Fert selector'!$D$13)<0,(O142-'Fert selector'!$D$13)*-1,O142-'Fert selector'!$D$13)","v":150},{"$f":"IF(O142<('Fert selector'!$D$13+'Fert selector'!$D$13*'Fert selector'!$D$17),0,1)&IF(O142>('Fert selector'!$D$13-'Fert selector'!$D$13*'Fert selector'!$D$18),0,1)","v":"01"},{"$f":"IF(F142=0,0,'Fert selector'!$E$13/F142)","v":0},{"$f":"IF('Fert selector'!$D$15=\"Y\",$F142*$N142,IF('Fert selector'!$E$15=\"Y\",$F142*$S142,IF('Fert selector'!$F$15=\"Y\",$F142*$X142,IF('Fert selector'!$G$15=\"Y\",$F142*$AC142))))","v":0},0,{"$f":"IF((T142-'Fert selector'!$E$13)<0,(T142-'Fert selector'!$E$13)*-1,T142-'Fert selector'!$E$13)","v":0},{"$f":"IF(T142<('Fert selector'!$E$13+'Fert selector'!$E$13*'Fert selector'!$E$17),0,1)&IF(T142>('Fert selector'!$E$13-'Fert selector'!$E$13*'Fert selector'!$E$18),0,1)","v":"11"},{"$f":"IF(G142=0,0,'Fert selector'!$F$13/G142)","v":0},{"$f":"IF('Fert selector'!$D$15=\"Y\",$G142*$N142,IF('Fert selector'!$E$15=\"Y\",$G142*$S142,IF('Fert selector'!$F$15=\"Y\",$G142*$X142,IF('Fert selector'!$G$15=\"Y\",$G142*$AC142))))","v":0},90,{"$f":"IF((Y142-'Fert selector'!$F$13)<0,(Y142-'Fert selector'!$F$13)*-1,Y142-'Fert selector'!$F$13)","v":90},{"$f":"IF(Y142<('Fert selector'!$F$13+'Fert selector'!$F$13*'Fert selector'!$F$17),0,1)&IF(Y142>('Fert selector'!$F$13-'Fert selector'!$F$13*'Fert selector'!$F$18),0,1)","v":"01"},{"$f":"IF(H142=0,0,'Fert selector'!$G$13/H142)","v":0},{"$f":"IF('Fert selector'!$D$15=\"Y\",$H142*$N142,IF('Fert selector'!$E$15=\"Y\",$H142*$S142,IF('Fert selector'!$F$15=\"Y\",$H142*$X142,IF('Fert selector'!$G$15=\"Y\",$H142*$AC142))))","v":0},0,{"$f":"IF((AD142-'Fert selector'!$G$13)<0,(AD142-'Fert selector'!$G$13)*-1,AD142-'Fert selector'!$G$13)","v":0},{"$f":"IF(AD142<('Fert selector'!$G$13+'Fert selector'!$G$13*'Fert selector'!$G$17),0,1)&IF(AD142>('Fert selector'!$G$13-'Fert selector'!$G$13*'Fert selector'!$G$18),0,1)","v":"11"}]
[null,null,null,null,null,null,null,null,null,null,null,null,null,{"$f":"IF(E143=0,0,'Fert selector'!$D$13/E143)","v":0},{"$f":"IF('Fert selector'!$D$15=\"Y\",E143*N143,IF('Fert selector'!$E$15=\"Y\",F143*S143,IF('Fert selector'!$F$15=\"Y\",G143*X143,IF('Fert selector'!$G$15=\"Y\",H143*AC143))))","v":0},150,{"$f":"IF((O143-'Fert selector'!$D$13)<0,(O143-'Fert selector'!$D$13)*-1,O143-'Fert selector'!$D$13)","v":150},{"$f":"IF(O143<('Fert selector'!$D$13+'Fert selector'!$D$13*'Fert selector'!$D$17),0,1)&IF(O143>('Fert selector'!$D$13-'Fert selector'!$D$13*'Fert selector'!$D$18),0,1)","v":"01"},{"$f":"IF(F143=0,0,'Fert selector'!$E$13/F143)","v":0},{"$f":"IF('Fert selector'!$D$15=\"Y\",$F143*$N143,IF('Fert selector'!$E$15=\"Y\",$F143*$S143,IF('Fert selector'!$F$15=\"Y\",$F143*$X143,IF('Fert selector'!$G$15=\"Y\",$F143*$AC143))))","v":0},0,{"$f":"IF((T143-'Fert selector'!$E$13)<0,(T143-'Fert selector'!$E$13)*-1,T143-'Fert selector'!$E$13)","v":0},{"$f":"IF(T143<('Fert selector'!$E$13+'Fert selector'!$E$13*'Fert selector'!$E$17),0,1)&IF(T143>('Fert selector'!$E$13-'Fert selector'!$E$13*'Fert selector'!$E$18),0,1)","v":"11"},{"$f":"IF(G143=0,0,'Fert selector'!$F$13/G143)","v":0},{"$f":"IF('Fert selector'!$D$15=\"Y\",$G143*$N143,IF('Fert selector'!$E$15=\"Y\",$G143*$S143,IF('Fert selector'!$F$15=\"Y\",$G143*$X143,IF('Fert selector'!$G$15=\"Y\",$G143*$AC143))))","v":0},90,{"$f":"IF((Y143-'Fert selector'!$F$13)<0,(Y143-'Fert selector'!$F$13)*-1,Y143-'Fert selector'!$F$13)","v":90},{"$f":"IF(Y143<('Fert selector'!$F$13+'Fert selector'!$F$13*'Fert selector'!$F$17),0,1)&IF(Y143>('Fert selector'!$F$13-'Fert selector'!$F$13*'Fert selector'!$F$18),0,1)","v":"01"},{"$f":"IF(H143=0,0,'Fert selector'!$G$13/H143)","v":0},{"$f":"IF('Fert selector'!$D$15=\"Y\",$H143*$N143,IF('Fert selector'!$E$15=\"Y\",$H143*$S143,IF('Fert selector'!$F$15=\"Y\",$H143*$X143,IF('Fert selector'!$G$15=\"Y\",$H143*$AC143))))","v":0},0,{"$f":"IF((AD143-'Fert selector'!$G$13)<0,(AD143-'Fert selector'!$G$13)*-1,AD143-'Fert selector'!$G$13)","v":0},{"$f":"IF(AD143<('Fert selector'!$G$13+'Fert selector'!$G$13*'Fert selector'!$G$17),0,1)&IF(AD143>('Fert selector'!$G$13-'Fert selector'!$G$13*'Fert selector'!$G$18),0,1)","v":"11"}]
[null,null,null,null,null,null,null,null,null,null,null,null,null,{"$f":"IF(E144=0,0,'Fert selector'!$D$13/E144)","v":0},{"$f":"IF('Fert selector'!$D$15=\"Y\",E144*N144,IF('Fert selector'!$E$15=\"Y\",F144*S144,IF('Fert selector'!$F$15=\"Y\",G144*X144,IF('Fert selector'!$G$15=\"Y\",H144*AC144))))","v":0},150,{"$f":"IF((O144-'Fert selector'!$D$13)<0,(O144-'Fert selector'!$D$13)*-1,O144-'Fert selector'!$D$13)","v":150},{"$f":"IF(O144<('Fert selector'!$D$13+'Fert selector'!$D$13*'Fert selector'!$D$17),0,1)&IF(O144>('Fert selector'!$D$13-'Fert selector'!$D$13*'Fert selector'!$D$18),0,1)","v":"01"},{"$f":"IF(F144=0,0,'Fert selector'!$E$13/F144)","v":0},{"$f":"IF('Fert selector'!$D$15=\"Y\",$F144*$N144,IF('Fert selector'!$E$15=\"Y\",$F144*$S144,IF('Fert selector'!$F$15=\"Y\",$F144*$X144,IF('Fert selector'!$G$15=\"Y\",$F144*$AC144))))","v":0},0,{"$f":"IF((T144-'Fert selector'!$E$13)<0,(T144-'Fert selector'!$E$13)*-1,T144-'Fert selector'!$E$13)","v":0},{"$f":"IF(T144<('Fert selector'!$E$13+'Fert selector'!$E$13*'Fert selector'!$E$17),0,1)&IF(T144>('Fert selector'!$E$13-'Fert selector'!$E$13*'Fert selector'!$E$18),0,1)","v":"11"},{"$f":"IF(G144=0,0,'Fert selector'!$F$13/G144)","v":0},{"$f":"IF('Fert selector'!$D$15=\"Y\",$G144*$N144,IF('Fert selector'!$E$15=\"Y\",$G144*$S144,IF('Fert selector'!$F$15=\"Y\",$G144*$X144,IF('Fert selector'!$G$15=\"Y\",$G144*$AC144))))","v":0},90,{"$f":"IF((Y144-'Fert selector'!$F$13)<0,(Y144-'Fert selector'!$F$13)*-1,Y144-'Fert selector'!$F$13)","v":90},{"$f":"IF(Y144<('Fert selector'!$F$13+'Fert selector'!$F$13*'Fert selector'!$F$17),0,1)&IF(Y144>('Fert selector'!$F$13-'Fert selector'!$F$13*'Fert selector'!$F$18),0,1)","v":"01"},{"$f":"IF(H144=0,0,'Fert selector'!$G$13/H144)","v":0},{"$f":"IF('Fert selector'!$D$15=\"Y\",$H144*$N144,IF('Fert selector'!$E$15=\"Y\",$H144*$S144,IF('Fert selector'!$F$15=\"Y\",$H144*$X144,IF('Fert selector'!$G$15=\"Y\",$H144*$AC144))))","v":0},0,{"$f":"IF((AD144-'Fert selector'!$G$13)<0,(AD144-'Fert selector'!$G$13)*-1,AD144-'Fert selector'!$G$13)","v":0},{"$f":"IF(AD144<('Fert selector'!$G$13+'Fert selector'!$G$13*'Fert selector'!$G$17),0,1)&IF(AD144>('Fert selector'!$G$13-'Fert selector'!$G$13*'Fert selector'!$G$18),0,1)","v":"11"}]
[null,null,null,null,null,null,null,null,null,null,null,null,null,{"$f":"IF(E145=0,0,'Fert selector'!$D$13/E145)","v":0},{"$f":"IF('Fert selector'!$D$15=\"Y\",E145*N145,IF('Fert selector'!$E$15=\"Y\",F145*S145,IF('Fert selector'!$F$15=\"Y\",G145*X145,IF('Fert selector'!$G$15=\"Y\",H145*AC145))))","v":0},150,{"$f":"IF((O145-'Fert selector'!$D$13)<0,(O145-'Fert selector'!$D$13)*-1,O145-'Fert selector'!$D$13)","v":150},{"$f":"IF(O145<('Fert selector'!$D$13+'Fert selector'!$D$13*'Fert selector'!$D$17),0,1)&IF(O145>('Fert selector'!$D$13-'Fert selector'!$D$13*'Fert selector'!$D$18),0,1)","v":"01"},{"$f":"IF(F145=0,0,'Fert selector'!$E$13/F145)","v":0},{"$f":"IF('Fert selector'!$D$15=\"Y\",$F145*$N145,IF('Fert selector'!$E$15=\"Y\",$F145*$S145,IF('Fert selector'!$F$15=\"Y\",$F145*$X145,IF('Fert selector'!$G$15=\"Y\",$F145*$AC145))))","v":0},0,{"$f":"IF((T145-'Fert selector'!$E$13)<0,(T145-'Fert selector'!$E$13)*-1,T145-'Fert selector'!$E$13)","v":0},{"$f":"IF(T145<('Fert selector'!$E$13+'Fert selector'!$E$13*'Fert selector'!$E$17),0,1)&IF(T145>('Fert selector'!$E$13-'Fert selector'!$E$13*'Fert selector'!$E$18),0,1)","v":"11"},{"$f":"IF(G145=0,0,'Fert selector'!$F$13/G145)","v":0},{"$f":"IF('Fert selector'!$D$15=\"Y\",$G145*$N145,IF('Fert selector'!$E$15=\"Y\",$G145*$S145,IF('Fert selector'!$F$15=\"Y\",$G145*$X145,IF('Fert selector'!$G$15=\"Y\",$G145*$AC145))))","v":0},90,{"$f":"IF((Y145-'Fert selector'!$F$13)<0,(Y145-'Fert selector'!$F$13)*-1,Y145-'Fert selector'!$F$13)","v":90},{"$f":"IF(Y145<('Fert selector'!$F$13+'Fert selector'!$F$13*'Fert selector'!$F$17),0,1)&IF(Y145>('Fert selector'!$F$13-'Fert selector'!$F$13*'Fert selector'!$F$18),0,1)","v":"01"},{"$f":"IF(H145=0,0,'Fert selector'!$G$13/H145)","v":0},{"$f":"IF('Fert selector'!$D$15=\"Y\",$H145*$N145,IF('Fert selector'!$E$15=\"Y\",$H145*$S145,IF('Fert selector'!$F$15=\"Y\",$H145*$X145,IF('Fert selector'!$G$15=\"Y\",$H145*$AC145))))","v":0},0,{"$f":"IF((AD145-'Fert selector'!$G$13)<0,(AD145-'Fert selector'!$G$13)*-1,AD145-'Fert selector'!$G$13)","v":0},{"$f":"IF(AD145<('Fert selector'!$G$13+'Fert selector'!$G$13*'Fert selector'!$G$17),0,1)&IF(AD145>('Fert selector'!$G$13-'Fert selector'!$G$13*'Fert selector'!$G$18),0,1)","v":"11"}]
[null,null,null,null,null,null,null,null,null,null,null,null,null,{"$f":"IF(E146=0,0,'Fert selector'!$D$13/E146)","v":0},{"$f":"IF('Fert selector'!$D$15=\"Y\",E146*N146,IF('Fert selector'!$E$15=\"Y\",F146*S146,IF('Fert selector'!$F$15=\"Y\",G146*X146,IF('Fert selector'!$G$15=\"Y\",H146*AC146))))","v":0},150,{"$f":"IF((O146-'Fert selector'!$D$13)<0,(O146-'Fert selector'!$D$13)*-1,O146-'Fert selector'!$D$13)","v":150},{"$f":"IF(O146<('Fert selector'!$D$13+'Fert selector'!$D$13*'Fert selector'!$D$17),0,1)&IF(O146>('Fert selector'!$D$13-'Fert selector'!$D$13*'Fert selector'!$D$18),0,1)","v":"01"},{"$f":"IF(F146=0,0,'Fert selector'!$E$13/F146)","v":0},{"$f":"IF('Fert selector'!$D$15=\"Y\",$F146*$N146,IF('Fert selector'!$E$15=\"Y\",$F146*$S146,IF('Fert selector'!$F$15=\"Y\",$F146*$X146,IF('Fert selector'!$G$15=\"Y\",$F146*$AC146))))","v":0},0,{"$f":"IF((T146-'Fert selector'!$E$13)<0,(T146-'Fert selector'!$E$13)*-1,T146-'Fert selector'!$E$13)","v":0},{"$f":"IF(T146<('Fert selector'!$E$13+'Fert selector'!$E$13*'Fert selector'!$E$17),0,1)&IF(T146>('Fert selector'!$E$13-'Fert selector'!$E$13*'Fert selector'!$E$18),0,1)","v":"11"},{"$f":"IF(G146=0,0,'Fert selector'!$F$13/G146)","v":0},{"$f":"IF('Fert selector'!$D$15=\"Y\",$G146*$N146,IF('Fert selector'!$E$15=\"Y\",$G146*$S146,IF('Fert selector'!$F$15=\"Y\",$G146*$X146,IF('Fert selector'!$G$15=\"Y\",$G146*$AC146))))","v":0},90,{"$f":"IF((Y146-'Fert selector'!$F$13)<0,(Y146-'Fert selector'!$F$13)*-1,Y146-'Fert selector'!$F$13)","v":90},{"$f":"IF(Y146<('Fert selector'!$F$13+'Fert selector'!$F$13*'Fert selector'!$F$17),0,1)&IF(Y146>('Fert selector'!$F$13-'Fert selector'!$F$13*'Fert selector'!$F$18),0,1)","v":"01"},{"$f":"IF(H146=0,0,'Fert selector'!$G$13/H146)","v":0},{"$f":"IF('Fert selector'!$D$15=\"Y\",$H146*$N146,IF('Fert selector'!$E$15=\"Y\",$H146*$S146,IF('Fert selector'!$F$15=\"Y\",$H146*$X146,IF('Fert selector'!$G$15=\"Y\",$H146*$AC146))))","v":0},0,{"$f":"IF((AD146-'Fert selector'!$G$13)<0,(AD146-'Fert selector'!$G$13)*-1,AD146-'Fert selector'!$G$13)","v":0},{"$f":"IF(AD146<('Fert selector'!$G$13+'Fert selector'!$G$13*'Fert selector'!$G$17),0,1)&IF(AD146>('Fert selector'!$G$13-'Fert selector'!$G$13*'Fert selector'!$G$18),0,1)","v":"11"}]
[null,null,null,null,null,null,null,null,null,null,null,null,null,{"$f":"IF(E147=0,0,'Fert selector'!$D$13/E147)","v":0},{"$f":"IF('Fert selector'!$D$15=\"Y\",E147*N147,IF('Fert selector'!$E$15=\"Y\",F147*S147,IF('Fert selector'!$F$15=\"Y\",G147*X147,IF('Fert selector'!$G$15=\"Y\",H147*AC147))))","v":0},150,{"$f":"IF((O147-'Fert selector'!$D$13)<0,(O147-'Fert selector'!$D$13)*-1,O147-'Fert selector'!$D$13)","v":150},{"$f":"IF(O147<('Fert selector'!$D$13+'Fert selector'!$D$13*'Fert selector'!$D$17),0,1)&IF(O147>('Fert selector'!$D$13-'Fert selector'!$D$13*'Fert selector'!$D$18),0,1)","v":"01"},{"$f":"IF(F147=0,0,'Fert selector'!$E$13/F147)","v":0},{"$f":"IF('Fert selector'!$D$15=\"Y\",$F147*$N147,IF('Fert selector'!$E$15=\"Y\",$F147*$S147,IF('Fert selector'!$F$15=\"Y\",$F147*$X147,IF('Fert selector'!$G$15=\"Y\",$F147*$AC147))))","v":0},0,{"$f":"IF((T147-'Fert selector'!$E$13)<0,(T147-'Fert selector'!$E$13)*-1,T147-'Fert selector'!$E$13)","v":0},{"$f":"IF(T147<('Fert selector'!$E$13+'Fert selector'!$E$13*'Fert selector'!$E$17),0,1)&IF(T147>('Fert selector'!$E$13-'Fert selector'!$E$13*'Fert selector'!$E$18),0,1)","v":"11"},{"$f":"IF(G147=0,0,'Fert selector'!$F$13/G147)","v":0},{"$f":"IF('Fert selector'!$D$15=\"Y\",$G147*$N147,IF('Fert selector'!$E$15=\"Y\",$G147*$S147,IF('Fert selector'!$F$15=\"Y\",$G147*$X147,IF('Fert selector'!$G$15=\"Y\",$G147*$AC147))))","v":0},90,{"$f":"IF((Y147-'Fert selector'!$F$13)<0,(Y147-'Fert selector'!$F$13)*-1,Y147-'Fert selector'!$F$13)","v":90},{"$f":"IF(Y147<('Fert selector'!$F$13+'Fert selector'!$F$13*'Fert selector'!$F$17),0,1)&IF(Y147>('Fert selector'!$F$13-'Fert selector'!$F$13*'Fert selector'!$F$18),0,1)","v":"01"},{"$f":"IF(H147=0,0,'Fert selector'!$G$13/H147)","v":0},{"$f":"IF('Fert selector'!$D$15=\"Y\",$H147*$N147,IF('Fert selector'!$E$15=\"Y\",$H147*$S147,IF('Fert selector'!$F$15=\"Y\",$H147*$X147,IF('Fert selector'!$G$15=\"Y\",$H147*$AC147))))","v":0},0,{"$f":"IF((AD147-'Fert selector'!$G$13)<0,(AD147-'Fert selector'!$G$13)*-1,AD147-'Fert selector'!$G$13)","v":0},{"$f":"IF(AD147<('Fert selector'!$G$13+'Fert selector'!$G$13*'Fert selector'!$G$17),0,1)&IF(AD147>('Fert selector'!$G$13-'Fert selector'!$G$13*'Fert selector'!$G$18),0,1)","v":"11"}]
[null,null,null,null,null,null,null,null,null,null,null,null,null,{"$f":"IF(E148=0,0,'Fert selector'!$D$13/E148)","v":0},{"$f":"IF('Fert selector'!$D$15=\"Y\",E148*N148,IF('Fert selector'!$E$15=\"Y\",F148*S148,IF('Fert selector'!$F$15=\"Y\",G148*X148,IF('Fert selector'!$G$15=\"Y\",H148*AC148))))","v":0},150,{"$f":"IF((O148-'Fert selector'!$D$13)<0,(O148-'Fert selector'!$D$13)*-1,O148-'Fert selector'!$D$13)","v":150},{"$f":"IF(O148<('Fert selector'!$D$13+'Fert selector'!$D$13*'Fert selector'!$D$17),0,1)&IF(O148>('Fert selector'!$D$13-'Fert selector'!$D$13*'Fert selector'!$D$18),0,1)","v":"01"},{"$f":"IF(F148=0,0,'Fert selector'!$E$13/F148)","v":0},{"$f":"IF('Fert selector'!$D$15=\"Y\",$F148*$N148,IF('Fert selector'!$E$15=\"Y\",$F148*$S148,IF('Fert selector'!$F$15=\"Y\",$F148*$X148,IF('Fert selector'!$G$15=\"Y\",$F148*$AC148))))","v":0},0,{"$f":"IF((T148-'Fert selector'!$E$13)<0,(T148-'Fert selector'!$E$13)*-1,T148-'Fert selector'!$E$13)","v":0},{"$f":"IF(T148<('Fert selector'!$E$13+'Fert selector'!$E$13*'Fert selector'!$E$17),0,1)&IF(T148>('Fert selector'!$E$13-'Fert selector'!$E$13*'Fert selector'!$E$18),0,1)","v":"11"},{"$f":"IF(G148=0,0,'Fert selector'!$F$13/G148)","v":0},{"$f":"IF('Fert selector'!$D$15=\"Y\",$G148*$N148,IF('Fert selector'!$E$15=\"Y\",$G148*$S148,IF('Fert selector'!$F$15=\"Y\",$G148*$X148,IF('Fert selector'!$G$15=\"Y\",$G148*$AC148))))","v":0},90,{"$f":"IF((Y148-'Fert selector'!$F$13)<0,(Y148-'Fert selector'!$F$13)*-1,Y148-'Fert selector'!$F$13)","v":90},{"$f":"IF(Y148<('Fert selector'!$F$13+'Fert selector'!$F$13*'Fert selector'!$F$17),0,1)&IF(Y148>('Fert selector'!$F$13-'Fert selector'!$F$13*'Fert selector'!$F$18),0,1)","v":"01"},{"$f":"IF(H148=0,0,'Fert selector'!$G$13/H148)","v":0},{"$f":"IF('Fert selector'!$D$15=\"Y\",$H148*$N148,IF('Fert selector'!$E$15=\"Y\",$H148*$S148,IF('Fert selector'!$F$15=\"Y\",$H148*$X148,IF('Fert selector'!$G$15=\"Y\",$H148*$AC148))))","v":0},0,{"$f":"IF((AD148-'Fert selector'!$G$13)<0,(AD148-'Fert selector'!$G$13)*-1,AD148-'Fert selector'!$G$13)","v":0},{"$f":"IF(AD148<('Fert selector'!$G$13+'Fert selector'!$G$13*'Fert selector'!$G$17),0,1)&IF(AD148>('Fert selector'!$G$13-'Fert selector'!$G$13*'Fert selector'!$G$18),0,1)","v":"11"}]
[null,null,null,null,null,null,null,null,null,null,null,null,null,{"$f":"IF(E149=0,0,'Fert selector'!$D$13/E149)","v":0},{"$f":"IF('Fert selector'!$D$15=\"Y\",E149*N149,IF('Fert selector'!$E$15=\"Y\",F149*S149,IF('Fert selector'!$F$15=\"Y\",G149*X149,IF('Fert selector'!$G$15=\"Y\",H149*AC149))))","v":0},150,{"$f":"IF((O149-'Fert selector'!$D$13)<0,(O149-'Fert selector'!$D$13)*-1,O149-'Fert selector'!$D$13)","v":150},{"$f":"IF(O149<('Fert selector'!$D$13+'Fert selector'!$D$13*'Fert selector'!$D$17),0,1)&IF(O149>('Fert selector'!$D$13-'Fert selector'!$D$13*'Fert selector'!$D$18),0,1)","v":"01"},{"$f":"IF(F149=0,0,'Fert selector'!$E$13/F149)","v":0},{"$f":"IF('Fert selector'!$D$15=\"Y\",$F149*$N149,IF('Fert selector'!$E$15=\"Y\",$F149*$S149,IF('Fert selector'!$F$15=\"Y\",$F149*$X149,IF('Fert selector'!$G$15=\"Y\",$F149*$AC149))))","v":0},0,{"$f":"IF((T149-'Fert selector'!$E$13)<0,(T149-'Fert selector'!$E$13)*-1,T149-'Fert selector'!$E$13)","v":0},{"$f":"IF(T149<('Fert selector'!$E$13+'Fert selector'!$E$13*'Fert selector'!$E$17),0,1)&IF(T149>('Fert selector'!$E$13-'Fert selector'!$E$13*'Fert selector'!$E$18),0,1)","v":"11"},{"$f":"IF(G149=0,0,'Fert selector'!$F$13/G149)","v":0},{"$f":"IF('Fert selector'!$D$15=\"Y\",$G149*$N149,IF('Fert selector'!$E$15=\"Y\",$G149*$S149,IF('Fert selector'!$F$15=\"Y\",$G149*$X149,IF('Fert selector'!$G$15=\"Y\",$G149*$AC149))))","v":0},90,{"$f":"IF((Y149-'Fert selector'!$F$13)<0,(Y149-'Fert selector'!$F$13)*-1,Y149-'Fert selector'!$F$13)","v":90},{"$f":"IF(Y149<('Fert selector'!$F$13+'Fert selector'!$F$13*'Fert selector'!$F$17),0,1)&IF(Y149>('Fert selector'!$F$13-'Fert selector'!$F$13*'Fert selector'!$F$18),0,1)","v":"01"},{"$f":"IF(H149=0,0,'Fert selector'!$G$13/H149)","v":0},{"$f":"IF('Fert selector'!$D$15=\"Y\",$H149*$N149,IF('Fert selector'!$E$15=\"Y\",$H149*$S149,IF('Fert selector'!$F$15=\"Y\",$H149*$X149,IF('Fert selector'!$G$15=\"Y\",$H149*$AC149))))","v":0},0,{"$f":"IF((AD149-'Fert selector'!$G$13)<0,(AD149-'Fert selector'!$G$13)*-1,AD149-'Fert selector'!$G$13)","v":0},{"$f":"IF(AD149<('Fert selector'!$G$13+'Fert selector'!$G$13*'Fert selector'!$G$17),0,1)&IF(AD149>('Fert selector'!$G$13-'Fert selector'!$G$13*'Fert selector'!$G$18),0,1)","v":"11"}]
[null,null,null,null,null,null,null,null,null,null,null,null,null,{"$f":"IF(E150=0,0,'Fert selector'!$D$13/E150)","v":0},{"$f":"IF('Fert selector'!$D$15=\"Y\",E150*N150,IF('Fert selector'!$E$15=\"Y\",F150*S150,IF('Fert selector'!$F$15=\"Y\",G150*X150,IF('Fert selector'!$G$15=\"Y\",H150*AC150))))","v":0},150,{"$f":"IF((O150-'Fert selector'!$D$13)<0,(O150-'Fert selector'!$D$13)*-1,O150-'Fert selector'!$D$13)","v":150},{"$f":"IF(O150<('Fert selector'!$D$13+'Fert selector'!$D$13*'Fert selector'!$D$17),0,1)&IF(O150>('Fert selector'!$D$13-'Fert selector'!$D$13*'Fert selector'!$D$18),0,1)","v":"01"},{"$f":"IF(F150=0,0,'Fert selector'!$E$13/F150)","v":0},{"$f":"IF('Fert selector'!$D$15=\"Y\",$F150*$N150,IF('Fert selector'!$E$15=\"Y\",$F150*$S150,IF('Fert selector'!$F$15=\"Y\",$F150*$X150,IF('Fert selector'!$G$15=\"Y\",$F150*$AC150))))","v":0},0,{"$f":"IF((T150-'Fert selector'!$E$13)<0,(T150-'Fert selector'!$E$13)*-1,T150-'Fert selector'!$E$13)","v":0},{"$f":"IF(T150<('Fert selector'!$E$13+'Fert selector'!$E$13*'Fert selector'!$E$17),0,1)&IF(T150>('Fert selector'!$E$13-'Fert selector'!$E$13*'Fert selector'!$E$18),0,1)","v":"11"},{"$f":"IF(G150=0,0,'Fert selector'!$F$13/G150)","v":0},{"$f":"IF('Fert selector'!$D$15=\"Y\",$G150*$N150,IF('Fert selector'!$E$15=\"Y\",$G150*$S150,IF('Fert selector'!$F$15=\"Y\",$G150*$X150,IF('Fert selector'!$G$15=\"Y\",$G150*$AC150))))","v":0},90,{"$f":"IF((Y150-'Fert selector'!$F$13)<0,(Y150-'Fert selector'!$F$13)*-1,Y150-'Fert selector'!$F$13)","v":90},{"$f":"IF(Y150<('Fert selector'!$F$13+'Fert selector'!$F$13*'Fert selector'!$F$17),0,1)&IF(Y150>('Fert selector'!$F$13-'Fert selector'!$F$13*'Fert selector'!$F$18),0,1)","v":"01"},{"$f":"IF(H150=0,0,'Fert selector'!$G$13/H150)","v":0},{"$f":"IF('Fert selector'!$D$15=\"Y\",$H150*$N150,IF('Fert selector'!$E$15=\"Y\",$H150*$S150,IF('Fert selector'!$F$15=\"Y\",$H150*$X150,IF('Fert selector'!$G$15=\"Y\",$H150*$AC150))))","v":0},0,{"$f":"IF((AD150-'Fert selector'!$G$13)<0,(AD150-'Fert selector'!$G$13)*-1,AD150-'Fert selector'!$G$13)","v":0},{"$f":"IF(AD150<('Fert selector'!$G$13+'Fert selector'!$G$13*'Fert selector'!$G$17),0,1)&IF(AD150>('Fert selector'!$G$13-'Fert selector'!$G$13*'Fert selector'!$G$18),0,1)","v":"11"}]
[null,null,null,null,null,null,null,null,null,null,null,null,null,{"$f":"IF(E151=0,0,'Fert selector'!$D$13/E151)","v":0},{"$f":"IF('Fert selector'!$D$15=\"Y\",E151*N151,IF('Fert selector'!$E$15=\"Y\",F151*S151,IF('Fert selector'!$F$15=\"Y\",G151*X151,IF('Fert selector'!$G$15=\"Y\",H151*AC151))))","v":0},150,{"$f":"IF((O151-'Fert selector'!$D$13)<0,(O151-'Fert selector'!$D$13)*-1,O151-'Fert selector'!$D$13)","v":150},{"$f":"IF(O151<('Fert selector'!$D$13+'Fert selector'!$D$13*'Fert selector'!$D$17),0,1)&IF(O151>('Fert selector'!$D$13-'Fert selector'!$D$13*'Fert selector'!$D$18),0,1)","v":"01"},{"$f":"IF(F151=0,0,'Fert selector'!$E$13/F151)","v":0},{"$f":"IF('Fert selector'!$D$15=\"Y\",$F151*$N151,IF('Fert selector'!$E$15=\"Y\",$F151*$S151,IF('Fert selector'!$F$15=\"Y\",$F151*$X151,IF('Fert selector'!$G$15=\"Y\",$F151*$AC151))))","v":0},0,{"$f":"IF((T151-'Fert selector'!$E$13)<0,(T151-'Fert selector'!$E$13)*-1,T151-'Fert selector'!$E$13)","v":0},{"$f":"IF(T151<('Fert selector'!$E$13+'Fert selector'!$E$13*'Fert selector'!$E$17),0,1)&IF(T151>('Fert selector'!$E$13-'Fert selector'!$E$13*'Fert selector'!$E$18),0,1)","v":"11"},{"$f":"IF(G151=0,0,'Fert selector'!$F$13/G151)","v":0},{"$f":"IF('Fert selector'!$D$15=\"Y\",$G151*$N151,IF('Fert selector'!$E$15=\"Y\",$G151*$S151,IF('Fert selector'!$F$15=\"Y\",$G151*$X151,IF('Fert selector'!$G$15=\"Y\",$G151*$AC151))))","v":0},90,{"$f":"IF((Y151-'Fert selector'!$F$13)<0,(Y151-'Fert selector'!$F$13)*-1,Y151-'Fert selector'!$F$13)","v":90},{"$f":"IF(Y151<('Fert selector'!$F$13+'Fert selector'!$F$13*'Fert selector'!$F$17),0,1)&IF(Y151>('Fert selector'!$F$13-'Fert selector'!$F$13*'Fert selector'!$F$18),0,1)","v":"01"},{"$f":"IF(H151=0,0,'Fert selector'!$G$13/H151)","v":0},{"$f":"IF('Fert selector'!$D$15=\"Y\",$H151*$N151,IF('Fert selector'!$E$15=\"Y\",$H151*$S151,IF('Fert selector'!$F$15=\"Y\",$H151*$X151,IF('Fert selector'!$G$15=\"Y\",$H151*$AC151))))","v":0},0,{"$f":"IF((AD151-'Fert selector'!$G$13)<0,(AD151-'Fert selector'!$G$13)*-1,AD151-'Fert selector'!$G$13)","v":0},{"$f":"IF(AD151<('Fert selector'!$G$13+'Fert selector'!$G$13*'Fert selector'!$G$17),0,1)&IF(AD151>('Fert selector'!$G$13-'Fert selector'!$G$13*'Fert selector'!$G$18),0,1)","v":"11"}]
[null,null,null,null,null,null,null,null,null,null,null,null,null,{"$f":"IF(E152=0,0,'Fert selector'!$D$13/E152)","v":0},{"$f":"IF('Fert selector'!$D$15=\"Y\",E152*N152,IF('Fert selector'!$E$15=\"Y\",F152*S152,IF('Fert selector'!$F$15=\"Y\",G152*X152,IF('Fert selector'!$G$15=\"Y\",H152*AC152))))","v":0},150,{"$f":"IF((O152-'Fert selector'!$D$13)<0,(O152-'Fert selector'!$D$13)*-1,O152-'Fert selector'!$D$13)","v":150},{"$f":"IF(O152<('Fert selector'!$D$13+'Fert selector'!$D$13*'Fert selector'!$D$17),0,1)&IF(O152>('Fert selector'!$D$13-'Fert selector'!$D$13*'Fert selector'!$D$18),0,1)","v":"01"},{"$f":"IF(F152=0,0,'Fert selector'!$E$13/F152)","v":0},{"$f":"IF('Fert selector'!$D$15=\"Y\",$F152*$N152,IF('Fert selector'!$E$15=\"Y\",$F152*$S152,IF('Fert selector'!$F$15=\"Y\",$F152*$X152,IF('Fert selector'!$G$15=\"Y\",$F152*$AC152))))","v":0},0,{"$f":"IF((T152-'Fert selector'!$E$13)<0,(T152-'Fert selector'!$E$13)*-1,T152-'Fert selector'!$E$13)","v":0},{"$f":"IF(T152<('Fert selector'!$E$13+'Fert selector'!$E$13*'Fert selector'!$E$17),0,1)&IF(T152>('Fert selector'!$E$13-'Fert selector'!$E$13*'Fert selector'!$E$18),0,1)","v":"11"},{"$f":"IF(G152=0,0,'Fert selector'!$F$13/G152)","v":0},{"$f":"IF('Fert selector'!$D$15=\"Y\",$G152*$N152,IF('Fert selector'!$E$15=\"Y\",$G152*$S152,IF('Fert selector'!$F$15=\"Y\",$G152*$X152,IF('Fert selector'!$G$15=\"Y\",$G152*$AC152))))","v":0},90,{"$f":"IF((Y152-'Fert selector'!$F$13)<0,(Y152-'Fert selector'!$F$13)*-1,Y152-'Fert selector'!$F$13)","v":90},{"$f":"IF(Y152<('Fert selector'!$F$13+'Fert selector'!$F$13*'Fert selector'!$F$17),0,1)&IF(Y152>('Fert selector'!$F$13-'Fert selector'!$F$13*'Fert selector'!$F$18),0,1)","v":"01"},{"$f":"IF(H152=0,0,'Fert selector'!$G$13/H152)","v":0},{"$f":"IF('Fert selector'!$D$15=\"Y\",$H152*$N152,IF('Fert selector'!$E$15=\"Y\",$H152*$S152,IF('Fert selector'!$F$15=\"Y\",$H152*$X152,IF('Fert selector'!$G$15=\"Y\",$H152*$AC152))))","v":0},0,{"$f":"IF((AD152-'Fert selector'!$G$13)<0,(AD152-'Fert selector'!$G$13)*-1,AD152-'Fert selector'!$G$13)","v":0},{"$f":"IF(AD152<('Fert selector'!$G$13+'Fert selector'!$G$13*'Fert selector'!$G$17),0,1)&IF(AD152>('Fert selector'!$G$13-'Fert selector'!$G$13*'Fert selector'!$G$18),0,1)","v":"11"}]
[null,null,null,null,null,null,null,null,null,null,null,null,null,{"$f":"IF(E153=0,0,'Fert selector'!$D$13/E153)","v":0},{"$f":"IF('Fert selector'!$D$15=\"Y\",E153*N153,IF('Fert selector'!$E$15=\"Y\",F153*S153,IF('Fert selector'!$F$15=\"Y\",G153*X153,IF('Fert selector'!$G$15=\"Y\",H153*AC153))))","v":0},150,{"$f":"IF((O153-'Fert selector'!$D$13)<0,(O153-'Fert selector'!$D$13)*-1,O153-'Fert selector'!$D$13)","v":150},{"$f":"IF(O153<('Fert selector'!$D$13+'Fert selector'!$D$13*'Fert selector'!$D$17),0,1)&IF(O153>('Fert selector'!$D$13-'Fert selector'!$D$13*'Fert selector'!$D$18),0,1)","v":"01"},{"$f":"IF(F153=0,0,'Fert selector'!$E$13/F153)","v":0},{"$f":"IF('Fert selector'!$D$15=\"Y\",$F153*$N153,IF('Fert selector'!$E$15=\"Y\",$F153*$S153,IF('Fert selector'!$F$15=\"Y\",$F153*$X153,IF('Fert selector'!$G$15=\"Y\",$F153*$AC153))))","v":0},0,{"$f":"IF((T153-'Fert selector'!$E$13)<0,(T153-'Fert selector'!$E$13)*-1,T153-'Fert selector'!$E$13)","v":0},{"$f":"IF(T153<('Fert selector'!$E$13+'Fert selector'!$E$13*'Fert selector'!$E$17),0,1)&IF(T153>('Fert selector'!$E$13-'Fert selector'!$E$13*'Fert selector'!$E$18),0,1)","v":"11"},{"$f":"IF(G153=0,0,'Fert selector'!$F$13/G153)","v":0},{"$f":"IF('Fert selector'!$D$15=\"Y\",$G153*$N153,IF('Fert selector'!$E$15=\"Y\",$G153*$S153,IF('Fert selector'!$F$15=\"Y\",$G153*$X153,IF('Fert selector'!$G$15=\"Y\",$G153*$AC153))))","v":0},90,{"$f":"IF((Y153-'Fert selector'!$F$13)<0,(Y153-'Fert selector'!$F$13)*-1,Y153-'Fert selector'!$F$13)","v":90},{"$f":"IF(Y153<('Fert selector'!$F$13+'Fert selector'!$F$13*'Fert selector'!$F$17),0,1)&IF(Y153>('Fert selector'!$F$13-'Fert selector'!$F$13*'Fert selector'!$F$18),0,1)","v":"01"},{"$f":"IF(H153=0,0,'Fert selector'!$G$13/H153)","v":0},{"$f":"IF('Fert selector'!$D$15=\"Y\",$H153*$N153,IF('Fert selector'!$E$15=\"Y\",$H153*$S153,IF('Fert selector'!$F$15=\"Y\",$H153*$X153,IF('Fert selector'!$G$15=\"Y\",$H153*$AC153))))","v":0},0,{"$f":"IF((AD153-'Fert selector'!$G$13)<0,(AD153-'Fert selector'!$G$13)*-1,AD153-'Fert selector'!$G$13)","v":0},{"$f":"IF(AD153<('Fert selector'!$G$13+'Fert selector'!$G$13*'Fert selector'!$G$17),0,1)&IF(AD153>('Fert selector'!$G$13-'Fert selector'!$G$13*'Fert selector'!$G$18),0,1)","v":"11"}]
[null,null,null,null,null,null,null,null,null,null,null,null,null,{"$f":"IF(E154=0,0,'Fert selector'!$D$13/E154)","v":0},{"$f":"IF('Fert selector'!$D$15=\"Y\",E154*N154,IF('Fert selector'!$E$15=\"Y\",F154*S154,IF('Fert selector'!$F$15=\"Y\",G154*X154,IF('Fert selector'!$G$15=\"Y\",H154*AC154))))","v":0},150,{"$f":"IF((O154-'Fert selector'!$D$13)<0,(O154-'Fert selector'!$D$13)*-1,O154-'Fert selector'!$D$13)","v":150},{"$f":"IF(O154<('Fert selector'!$D$13+'Fert selector'!$D$13*'Fert selector'!$D$17),0,1)&IF(O154>('Fert selector'!$D$13-'Fert selector'!$D$13*'Fert selector'!$D$18),0,1)","v":"01"},{"$f":"IF(F154=0,0,'Fert selector'!$E$13/F154)","v":0},{"$f":"IF('Fert selector'!$D$15=\"Y\",$F154*$N154,IF('Fert selector'!$E$15=\"Y\",$F154*$S154,IF('Fert selector'!$F$15=\"Y\",$F154*$X154,IF('Fert selector'!$G$15=\"Y\",$F154*$AC154))))","v":0},0,{"$f":"IF((T154-'Fert selector'!$E$13)<0,(T154-'Fert selector'!$E$13)*-1,T154-'Fert selector'!$E$13)","v":0},{"$f":"IF(T154<('Fert selector'!$E$13+'Fert selector'!$E$13*'Fert selector'!$E$17),0,1)&IF(T154>('Fert selector'!$E$13-'Fert selector'!$E$13*'Fert selector'!$E$18),0,1)","v":"11"},{"$f":"IF(G154=0,0,'Fert selector'!$F$13/G154)","v":0},{"$f":"IF('Fert selector'!$D$15=\"Y\",$G154*$N154,IF('Fert selector'!$E$15=\"Y\",$G154*$S154,IF('Fert selector'!$F$15=\"Y\",$G154*$X154,IF('Fert selector'!$G$15=\"Y\",$G154*$AC154))))","v":0},90,{"$f":"IF((Y154-'Fert selector'!$F$13)<0,(Y154-'Fert selector'!$F$13)*-1,Y154-'Fert selector'!$F$13)","v":90},{"$f":"IF(Y154<('Fert selector'!$F$13+'Fert selector'!$F$13*'Fert selector'!$F$17),0,1)&IF(Y154>('Fert selector'!$F$13-'Fert selector'!$F$13*'Fert selector'!$F$18),0,1)","v":"01"},{"$f":"IF(H154=0,0,'Fert selector'!$G$13/H154)","v":0},{"$f":"IF('Fert selector'!$D$15=\"Y\",$H154*$N154,IF('Fert selector'!$E$15=\"Y\",$H154*$S154,IF('Fert selector'!$F$15=\"Y\",$H154*$X154,IF('Fert selector'!$G$15=\"Y\",$H154*$AC154))))","v":0},0,{"$f":"IF((AD154-'Fert selector'!$G$13)<0,(AD154-'Fert selector'!$G$13)*-1,AD154-'Fert selector'!$G$13)","v":0},{"$f":"IF(AD154<('Fert selector'!$G$13+'Fert selector'!$G$13*'Fert selector'!$G$17),0,1)&IF(AD154>('Fert selector'!$G$13-'Fert selector'!$G$13*'Fert selector'!$G$18),0,1)","v":"11"}]
[null,null,null,null,null,null,null,null,null,null,null,null,null,{"$f":"IF(E155=0,0,'Fert selector'!$D$13/E155)","v":0},{"$f":"IF('Fert selector'!$D$15=\"Y\",E155*N155,IF('Fert selector'!$E$15=\"Y\",F155*S155,IF('Fert selector'!$F$15=\"Y\",G155*X155,IF('Fert selector'!$G$15=\"Y\",H155*AC155))))","v":0},{"$f":"IF(R155=\"00\",0,Q155)","v":150},{"$f":"IF((O155-'Fert selector'!$D$13)<0,(O155-'Fert selector'!$D$13)*-1,O155-'Fert selector'!$D$13)","v":150},{"$f":"IF(O155<('Fert selector'!$D$13+'Fert selector'!$D$13*'Fert selector'!$D$17),0,1)&IF(O155>('Fert selector'!$D$13-'Fert selector'!$D$13*'Fert selector'!$D$18),0,1)","v":"01"},{"$f":"IF(F155=0,0,'Fert selector'!$E$13/F155)","v":0},{"$f":"IF('Fert selector'!$D$15=\"Y\",$F155*$N155,IF('Fert selector'!$E$15=\"Y\",$F155*$S155,IF('Fert selector'!$F$15=\"Y\",$F155*$X155,IF('Fert selector'!$G$15=\"Y\",$F155*$AC155))))","v":0},{"$f":"IF(W155=\"00\",0,V155)","v":0},{"$f":"IF((T155-'Fert selector'!$E$13)<0,(T155-'Fert selector'!$E$13)*-1,T155-'Fert selector'!$E$13)","v":0},{"$f":"IF(T155<('Fert selector'!$E$13+'Fert selector'!$E$13*'Fert selector'!$E$17),0,1)&IF(T155>('Fert selector'!$E$13-'Fert selector'!$E$13*'Fert selector'!$E$18),0,1)","v":"11"},{"$f":"IF(G155=0,0,'Fert selector'!$F$13/G155)","v":0},{"$f":"IF('Fert selector'!$D$15=\"Y\",$G155*$N155,IF('Fert selector'!$E$15=\"Y\",$G155*$S155,IF('Fert selector'!$F$15=\"Y\",$G155*$X155,IF('Fert selector'!$G$15=\"Y\",$G155*$AC155))))","v":0},{"$f":"IF(AB155=\"00\",0,AA155)","v":90},{"$f":"IF((Y155-'Fert selector'!$F$13)<0,(Y155-'Fert selector'!$F$13)*-1,Y155-'Fert selector'!$F$13)","v":90},{"$f":"IF(Y155<('Fert selector'!$F$13+'Fert selector'!$F$13*'Fert selector'!$F$17),0,1)&IF(Y155>('Fert selector'!$F$13-'Fert selector'!$F$13*'Fert selector'!$F$18),0,1)","v":"01"},{"$f":"IF(H155=0,0,'Fert selector'!$G$13/H155)","v":0},{"$f":"IF('Fert selector'!$D$15=\"Y\",$H155*$N155,IF('Fert selector'!$E$15=\"Y\",$H155*$S155,IF('Fert selector'!$F$15=\"Y\",$H155*$X155,IF('Fert selector'!$G$15=\"Y\",$H155*$AC155))))","v":0},{"$f":"IF(AG155=\"00\",0,AF155)","v":0},{"$f":"IF((AD155-'Fert selector'!$G$13)<0,(AD155-'Fert selector'!$G$13)*-1,AD155-'Fert selector'!$G$13)","v":0},{"$f":"IF(AD155<('Fert selector'!$G$13+'Fert selector'!$G$13*'Fert selector'!$G$17),0,1)&IF(AD155>('Fert selector'!$G$13-'Fert selector'!$G$13*'Fert selector'!$G$18),0,1)","v":"11"}]
[null,null,null,null,null,null,null,null,null,null,null,null,null,{"$f":"IF(E156=0,0,'Fert selector'!$D$13/E156)","v":0},{"$f":"IF('Fert selector'!$D$15=\"Y\",E156*N156,IF('Fert selector'!$E$15=\"Y\",F156*S156,IF('Fert selector'!$F$15=\"Y\",G156*X156,IF('Fert selector'!$G$15=\"Y\",H156*AC156))))","v":0},150,{"$f":"IF((O156-'Fert selector'!$D$13)<0,(O156-'Fert selector'!$D$13)*-1,O156-'Fert selector'!$D$13)","v":150},{"$f":"IF(O156<('Fert selector'!$D$13+'Fert selector'!$D$13*'Fert selector'!$D$17),0,1)&IF(O156>('Fert selector'!$D$13-'Fert selector'!$D$13*'Fert selector'!$D$18),0,1)","v":"01"},{"$f":"IF(F156=0,0,'Fert selector'!$E$13/F156)","v":0},{"$f":"IF('Fert selector'!$D$15=\"Y\",$F156*$N156,IF('Fert selector'!$E$15=\"Y\",$F156*$S156,IF('Fert selector'!$F$15=\"Y\",$F156*$X156,IF('Fert selector'!$G$15=\"Y\",$F156*$AC156))))","v":0},0,{"$f":"IF((T156-'Fert selector'!$E$13)<0,(T156-'Fert selector'!$E$13)*-1,T156-'Fert selector'!$E$13)","v":0},{"$f":"IF(T156<('Fert selector'!$E$13+'Fert selector'!$E$13*'Fert selector'!$E$17),0,1)&IF(T156>('Fert selector'!$E$13-'Fert selector'!$E$13*'Fert selector'!$E$18),0,1)","v":"11"},{"$f":"IF(G156=0,0,'Fert selector'!$F$13/G156)","v":0},{"$f":"IF('Fert selector'!$D$15=\"Y\",$G156*$N156,IF('Fert selector'!$E$15=\"Y\",$G156*$S156,IF('Fert selector'!$F$15=\"Y\",$G156*$X156,IF('Fert selector'!$G$15=\"Y\",$G156*$AC156))))","v":0},90,{"$f":"IF((Y156-'Fert selector'!$F$13)<0,(Y156-'Fert selector'!$F$13)*-1,Y156-'Fert selector'!$F$13)","v":90},{"$f":"IF(Y156<('Fert selector'!$F$13+'Fert selector'!$F$13*'Fert selector'!$F$17),0,1)&IF(Y156>('Fert selector'!$F$13-'Fert selector'!$F$13*'Fert selector'!$F$18),0,1)","v":"01"},{"$f":"IF(H156=0,0,'Fert selector'!$G$13/H156)","v":0},{"$f":"IF('Fert selector'!$D$15=\"Y\",$H156*$N156,IF('Fert selector'!$E$15=\"Y\",$H156*$S156,IF('Fert selector'!$F$15=\"Y\",$H156*$X156,IF('Fert selector'!$G$15=\"Y\",$H156*$AC156))))","v":0},0,{"$f":"IF((AD156-'Fert selector'!$G$13)<0,(AD156-'Fert selector'!$G$13)*-1,AD156-'Fert selector'!$G$13)","v":0},{"$f":"IF(AD156<('Fert selector'!$G$13+'Fert selector'!$G$13*'Fert selector'!$G$17),0,1)&IF(AD156>('Fert selector'!$G$13-'Fert selector'!$G$13*'Fert selector'!$G$18),0,1)","v":"11"}]
[null,null,null,null,null,null,null,null,null,null,null,null,null,{"$f":"IF(E157=0,0,'Fert selector'!$D$13/E157)","v":0},{"$f":"IF('Fert selector'!$D$15=\"Y\",E157*N157,IF('Fert selector'!$E$15=\"Y\",F157*S157,IF('Fert selector'!$F$15=\"Y\",G157*X157,IF('Fert selector'!$G$15=\"Y\",H157*AC157))))","v":0},150,{"$f":"IF((O157-'Fert selector'!$D$13)<0,(O157-'Fert selector'!$D$13)*-1,O157-'Fert selector'!$D$13)","v":150},{"$f":"IF(O157<('Fert selector'!$D$13+'Fert selector'!$D$13*'Fert selector'!$D$17),0,1)&IF(O157>('Fert selector'!$D$13-'Fert selector'!$D$13*'Fert selector'!$D$18),0,1)","v":"01"},{"$f":"IF(F157=0,0,'Fert selector'!$E$13/F157)","v":0},{"$f":"IF('Fert selector'!$D$15=\"Y\",$F157*$N157,IF('Fert selector'!$E$15=\"Y\",$F157*$S157,IF('Fert selector'!$F$15=\"Y\",$F157*$X157,IF('Fert selector'!$G$15=\"Y\",$F157*$AC157))))","v":0},0,{"$f":"IF((T157-'Fert selector'!$E$13)<0,(T157-'Fert selector'!$E$13)*-1,T157-'Fert selector'!$E$13)","v":0},{"$f":"IF(T157<('Fert selector'!$E$13+'Fert selector'!$E$13*'Fert selector'!$E$17),0,1)&IF(T157>('Fert selector'!$E$13-'Fert selector'!$E$13*'Fert selector'!$E$18),0,1)","v":"11"},{"$f":"IF(G157=0,0,'Fert selector'!$F$13/G157)","v":0},{"$f":"IF('Fert selector'!$D$15=\"Y\",$G157*$N157,IF('Fert selector'!$E$15=\"Y\",$G157*$S157,IF('Fert selector'!$F$15=\"Y\",$G157*$X157,IF('Fert selector'!$G$15=\"Y\",$G157*$AC157))))","v":0},90,{"$f":"IF((Y157-'Fert selector'!$F$13)<0,(Y157-'Fert selector'!$F$13)*-1,Y157-'Fert selector'!$F$13)","v":90},{"$f":"IF(Y157<('Fert selector'!$F$13+'Fert selector'!$F$13*'Fert selector'!$F$17),0,1)&IF(Y157>('Fert selector'!$F$13-'Fert selector'!$F$13*'Fert selector'!$F$18),0,1)","v":"01"},{"$f":"IF(H157=0,0,'Fert selector'!$G$13/H157)","v":0},{"$f":"IF('Fert selector'!$D$15=\"Y\",$H157*$N157,IF('Fert selector'!$E$15=\"Y\",$H157*$S157,IF('Fert selector'!$F$15=\"Y\",$H157*$X157,IF('Fert selector'!$G$15=\"Y\",$H157*$AC157))))","v":0},0,{"$f":"IF((AD157-'Fert selector'!$G$13)<0,(AD157-'Fert selector'!$G$13)*-1,AD157-'Fert selector'!$G$13)","v":0},{"$f":"IF(AD157<('Fert selector'!$G$13+'Fert selector'!$G$13*'Fert selector'!$G$17),0,1)&IF(AD157>('Fert selector'!$G$13-'Fert selector'!$G$13*'Fert selector'!$G$18),0,1)","v":"11"}]
[null,null,null,null,null,null,null,null,null,null,null,null,null,{"$f":"IF(E158=0,0,'Fert selector'!$D$13/E158)","v":0},{"$f":"IF('Fert selector'!$D$15=\"Y\",E158*N158,IF('Fert selector'!$E$15=\"Y\",F158*S158,IF('Fert selector'!$F$15=\"Y\",G158*X158,IF('Fert selector'!$G$15=\"Y\",H158*AC158))))","v":0},150,{"$f":"IF((O158-'Fert selector'!$D$13)<0,(O158-'Fert selector'!$D$13)*-1,O158-'Fert selector'!$D$13)","v":150},{"$f":"IF(O158<('Fert selector'!$D$13+'Fert selector'!$D$13*'Fert selector'!$D$17),0,1)&IF(O158>('Fert selector'!$D$13-'Fert selector'!$D$13*'Fert selector'!$D$18),0,1)","v":"01"},{"$f":"IF(F158=0,0,'Fert selector'!$E$13/F158)","v":0},{"$f":"IF('Fert selector'!$D$15=\"Y\",$F158*$N158,IF('Fert selector'!$E$15=\"Y\",$F158*$S158,IF('Fert selector'!$F$15=\"Y\",$F158*$X158,IF('Fert selector'!$G$15=\"Y\",$F158*$AC158))))","v":0},0,{"$f":"IF((T158-'Fert selector'!$E$13)<0,(T158-'Fert selector'!$E$13)*-1,T158-'Fert selector'!$E$13)","v":0},{"$f":"IF(T158<('Fert selector'!$E$13+'Fert selector'!$E$13*'Fert selector'!$E$17),0,1)&IF(T158>('Fert selector'!$E$13-'Fert selector'!$E$13*'Fert selector'!$E$18),0,1)","v":"11"},{"$f":"IF(G158=0,0,'Fert selector'!$F$13/G158)","v":0},{"$f":"IF('Fert selector'!$D$15=\"Y\",$G158*$N158,IF('Fert selector'!$E$15=\"Y\",$G158*$S158,IF('Fert selector'!$F$15=\"Y\",$G158*$X158,IF('Fert selector'!$G$15=\"Y\",$G158*$AC158))))","v":0},90,{"$f":"IF((Y158-'Fert selector'!$F$13)<0,(Y158-'Fert selector'!$F$13)*-1,Y158-'Fert selector'!$F$13)","v":90},{"$f":"IF(Y158<('Fert selector'!$F$13+'Fert selector'!$F$13*'Fert selector'!$F$17),0,1)&IF(Y158>('Fert selector'!$F$13-'Fert selector'!$F$13*'Fert selector'!$F$18),0,1)","v":"01"},{"$f":"IF(H158=0,0,'Fert selector'!$G$13/H158)","v":0},{"$f":"IF('Fert selector'!$D$15=\"Y\",$H158*$N158,IF('Fert selector'!$E$15=\"Y\",$H158*$S158,IF('Fert selector'!$F$15=\"Y\",$H158*$X158,IF('Fert selector'!$G$15=\"Y\",$H158*$AC158))))","v":0},0,{"$f":"IF((AD158-'Fert selector'!$G$13)<0,(AD158-'Fert selector'!$G$13)*-1,AD158-'Fert selector'!$G$13)","v":0},{"$f":"IF(AD158<('Fert selector'!$G$13+'Fert selector'!$G$13*'Fert selector'!$G$17),0,1)&IF(AD158>('Fert selector'!$G$13-'Fert selector'!$G$13*'Fert selector'!$G$18),0,1)","v":"11"}]
[null,null,null,null,null,null,null,null,null,null,null,null,null,{"$f":"IF(E159=0,0,'Fert selector'!$D$13/E159)","v":0},{"$f":"IF('Fert selector'!$D$15=\"Y\",E159*N159,IF('Fert selector'!$E$15=\"Y\",F159*S159,IF('Fert selector'!$F$15=\"Y\",G159*X159,IF('Fert selector'!$G$15=\"Y\",H159*AC159))))","v":0},150,{"$f":"IF((O159-'Fert selector'!$D$13)<0,(O159-'Fert selector'!$D$13)*-1,O159-'Fert selector'!$D$13)","v":150},{"$f":"IF(O159<('Fert selector'!$D$13+'Fert selector'!$D$13*'Fert selector'!$D$17),0,1)&IF(O159>('Fert selector'!$D$13-'Fert selector'!$D$13*'Fert selector'!$D$18),0,1)","v":"01"},{"$f":"IF(F159=0,0,'Fert selector'!$E$13/F159)","v":0},{"$f":"IF('Fert selector'!$D$15=\"Y\",$F159*$N159,IF('Fert selector'!$E$15=\"Y\",$F159*$S159,IF('Fert selector'!$F$15=\"Y\",$F159*$X159,IF('Fert selector'!$G$15=\"Y\",$F159*$AC159))))","v":0},0,{"$f":"IF((T159-'Fert selector'!$E$13)<0,(T159-'Fert selector'!$E$13)*-1,T159-'Fert selector'!$E$13)","v":0},{"$f":"IF(T159<('Fert selector'!$E$13+'Fert selector'!$E$13*'Fert selector'!$E$17),0,1)&IF(T159>('Fert selector'!$E$13-'Fert selector'!$E$13*'Fert selector'!$E$18),0,1)","v":"11"},{"$f":"IF(G159=0,0,'Fert selector'!$F$13/G159)","v":0},{"$f":"IF('Fert selector'!$D$15=\"Y\",$G159*$N159,IF('Fert selector'!$E$15=\"Y\",$G159*$S159,IF('Fert selector'!$F$15=\"Y\",$G159*$X159,IF('Fert selector'!$G$15=\"Y\",$G159*$AC159))))","v":0},90,{"$f":"IF((Y159-'Fert selector'!$F$13)<0,(Y159-'Fert selector'!$F$13)*-1,Y159-'Fert selector'!$F$13)","v":90},{"$f":"IF(Y159<('Fert selector'!$F$13+'Fert selector'!$F$13*'Fert selector'!$F$17),0,1)&IF(Y159>('Fert selector'!$F$13-'Fert selector'!$F$13*'Fert selector'!$F$18),0,1)","v":"01"},{"$f":"IF(H159=0,0,'Fert selector'!$G$13/H159)","v":0},{"$f":"IF('Fert selector'!$D$15=\"Y\",$H159*$N159,IF('Fert selector'!$E$15=\"Y\",$H159*$S159,IF('Fert selector'!$F$15=\"Y\",$H159*$X159,IF('Fert selector'!$G$15=\"Y\",$H159*$AC159))))","v":0},0,{"$f":"IF((AD159-'Fert selector'!$G$13)<0,(AD159-'Fert selector'!$G$13)*-1,AD159-'Fert selector'!$G$13)","v":0},{"$f":"IF(AD159<('Fert selector'!$G$13+'Fert selector'!$G$13*'Fert selector'!$G$17),0,1)&IF(AD159>('Fert selector'!$G$13-'Fert selector'!$G$13*'Fert selector'!$G$18),0,1)","v":"11"}]
[null,null,null,null,null,null,null,null,null,null,null,null,null,{"$f":"IF(E160=0,0,'Fert selector'!$D$13/E160)","v":0},{"$f":"IF('Fert selector'!$D$15=\"Y\",E160*N160,IF('Fert selector'!$E$15=\"Y\",F160*S160,IF('Fert selector'!$F$15=\"Y\",G160*X160,IF('Fert selector'!$G$15=\"Y\",H160*AC160))))","v":0},150,{"$f":"IF((O160-'Fert selector'!$D$13)<0,(O160-'Fert selector'!$D$13)*-1,O160-'Fert selector'!$D$13)","v":150},{"$f":"IF(O160<('Fert selector'!$D$13+'Fert selector'!$D$13*'Fert selector'!$D$17),0,1)&IF(O160>('Fert selector'!$D$13-'Fert selector'!$D$13*'Fert selector'!$D$18),0,1)","v":"01"},{"$f":"IF(F160=0,0,'Fert selector'!$E$13/F160)","v":0},{"$f":"IF('Fert selector'!$D$15=\"Y\",$F160*$N160,IF('Fert selector'!$E$15=\"Y\",$F160*$S160,IF('Fert selector'!$F$15=\"Y\",$F160*$X160,IF('Fert selector'!$G$15=\"Y\",$F160*$AC160))))","v":0},0,{"$f":"IF((T160-'Fert selector'!$E$13)<0,(T160-'Fert selector'!$E$13)*-1,T160-'Fert selector'!$E$13)","v":0},{"$f":"IF(T160<('Fert selector'!$E$13+'Fert selector'!$E$13*'Fert selector'!$E$17),0,1)&IF(T160>('Fert selector'!$E$13-'Fert selector'!$E$13*'Fert selector'!$E$18),0,1)","v":"11"},{"$f":"IF(G160=0,0,'Fert selector'!$F$13/G160)","v":0},{"$f":"IF('Fert selector'!$D$15=\"Y\",$G160*$N160,IF('Fert selector'!$E$15=\"Y\",$G160*$S160,IF('Fert selector'!$F$15=\"Y\",$G160*$X160,IF('Fert selector'!$G$15=\"Y\",$G160*$AC160))))","v":0},90,{"$f":"IF((Y160-'Fert selector'!$F$13)<0,(Y160-'Fert selector'!$F$13)*-1,Y160-'Fert selector'!$F$13)","v":90},{"$f":"IF(Y160<('Fert selector'!$F$13+'Fert selector'!$F$13*'Fert selector'!$F$17),0,1)&IF(Y160>('Fert selector'!$F$13-'Fert selector'!$F$13*'Fert selector'!$F$18),0,1)","v":"01"},{"$f":"IF(H160=0,0,'Fert selector'!$G$13/H160)","v":0},{"$f":"IF('Fert selector'!$D$15=\"Y\",$H160*$N160,IF('Fert selector'!$E$15=\"Y\",$H160*$S160,IF('Fert selector'!$F$15=\"Y\",$H160*$X160,IF('Fert selector'!$G$15=\"Y\",$H160*$AC160))))","v":0},0,{"$f":"IF((AD160-'Fert selector'!$G$13)<0,(AD160-'Fert selector'!$G$13)*-1,AD160-'Fert selector'!$G$13)","v":0},{"$f":"IF(AD160<('Fert selector'!$G$13+'Fert selector'!$G$13*'Fert selector'!$G$17),0,1)&IF(AD160>('Fert selector'!$G$13-'Fert selector'!$G$13*'Fert selector'!$G$18),0,1)","v":"11"}]
[null,null,null,null,null,null,null,null,null,null,null,null,null,{"$f":"IF(E161=0,0,'Fert selector'!$D$13/E161)","v":0},{"$f":"IF('Fert selector'!$D$15=\"Y\",E161*N161,IF('Fert selector'!$E$15=\"Y\",F161*S161,IF('Fert selector'!$F$15=\"Y\",G161*X161,IF('Fert selector'!$G$15=\"Y\",H161*AC161))))","v":0},150,{"$f":"IF((O161-'Fert selector'!$D$13)<0,(O161-'Fert selector'!$D$13)*-1,O161-'Fert selector'!$D$13)","v":150},{"$f":"IF(O161<('Fert selector'!$D$13+'Fert selector'!$D$13*'Fert selector'!$D$17),0,1)&IF(O161>('Fert selector'!$D$13-'Fert selector'!$D$13*'Fert selector'!$D$18),0,1)","v":"01"},{"$f":"IF(F161=0,0,'Fert selector'!$E$13/F161)","v":0},{"$f":"IF('Fert selector'!$D$15=\"Y\",$F161*$N161,IF('Fert selector'!$E$15=\"Y\",$F161*$S161,IF('Fert selector'!$F$15=\"Y\",$F161*$X161,IF('Fert selector'!$G$15=\"Y\",$F161*$AC161))))","v":0},0,{"$f":"IF((T161-'Fert selector'!$E$13)<0,(T161-'Fert selector'!$E$13)*-1,T161-'Fert selector'!$E$13)","v":0},{"$f":"IF(T161<('Fert selector'!$E$13+'Fert selector'!$E$13*'Fert selector'!$E$17),0,1)&IF(T161>('Fert selector'!$E$13-'Fert selector'!$E$13*'Fert selector'!$E$18),0,1)","v":"11"},{"$f":"IF(G161=0,0,'Fert selector'!$F$13/G161)","v":0},{"$f":"IF('Fert selector'!$D$15=\"Y\",$G161*$N161,IF('Fert selector'!$E$15=\"Y\",$G161*$S161,IF('Fert selector'!$F$15=\"Y\",$G161*$X161,IF('Fert selector'!$G$15=\"Y\",$G161*$AC161))))","v":0},90,{"$f":"IF((Y161-'Fert selector'!$F$13)<0,(Y161-'Fert selector'!$F$13)*-1,Y161-'Fert selector'!$F$13)","v":90},{"$f":"IF(Y161<('Fert selector'!$F$13+'Fert selector'!$F$13*'Fert selector'!$F$17),0,1)&IF(Y161>('Fert selector'!$F$13-'Fert selector'!$F$13*'Fert selector'!$F$18),0,1)","v":"01"},{"$f":"IF(H161=0,0,'Fert selector'!$G$13/H161)","v":0},{"$f":"IF('Fert selector'!$D$15=\"Y\",$H161*$N161,IF('Fert selector'!$E$15=\"Y\",$H161*$S161,IF('Fert selector'!$F$15=\"Y\",$H161*$X161,IF('Fert selector'!$G$15=\"Y\",$H161*$AC161))))","v":0},0,{"$f":"IF((AD161-'Fert selector'!$G$13)<0,(AD161-'Fert selector'!$G$13)*-1,AD161-'Fert selector'!$G$13)","v":0},{"$f":"IF(AD161<('Fert selector'!$G$13+'Fert selector'!$G$13*'Fert selector'!$G$17),0,1)&IF(AD161>('Fert selector'!$G$13-'Fert selector'!$G$13*'Fert selector'!$G$18),0,1)","v":"11"}]
[null,null,null,null,null,null,null,null,null,null,null,null,null,{"$f":"IF(E162=0,0,'Fert selector'!$D$13/E162)","v":0},{"$f":"IF('Fert selector'!$D$15=\"Y\",E162*N162,IF('Fert selector'!$E$15=\"Y\",F162*S162,IF('Fert selector'!$F$15=\"Y\",G162*X162,IF('Fert selector'!$G$15=\"Y\",H162*AC162))))","v":0},150,{"$f":"IF((O162-'Fert selector'!$D$13)<0,(O162-'Fert selector'!$D$13)*-1,O162-'Fert selector'!$D$13)","v":150},{"$f":"IF(O162<('Fert selector'!$D$13+'Fert selector'!$D$13*'Fert selector'!$D$17),0,1)&IF(O162>('Fert selector'!$D$13-'Fert selector'!$D$13*'Fert selector'!$D$18),0,1)","v":"01"},{"$f":"IF(F162=0,0,'Fert selector'!$E$13/F162)","v":0},{"$f":"IF('Fert selector'!$D$15=\"Y\",$F162*$N162,IF('Fert selector'!$E$15=\"Y\",$F162*$S162,IF('Fert selector'!$F$15=\"Y\",$F162*$X162,IF('Fert selector'!$G$15=\"Y\",$F162*$AC162))))","v":0},0,{"$f":"IF((T162-'Fert selector'!$E$13)<0,(T162-'Fert selector'!$E$13)*-1,T162-'Fert selector'!$E$13)","v":0},{"$f":"IF(T162<('Fert selector'!$E$13+'Fert selector'!$E$13*'Fert selector'!$E$17),0,1)&IF(T162>('Fert selector'!$E$13-'Fert selector'!$E$13*'Fert selector'!$E$18),0,1)","v":"11"},{"$f":"IF(G162=0,0,'Fert selector'!$F$13/G162)","v":0},{"$f":"IF('Fert selector'!$D$15=\"Y\",$G162*$N162,IF('Fert selector'!$E$15=\"Y\",$G162*$S162,IF('Fert selector'!$F$15=\"Y\",$G162*$X162,IF('Fert selector'!$G$15=\"Y\",$G162*$AC162))))","v":0},90,{"$f":"IF((Y162-'Fert selector'!$F$13)<0,(Y162-'Fert selector'!$F$13)*-1,Y162-'Fert selector'!$F$13)","v":90},{"$f":"IF(Y162<('Fert selector'!$F$13+'Fert selector'!$F$13*'Fert selector'!$F$17),0,1)&IF(Y162>('Fert selector'!$F$13-'Fert selector'!$F$13*'Fert selector'!$F$18),0,1)","v":"01"},{"$f":"IF(H162=0,0,'Fert selector'!$G$13/H162)","v":0},{"$f":"IF('Fert selector'!$D$15=\"Y\",$H162*$N162,IF('Fert selector'!$E$15=\"Y\",$H162*$S162,IF('Fert selector'!$F$15=\"Y\",$H162*$X162,IF('Fert selector'!$G$15=\"Y\",$H162*$AC162))))","v":0},0,{"$f":"IF((AD162-'Fert selector'!$G$13)<0,(AD162-'Fert selector'!$G$13)*-1,AD162-'Fert selector'!$G$13)","v":0},{"$f":"IF(AD162<('Fert selector'!$G$13+'Fert selector'!$G$13*'Fert selector'!$G$17),0,1)&IF(AD162>('Fert selector'!$G$13-'Fert selector'!$G$13*'Fert selector'!$G$18),0,1)","v":"11"}]
[null,null,null,null,null,null,null,null,null,null,null,null,null,{"$f":"IF(E163=0,0,'Fert selector'!$D$13/E163)","v":0},{"$f":"IF('Fert selector'!$D$15=\"Y\",E163*N163,IF('Fert selector'!$E$15=\"Y\",F163*S163,IF('Fert selector'!$F$15=\"Y\",G163*X163,IF('Fert selector'!$G$15=\"Y\",H163*AC163))))","v":0},150,{"$f":"IF((O163-'Fert selector'!$D$13)<0,(O163-'Fert selector'!$D$13)*-1,O163-'Fert selector'!$D$13)","v":150},{"$f":"IF(O163<('Fert selector'!$D$13+'Fert selector'!$D$13*'Fert selector'!$D$17),0,1)&IF(O163>('Fert selector'!$D$13-'Fert selector'!$D$13*'Fert selector'!$D$18),0,1)","v":"01"},{"$f":"IF(F163=0,0,'Fert selector'!$E$13/F163)","v":0},{"$f":"IF('Fert selector'!$D$15=\"Y\",$F163*$N163,IF('Fert selector'!$E$15=\"Y\",$F163*$S163,IF('Fert selector'!$F$15=\"Y\",$F163*$X163,IF('Fert selector'!$G$15=\"Y\",$F163*$AC163))))","v":0},0,{"$f":"IF((T163-'Fert selector'!$E$13)<0,(T163-'Fert selector'!$E$13)*-1,T163-'Fert selector'!$E$13)","v":0},{"$f":"IF(T163<('Fert selector'!$E$13+'Fert selector'!$E$13*'Fert selector'!$E$17),0,1)&IF(T163>('Fert selector'!$E$13-'Fert selector'!$E$13*'Fert selector'!$E$18),0,1)","v":"11"},{"$f":"IF(G163=0,0,'Fert selector'!$F$13/G163)","v":0},{"$f":"IF('Fert selector'!$D$15=\"Y\",$G163*$N163,IF('Fert selector'!$E$15=\"Y\",$G163*$S163,IF('Fert selector'!$F$15=\"Y\",$G163*$X163,IF('Fert selector'!$G$15=\"Y\",$G163*$AC163))))","v":0},90,{"$f":"IF((Y163-'Fert selector'!$F$13)<0,(Y163-'Fert selector'!$F$13)*-1,Y163-'Fert selector'!$F$13)","v":90},{"$f":"IF(Y163<('Fert selector'!$F$13+'Fert selector'!$F$13*'Fert selector'!$F$17),0,1)&IF(Y163>('Fert selector'!$F$13-'Fert selector'!$F$13*'Fert selector'!$F$18),0,1)","v":"01"},{"$f":"IF(H163=0,0,'Fert selector'!$G$13/H163)","v":0},{"$f":"IF('Fert selector'!$D$15=\"Y\",$H163*$N163,IF('Fert selector'!$E$15=\"Y\",$H163*$S163,IF('Fert selector'!$F$15=\"Y\",$H163*$X163,IF('Fert selector'!$G$15=\"Y\",$H163*$AC163))))","v":0},0,{"$f":"IF((AD163-'Fert selector'!$G$13)<0,(AD163-'Fert selector'!$G$13)*-1,AD163-'Fert selector'!$G$13)","v":0},{"$f":"IF(AD163<('Fert selector'!$G$13+'Fert selector'!$G$13*'Fert selector'!$G$17),0,1)&IF(AD163>('Fert selector'!$G$13-'Fert selector'!$G$13*'Fert selector'!$G$18),0,1)","v":"11"}]
[null,null,null,null,null,null,null,null,null,null,null,null,null,{"$f":"IF(E164=0,0,'Fert selector'!$D$13/E164)","v":0},{"$f":"IF('Fert selector'!$D$15=\"Y\",E164*N164,IF('Fert selector'!$E$15=\"Y\",F164*S164,IF('Fert selector'!$F$15=\"Y\",G164*X164,IF('Fert selector'!$G$15=\"Y\",H164*AC164))))","v":0},150,{"$f":"IF((O164-'Fert selector'!$D$13)<0,(O164-'Fert selector'!$D$13)*-1,O164-'Fert selector'!$D$13)","v":150},{"$f":"IF(O164<('Fert selector'!$D$13+'Fert selector'!$D$13*'Fert selector'!$D$17),0,1)&IF(O164>('Fert selector'!$D$13-'Fert selector'!$D$13*'Fert selector'!$D$18),0,1)","v":"01"},{"$f":"IF(F164=0,0,'Fert selector'!$E$13/F164)","v":0},{"$f":"IF('Fert selector'!$D$15=\"Y\",$F164*$N164,IF('Fert selector'!$E$15=\"Y\",$F164*$S164,IF('Fert selector'!$F$15=\"Y\",$F164*$X164,IF('Fert selector'!$G$15=\"Y\",$F164*$AC164))))","v":0},0,{"$f":"IF((T164-'Fert selector'!$E$13)<0,(T164-'Fert selector'!$E$13)*-1,T164-'Fert selector'!$E$13)","v":0},{"$f":"IF(T164<('Fert selector'!$E$13+'Fert selector'!$E$13*'Fert selector'!$E$17),0,1)&IF(T164>('Fert selector'!$E$13-'Fert selector'!$E$13*'Fert selector'!$E$18),0,1)","v":"11"},{"$f":"IF(G164=0,0,'Fert selector'!$F$13/G164)","v":0},{"$f":"IF('Fert selector'!$D$15=\"Y\",$G164*$N164,IF('Fert selector'!$E$15=\"Y\",$G164*$S164,IF('Fert selector'!$F$15=\"Y\",$G164*$X164,IF('Fert selector'!$G$15=\"Y\",$G164*$AC164))))","v":0},90,{"$f":"IF((Y164-'Fert selector'!$F$13)<0,(Y164-'Fert selector'!$F$13)*-1,Y164-'Fert selector'!$F$13)","v":90},{"$f":"IF(Y164<('Fert selector'!$F$13+'Fert selector'!$F$13*'Fert selector'!$F$17),0,1)&IF(Y164>('Fert selector'!$F$13-'Fert selector'!$F$13*'Fert selector'!$F$18),0,1)","v":"01"},{"$f":"IF(H164=0,0,'Fert selector'!$G$13/H164)","v":0},{"$f":"IF('Fert selector'!$D$15=\"Y\",$H164*$N164,IF('Fert selector'!$E$15=\"Y\",$H164*$S164,IF('Fert selector'!$F$15=\"Y\",$H164*$X164,IF('Fert selector'!$G$15=\"Y\",$H164*$AC164))))","v":0},0,{"$f":"IF((AD164-'Fert selector'!$G$13)<0,(AD164-'Fert selector'!$G$13)*-1,AD164-'Fert selector'!$G$13)","v":0},{"$f":"IF(AD164<('Fert selector'!$G$13+'Fert selector'!$G$13*'Fert selector'!$G$17),0,1)&IF(AD164>('Fert selector'!$G$13-'Fert selector'!$G$13*'Fert selector'!$G$18),0,1)","v":"11"}]
[null,null,null,null,null,null,null,null,null,null,null,null,null,{"$f":"IF(E165=0,0,'Fert selector'!$D$13/E165)","v":0},{"$f":"IF('Fert selector'!$D$15=\"Y\",E165*N165,IF('Fert selector'!$E$15=\"Y\",F165*S165,IF('Fert selector'!$F$15=\"Y\",G165*X165,IF('Fert selector'!$G$15=\"Y\",H165*AC165))))","v":0},150,{"$f":"IF((O165-'Fert selector'!$D$13)<0,(O165-'Fert selector'!$D$13)*-1,O165-'Fert selector'!$D$13)","v":150},{"$f":"IF(O165<('Fert selector'!$D$13+'Fert selector'!$D$13*'Fert selector'!$D$17),0,1)&IF(O165>('Fert selector'!$D$13-'Fert selector'!$D$13*'Fert selector'!$D$18),0,1)","v":"01"},{"$f":"IF(F165=0,0,'Fert selector'!$E$13/F165)","v":0},{"$f":"IF('Fert selector'!$D$15=\"Y\",$F165*$N165,IF('Fert selector'!$E$15=\"Y\",$F165*$S165,IF('Fert selector'!$F$15=\"Y\",$F165*$X165,IF('Fert selector'!$G$15=\"Y\",$F165*$AC165))))","v":0},0,{"$f":"IF((T165-'Fert selector'!$E$13)<0,(T165-'Fert selector'!$E$13)*-1,T165-'Fert selector'!$E$13)","v":0},{"$f":"IF(T165<('Fert selector'!$E$13+'Fert selector'!$E$13*'Fert selector'!$E$17),0,1)&IF(T165>('Fert selector'!$E$13-'Fert selector'!$E$13*'Fert selector'!$E$18),0,1)","v":"11"},{"$f":"IF(G165=0,0,'Fert selector'!$F$13/G165)","v":0},{"$f":"IF('Fert selector'!$D$15=\"Y\",$G165*$N165,IF('Fert selector'!$E$15=\"Y\",$G165*$S165,IF('Fert selector'!$F$15=\"Y\",$G165*$X165,IF('Fert selector'!$G$15=\"Y\",$G165*$AC165))))","v":0},90,{"$f":"IF((Y165-'Fert selector'!$F$13)<0,(Y165-'Fert selector'!$F$13)*-1,Y165-'Fert selector'!$F$13)","v":90},{"$f":"IF(Y165<('Fert selector'!$F$13+'Fert selector'!$F$13*'Fert selector'!$F$17),0,1)&IF(Y165>('Fert selector'!$F$13-'Fert selector'!$F$13*'Fert selector'!$F$18),0,1)","v":"01"},{"$f":"IF(H165=0,0,'Fert selector'!$G$13/H165)","v":0},{"$f":"IF('Fert selector'!$D$15=\"Y\",$H165*$N165,IF('Fert selector'!$E$15=\"Y\",$H165*$S165,IF('Fert selector'!$F$15=\"Y\",$H165*$X165,IF('Fert selector'!$G$15=\"Y\",$H165*$AC165))))","v":0},0,{"$f":"IF((AD165-'Fert selector'!$G$13)<0,(AD165-'Fert selector'!$G$13)*-1,AD165-'Fert selector'!$G$13)","v":0},{"$f":"IF(AD165<('Fert selector'!$G$13+'Fert selector'!$G$13*'Fert selector'!$G$17),0,1)&IF(AD165>('Fert selector'!$G$13-'Fert selector'!$G$13*'Fert selector'!$G$18),0,1)","v":"11"}]
[null,null,null,null,null,null,null,null,null,null,null,null,null,{"$f":"IF(E166=0,0,'Fert selector'!$D$13/E166)","v":0},{"$f":"IF('Fert selector'!$D$15=\"Y\",E166*N166,IF('Fert selector'!$E$15=\"Y\",F166*S166,IF('Fert selector'!$F$15=\"Y\",G166*X166,IF('Fert selector'!$G$15=\"Y\",H166*AC166))))","v":0},150,{"$f":"IF((O166-'Fert selector'!$D$13)<0,(O166-'Fert selector'!$D$13)*-1,O166-'Fert selector'!$D$13)","v":150},{"$f":"IF(O166<('Fert selector'!$D$13+'Fert selector'!$D$13*'Fert selector'!$D$17),0,1)&IF(O166>('Fert selector'!$D$13-'Fert selector'!$D$13*'Fert selector'!$D$18),0,1)","v":"01"},{"$f":"IF(F166=0,0,'Fert selector'!$E$13/F166)","v":0},{"$f":"IF('Fert selector'!$D$15=\"Y\",$F166*$N166,IF('Fert selector'!$E$15=\"Y\",$F166*$S166,IF('Fert selector'!$F$15=\"Y\",$F166*$X166,IF('Fert selector'!$G$15=\"Y\",$F166*$AC166))))","v":0},0,{"$f":"IF((T166-'Fert selector'!$E$13)<0,(T166-'Fert selector'!$E$13)*-1,T166-'Fert selector'!$E$13)","v":0},{"$f":"IF(T166<('Fert selector'!$E$13+'Fert selector'!$E$13*'Fert selector'!$E$17),0,1)&IF(T166>('Fert selector'!$E$13-'Fert selector'!$E$13*'Fert selector'!$E$18),0,1)","v":"11"},{"$f":"IF(G166=0,0,'Fert selector'!$F$13/G166)","v":0},{"$f":"IF('Fert selector'!$D$15=\"Y\",$G166*$N166,IF('Fert selector'!$E$15=\"Y\",$G166*$S166,IF('Fert selector'!$F$15=\"Y\",$G166*$X166,IF('Fert selector'!$G$15=\"Y\",$G166*$AC166))))","v":0},90,{"$f":"IF((Y166-'Fert selector'!$F$13)<0,(Y166-'Fert selector'!$F$13)*-1,Y166-'Fert selector'!$F$13)","v":90},{"$f":"IF(Y166<('Fert selector'!$F$13+'Fert selector'!$F$13*'Fert selector'!$F$17),0,1)&IF(Y166>('Fert selector'!$F$13-'Fert selector'!$F$13*'Fert selector'!$F$18),0,1)","v":"01"},{"$f":"IF(H166=0,0,'Fert selector'!$G$13/H166)","v":0},{"$f":"IF('Fert selector'!$D$15=\"Y\",$H166*$N166,IF('Fert selector'!$E$15=\"Y\",$H166*$S166,IF('Fert selector'!$F$15=\"Y\",$H166*$X166,IF('Fert selector'!$G$15=\"Y\",$H166*$AC166))))","v":0},0,{"$f":"IF((AD166-'Fert selector'!$G$13)<0,(AD166-'Fert selector'!$G$13)*-1,AD166-'Fert selector'!$G$13)","v":0},{"$f":"IF(AD166<('Fert selector'!$G$13+'Fert selector'!$G$13*'Fert selector'!$G$17),0,1)&IF(AD166>('Fert selector'!$G$13-'Fert selector'!$G$13*'Fert selector'!$G$18),0,1)","v":"11"}]
[null,null,null,null,null,null,null,null,null,null,null,null,null,{"$f":"IF(E167=0,0,'Fert selector'!$D$13/E167)","v":0},{"$f":"IF('Fert selector'!$D$15=\"Y\",E167*N167,IF('Fert selector'!$E$15=\"Y\",F167*S167,IF('Fert selector'!$F$15=\"Y\",G167*X167,IF('Fert selector'!$G$15=\"Y\",H167*AC167))))","v":0},150,{"$f":"IF((O167-'Fert selector'!$D$13)<0,(O167-'Fert selector'!$D$13)*-1,O167-'Fert selector'!$D$13)","v":150},{"$f":"IF(O167<('Fert selector'!$D$13+'Fert selector'!$D$13*'Fert selector'!$D$17),0,1)&IF(O167>('Fert selector'!$D$13-'Fert selector'!$D$13*'Fert selector'!$D$18),0,1)","v":"01"},{"$f":"IF(F167=0,0,'Fert selector'!$E$13/F167)","v":0},{"$f":"IF('Fert selector'!$D$15=\"Y\",$F167*$N167,IF('Fert selector'!$E$15=\"Y\",$F167*$S167,IF('Fert selector'!$F$15=\"Y\",$F167*$X167,IF('Fert selector'!$G$15=\"Y\",$F167*$AC167))))","v":0},0,{"$f":"IF((T167-'Fert selector'!$E$13)<0,(T167-'Fert selector'!$E$13)*-1,T167-'Fert selector'!$E$13)","v":0},{"$f":"IF(T167<('Fert selector'!$E$13+'Fert selector'!$E$13*'Fert selector'!$E$17),0,1)&IF(T167>('Fert selector'!$E$13-'Fert selector'!$E$13*'Fert selector'!$E$18),0,1)","v":"11"},{"$f":"IF(G167=0,0,'Fert selector'!$F$13/G167)","v":0},{"$f":"IF('Fert selector'!$D$15=\"Y\",$G167*$N167,IF('Fert selector'!$E$15=\"Y\",$G167*$S167,IF('Fert selector'!$F$15=\"Y\",$G167*$X167,IF('Fert selector'!$G$15=\"Y\",$G167*$AC167))))","v":0},90,{"$f":"IF((Y167-'Fert selector'!$F$13)<0,(Y167-'Fert selector'!$F$13)*-1,Y167-'Fert selector'!$F$13)","v":90},{"$f":"IF(Y167<('Fert selector'!$F$13+'Fert selector'!$F$13*'Fert selector'!$F$17),0,1)&IF(Y167>('Fert selector'!$F$13-'Fert selector'!$F$13*'Fert selector'!$F$18),0,1)","v":"01"},{"$f":"IF(H167=0,0,'Fert selector'!$G$13/H167)","v":0},{"$f":"IF('Fert selector'!$D$15=\"Y\",$H167*$N167,IF('Fert selector'!$E$15=\"Y\",$H167*$S167,IF('Fert selector'!$F$15=\"Y\",$H167*$X167,IF('Fert selector'!$G$15=\"Y\",$H167*$AC167))))","v":0},0,{"$f":"IF((AD167-'Fert selector'!$G$13)<0,(AD167-'Fert selector'!$G$13)*-1,AD167-'Fert selector'!$G$13)","v":0},{"$f":"IF(AD167<('Fert selector'!$G$13+'Fert selector'!$G$13*'Fert selector'!$G$17),0,1)&IF(AD167>('Fert selector'!$G$13-'Fert selector'!$G$13*'Fert selector'!$G$18),0,1)","v":"11"}]
[null,null,null,null,null,null,null,null,null,null,null,null,null,{"$f":"IF(E168=0,0,'Fert selector'!$D$13/E168)","v":0},{"$f":"IF('Fert selector'!$D$15=\"Y\",E168*N168,IF('Fert selector'!$E$15=\"Y\",F168*S168,IF('Fert selector'!$F$15=\"Y\",G168*X168,IF('Fert selector'!$G$15=\"Y\",H168*AC168))))","v":0},150,{"$f":"IF((O168-'Fert selector'!$D$13)<0,(O168-'Fert selector'!$D$13)*-1,O168-'Fert selector'!$D$13)","v":150},{"$f":"IF(O168<('Fert selector'!$D$13+'Fert selector'!$D$13*'Fert selector'!$D$17),0,1)&IF(O168>('Fert selector'!$D$13-'Fert selector'!$D$13*'Fert selector'!$D$18),0,1)","v":"01"},{"$f":"IF(F168=0,0,'Fert selector'!$E$13/F168)","v":0},{"$f":"IF('Fert selector'!$D$15=\"Y\",$F168*$N168,IF('Fert selector'!$E$15=\"Y\",$F168*$S168,IF('Fert selector'!$F$15=\"Y\",$F168*$X168,IF('Fert selector'!$G$15=\"Y\",$F168*$AC168))))","v":0},0,{"$f":"IF((T168-'Fert selector'!$E$13)<0,(T168-'Fert selector'!$E$13)*-1,T168-'Fert selector'!$E$13)","v":0},{"$f":"IF(T168<('Fert selector'!$E$13+'Fert selector'!$E$13*'Fert selector'!$E$17),0,1)&IF(T168>('Fert selector'!$E$13-'Fert selector'!$E$13*'Fert selector'!$E$18),0,1)","v":"11"},{"$f":"IF(G168=0,0,'Fert selector'!$F$13/G168)","v":0},{"$f":"IF('Fert selector'!$D$15=\"Y\",$G168*$N168,IF('Fert selector'!$E$15=\"Y\",$G168*$S168,IF('Fert selector'!$F$15=\"Y\",$G168*$X168,IF('Fert selector'!$G$15=\"Y\",$G168*$AC168))))","v":0},90,{"$f":"IF((Y168-'Fert selector'!$F$13)<0,(Y168-'Fert selector'!$F$13)*-1,Y168-'Fert selector'!$F$13)","v":90},{"$f":"IF(Y168<('Fert selector'!$F$13+'Fert selector'!$F$13*'Fert selector'!$F$17),0,1)&IF(Y168>('Fert selector'!$F$13-'Fert selector'!$F$13*'Fert selector'!$F$18),0,1)","v":"01"},{"$f":"IF(H168=0,0,'Fert selector'!$G$13/H168)","v":0},{"$f":"IF('Fert selector'!$D$15=\"Y\",$H168*$N168,IF('Fert selector'!$E$15=\"Y\",$H168*$S168,IF('Fert selector'!$F$15=\"Y\",$H168*$X168,IF('Fert selector'!$G$15=\"Y\",$H168*$AC168))))","v":0},0,{"$f":"IF((AD168-'Fert selector'!$G$13)<0,(AD168-'Fert selector'!$G$13)*-1,AD168-'Fert selector'!$G$13)","v":0},{"$f":"IF(AD168<('Fert selector'!$G$13+'Fert selector'!$G$13*'Fert selector'!$G$17),0,1)&IF(AD168>('Fert selector'!$G$13-'Fert selector'!$G$13*'Fert selector'!$G$18),0,1)","v":"11"}]
[null,null,null,null,null,null,null,null,null,null,null,null,null,{"$f":"IF(E169=0,0,'Fert selector'!$D$13/E169)","v":0},{"$f":"IF('Fert selector'!$D$15=\"Y\",E169*N169,IF('Fert selector'!$E$15=\"Y\",F169*S169,IF('Fert selector'!$F$15=\"Y\",G169*X169,IF('Fert selector'!$G$15=\"Y\",H169*AC169))))","v":0},150,{"$f":"IF((O169-'Fert selector'!$D$13)<0,(O169-'Fert selector'!$D$13)*-1,O169-'Fert selector'!$D$13)","v":150},{"$f":"IF(O169<('Fert selector'!$D$13+'Fert selector'!$D$13*'Fert selector'!$D$17),0,1)&IF(O169>('Fert selector'!$D$13-'Fert selector'!$D$13*'Fert selector'!$D$18),0,1)","v":"01"},{"$f":"IF(F169=0,0,'Fert selector'!$E$13/F169)","v":0},{"$f":"IF('Fert selector'!$D$15=\"Y\",$F169*$N169,IF('Fert selector'!$E$15=\"Y\",$F169*$S169,IF('Fert selector'!$F$15=\"Y\",$F169*$X169,IF('Fert selector'!$G$15=\"Y\",$F169*$AC169))))","v":0},0,{"$f":"IF((T169-'Fert selector'!$E$13)<0,(T169-'Fert selector'!$E$13)*-1,T169-'Fert selector'!$E$13)","v":0},{"$f":"IF(T169<('Fert selector'!$E$13+'Fert selector'!$E$13*'Fert selector'!$E$17),0,1)&IF(T169>('Fert selector'!$E$13-'Fert selector'!$E$13*'Fert selector'!$E$18),0,1)","v":"11"},{"$f":"IF(G169=0,0,'Fert selector'!$F$13/G169)","v":0},{"$f":"IF('Fert selector'!$D$15=\"Y\",$G169*$N169,IF('Fert selector'!$E$15=\"Y\",$G169*$S169,IF('Fert selector'!$F$15=\"Y\",$G169*$X169,IF('Fert selector'!$G$15=\"Y\",$G169*$AC169))))","v":0},90,{"$f":"IF((Y169-'Fert selector'!$F$13)<0,(Y169-'Fert selector'!$F$13)*-1,Y169-'Fert selector'!$F$13)","v":90},{"$f":"IF(Y169<('Fert selector'!$F$13+'Fert selector'!$F$13*'Fert selector'!$F$17),0,1)&IF(Y169>('Fert selector'!$F$13-'Fert selector'!$F$13*'Fert selector'!$F$18),0,1)","v":"01"},{"$f":"IF(H169=0,0,'Fert selector'!$G$13/H169)","v":0},{"$f":"IF('Fert selector'!$D$15=\"Y\",$H169*$N169,IF('Fert selector'!$E$15=\"Y\",$H169*$S169,IF('Fert selector'!$F$15=\"Y\",$H169*$X169,IF('Fert selector'!$G$15=\"Y\",$H169*$AC169))))","v":0},0,{"$f":"IF((AD169-'Fert selector'!$G$13)<0,(AD169-'Fert selector'!$G$13)*-1,AD169-'Fert selector'!$G$13)","v":0},{"$f":"IF(AD169<('Fert selector'!$G$13+'Fert selector'!$G$13*'Fert selector'!$G$17),0,1)&IF(AD169>('Fert selector'!$G$13-'Fert selector'!$G$13*'Fert selector'!$G$18),0,1)","v":"11"}]
[null,null,null,null,null,null,null,null,null,null,null,null,null,{"$f":"IF(E170=0,0,'Fert selector'!$D$13/E170)","v":0},{"$f":"IF('Fert selector'!$D$15=\"Y\",E170*N170,IF('Fert selector'!$E$15=\"Y\",F170*S170,IF('Fert selector'!$F$15=\"Y\",G170*X170,IF('Fert selector'!$G$15=\"Y\",H170*AC170))))","v":0},150,{"$f":"IF((O170-'Fert selector'!$D$13)<0,(O170-'Fert selector'!$D$13)*-1,O170-'Fert selector'!$D$13)","v":150},{"$f":"IF(O170<('Fert selector'!$D$13+'Fert selector'!$D$13*'Fert selector'!$D$17),0,1)&IF(O170>('Fert selector'!$D$13-'Fert selector'!$D$13*'Fert selector'!$D$18),0,1)","v":"01"},{"$f":"IF(F170=0,0,'Fert selector'!$E$13/F170)","v":0},{"$f":"IF('Fert selector'!$D$15=\"Y\",$F170*$N170,IF('Fert selector'!$E$15=\"Y\",$F170*$S170,IF('Fert selector'!$F$15=\"Y\",$F170*$X170,IF('Fert selector'!$G$15=\"Y\",$F170*$AC170))))","v":0},0,{"$f":"IF((T170-'Fert selector'!$E$13)<0,(T170-'Fert selector'!$E$13)*-1,T170-'Fert selector'!$E$13)","v":0},{"$f":"IF(T170<('Fert selector'!$E$13+'Fert selector'!$E$13*'Fert selector'!$E$17),0,1)&IF(T170>('Fert selector'!$E$13-'Fert selector'!$E$13*'Fert selector'!$E$18),0,1)","v":"11"},{"$f":"IF(G170=0,0,'Fert selector'!$F$13/G170)","v":0},{"$f":"IF('Fert selector'!$D$15=\"Y\",$G170*$N170,IF('Fert selector'!$E$15=\"Y\",$G170*$S170,IF('Fert selector'!$F$15=\"Y\",$G170*$X170,IF('Fert selector'!$G$15=\"Y\",$G170*$AC170))))","v":0},90,{"$f":"IF((Y170-'Fert selector'!$F$13)<0,(Y170-'Fert selector'!$F$13)*-1,Y170-'Fert selector'!$F$13)","v":90},{"$f":"IF(Y170<('Fert selector'!$F$13+'Fert selector'!$F$13*'Fert selector'!$F$17),0,1)&IF(Y170>('Fert selector'!$F$13-'Fert selector'!$F$13*'Fert selector'!$F$18),0,1)","v":"01"},{"$f":"IF(H170=0,0,'Fert selector'!$G$13/H170)","v":0},{"$f":"IF('Fert selector'!$D$15=\"Y\",$H170*$N170,IF('Fert selector'!$E$15=\"Y\",$H170*$S170,IF('Fert selector'!$F$15=\"Y\",$H170*$X170,IF('Fert selector'!$G$15=\"Y\",$H170*$AC170))))","v":0},0,{"$f":"IF((AD170-'Fert selector'!$G$13)<0,(AD170-'Fert selector'!$G$13)*-1,AD170-'Fert selector'!$G$13)","v":0},{"$f":"IF(AD170<('Fert selector'!$G$13+'Fert selector'!$G$13*'Fert selector'!$G$17),0,1)&IF(AD170>('Fert selector'!$G$13-'Fert selector'!$G$13*'Fert selector'!$G$18),0,1)","v":"11"}]
[null,null,null,null,null,null,null,null,null,null,null,null,null,{"$f":"IF(E171=0,0,'Fert selector'!$D$13/E171)","v":0},{"$f":"IF('Fert selector'!$D$15=\"Y\",E171*N171,IF('Fert selector'!$E$15=\"Y\",F171*S171,IF('Fert selector'!$F$15=\"Y\",G171*X171,IF('Fert selector'!$G$15=\"Y\",H171*AC171))))","v":0},150,{"$f":"IF((O171-'Fert selector'!$D$13)<0,(O171-'Fert selector'!$D$13)*-1,O171-'Fert selector'!$D$13)","v":150},{"$f":"IF(O171<('Fert selector'!$D$13+'Fert selector'!$D$13*'Fert selector'!$D$17),0,1)&IF(O171>('Fert selector'!$D$13-'Fert selector'!$D$13*'Fert selector'!$D$18),0,1)","v":"01"},{"$f":"IF(F171=0,0,'Fert selector'!$E$13/F171)","v":0},{"$f":"IF('Fert selector'!$D$15=\"Y\",$F171*$N171,IF('Fert selector'!$E$15=\"Y\",$F171*$S171,IF('Fert selector'!$F$15=\"Y\",$F171*$X171,IF('Fert selector'!$G$15=\"Y\",$F171*$AC171))))","v":0},0,{"$f":"IF((T171-'Fert selector'!$E$13)<0,(T171-'Fert selector'!$E$13)*-1,T171-'Fert selector'!$E$13)","v":0},{"$f":"IF(T171<('Fert selector'!$E$13+'Fert selector'!$E$13*'Fert selector'!$E$17),0,1)&IF(T171>('Fert selector'!$E$13-'Fert selector'!$E$13*'Fert selector'!$E$18),0,1)","v":"11"},{"$f":"IF(G171=0,0,'Fert selector'!$F$13/G171)","v":0},{"$f":"IF('Fert selector'!$D$15=\"Y\",$G171*$N171,IF('Fert selector'!$E$15=\"Y\",$G171*$S171,IF('Fert selector'!$F$15=\"Y\",$G171*$X171,IF('Fert selector'!$G$15=\"Y\",$G171*$AC171))))","v":0},90,{"$f":"IF((Y171-'Fert selector'!$F$13)<0,(Y171-'Fert selector'!$F$13)*-1,Y171-'Fert selector'!$F$13)","v":90},{"$f":"IF(Y171<('Fert selector'!$F$13+'Fert selector'!$F$13*'Fert selector'!$F$17),0,1)&IF(Y171>('Fert selector'!$F$13-'Fert selector'!$F$13*'Fert selector'!$F$18),0,1)","v":"01"},{"$f":"IF(H171=0,0,'Fert selector'!$G$13/H171)","v":0},{"$f":"IF('Fert selector'!$D$15=\"Y\",$H171*$N171,IF('Fert selector'!$E$15=\"Y\",$H171*$S171,IF('Fert selector'!$F$15=\"Y\",$H171*$X171,IF('Fert selector'!$G$15=\"Y\",$H171*$AC171))))","v":0},0,{"$f":"IF((AD171-'Fert selector'!$G$13)<0,(AD171-'Fert selector'!$G$13)*-1,AD171-'Fert selector'!$G$13)","v":0},{"$f":"IF(AD171<('Fert selector'!$G$13+'Fert selector'!$G$13*'Fert selector'!$G$17),0,1)&IF(AD171>('Fert selector'!$G$13-'Fert selector'!$G$13*'Fert selector'!$G$18),0,1)","v":"11"}]
[null,null,null,null,null,null,null,null,null,null,null,null,null,{"$f":"IF(E172=0,0,'Fert selector'!$D$13/E172)","v":0},{"$f":"IF('Fert selector'!$D$15=\"Y\",E172*N172,IF('Fert selector'!$E$15=\"Y\",F172*S172,IF('Fert selector'!$F$15=\"Y\",G172*X172,IF('Fert selector'!$G$15=\"Y\",H172*AC172))))","v":0},150,{"$f":"IF((O172-'Fert selector'!$D$13)<0,(O172-'Fert selector'!$D$13)*-1,O172-'Fert selector'!$D$13)","v":150},{"$f":"IF(O172<('Fert selector'!$D$13+'Fert selector'!$D$13*'Fert selector'!$D$17),0,1)&IF(O172>('Fert selector'!$D$13-'Fert selector'!$D$13*'Fert selector'!$D$18),0,1)","v":"01"},{"$f":"IF(F172=0,0,'Fert selector'!$E$13/F172)","v":0},{"$f":"IF('Fert selector'!$D$15=\"Y\",$F172*$N172,IF('Fert selector'!$E$15=\"Y\",$F172*$S172,IF('Fert selector'!$F$15=\"Y\",$F172*$X172,IF('Fert selector'!$G$15=\"Y\",$F172*$AC172))))","v":0},0,{"$f":"IF((T172-'Fert selector'!$E$13)<0,(T172-'Fert selector'!$E$13)*-1,T172-'Fert selector'!$E$13)","v":0},{"$f":"IF(T172<('Fert selector'!$E$13+'Fert selector'!$E$13*'Fert selector'!$E$17),0,1)&IF(T172>('Fert selector'!$E$13-'Fert selector'!$E$13*'Fert selector'!$E$18),0,1)","v":"11"},{"$f":"IF(G172=0,0,'Fert selector'!$F$13/G172)","v":0},{"$f":"IF('Fert selector'!$D$15=\"Y\",$G172*$N172,IF('Fert selector'!$E$15=\"Y\",$G172*$S172,IF('Fert selector'!$F$15=\"Y\",$G172*$X172,IF('Fert selector'!$G$15=\"Y\",$G172*$AC172))))","v":0},90,{"$f":"IF((Y172-'Fert selector'!$F$13)<0,(Y172-'Fert selector'!$F$13)*-1,Y172-'Fert selector'!$F$13)","v":90},{"$f":"IF(Y172<('Fert selector'!$F$13+'Fert selector'!$F$13*'Fert selector'!$F$17),0,1)&IF(Y172>('Fert selector'!$F$13-'Fert selector'!$F$13*'Fert selector'!$F$18),0,1)","v":"01"},{"$f":"IF(H172=0,0,'Fert selector'!$G$13/H172)","v":0},{"$f":"IF('Fert selector'!$D$15=\"Y\",$H172*$N172,IF('Fert selector'!$E$15=\"Y\",$H172*$S172,IF('Fert selector'!$F$15=\"Y\",$H172*$X172,IF('Fert selector'!$G$15=\"Y\",$H172*$AC172))))","v":0},0,{"$f":"IF((AD172-'Fert selector'!$G$13)<0,(AD172-'Fert selector'!$G$13)*-1,AD172-'Fert selector'!$G$13)","v":0},{"$f":"IF(AD172<('Fert selector'!$G$13+'Fert selector'!$G$13*'Fert selector'!$G$17),0,1)&IF(AD172>('Fert selector'!$G$13-'Fert selector'!$G$13*'Fert selector'!$G$18),0,1)","v":"11"}]
[null,null,null,null,null,null,null,null,null,null,null,null,null,{"$f":"IF(E173=0,0,'Fert selector'!$D$13/E173)","v":0},{"$f":"IF('Fert selector'!$D$15=\"Y\",E173*N173,IF('Fert selector'!$E$15=\"Y\",F173*S173,IF('Fert selector'!$F$15=\"Y\",G173*X173,IF('Fert selector'!$G$15=\"Y\",H173*AC173))))","v":0},150,{"$f":"IF((O173-'Fert selector'!$D$13)<0,(O173-'Fert selector'!$D$13)*-1,O173-'Fert selector'!$D$13)","v":150},{"$f":"IF(O173<('Fert selector'!$D$13+'Fert selector'!$D$13*'Fert selector'!$D$17),0,1)&IF(O173>('Fert selector'!$D$13-'Fert selector'!$D$13*'Fert selector'!$D$18),0,1)","v":"01"},{"$f":"IF(F173=0,0,'Fert selector'!$E$13/F173)","v":0},{"$f":"IF('Fert selector'!$D$15=\"Y\",$F173*$N173,IF('Fert selector'!$E$15=\"Y\",$F173*$S173,IF('Fert selector'!$F$15=\"Y\",$F173*$X173,IF('Fert selector'!$G$15=\"Y\",$F173*$AC173))))","v":0},0,{"$f":"IF((T173-'Fert selector'!$E$13)<0,(T173-'Fert selector'!$E$13)*-1,T173-'Fert selector'!$E$13)","v":0},{"$f":"IF(T173<('Fert selector'!$E$13+'Fert selector'!$E$13*'Fert selector'!$E$17),0,1)&IF(T173>('Fert selector'!$E$13-'Fert selector'!$E$13*'Fert selector'!$E$18),0,1)","v":"11"},{"$f":"IF(G173=0,0,'Fert selector'!$F$13/G173)","v":0},{"$f":"IF('Fert selector'!$D$15=\"Y\",$G173*$N173,IF('Fert selector'!$E$15=\"Y\",$G173*$S173,IF('Fert selector'!$F$15=\"Y\",$G173*$X173,IF('Fert selector'!$G$15=\"Y\",$G173*$AC173))))","v":0},90,{"$f":"IF((Y173-'Fert selector'!$F$13)<0,(Y173-'Fert selector'!$F$13)*-1,Y173-'Fert selector'!$F$13)","v":90},{"$f":"IF(Y173<('Fert selector'!$F$13+'Fert selector'!$F$13*'Fert selector'!$F$17),0,1)&IF(Y173>('Fert selector'!$F$13-'Fert selector'!$F$13*'Fert selector'!$F$18),0,1)","v":"01"},{"$f":"IF(H173=0,0,'Fert selector'!$G$13/H173)","v":0},{"$f":"IF('Fert selector'!$D$15=\"Y\",$H173*$N173,IF('Fert selector'!$E$15=\"Y\",$H173*$S173,IF('Fert selector'!$F$15=\"Y\",$H173*$X173,IF('Fert selector'!$G$15=\"Y\",$H173*$AC173))))","v":0},0,{"$f":"IF((AD173-'Fert selector'!$G$13)<0,(AD173-'Fert selector'!$G$13)*-1,AD173-'Fert selector'!$G$13)","v":0},{"$f":"IF(AD173<('Fert selector'!$G$13+'Fert selector'!$G$13*'Fert selector'!$G$17),0,1)&IF(AD173>('Fert selector'!$G$13-'Fert selector'!$G$13*'Fert selector'!$G$18),0,1)","v":"11"}]
[null,null,null,null,null,null,null,null,null,null,null,null,null,{"$f":"IF(E174=0,0,'Fert selector'!$D$13/E174)","v":0},{"$f":"IF('Fert selector'!$D$15=\"Y\",E174*N174,IF('Fert selector'!$E$15=\"Y\",F174*S174,IF('Fert selector'!$F$15=\"Y\",G174*X174,IF('Fert selector'!$G$15=\"Y\",H174*AC174))))","v":0},150,{"$f":"IF((O174-'Fert selector'!$D$13)<0,(O174-'Fert selector'!$D$13)*-1,O174-'Fert selector'!$D$13)","v":150},{"$f":"IF(O174<('Fert selector'!$D$13+'Fert selector'!$D$13*'Fert selector'!$D$17),0,1)&IF(O174>('Fert selector'!$D$13-'Fert selector'!$D$13*'Fert selector'!$D$18),0,1)","v":"01"},{"$f":"IF(F174=0,0,'Fert selector'!$E$13/F174)","v":0},{"$f":"IF('Fert selector'!$D$15=\"Y\",$F174*$N174,IF('Fert selector'!$E$15=\"Y\",$F174*$S174,IF('Fert selector'!$F$15=\"Y\",$F174*$X174,IF('Fert selector'!$G$15=\"Y\",$F174*$AC174))))","v":0},0,{"$f":"IF((T174-'Fert selector'!$E$13)<0,(T174-'Fert selector'!$E$13)*-1,T174-'Fert selector'!$E$13)","v":0},{"$f":"IF(T174<('Fert selector'!$E$13+'Fert selector'!$E$13*'Fert selector'!$E$17),0,1)&IF(T174>('Fert selector'!$E$13-'Fert selector'!$E$13*'Fert selector'!$E$18),0,1)","v":"11"},{"$f":"IF(G174=0,0,'Fert selector'!$F$13/G174)","v":0},{"$f":"IF('Fert selector'!$D$15=\"Y\",$G174*$N174,IF('Fert selector'!$E$15=\"Y\",$G174*$S174,IF('Fert selector'!$F$15=\"Y\",$G174*$X174,IF('Fert selector'!$G$15=\"Y\",$G174*$AC174))))","v":0},90,{"$f":"IF((Y174-'Fert selector'!$F$13)<0,(Y174-'Fert selector'!$F$13)*-1,Y174-'Fert selector'!$F$13)","v":90},{"$f":"IF(Y174<('Fert selector'!$F$13+'Fert selector'!$F$13*'Fert selector'!$F$17),0,1)&IF(Y174>('Fert selector'!$F$13-'Fert selector'!$F$13*'Fert selector'!$F$18),0,1)","v":"01"},{"$f":"IF(H174=0,0,'Fert selector'!$G$13/H174)","v":0},{"$f":"IF('Fert selector'!$D$15=\"Y\",$H174*$N174,IF('Fert selector'!$E$15=\"Y\",$H174*$S174,IF('Fert selector'!$F$15=\"Y\",$H174*$X174,IF('Fert selector'!$G$15=\"Y\",$H174*$AC174))))","v":0},0,{"$f":"IF((AD174-'Fert selector'!$G$13)<0,(AD174-'Fert selector'!$G$13)*-1,AD174-'Fert selector'!$G$13)","v":0},{"$f":"IF(AD174<('Fert selector'!$G$13+'Fert selector'!$G$13*'Fert selector'!$G$17),0,1)&IF(AD174>('Fert selector'!$G$13-'Fert selector'!$G$13*'Fert selector'!$G$18),0,1)","v":"11"}]
[null,null,null,null,null,null,null,null,null,null,null,null,null,{"$f":"IF(E175=0,0,'Fert selector'!$D$13/E175)","v":0},{"$f":"IF('Fert selector'!$D$15=\"Y\",E175*N175,IF('Fert selector'!$E$15=\"Y\",F175*S175,IF('Fert selector'!$F$15=\"Y\",G175*X175,IF('Fert selector'!$G$15=\"Y\",H175*AC175))))","v":0},150,{"$f":"IF((O175-'Fert selector'!$D$13)<0,(O175-'Fert selector'!$D$13)*-1,O175-'Fert selector'!$D$13)","v":150},{"$f":"IF(O175<('Fert selector'!$D$13+'Fert selector'!$D$13*'Fert selector'!$D$17),0,1)&IF(O175>('Fert selector'!$D$13-'Fert selector'!$D$13*'Fert selector'!$D$18),0,1)","v":"01"},{"$f":"IF(F175=0,0,'Fert selector'!$E$13/F175)","v":0},{"$f":"IF('Fert selector'!$D$15=\"Y\",$F175*$N175,IF('Fert selector'!$E$15=\"Y\",$F175*$S175,IF('Fert selector'!$F$15=\"Y\",$F175*$X175,IF('Fert selector'!$G$15=\"Y\",$F175*$AC175))))","v":0},0,{"$f":"IF((T175-'Fert selector'!$E$13)<0,(T175-'Fert selector'!$E$13)*-1,T175-'Fert selector'!$E$13)","v":0},{"$f":"IF(T175<('Fert selector'!$E$13+'Fert selector'!$E$13*'Fert selector'!$E$17),0,1)&IF(T175>('Fert selector'!$E$13-'Fert selector'!$E$13*'Fert selector'!$E$18),0,1)","v":"11"},{"$f":"IF(G175=0,0,'Fert selector'!$F$13/G175)","v":0},{"$f":"IF('Fert selector'!$D$15=\"Y\",$G175*$N175,IF('Fert selector'!$E$15=\"Y\",$G175*$S175,IF('Fert selector'!$F$15=\"Y\",$G175*$X175,IF('Fert selector'!$G$15=\"Y\",$G175*$AC175))))","v":0},90,{"$f":"IF((Y175-'Fert selector'!$F$13)<0,(Y175-'Fert selector'!$F$13)*-1,Y175-'Fert selector'!$F$13)","v":90},{"$f":"IF(Y175<('Fert selector'!$F$13+'Fert selector'!$F$13*'Fert selector'!$F$17),0,1)&IF(Y175>('Fert selector'!$F$13-'Fert selector'!$F$13*'Fert selector'!$F$18),0,1)","v":"01"},{"$f":"IF(H175=0,0,'Fert selector'!$G$13/H175)","v":0},{"$f":"IF('Fert selector'!$D$15=\"Y\",$H175*$N175,IF('Fert selector'!$E$15=\"Y\",$H175*$S175,IF('Fert selector'!$F$15=\"Y\",$H175*$X175,IF('Fert selector'!$G$15=\"Y\",$H175*$AC175))))","v":0},0,{"$f":"IF((AD175-'Fert selector'!$G$13)<0,(AD175-'Fert selector'!$G$13)*-1,AD175-'Fert selector'!$G$13)","v":0},{"$f":"IF(AD175<('Fert selector'!$G$13+'Fert selector'!$G$13*'Fert selector'!$G$17),0,1)&IF(AD175>('Fert selector'!$G$13-'Fert selector'!$G$13*'Fert selector'!$G$18),0,1)","v":"11"}]
[null,null,null,null,null,null,null,null,null,null,null,null,null,{"$f":"IF(E176=0,0,'Fert selector'!$D$13/E176)","v":0},{"$f":"IF('Fert selector'!$D$15=\"Y\",E176*N176,IF('Fert selector'!$E$15=\"Y\",F176*S176,IF('Fert selector'!$F$15=\"Y\",G176*X176,IF('Fert selector'!$G$15=\"Y\",H176*AC176))))","v":0},150,{"$f":"IF((O176-'Fert selector'!$D$13)<0,(O176-'Fert selector'!$D$13)*-1,O176-'Fert selector'!$D$13)","v":150},{"$f":"IF(O176<('Fert selector'!$D$13+'Fert selector'!$D$13*'Fert selector'!$D$17),0,1)&IF(O176>('Fert selector'!$D$13-'Fert selector'!$D$13*'Fert selector'!$D$18),0,1)","v":"01"},{"$f":"IF(F176=0,0,'Fert selector'!$E$13/F176)","v":0},{"$f":"IF('Fert selector'!$D$15=\"Y\",$F176*$N176,IF('Fert selector'!$E$15=\"Y\",$F176*$S176,IF('Fert selector'!$F$15=\"Y\",$F176*$X176,IF('Fert selector'!$G$15=\"Y\",$F176*$AC176))))","v":0},0,{"$f":"IF((T176-'Fert selector'!$E$13)<0,(T176-'Fert selector'!$E$13)*-1,T176-'Fert selector'!$E$13)","v":0},{"$f":"IF(T176<('Fert selector'!$E$13+'Fert selector'!$E$13*'Fert selector'!$E$17),0,1)&IF(T176>('Fert selector'!$E$13-'Fert selector'!$E$13*'Fert selector'!$E$18),0,1)","v":"11"},{"$f":"IF(G176=0,0,'Fert selector'!$F$13/G176)","v":0},{"$f":"IF('Fert selector'!$D$15=\"Y\",$G176*$N176,IF('Fert selector'!$E$15=\"Y\",$G176*$S176,IF('Fert selector'!$F$15=\"Y\",$G176*$X176,IF('Fert selector'!$G$15=\"Y\",$G176*$AC176))))","v":0},90,{"$f":"IF((Y176-'Fert selector'!$F$13)<0,(Y176-'Fert selector'!$F$13)*-1,Y176-'Fert selector'!$F$13)","v":90},{"$f":"IF(Y176<('Fert selector'!$F$13+'Fert selector'!$F$13*'Fert selector'!$F$17),0,1)&IF(Y176>('Fert selector'!$F$13-'Fert selector'!$F$13*'Fert selector'!$F$18),0,1)","v":"01"},{"$f":"IF(H176=0,0,'Fert selector'!$G$13/H176)","v":0},{"$f":"IF('Fert selector'!$D$15=\"Y\",$H176*$N176,IF('Fert selector'!$E$15=\"Y\",$H176*$S176,IF('Fert selector'!$F$15=\"Y\",$H176*$X176,IF('Fert selector'!$G$15=\"Y\",$H176*$AC176))))","v":0},0,{"$f":"IF((AD176-'Fert selector'!$G$13)<0,(AD176-'Fert selector'!$G$13)*-1,AD176-'Fert selector'!$G$13)","v":0},{"$f":"IF(AD176<('Fert selector'!$G$13+'Fert selector'!$G$13*'Fert selector'!$G$17),0,1)&IF(AD176>('Fert selector'!$G$13-'Fert selector'!$G$13*'Fert selector'!$G$18),0,1)","v":"11"}]
[null,null,null,null,null,null,null,null,null,null,null,null,null,{"$f":"IF(E177=0,0,'Fert selector'!$D$13/E177)","v":0},{"$f":"IF('Fert selector'!$D$15=\"Y\",E177*N177,IF('Fert selector'!$E$15=\"Y\",F177*S177,IF('Fert selector'!$F$15=\"Y\",G177*X177,IF('Fert selector'!$G$15=\"Y\",H177*AC177))))","v":0},150,{"$f":"IF((O177-'Fert selector'!$D$13)<0,(O177-'Fert selector'!$D$13)*-1,O177-'Fert selector'!$D$13)","v":150},{"$f":"IF(O177<('Fert selector'!$D$13+'Fert selector'!$D$13*'Fert selector'!$D$17),0,1)&IF(O177>('Fert selector'!$D$13-'Fert selector'!$D$13*'Fert selector'!$D$18),0,1)","v":"01"},{"$f":"IF(F177=0,0,'Fert selector'!$E$13/F177)","v":0},{"$f":"IF('Fert selector'!$D$15=\"Y\",$F177*$N177,IF('Fert selector'!$E$15=\"Y\",$F177*$S177,IF('Fert selector'!$F$15=\"Y\",$F177*$X177,IF('Fert selector'!$G$15=\"Y\",$F177*$AC177))))","v":0},0,{"$f":"IF((T177-'Fert selector'!$E$13)<0,(T177-'Fert selector'!$E$13)*-1,T177-'Fert selector'!$E$13)","v":0},{"$f":"IF(T177<('Fert selector'!$E$13+'Fert selector'!$E$13*'Fert selector'!$E$17),0,1)&IF(T177>('Fert selector'!$E$13-'Fert selector'!$E$13*'Fert selector'!$E$18),0,1)","v":"11"},{"$f":"IF(G177=0,0,'Fert selector'!$F$13/G177)","v":0},{"$f":"IF('Fert selector'!$D$15=\"Y\",$G177*$N177,IF('Fert selector'!$E$15=\"Y\",$G177*$S177,IF('Fert selector'!$F$15=\"Y\",$G177*$X177,IF('Fert selector'!$G$15=\"Y\",$G177*$AC177))))","v":0},90,{"$f":"IF((Y177-'Fert selector'!$F$13)<0,(Y177-'Fert selector'!$F$13)*-1,Y177-'Fert selector'!$F$13)","v":90},{"$f":"IF(Y177<('Fert selector'!$F$13+'Fert selector'!$F$13*'Fert selector'!$F$17),0,1)&IF(Y177>('Fert selector'!$F$13-'Fert selector'!$F$13*'Fert selector'!$F$18),0,1)","v":"01"},{"$f":"IF(H177=0,0,'Fert selector'!$G$13/H177)","v":0},{"$f":"IF('Fert selector'!$D$15=\"Y\",$H177*$N177,IF('Fert selector'!$E$15=\"Y\",$H177*$S177,IF('Fert selector'!$F$15=\"Y\",$H177*$X177,IF('Fert selector'!$G$15=\"Y\",$H177*$AC177))))","v":0},0,{"$f":"IF((AD177-'Fert selector'!$G$13)<0,(AD177-'Fert selector'!$G$13)*-1,AD177-'Fert selector'!$G$13)","v":0},{"$f":"IF(AD177<('Fert selector'!$G$13+'Fert selector'!$G$13*'Fert selector'!$G$17),0,1)&IF(AD177>('Fert selector'!$G$13-'Fert selector'!$G$13*'Fert selector'!$G$18),0,1)","v":"11"}]
[null,null,null,null,null,null,null,null,null,null,null,null,null,{"$f":"IF(E178=0,0,'Fert selector'!$D$13/E178)","v":0},{"$f":"IF('Fert selector'!$D$15=\"Y\",E178*N178,IF('Fert selector'!$E$15=\"Y\",F178*S178,IF('Fert selector'!$F$15=\"Y\",G178*X178,IF('Fert selector'!$G$15=\"Y\",H178*AC178))))","v":0},150,{"$f":"IF((O178-'Fert selector'!$D$13)<0,(O178-'Fert selector'!$D$13)*-1,O178-'Fert selector'!$D$13)","v":150},{"$f":"IF(O178<('Fert selector'!$D$13+'Fert selector'!$D$13*'Fert selector'!$D$17),0,1)&IF(O178>('Fert selector'!$D$13-'Fert selector'!$D$13*'Fert selector'!$D$18),0,1)","v":"01"},{"$f":"IF(F178=0,0,'Fert selector'!$E$13/F178)","v":0},{"$f":"IF('Fert selector'!$D$15=\"Y\",$F178*$N178,IF('Fert selector'!$E$15=\"Y\",$F178*$S178,IF('Fert selector'!$F$15=\"Y\",$F178*$X178,IF('Fert selector'!$G$15=\"Y\",$F178*$AC178))))","v":0},0,{"$f":"IF((T178-'Fert selector'!$E$13)<0,(T178-'Fert selector'!$E$13)*-1,T178-'Fert selector'!$E$13)","v":0},{"$f":"IF(T178<('Fert selector'!$E$13+'Fert selector'!$E$13*'Fert selector'!$E$17),0,1)&IF(T178>('Fert selector'!$E$13-'Fert selector'!$E$13*'Fert selector'!$E$18),0,1)","v":"11"},{"$f":"IF(G178=0,0,'Fert selector'!$F$13/G178)","v":0},{"$f":"IF('Fert selector'!$D$15=\"Y\",$G178*$N178,IF('Fert selector'!$E$15=\"Y\",$G178*$S178,IF('Fert selector'!$F$15=\"Y\",$G178*$X178,IF('Fert selector'!$G$15=\"Y\",$G178*$AC178))))","v":0},90,{"$f":"IF((Y178-'Fert selector'!$F$13)<0,(Y178-'Fert selector'!$F$13)*-1,Y178-'Fert selector'!$F$13)","v":90},{"$f":"IF(Y178<('Fert selector'!$F$13+'Fert selector'!$F$13*'Fert selector'!$F$17),0,1)&IF(Y178>('Fert selector'!$F$13-'Fert selector'!$F$13*'Fert selector'!$F$18),0,1)","v":"01"},{"$f":"IF(H178=0,0,'Fert selector'!$G$13/H178)","v":0},{"$f":"IF('Fert selector'!$D$15=\"Y\",$H178*$N178,IF('Fert selector'!$E$15=\"Y\",$H178*$S178,IF('Fert selector'!$F$15=\"Y\",$H178*$X178,IF('Fert selector'!$G$15=\"Y\",$H178*$AC178))))","v":0},0,{"$f":"IF((AD178-'Fert selector'!$G$13)<0,(AD178-'Fert selector'!$G$13)*-1,AD178-'Fert selector'!$G$13)","v":0},{"$f":"IF(AD178<('Fert selector'!$G$13+'Fert selector'!$G$13*'Fert selector'!$G$17),0,1)&IF(AD178>('Fert selector'!$G$13-'Fert selector'!$G$13*'Fert selector'!$G$18),0,1)","v":"11"}]
[null,null,null,null,null,null,null,null,null,null,null,null,null,{"$f":"IF(E179=0,0,'Fert selector'!$D$13/E179)","v":0},{"$f":"IF('Fert selector'!$D$15=\"Y\",E179*N179,IF('Fert selector'!$E$15=\"Y\",F179*S179,IF('Fert selector'!$F$15=\"Y\",G179*X179,IF('Fert selector'!$G$15=\"Y\",H179*AC179))))","v":0},150,{"$f":"IF((O179-'Fert selector'!$D$13)<0,(O179-'Fert selector'!$D$13)*-1,O179-'Fert selector'!$D$13)","v":150},{"$f":"IF(O179<('Fert selector'!$D$13+'Fert selector'!$D$13*'Fert selector'!$D$17),0,1)&IF(O179>('Fert selector'!$D$13-'Fert selector'!$D$13*'Fert selector'!$D$18),0,1)","v":"01"},{"$f":"IF(F179=0,0,'Fert selector'!$E$13/F179)","v":0},{"$f":"IF('Fert selector'!$D$15=\"Y\",$F179*$N179,IF('Fert selector'!$E$15=\"Y\",$F179*$S179,IF('Fert selector'!$F$15=\"Y\",$F179*$X179,IF('Fert selector'!$G$15=\"Y\",$F179*$AC179))))","v":0},0,{"$f":"IF((T179-'Fert selector'!$E$13)<0,(T179-'Fert selector'!$E$13)*-1,T179-'Fert selector'!$E$13)","v":0},{"$f":"IF(T179<('Fert selector'!$E$13+'Fert selector'!$E$13*'Fert selector'!$E$17),0,1)&IF(T179>('Fert selector'!$E$13-'Fert selector'!$E$13*'Fert selector'!$E$18),0,1)","v":"11"},{"$f":"IF(G179=0,0,'Fert selector'!$F$13/G179)","v":0},{"$f":"IF('Fert selector'!$D$15=\"Y\",$G179*$N179,IF('Fert selector'!$E$15=\"Y\",$G179*$S179,IF('Fert selector'!$F$15=\"Y\",$G179*$X179,IF('Fert selector'!$G$15=\"Y\",$G179*$AC179))))","v":0},90,{"$f":"IF((Y179-'Fert selector'!$F$13)<0,(Y179-'Fert selector'!$F$13)*-1,Y179-'Fert selector'!$F$13)","v":90},{"$f":"IF(Y179<('Fert selector'!$F$13+'Fert selector'!$F$13*'Fert selector'!$F$17),0,1)&IF(Y179>('Fert selector'!$F$13-'Fert selector'!$F$13*'Fert selector'!$F$18),0,1)","v":"01"},{"$f":"IF(H179=0,0,'Fert selector'!$G$13/H179)","v":0},{"$f":"IF('Fert selector'!$D$15=\"Y\",$H179*$N179,IF('Fert selector'!$E$15=\"Y\",$H179*$S179,IF('Fert selector'!$F$15=\"Y\",$H179*$X179,IF('Fert selector'!$G$15=\"Y\",$H179*$AC179))))","v":0},0,{"$f":"IF((AD179-'Fert selector'!$G$13)<0,(AD179-'Fert selector'!$G$13)*-1,AD179-'Fert selector'!$G$13)","v":0},{"$f":"IF(AD179<('Fert selector'!$G$13+'Fert selector'!$G$13*'Fert selector'!$G$17),0,1)&IF(AD179>('Fert selector'!$G$13-'Fert selector'!$G$13*'Fert selector'!$G$18),0,1)","v":"11"}]
[null,null,null,null,null,null,null,null,null,null,null,null,null,{"$f":"IF(E180=0,0,'Fert selector'!$D$13/E180)","v":0},{"$f":"IF('Fert selector'!$D$15=\"Y\",E180*N180,IF('Fert selector'!$E$15=\"Y\",F180*S180,IF('Fert selector'!$F$15=\"Y\",G180*X180,IF('Fert selector'!$G$15=\"Y\",H180*AC180))))","v":0},150,{"$f":"IF((O180-'Fert selector'!$D$13)<0,(O180-'Fert selector'!$D$13)*-1,O180-'Fert selector'!$D$13)","v":150},{"$f":"IF(O180<('Fert selector'!$D$13+'Fert selector'!$D$13*'Fert selector'!$D$17),0,1)&IF(O180>('Fert selector'!$D$13-'Fert selector'!$D$13*'Fert selector'!$D$18),0,1)","v":"01"},{"$f":"IF(F180=0,0,'Fert selector'!$E$13/F180)","v":0},{"$f":"IF('Fert selector'!$D$15=\"Y\",$F180*$N180,IF('Fert selector'!$E$15=\"Y\",$F180*$S180,IF('Fert selector'!$F$15=\"Y\",$F180*$X180,IF('Fert selector'!$G$15=\"Y\",$F180*$AC180))))","v":0},0,{"$f":"IF((T180-'Fert selector'!$E$13)<0,(T180-'Fert selector'!$E$13)*-1,T180-'Fert selector'!$E$13)","v":0},{"$f":"IF(T180<('Fert selector'!$E$13+'Fert selector'!$E$13*'Fert selector'!$E$17),0,1)&IF(T180>('Fert selector'!$E$13-'Fert selector'!$E$13*'Fert selector'!$E$18),0,1)","v":"11"},{"$f":"IF(G180=0,0,'Fert selector'!$F$13/G180)","v":0},{"$f":"IF('Fert selector'!$D$15=\"Y\",$G180*$N180,IF('Fert selector'!$E$15=\"Y\",$G180*$S180,IF('Fert selector'!$F$15=\"Y\",$G180*$X180,IF('Fert selector'!$G$15=\"Y\",$G180*$AC180))))","v":0},90,{"$f":"IF((Y180-'Fert selector'!$F$13)<0,(Y180-'Fert selector'!$F$13)*-1,Y180-'Fert selector'!$F$13)","v":90},{"$f":"IF(Y180<('Fert selector'!$F$13+'Fert selector'!$F$13*'Fert selector'!$F$17),0,1)&IF(Y180>('Fert selector'!$F$13-'Fert selector'!$F$13*'Fert selector'!$F$18),0,1)","v":"01"},{"$f":"IF(H180=0,0,'Fert selector'!$G$13/H180)","v":0},{"$f":"IF('Fert selector'!$D$15=\"Y\",$H180*$N180,IF('Fert selector'!$E$15=\"Y\",$H180*$S180,IF('Fert selector'!$F$15=\"Y\",$H180*$X180,IF('Fert selector'!$G$15=\"Y\",$H180*$AC180))))","v":0},0,{"$f":"IF((AD180-'Fert selector'!$G$13)<0,(AD180-'Fert selector'!$G$13)*-1,AD180-'Fert selector'!$G$13)","v":0},{"$f":"IF(AD180<('Fert selector'!$G$13+'Fert selector'!$G$13*'Fert selector'!$G$17),0,1)&IF(AD180>('Fert selector'!$G$13-'Fert selector'!$G$13*'Fert selector'!$G$18),0,1)","v":"11"}]
[null,null,null,null,null,null,null,null,null,null,null,null,null,{"$f":"IF(E181=0,0,'Fert selector'!$D$13/E181)","v":0},{"$f":"IF('Fert selector'!$D$15=\"Y\",E181*N181,IF('Fert selector'!$E$15=\"Y\",F181*S181,IF('Fert selector'!$F$15=\"Y\",G181*X181,IF('Fert selector'!$G$15=\"Y\",H181*AC181))))","v":0},150,{"$f":"IF((O181-'Fert selector'!$D$13)<0,(O181-'Fert selector'!$D$13)*-1,O181-'Fert selector'!$D$13)","v":150},{"$f":"IF(O181<('Fert selector'!$D$13+'Fert selector'!$D$13*'Fert selector'!$D$17),0,1)&IF(O181>('Fert selector'!$D$13-'Fert selector'!$D$13*'Fert selector'!$D$18),0,1)","v":"01"},{"$f":"IF(F181=0,0,'Fert selector'!$E$13/F181)","v":0},{"$f":"IF('Fert selector'!$D$15=\"Y\",$F181*$N181,IF('Fert selector'!$E$15=\"Y\",$F181*$S181,IF('Fert selector'!$F$15=\"Y\",$F181*$X181,IF('Fert selector'!$G$15=\"Y\",$F181*$AC181))))","v":0},0,{"$f":"IF((T181-'Fert selector'!$E$13)<0,(T181-'Fert selector'!$E$13)*-1,T181-'Fert selector'!$E$13)","v":0},{"$f":"IF(T181<('Fert selector'!$E$13+'Fert selector'!$E$13*'Fert selector'!$E$17),0,1)&IF(T181>('Fert selector'!$E$13-'Fert selector'!$E$13*'Fert selector'!$E$18),0,1)","v":"11"},{"$f":"IF(G181=0,0,'Fert selector'!$F$13/G181)","v":0},{"$f":"IF('Fert selector'!$D$15=\"Y\",$G181*$N181,IF('Fert selector'!$E$15=\"Y\",$G181*$S181,IF('Fert selector'!$F$15=\"Y\",$G181*$X181,IF('Fert selector'!$G$15=\"Y\",$G181*$AC181))))","v":0},90,{"$f":"IF((Y181-'Fert selector'!$F$13)<0,(Y181-'Fert selector'!$F$13)*-1,Y181-'Fert selector'!$F$13)","v":90},{"$f":"IF(Y181<('Fert selector'!$F$13+'Fert selector'!$F$13*'Fert selector'!$F$17),0,1)&IF(Y181>('Fert selector'!$F$13-'Fert selector'!$F$13*'Fert selector'!$F$18),0,1)","v":"01"},{"$f":"IF(H181=0,0,'Fert selector'!$G$13/H181)","v":0},{"$f":"IF('Fert selector'!$D$15=\"Y\",$H181*$N181,IF('Fert selector'!$E$15=\"Y\",$H181*$S181,IF('Fert selector'!$F$15=\"Y\",$H181*$X181,IF('Fert selector'!$G$15=\"Y\",$H181*$AC181))))","v":0},0,{"$f":"IF((AD181-'Fert selector'!$G$13)<0,(AD181-'Fert selector'!$G$13)*-1,AD181-'Fert selector'!$G$13)","v":0},{"$f":"IF(AD181<('Fert selector'!$G$13+'Fert selector'!$G$13*'Fert selector'!$G$17),0,1)&IF(AD181>('Fert selector'!$G$13-'Fert selector'!$G$13*'Fert selector'!$G$18),0,1)","v":"11"}]
[null,null,null,null,null,null,null,null,null,null,null,null,null,{"$f":"IF(E182=0,0,'Fert selector'!$D$13/E182)","v":0},{"$f":"IF('Fert selector'!$D$15=\"Y\",E182*N182,IF('Fert selector'!$E$15=\"Y\",F182*S182,IF('Fert selector'!$F$15=\"Y\",G182*X182,IF('Fert selector'!$G$15=\"Y\",H182*AC182))))","v":0},150,{"$f":"IF((O182-'Fert selector'!$D$13)<0,(O182-'Fert selector'!$D$13)*-1,O182-'Fert selector'!$D$13)","v":150},{"$f":"IF(O182<('Fert selector'!$D$13+'Fert selector'!$D$13*'Fert selector'!$D$17),0,1)&IF(O182>('Fert selector'!$D$13-'Fert selector'!$D$13*'Fert selector'!$D$18),0,1)","v":"01"},{"$f":"IF(F182=0,0,'Fert selector'!$E$13/F182)","v":0},{"$f":"IF('Fert selector'!$D$15=\"Y\",$F182*$N182,IF('Fert selector'!$E$15=\"Y\",$F182*$S182,IF('Fert selector'!$F$15=\"Y\",$F182*$X182,IF('Fert selector'!$G$15=\"Y\",$F182*$AC182))))","v":0},0,{"$f":"IF((T182-'Fert selector'!$E$13)<0,(T182-'Fert selector'!$E$13)*-1,T182-'Fert selector'!$E$13)","v":0},{"$f":"IF(T182<('Fert selector'!$E$13+'Fert selector'!$E$13*'Fert selector'!$E$17),0,1)&IF(T182>('Fert selector'!$E$13-'Fert selector'!$E$13*'Fert selector'!$E$18),0,1)","v":"11"},{"$f":"IF(G182=0,0,'Fert selector'!$F$13/G182)","v":0},{"$f":"IF('Fert selector'!$D$15=\"Y\",$G182*$N182,IF('Fert selector'!$E$15=\"Y\",$G182*$S182,IF('Fert selector'!$F$15=\"Y\",$G182*$X182,IF('Fert selector'!$G$15=\"Y\",$G182*$AC182))))","v":0},90,{"$f":"IF((Y182-'Fert selector'!$F$13)<0,(Y182-'Fert selector'!$F$13)*-1,Y182-'Fert selector'!$F$13)","v":90},{"$f":"IF(Y182<('Fert selector'!$F$13+'Fert selector'!$F$13*'Fert selector'!$F$17),0,1)&IF(Y182>('Fert selector'!$F$13-'Fert selector'!$F$13*'Fert selector'!$F$18),0,1)","v":"01"},{"$f":"IF(H182=0,0,'Fert selector'!$G$13/H182)","v":0},{"$f":"IF('Fert selector'!$D$15=\"Y\",$H182*$N182,IF('Fert selector'!$E$15=\"Y\",$H182*$S182,IF('Fert selector'!$F$15=\"Y\",$H182*$X182,IF('Fert selector'!$G$15=\"Y\",$H182*$AC182))))","v":0},0,{"$f":"IF((AD182-'Fert selector'!$G$13)<0,(AD182-'Fert selector'!$G$13)*-1,AD182-'Fert selector'!$G$13)","v":0},{"$f":"IF(AD182<('Fert selector'!$G$13+'Fert selector'!$G$13*'Fert selector'!$G$17),0,1)&IF(AD182>('Fert selector'!$G$13-'Fert selector'!$G$13*'Fert selector'!$G$18),0,1)","v":"11"}]
[null,null,null,null,null,null,null,null,null,null,null,null,null,{"$f":"IF(E183=0,0,'Fert selector'!$D$13/E183)","v":0},{"$f":"IF('Fert selector'!$D$15=\"Y\",E183*N183,IF('Fert selector'!$E$15=\"Y\",F183*S183,IF('Fert selector'!$F$15=\"Y\",G183*X183,IF('Fert selector'!$G$15=\"Y\",H183*AC183))))","v":0},150,{"$f":"IF((O183-'Fert selector'!$D$13)<0,(O183-'Fert selector'!$D$13)*-1,O183-'Fert selector'!$D$13)","v":150},{"$f":"IF(O183<('Fert selector'!$D$13+'Fert selector'!$D$13*'Fert selector'!$D$17),0,1)&IF(O183>('Fert selector'!$D$13-'Fert selector'!$D$13*'Fert selector'!$D$18),0,1)","v":"01"},{"$f":"IF(F183=0,0,'Fert selector'!$E$13/F183)","v":0},{"$f":"IF('Fert selector'!$D$15=\"Y\",$F183*$N183,IF('Fert selector'!$E$15=\"Y\",$F183*$S183,IF('Fert selector'!$F$15=\"Y\",$F183*$X183,IF('Fert selector'!$G$15=\"Y\",$F183*$AC183))))","v":0},0,{"$f":"IF((T183-'Fert selector'!$E$13)<0,(T183-'Fert selector'!$E$13)*-1,T183-'Fert selector'!$E$13)","v":0},{"$f":"IF(T183<('Fert selector'!$E$13+'Fert selector'!$E$13*'Fert selector'!$E$17),0,1)&IF(T183>('Fert selector'!$E$13-'Fert selector'!$E$13*'Fert selector'!$E$18),0,1)","v":"11"},{"$f":"IF(G183=0,0,'Fert selector'!$F$13/G183)","v":0},{"$f":"IF('Fert selector'!$D$15=\"Y\",$G183*$N183,IF('Fert selector'!$E$15=\"Y\",$G183*$S183,IF('Fert selector'!$F$15=\"Y\",$G183*$X183,IF('Fert selector'!$G$15=\"Y\",$G183*$AC183))))","v":0},90,{"$f":"IF((Y183-'Fert selector'!$F$13)<0,(Y183-'Fert selector'!$F$13)*-1,Y183-'Fert selector'!$F$13)","v":90},{"$f":"IF(Y183<('Fert selector'!$F$13+'Fert selector'!$F$13*'Fert selector'!$F$17),0,1)&IF(Y183>('Fert selector'!$F$13-'Fert selector'!$F$13*'Fert selector'!$F$18),0,1)","v":"01"},{"$f":"IF(H183=0,0,'Fert selector'!$G$13/H183)","v":0},{"$f":"IF('Fert selector'!$D$15=\"Y\",$H183*$N183,IF('Fert selector'!$E$15=\"Y\",$H183*$S183,IF('Fert selector'!$F$15=\"Y\",$H183*$X183,IF('Fert selector'!$G$15=\"Y\",$H183*$AC183))))","v":0},0,{"$f":"IF((AD183-'Fert selector'!$G$13)<0,(AD183-'Fert selector'!$G$13)*-1,AD183-'Fert selector'!$G$13)","v":0},{"$f":"IF(AD183<('Fert selector'!$G$13+'Fert selector'!$G$13*'Fert selector'!$G$17),0,1)&IF(AD183>('Fert selector'!$G$13-'Fert selector'!$G$13*'Fert selector'!$G$18),0,1)","v":"11"}]
[null,null,null,null,null,null,null,null,null,null,null,null,null,{"$f":"IF(E184=0,0,'Fert selector'!$D$13/E184)","v":0},{"$f":"IF('Fert selector'!$D$15=\"Y\",E184*N184,IF('Fert selector'!$E$15=\"Y\",F184*S184,IF('Fert selector'!$F$15=\"Y\",G184*X184,IF('Fert selector'!$G$15=\"Y\",H184*AC184))))","v":0},150,{"$f":"IF((O184-'Fert selector'!$D$13)<0,(O184-'Fert selector'!$D$13)*-1,O184-'Fert selector'!$D$13)","v":150},{"$f":"IF(O184<('Fert selector'!$D$13+'Fert selector'!$D$13*'Fert selector'!$D$17),0,1)&IF(O184>('Fert selector'!$D$13-'Fert selector'!$D$13*'Fert selector'!$D$18),0,1)","v":"01"},{"$f":"IF(F184=0,0,'Fert selector'!$E$13/F184)","v":0},{"$f":"IF('Fert selector'!$D$15=\"Y\",$F184*$N184,IF('Fert selector'!$E$15=\"Y\",$F184*$S184,IF('Fert selector'!$F$15=\"Y\",$F184*$X184,IF('Fert selector'!$G$15=\"Y\",$F184*$AC184))))","v":0},0,{"$f":"IF((T184-'Fert selector'!$E$13)<0,(T184-'Fert selector'!$E$13)*-1,T184-'Fert selector'!$E$13)","v":0},{"$f":"IF(T184<('Fert selector'!$E$13+'Fert selector'!$E$13*'Fert selector'!$E$17),0,1)&IF(T184>('Fert selector'!$E$13-'Fert selector'!$E$13*'Fert selector'!$E$18),0,1)","v":"11"},{"$f":"IF(G184=0,0,'Fert selector'!$F$13/G184)","v":0},{"$f":"IF('Fert selector'!$D$15=\"Y\",$G184*$N184,IF('Fert selector'!$E$15=\"Y\",$G184*$S184,IF('Fert selector'!$F$15=\"Y\",$G184*$X184,IF('Fert selector'!$G$15=\"Y\",$G184*$AC184))))","v":0},90,{"$f":"IF((Y184-'Fert selector'!$F$13)<0,(Y184-'Fert selector'!$F$13)*-1,Y184-'Fert selector'!$F$13)","v":90},{"$f":"IF(Y184<('Fert selector'!$F$13+'Fert selector'!$F$13*'Fert selector'!$F$17),0,1)&IF(Y184>('Fert selector'!$F$13-'Fert selector'!$F$13*'Fert selector'!$F$18),0,1)","v":"01"},{"$f":"IF(H184=0,0,'Fert selector'!$G$13/H184)","v":0},{"$f":"IF('Fert selector'!$D$15=\"Y\",$H184*$N184,IF('Fert selector'!$E$15=\"Y\",$H184*$S184,IF('Fert selector'!$F$15=\"Y\",$H184*$X184,IF('Fert selector'!$G$15=\"Y\",$H184*$AC184))))","v":0},0,{"$f":"IF((AD184-'Fert selector'!$G$13)<0,(AD184-'Fert selector'!$G$13)*-1,AD184-'Fert selector'!$G$13)","v":0},{"$f":"IF(AD184<('Fert selector'!$G$13+'Fert selector'!$G$13*'Fert selector'!$G$17),0,1)&IF(AD184>('Fert selector'!$G$13-'Fert selector'!$G$13*'Fert selector'!$G$18),0,1)","v":"11"}]
[null,null,null,null,null,null,null,null,null,null,null,null,null,{"$f":"IF(E185=0,0,'Fert selector'!$D$13/E185)","v":0},{"$f":"IF('Fert selector'!$D$15=\"Y\",E185*N185,IF('Fert selector'!$E$15=\"Y\",F185*S185,IF('Fert selector'!$F$15=\"Y\",G185*X185,IF('Fert selector'!$G$15=\"Y\",H185*AC185))))","v":0},150,{"$f":"IF((O185-'Fert selector'!$D$13)<0,(O185-'Fert selector'!$D$13)*-1,O185-'Fert selector'!$D$13)","v":150},{"$f":"IF(O185<('Fert selector'!$D$13+'Fert selector'!$D$13*'Fert selector'!$D$17),0,1)&IF(O185>('Fert selector'!$D$13-'Fert selector'!$D$13*'Fert selector'!$D$18),0,1)","v":"01"},{"$f":"IF(F185=0,0,'Fert selector'!$E$13/F185)","v":0},{"$f":"IF('Fert selector'!$D$15=\"Y\",$F185*$N185,IF('Fert selector'!$E$15=\"Y\",$F185*$S185,IF('Fert selector'!$F$15=\"Y\",$F185*$X185,IF('Fert selector'!$G$15=\"Y\",$F185*$AC185))))","v":0},0,{"$f":"IF((T185-'Fert selector'!$E$13)<0,(T185-'Fert selector'!$E$13)*-1,T185-'Fert selector'!$E$13)","v":0},{"$f":"IF(T185<('Fert selector'!$E$13+'Fert selector'!$E$13*'Fert selector'!$E$17),0,1)&IF(T185>('Fert selector'!$E$13-'Fert selector'!$E$13*'Fert selector'!$E$18),0,1)","v":"11"},{"$f":"IF(G185=0,0,'Fert selector'!$F$13/G185)","v":0},{"$f":"IF('Fert selector'!$D$15=\"Y\",$G185*$N185,IF('Fert selector'!$E$15=\"Y\",$G185*$S185,IF('Fert selector'!$F$15=\"Y\",$G185*$X185,IF('Fert selector'!$G$15=\"Y\",$G185*$AC185))))","v":0},90,{"$f":"IF((Y185-'Fert selector'!$F$13)<0,(Y185-'Fert selector'!$F$13)*-1,Y185-'Fert selector'!$F$13)","v":90},{"$f":"IF(Y185<('Fert selector'!$F$13+'Fert selector'!$F$13*'Fert selector'!$F$17),0,1)&IF(Y185>('Fert selector'!$F$13-'Fert selector'!$F$13*'Fert selector'!$F$18),0,1)","v":"01"},{"$f":"IF(H185=0,0,'Fert selector'!$G$13/H185)","v":0},{"$f":"IF('Fert selector'!$D$15=\"Y\",$H185*$N185,IF('Fert selector'!$E$15=\"Y\",$H185*$S185,IF('Fert selector'!$F$15=\"Y\",$H185*$X185,IF('Fert selector'!$G$15=\"Y\",$H185*$AC185))))","v":0},0,{"$f":"IF((AD185-'Fert selector'!$G$13)<0,(AD185-'Fert selector'!$G$13)*-1,AD185-'Fert selector'!$G$13)","v":0},{"$f":"IF(AD185<('Fert selector'!$G$13+'Fert selector'!$G$13*'Fert selector'!$G$17),0,1)&IF(AD185>('Fert selector'!$G$13-'Fert selector'!$G$13*'Fert selector'!$G$18),0,1)","v":"11"}]
[null,null,null,null,null,null,null,null,null,null,null,null,null,{"$f":"IF(E186=0,0,'Fert selector'!$D$13/E186)","v":0},{"$f":"IF('Fert selector'!$D$15=\"Y\",E186*N186,IF('Fert selector'!$E$15=\"Y\",F186*S186,IF('Fert selector'!$F$15=\"Y\",G186*X186,IF('Fert selector'!$G$15=\"Y\",H186*AC186))))","v":0},150,{"$f":"IF((O186-'Fert selector'!$D$13)<0,(O186-'Fert selector'!$D$13)*-1,O186-'Fert selector'!$D$13)","v":150},{"$f":"IF(O186<('Fert selector'!$D$13+'Fert selector'!$D$13*'Fert selector'!$D$17),0,1)&IF(O186>('Fert selector'!$D$13-'Fert selector'!$D$13*'Fert selector'!$D$18),0,1)","v":"01"},{"$f":"IF(F186=0,0,'Fert selector'!$E$13/F186)","v":0},{"$f":"IF('Fert selector'!$D$15=\"Y\",$F186*$N186,IF('Fert selector'!$E$15=\"Y\",$F186*$S186,IF('Fert selector'!$F$15=\"Y\",$F186*$X186,IF('Fert selector'!$G$15=\"Y\",$F186*$AC186))))","v":0},0,{"$f":"IF((T186-'Fert selector'!$E$13)<0,(T186-'Fert selector'!$E$13)*-1,T186-'Fert selector'!$E$13)","v":0},{"$f":"IF(T186<('Fert selector'!$E$13+'Fert selector'!$E$13*'Fert selector'!$E$17),0,1)&IF(T186>('Fert selector'!$E$13-'Fert selector'!$E$13*'Fert selector'!$E$18),0,1)","v":"11"},{"$f":"IF(G186=0,0,'Fert selector'!$F$13/G186)","v":0},{"$f":"IF('Fert selector'!$D$15=\"Y\",$G186*$N186,IF('Fert selector'!$E$15=\"Y\",$G186*$S186,IF('Fert selector'!$F$15=\"Y\",$G186*$X186,IF('Fert selector'!$G$15=\"Y\",$G186*$AC186))))","v":0},90,{"$f":"IF((Y186-'Fert selector'!$F$13)<0,(Y186-'Fert selector'!$F$13)*-1,Y186-'Fert selector'!$F$13)","v":90},{"$f":"IF(Y186<('Fert selector'!$F$13+'Fert selector'!$F$13*'Fert selector'!$F$17),0,1)&IF(Y186>('Fert selector'!$F$13-'Fert selector'!$F$13*'Fert selector'!$F$18),0,1)","v":"01"},{"$f":"IF(H186=0,0,'Fert selector'!$G$13/H186)","v":0},{"$f":"IF('Fert selector'!$D$15=\"Y\",$H186*$N186,IF('Fert selector'!$E$15=\"Y\",$H186*$S186,IF('Fert selector'!$F$15=\"Y\",$H186*$X186,IF('Fert selector'!$G$15=\"Y\",$H186*$AC186))))","v":0},0,{"$f":"IF((AD186-'Fert selector'!$G$13)<0,(AD186-'Fert selector'!$G$13)*-1,AD186-'Fert selector'!$G$13)","v":0},{"$f":"IF(AD186<('Fert selector'!$G$13+'Fert selector'!$G$13*'Fert selector'!$G$17),0,1)&IF(AD186>('Fert selector'!$G$13-'Fert selector'!$G$13*'Fert selector'!$G$18),0,1)","v":"11"}]
[null,null,null,null,null,null,null,null,null,null,null,null,null,{"$f":"IF(E187=0,0,'Fert selector'!$D$13/E187)","v":0},{"$f":"IF('Fert selector'!$D$15=\"Y\",E187*N187,IF('Fert selector'!$E$15=\"Y\",F187*S187,IF('Fert selector'!$F$15=\"Y\",G187*X187,IF('Fert selector'!$G$15=\"Y\",H187*AC187))))","v":0},150,{"$f":"IF((O187-'Fert selector'!$D$13)<0,(O187-'Fert selector'!$D$13)*-1,O187-'Fert selector'!$D$13)","v":150},{"$f":"IF(O187<('Fert selector'!$D$13+'Fert selector'!$D$13*'Fert selector'!$D$17),0,1)&IF(O187>('Fert selector'!$D$13-'Fert selector'!$D$13*'Fert selector'!$D$18),0,1)","v":"01"},{"$f":"IF(F187=0,0,'Fert selector'!$E$13/F187)","v":0},{"$f":"IF('Fert selector'!$D$15=\"Y\",$F187*$N187,IF('Fert selector'!$E$15=\"Y\",$F187*$S187,IF('Fert selector'!$F$15=\"Y\",$F187*$X187,IF('Fert selector'!$G$15=\"Y\",$F187*$AC187))))","v":0},0,{"$f":"IF((T187-'Fert selector'!$E$13)<0,(T187-'Fert selector'!$E$13)*-1,T187-'Fert selector'!$E$13)","v":0},{"$f":"IF(T187<('Fert selector'!$E$13+'Fert selector'!$E$13*'Fert selector'!$E$17),0,1)&IF(T187>('Fert selector'!$E$13-'Fert selector'!$E$13*'Fert selector'!$E$18),0,1)","v":"11"},{"$f":"IF(G187=0,0,'Fert selector'!$F$13/G187)","v":0},{"$f":"IF('Fert selector'!$D$15=\"Y\",$G187*$N187,IF('Fert selector'!$E$15=\"Y\",$G187*$S187,IF('Fert selector'!$F$15=\"Y\",$G187*$X187,IF('Fert selector'!$G$15=\"Y\",$G187*$AC187))))","v":0},90,{"$f":"IF((Y187-'Fert selector'!$F$13)<0,(Y187-'Fert selector'!$F$13)*-1,Y187-'Fert selector'!$F$13)","v":90},{"$f":"IF(Y187<('Fert selector'!$F$13+'Fert selector'!$F$13*'Fert selector'!$F$17),0,1)&IF(Y187>('Fert selector'!$F$13-'Fert selector'!$F$13*'Fert selector'!$F$18),0,1)","v":"01"},{"$f":"IF(H187=0,0,'Fert selector'!$G$13/H187)","v":0},{"$f":"IF('Fert selector'!$D$15=\"Y\",$H187*$N187,IF('Fert selector'!$E$15=\"Y\",$H187*$S187,IF('Fert selector'!$F$15=\"Y\",$H187*$X187,IF('Fert selector'!$G$15=\"Y\",$H187*$AC187))))","v":0},0,{"$f":"IF((AD187-'Fert selector'!$G$13)<0,(AD187-'Fert selector'!$G$13)*-1,AD187-'Fert selector'!$G$13)","v":0},{"$f":"IF(AD187<('Fert selector'!$G$13+'Fert selector'!$G$13*'Fert selector'!$G$17),0,1)&IF(AD187>('Fert selector'!$G$13-'Fert selector'!$G$13*'Fert selector'!$G$18),0,1)","v":"11"}]
[null,null,null,null,null,null,null,null,null,null,null,null,null,{"$f":"IF(E188=0,0,'Fert selector'!$D$13/E188)","v":0},{"$f":"IF('Fert selector'!$D$15=\"Y\",E188*N188,IF('Fert selector'!$E$15=\"Y\",F188*S188,IF('Fert selector'!$F$15=\"Y\",G188*X188,IF('Fert selector'!$G$15=\"Y\",H188*AC188))))","v":0},150,{"$f":"IF((O188-'Fert selector'!$D$13)<0,(O188-'Fert selector'!$D$13)*-1,O188-'Fert selector'!$D$13)","v":150},{"$f":"IF(O188<('Fert selector'!$D$13+'Fert selector'!$D$13*'Fert selector'!$D$17),0,1)&IF(O188>('Fert selector'!$D$13-'Fert selector'!$D$13*'Fert selector'!$D$18),0,1)","v":"01"},{"$f":"IF(F188=0,0,'Fert selector'!$E$13/F188)","v":0},{"$f":"IF('Fert selector'!$D$15=\"Y\",$F188*$N188,IF('Fert selector'!$E$15=\"Y\",$F188*$S188,IF('Fert selector'!$F$15=\"Y\",$F188*$X188,IF('Fert selector'!$G$15=\"Y\",$F188*$AC188))))","v":0},0,{"$f":"IF((T188-'Fert selector'!$E$13)<0,(T188-'Fert selector'!$E$13)*-1,T188-'Fert selector'!$E$13)","v":0},{"$f":"IF(T188<('Fert selector'!$E$13+'Fert selector'!$E$13*'Fert selector'!$E$17),0,1)&IF(T188>('Fert selector'!$E$13-'Fert selector'!$E$13*'Fert selector'!$E$18),0,1)","v":"11"},{"$f":"IF(G188=0,0,'Fert selector'!$F$13/G188)","v":0},{"$f":"IF('Fert selector'!$D$15=\"Y\",$G188*$N188,IF('Fert selector'!$E$15=\"Y\",$G188*$S188,IF('Fert selector'!$F$15=\"Y\",$G188*$X188,IF('Fert selector'!$G$15=\"Y\",$G188*$AC188))))","v":0},90,{"$f":"IF((Y188-'Fert selector'!$F$13)<0,(Y188-'Fert selector'!$F$13)*-1,Y188-'Fert selector'!$F$13)","v":90},{"$f":"IF(Y188<('Fert selector'!$F$13+'Fert selector'!$F$13*'Fert selector'!$F$17),0,1)&IF(Y188>('Fert selector'!$F$13-'Fert selector'!$F$13*'Fert selector'!$F$18),0,1)","v":"01"},{"$f":"IF(H188=0,0,'Fert selector'!$G$13/H188)","v":0},{"$f":"IF('Fert selector'!$D$15=\"Y\",$H188*$N188,IF('Fert selector'!$E$15=\"Y\",$H188*$S188,IF('Fert selector'!$F$15=\"Y\",$H188*$X188,IF('Fert selector'!$G$15=\"Y\",$H188*$AC188))))","v":0},0,{"$f":"IF((AD188-'Fert selector'!$G$13)<0,(AD188-'Fert selector'!$G$13)*-1,AD188-'Fert selector'!$G$13)","v":0},{"$f":"IF(AD188<('Fert selector'!$G$13+'Fert selector'!$G$13*'Fert selector'!$G$17),0,1)&IF(AD188>('Fert selector'!$G$13-'Fert selector'!$G$13*'Fert selector'!$G$18),0,1)","v":"11"}]
[null,null,null,null,null,null,null,null,null,null,null,null,null,{"$f":"IF(E189=0,0,'Fert selector'!$D$13/E189)","v":0},{"$f":"IF('Fert selector'!$D$15=\"Y\",E189*N189,IF('Fert selector'!$E$15=\"Y\",F189*S189,IF('Fert selector'!$F$15=\"Y\",G189*X189,IF('Fert selector'!$G$15=\"Y\",H189*AC189))))","v":0},150,{"$f":"IF((O189-'Fert selector'!$D$13)<0,(O189-'Fert selector'!$D$13)*-1,O189-'Fert selector'!$D$13)","v":150},{"$f":"IF(O189<('Fert selector'!$D$13+'Fert selector'!$D$13*'Fert selector'!$D$17),0,1)&IF(O189>('Fert selector'!$D$13-'Fert selector'!$D$13*'Fert selector'!$D$18),0,1)","v":"01"},{"$f":"IF(F189=0,0,'Fert selector'!$E$13/F189)","v":0},{"$f":"IF('Fert selector'!$D$15=\"Y\",$F189*$N189,IF('Fert selector'!$E$15=\"Y\",$F189*$S189,IF('Fert selector'!$F$15=\"Y\",$F189*$X189,IF('Fert selector'!$G$15=\"Y\",$F189*$AC189))))","v":0},0,{"$f":"IF((T189-'Fert selector'!$E$13)<0,(T189-'Fert selector'!$E$13)*-1,T189-'Fert selector'!$E$13)","v":0},{"$f":"IF(T189<('Fert selector'!$E$13+'Fert selector'!$E$13*'Fert selector'!$E$17),0,1)&IF(T189>('Fert selector'!$E$13-'Fert selector'!$E$13*'Fert selector'!$E$18),0,1)","v":"11"},{"$f":"IF(G189=0,0,'Fert selector'!$F$13/G189)","v":0},{"$f":"IF('Fert selector'!$D$15=\"Y\",$G189*$N189,IF('Fert selector'!$E$15=\"Y\",$G189*$S189,IF('Fert selector'!$F$15=\"Y\",$G189*$X189,IF('Fert selector'!$G$15=\"Y\",$G189*$AC189))))","v":0},90,{"$f":"IF((Y189-'Fert selector'!$F$13)<0,(Y189-'Fert selector'!$F$13)*-1,Y189-'Fert selector'!$F$13)","v":90},{"$f":"IF(Y189<('Fert selector'!$F$13+'Fert selector'!$F$13*'Fert selector'!$F$17),0,1)&IF(Y189>('Fert selector'!$F$13-'Fert selector'!$F$13*'Fert selector'!$F$18),0,1)","v":"01"},{"$f":"IF(H189=0,0,'Fert selector'!$G$13/H189)","v":0},{"$f":"IF('Fert selector'!$D$15=\"Y\",$H189*$N189,IF('Fert selector'!$E$15=\"Y\",$H189*$S189,IF('Fert selector'!$F$15=\"Y\",$H189*$X189,IF('Fert selector'!$G$15=\"Y\",$H189*$AC189))))","v":0},0,{"$f":"IF((AD189-'Fert selector'!$G$13)<0,(AD189-'Fert selector'!$G$13)*-1,AD189-'Fert selector'!$G$13)","v":0},{"$f":"IF(AD189<('Fert selector'!$G$13+'Fert selector'!$G$13*'Fert selector'!$G$17),0,1)&IF(AD189>('Fert selector'!$G$13-'Fert selector'!$G$13*'Fert selector'!$G$18),0,1)","v":"11"}]
[null,null,null,null,null,null,null,null,null,null,null,null,null,{"$f":"IF(E190=0,0,'Fert selector'!$D$13/E190)","v":0},{"$f":"IF('Fert selector'!$D$15=\"Y\",E190*N190,IF('Fert selector'!$E$15=\"Y\",F190*S190,IF('Fert selector'!$F$15=\"Y\",G190*X190,IF('Fert selector'!$G$15=\"Y\",H190*AC190))))","v":0},150,{"$f":"IF((O190-'Fert selector'!$D$13)<0,(O190-'Fert selector'!$D$13)*-1,O190-'Fert selector'!$D$13)","v":150},{"$f":"IF(O190<('Fert selector'!$D$13+'Fert selector'!$D$13*'Fert selector'!$D$17),0,1)&IF(O190>('Fert selector'!$D$13-'Fert selector'!$D$13*'Fert selector'!$D$18),0,1)","v":"01"},{"$f":"IF(F190=0,0,'Fert selector'!$E$13/F190)","v":0},{"$f":"IF('Fert selector'!$D$15=\"Y\",$F190*$N190,IF('Fert selector'!$E$15=\"Y\",$F190*$S190,IF('Fert selector'!$F$15=\"Y\",$F190*$X190,IF('Fert selector'!$G$15=\"Y\",$F190*$AC190))))","v":0},0,{"$f":"IF((T190-'Fert selector'!$E$13)<0,(T190-'Fert selector'!$E$13)*-1,T190-'Fert selector'!$E$13)","v":0},{"$f":"IF(T190<('Fert selector'!$E$13+'Fert selector'!$E$13*'Fert selector'!$E$17),0,1)&IF(T190>('Fert selector'!$E$13-'Fert selector'!$E$13*'Fert selector'!$E$18),0,1)","v":"11"},{"$f":"IF(G190=0,0,'Fert selector'!$F$13/G190)","v":0},{"$f":"IF('Fert selector'!$D$15=\"Y\",$G190*$N190,IF('Fert selector'!$E$15=\"Y\",$G190*$S190,IF('Fert selector'!$F$15=\"Y\",$G190*$X190,IF('Fert selector'!$G$15=\"Y\",$G190*$AC190))))","v":0},90,{"$f":"IF((Y190-'Fert selector'!$F$13)<0,(Y190-'Fert selector'!$F$13)*-1,Y190-'Fert selector'!$F$13)","v":90},{"$f":"IF(Y190<('Fert selector'!$F$13+'Fert selector'!$F$13*'Fert selector'!$F$17),0,1)&IF(Y190>('Fert selector'!$F$13-'Fert selector'!$F$13*'Fert selector'!$F$18),0,1)","v":"01"},{"$f":"IF(H190=0,0,'Fert selector'!$G$13/H190)","v":0},{"$f":"IF('Fert selector'!$D$15=\"Y\",$H190*$N190,IF('Fert selector'!$E$15=\"Y\",$H190*$S190,IF('Fert selector'!$F$15=\"Y\",$H190*$X190,IF('Fert selector'!$G$15=\"Y\",$H190*$AC190))))","v":0},0,{"$f":"IF((AD190-'Fert selector'!$G$13)<0,(AD190-'Fert selector'!$G$13)*-1,AD190-'Fert selector'!$G$13)","v":0},{"$f":"IF(AD190<('Fert selector'!$G$13+'Fert selector'!$G$13*'Fert selector'!$G$17),0,1)&IF(AD190>('Fert selector'!$G$13-'Fert selector'!$G$13*'Fert selector'!$G$18),0,1)","v":"11"}]
[null,null,null,null,null,null,null,null,null,null,null,null,null,{"$f":"IF(E191=0,0,'Fert selector'!$D$13/E191)","v":0},{"$f":"IF('Fert selector'!$D$15=\"Y\",E191*N191,IF('Fert selector'!$E$15=\"Y\",F191*S191,IF('Fert selector'!$F$15=\"Y\",G191*X191,IF('Fert selector'!$G$15=\"Y\",H191*AC191))))","v":0},150,{"$f":"IF((O191-'Fert selector'!$D$13)<0,(O191-'Fert selector'!$D$13)*-1,O191-'Fert selector'!$D$13)","v":150},{"$f":"IF(O191<('Fert selector'!$D$13+'Fert selector'!$D$13*'Fert selector'!$D$17),0,1)&IF(O191>('Fert selector'!$D$13-'Fert selector'!$D$13*'Fert selector'!$D$18),0,1)","v":"01"},{"$f":"IF(F191=0,0,'Fert selector'!$E$13/F191)","v":0},{"$f":"IF('Fert selector'!$D$15=\"Y\",$F191*$N191,IF('Fert selector'!$E$15=\"Y\",$F191*$S191,IF('Fert selector'!$F$15=\"Y\",$F191*$X191,IF('Fert selector'!$G$15=\"Y\",$F191*$AC191))))","v":0},0,{"$f":"IF((T191-'Fert selector'!$E$13)<0,(T191-'Fert selector'!$E$13)*-1,T191-'Fert selector'!$E$13)","v":0},{"$f":"IF(T191<('Fert selector'!$E$13+'Fert selector'!$E$13*'Fert selector'!$E$17),0,1)&IF(T191>('Fert selector'!$E$13-'Fert selector'!$E$13*'Fert selector'!$E$18),0,1)","v":"11"},{"$f":"IF(G191=0,0,'Fert selector'!$F$13/G191)","v":0},{"$f":"IF('Fert selector'!$D$15=\"Y\",$G191*$N191,IF('Fert selector'!$E$15=\"Y\",$G191*$S191,IF('Fert selector'!$F$15=\"Y\",$G191*$X191,IF('Fert selector'!$G$15=\"Y\",$G191*$AC191))))","v":0},90,{"$f":"IF((Y191-'Fert selector'!$F$13)<0,(Y191-'Fert selector'!$F$13)*-1,Y191-'Fert selector'!$F$13)","v":90},{"$f":"IF(Y191<('Fert selector'!$F$13+'Fert selector'!$F$13*'Fert selector'!$F$17),0,1)&IF(Y191>('Fert selector'!$F$13-'Fert selector'!$F$13*'Fert selector'!$F$18),0,1)","v":"01"},{"$f":"IF(H191=0,0,'Fert selector'!$G$13/H191)","v":0},{"$f":"IF('Fert selector'!$D$15=\"Y\",$H191*$N191,IF('Fert selector'!$E$15=\"Y\",$H191*$S191,IF('Fert selector'!$F$15=\"Y\",$H191*$X191,IF('Fert selector'!$G$15=\"Y\",$H191*$AC191))))","v":0},0,{"$f":"IF((AD191-'Fert selector'!$G$13)<0,(AD191-'Fert selector'!$G$13)*-1,AD191-'Fert selector'!$G$13)","v":0},{"$f":"IF(AD191<('Fert selector'!$G$13+'Fert selector'!$G$13*'Fert selector'!$G$17),0,1)&IF(AD191>('Fert selector'!$G$13-'Fert selector'!$G$13*'Fert selector'!$G$18),0,1)","v":"11"}]
[null,null,null,null,null,null,null,null,null,null,null,null,null,{"$f":"IF(E192=0,0,'Fert selector'!$D$13/E192)","v":0},{"$f":"IF('Fert selector'!$D$15=\"Y\",E192*N192,IF('Fert selector'!$E$15=\"Y\",F192*S192,IF('Fert selector'!$F$15=\"Y\",G192*X192,IF('Fert selector'!$G$15=\"Y\",H192*AC192))))","v":0},150,{"$f":"IF((O192-'Fert selector'!$D$13)<0,(O192-'Fert selector'!$D$13)*-1,O192-'Fert selector'!$D$13)","v":150},{"$f":"IF(O192<('Fert selector'!$D$13+'Fert selector'!$D$13*'Fert selector'!$D$17),0,1)&IF(O192>('Fert selector'!$D$13-'Fert selector'!$D$13*'Fert selector'!$D$18),0,1)","v":"01"},{"$f":"IF(F192=0,0,'Fert selector'!$E$13/F192)","v":0},{"$f":"IF('Fert selector'!$D$15=\"Y\",$F192*$N192,IF('Fert selector'!$E$15=\"Y\",$F192*$S192,IF('Fert selector'!$F$15=\"Y\",$F192*$X192,IF('Fert selector'!$G$15=\"Y\",$F192*$AC192))))","v":0},0,{"$f":"IF((T192-'Fert selector'!$E$13)<0,(T192-'Fert selector'!$E$13)*-1,T192-'Fert selector'!$E$13)","v":0},{"$f":"IF(T192<('Fert selector'!$E$13+'Fert selector'!$E$13*'Fert selector'!$E$17),0,1)&IF(T192>('Fert selector'!$E$13-'Fert selector'!$E$13*'Fert selector'!$E$18),0,1)","v":"11"},{"$f":"IF(G192=0,0,'Fert selector'!$F$13/G192)","v":0},{"$f":"IF('Fert selector'!$D$15=\"Y\",$G192*$N192,IF('Fert selector'!$E$15=\"Y\",$G192*$S192,IF('Fert selector'!$F$15=\"Y\",$G192*$X192,IF('Fert selector'!$G$15=\"Y\",$G192*$AC192))))","v":0},90,{"$f":"IF((Y192-'Fert selector'!$F$13)<0,(Y192-'Fert selector'!$F$13)*-1,Y192-'Fert selector'!$F$13)","v":90},{"$f":"IF(Y192<('Fert selector'!$F$13+'Fert selector'!$F$13*'Fert selector'!$F$17),0,1)&IF(Y192>('Fert selector'!$F$13-'Fert selector'!$F$13*'Fert selector'!$F$18),0,1)","v":"01"},{"$f":"IF(H192=0,0,'Fert selector'!$G$13/H192)","v":0},{"$f":"IF('Fert selector'!$D$15=\"Y\",$H192*$N192,IF('Fert selector'!$E$15=\"Y\",$H192*$S192,IF('Fert selector'!$F$15=\"Y\",$H192*$X192,IF('Fert selector'!$G$15=\"Y\",$H192*$AC192))))","v":0},0,{"$f":"IF((AD192-'Fert selector'!$G$13)<0,(AD192-'Fert selector'!$G$13)*-1,AD192-'Fert selector'!$G$13)","v":0},{"$f":"IF(AD192<('Fert selector'!$G$13+'Fert selector'!$G$13*'Fert selector'!$G$17),0,1)&IF(AD192>('Fert selector'!$G$13-'Fert selector'!$G$13*'Fert selector'!$G$18),0,1)","v":"11"}]
[null,null,null,null,null,null,null,null,null,null,null,null,null,{"$f":"IF(E193=0,0,'Fert selector'!$D$13/E193)","v":0},{"$f":"IF('Fert selector'!$D$15=\"Y\",E193*N193,IF('Fert selector'!$E$15=\"Y\",F193*S193,IF('Fert selector'!$F$15=\"Y\",G193*X193,IF('Fert selector'!$G$15=\"Y\",H193*AC193))))","v":0},150,{"$f":"IF((O193-'Fert selector'!$D$13)<0,(O193-'Fert selector'!$D$13)*-1,O193-'Fert selector'!$D$13)","v":150},{"$f":"IF(O193<('Fert selector'!$D$13+'Fert selector'!$D$13*'Fert selector'!$D$17),0,1)&IF(O193>('Fert selector'!$D$13-'Fert selector'!$D$13*'Fert selector'!$D$18),0,1)","v":"01"},{"$f":"IF(F193=0,0,'Fert selector'!$E$13/F193)","v":0},{"$f":"IF('Fert selector'!$D$15=\"Y\",$F193*$N193,IF('Fert selector'!$E$15=\"Y\",$F193*$S193,IF('Fert selector'!$F$15=\"Y\",$F193*$X193,IF('Fert selector'!$G$15=\"Y\",$F193*$AC193))))","v":0},0,{"$f":"IF((T193-'Fert selector'!$E$13)<0,(T193-'Fert selector'!$E$13)*-1,T193-'Fert selector'!$E$13)","v":0},{"$f":"IF(T193<('Fert selector'!$E$13+'Fert selector'!$E$13*'Fert selector'!$E$17),0,1)&IF(T193>('Fert selector'!$E$13-'Fert selector'!$E$13*'Fert selector'!$E$18),0,1)","v":"11"},{"$f":"IF(G193=0,0,'Fert selector'!$F$13/G193)","v":0},{"$f":"IF('Fert selector'!$D$15=\"Y\",$G193*$N193,IF('Fert selector'!$E$15=\"Y\",$G193*$S193,IF('Fert selector'!$F$15=\"Y\",$G193*$X193,IF('Fert selector'!$G$15=\"Y\",$G193*$AC193))))","v":0},90,{"$f":"IF((Y193-'Fert selector'!$F$13)<0,(Y193-'Fert selector'!$F$13)*-1,Y193-'Fert selector'!$F$13)","v":90},{"$f":"IF(Y193<('Fert selector'!$F$13+'Fert selector'!$F$13*'Fert selector'!$F$17),0,1)&IF(Y193>('Fert selector'!$F$13-'Fert selector'!$F$13*'Fert selector'!$F$18),0,1)","v":"01"},{"$f":"IF(H193=0,0,'Fert selector'!$G$13/H193)","v":0},{"$f":"IF('Fert selector'!$D$15=\"Y\",$H193*$N193,IF('Fert selector'!$E$15=\"Y\",$H193*$S193,IF('Fert selector'!$F$15=\"Y\",$H193*$X193,IF('Fert selector'!$G$15=\"Y\",$H193*$AC193))))","v":0},0,{"$f":"IF((AD193-'Fert selector'!$G$13)<0,(AD193-'Fert selector'!$G$13)*-1,AD193-'Fert selector'!$G$13)","v":0},{"$f":"IF(AD193<('Fert selector'!$G$13+'Fert selector'!$G$13*'Fert selector'!$G$17),0,1)&IF(AD193>('Fert selector'!$G$13-'Fert selector'!$G$13*'Fert selector'!$G$18),0,1)","v":"11"}]
[null,null,null,null,null,null,null,null,null,null,null,null,null,{"$f":"IF(E194=0,0,'Fert selector'!$D$13/E194)","v":0},{"$f":"IF('Fert selector'!$D$15=\"Y\",E194*N194,IF('Fert selector'!$E$15=\"Y\",F194*S194,IF('Fert selector'!$F$15=\"Y\",G194*X194,IF('Fert selector'!$G$15=\"Y\",H194*AC194))))","v":0},150,{"$f":"IF((O194-'Fert selector'!$D$13)<0,(O194-'Fert selector'!$D$13)*-1,O194-'Fert selector'!$D$13)","v":150},{"$f":"IF(O194<('Fert selector'!$D$13+'Fert selector'!$D$13*'Fert selector'!$D$17),0,1)&IF(O194>('Fert selector'!$D$13-'Fert selector'!$D$13*'Fert selector'!$D$18),0,1)","v":"01"},{"$f":"IF(F194=0,0,'Fert selector'!$E$13/F194)","v":0},{"$f":"IF('Fert selector'!$D$15=\"Y\",$F194*$N194,IF('Fert selector'!$E$15=\"Y\",$F194*$S194,IF('Fert selector'!$F$15=\"Y\",$F194*$X194,IF('Fert selector'!$G$15=\"Y\",$F194*$AC194))))","v":0},0,{"$f":"IF((T194-'Fert selector'!$E$13)<0,(T194-'Fert selector'!$E$13)*-1,T194-'Fert selector'!$E$13)","v":0},{"$f":"IF(T194<('Fert selector'!$E$13+'Fert selector'!$E$13*'Fert selector'!$E$17),0,1)&IF(T194>('Fert selector'!$E$13-'Fert selector'!$E$13*'Fert selector'!$E$18),0,1)","v":"11"},{"$f":"IF(G194=0,0,'Fert selector'!$F$13/G194)","v":0},{"$f":"IF('Fert selector'!$D$15=\"Y\",$G194*$N194,IF('Fert selector'!$E$15=\"Y\",$G194*$S194,IF('Fert selector'!$F$15=\"Y\",$G194*$X194,IF('Fert selector'!$G$15=\"Y\",$G194*$AC194))))","v":0},90,{"$f":"IF((Y194-'Fert selector'!$F$13)<0,(Y194-'Fert selector'!$F$13)*-1,Y194-'Fert selector'!$F$13)","v":90},{"$f":"IF(Y194<('Fert selector'!$F$13+'Fert selector'!$F$13*'Fert selector'!$F$17),0,1)&IF(Y194>('Fert selector'!$F$13-'Fert selector'!$F$13*'Fert selector'!$F$18),0,1)","v":"01"},{"$f":"IF(H194=0,0,'Fert selector'!$G$13/H194)","v":0},{"$f":"IF('Fert selector'!$D$15=\"Y\",$H194*$N194,IF('Fert selector'!$E$15=\"Y\",$H194*$S194,IF('Fert selector'!$F$15=\"Y\",$H194*$X194,IF('Fert selector'!$G$15=\"Y\",$H194*$AC194))))","v":0},0,{"$f":"IF((AD194-'Fert selector'!$G$13)<0,(AD194-'Fert selector'!$G$13)*-1,AD194-'Fert selector'!$G$13)","v":0},{"$f":"IF(AD194<('Fert selector'!$G$13+'Fert selector'!$G$13*'Fert selector'!$G$17),0,1)&IF(AD194>('Fert selector'!$G$13-'Fert selector'!$G$13*'Fert selector'!$G$18),0,1)","v":"11"}]
[null,null,null,null,null,null,null,null,null,null,null,null,null,{"$f":"IF(E195=0,0,'Fert selector'!$D$13/E195)","v":0},{"$f":"IF('Fert selector'!$D$15=\"Y\",E195*N195,IF('Fert selector'!$E$15=\"Y\",F195*S195,IF('Fert selector'!$F$15=\"Y\",G195*X195,IF('Fert selector'!$G$15=\"Y\",H195*AC195))))","v":0},150,{"$f":"IF((O195-'Fert selector'!$D$13)<0,(O195-'Fert selector'!$D$13)*-1,O195-'Fert selector'!$D$13)","v":150},{"$f":"IF(O195<('Fert selector'!$D$13+'Fert selector'!$D$13*'Fert selector'!$D$17),0,1)&IF(O195>('Fert selector'!$D$13-'Fert selector'!$D$13*'Fert selector'!$D$18),0,1)","v":"01"},{"$f":"IF(F195=0,0,'Fert selector'!$E$13/F195)","v":0},{"$f":"IF('Fert selector'!$D$15=\"Y\",$F195*$N195,IF('Fert selector'!$E$15=\"Y\",$F195*$S195,IF('Fert selector'!$F$15=\"Y\",$F195*$X195,IF('Fert selector'!$G$15=\"Y\",$F195*$AC195))))","v":0},0,{"$f":"IF((T195-'Fert selector'!$E$13)<0,(T195-'Fert selector'!$E$13)*-1,T195-'Fert selector'!$E$13)","v":0},{"$f":"IF(T195<('Fert selector'!$E$13+'Fert selector'!$E$13*'Fert selector'!$E$17),0,1)&IF(T195>('Fert selector'!$E$13-'Fert selector'!$E$13*'Fert selector'!$E$18),0,1)","v":"11"},{"$f":"IF(G195=0,0,'Fert selector'!$F$13/G195)","v":0},{"$f":"IF('Fert selector'!$D$15=\"Y\",$G195*$N195,IF('Fert selector'!$E$15=\"Y\",$G195*$S195,IF('Fert selector'!$F$15=\"Y\",$G195*$X195,IF('Fert selector'!$G$15=\"Y\",$G195*$AC195))))","v":0},90,{"$f":"IF((Y195-'Fert selector'!$F$13)<0,(Y195-'Fert selector'!$F$13)*-1,Y195-'Fert selector'!$F$13)","v":90},{"$f":"IF(Y195<('Fert selector'!$F$13+'Fert selector'!$F$13*'Fert selector'!$F$17),0,1)&IF(Y195>('Fert selector'!$F$13-'Fert selector'!$F$13*'Fert selector'!$F$18),0,1)","v":"01"},{"$f":"IF(H195=0,0,'Fert selector'!$G$13/H195)","v":0},{"$f":"IF('Fert selector'!$D$15=\"Y\",$H195*$N195,IF('Fert selector'!$E$15=\"Y\",$H195*$S195,IF('Fert selector'!$F$15=\"Y\",$H195*$X195,IF('Fert selector'!$G$15=\"Y\",$H195*$AC195))))","v":0},0,{"$f":"IF((AD195-'Fert selector'!$G$13)<0,(AD195-'Fert selector'!$G$13)*-1,AD195-'Fert selector'!$G$13)","v":0},{"$f":"IF(AD195<('Fert selector'!$G$13+'Fert selector'!$G$13*'Fert selector'!$G$17),0,1)&IF(AD195>('Fert selector'!$G$13-'Fert selector'!$G$13*'Fert selector'!$G$18),0,1)","v":"11"}]
[null,null,null,null,null,null,null,null,null,null,null,null,null,{"$f":"IF(E196=0,0,'Fert selector'!$D$13/E196)","v":0},{"$f":"IF('Fert selector'!$D$15=\"Y\",E196*N196,IF('Fert selector'!$E$15=\"Y\",F196*S196,IF('Fert selector'!$F$15=\"Y\",G196*X196,IF('Fert selector'!$G$15=\"Y\",H196*AC196))))","v":0},150,{"$f":"IF((O196-'Fert selector'!$D$13)<0,(O196-'Fert selector'!$D$13)*-1,O196-'Fert selector'!$D$13)","v":150},{"$f":"IF(O196<('Fert selector'!$D$13+'Fert selector'!$D$13*'Fert selector'!$D$17),0,1)&IF(O196>('Fert selector'!$D$13-'Fert selector'!$D$13*'Fert selector'!$D$18),0,1)","v":"01"},{"$f":"IF(F196=0,0,'Fert selector'!$E$13/F196)","v":0},{"$f":"IF('Fert selector'!$D$15=\"Y\",$F196*$N196,IF('Fert selector'!$E$15=\"Y\",$F196*$S196,IF('Fert selector'!$F$15=\"Y\",$F196*$X196,IF('Fert selector'!$G$15=\"Y\",$F196*$AC196))))","v":0},0,{"$f":"IF((T196-'Fert selector'!$E$13)<0,(T196-'Fert selector'!$E$13)*-1,T196-'Fert selector'!$E$13)","v":0},{"$f":"IF(T196<('Fert selector'!$E$13+'Fert selector'!$E$13*'Fert selector'!$E$17),0,1)&IF(T196>('Fert selector'!$E$13-'Fert selector'!$E$13*'Fert selector'!$E$18),0,1)","v":"11"},{"$f":"IF(G196=0,0,'Fert selector'!$F$13/G196)","v":0},{"$f":"IF('Fert selector'!$D$15=\"Y\",$G196*$N196,IF('Fert selector'!$E$15=\"Y\",$G196*$S196,IF('Fert selector'!$F$15=\"Y\",$G196*$X196,IF('Fert selector'!$G$15=\"Y\",$G196*$AC196))))","v":0},90,{"$f":"IF((Y196-'Fert selector'!$F$13)<0,(Y196-'Fert selector'!$F$13)*-1,Y196-'Fert selector'!$F$13)","v":90},{"$f":"IF(Y196<('Fert selector'!$F$13+'Fert selector'!$F$13*'Fert selector'!$F$17),0,1)&IF(Y196>('Fert selector'!$F$13-'Fert selector'!$F$13*'Fert selector'!$F$18),0,1)","v":"01"},{"$f":"IF(H196=0,0,'Fert selector'!$G$13/H196)","v":0},{"$f":"IF('Fert selector'!$D$15=\"Y\",$H196*$N196,IF('Fert selector'!$E$15=\"Y\",$H196*$S196,IF('Fert selector'!$F$15=\"Y\",$H196*$X196,IF('Fert selector'!$G$15=\"Y\",$H196*$AC196))))","v":0},0,{"$f":"IF((AD196-'Fert selector'!$G$13)<0,(AD196-'Fert selector'!$G$13)*-1,AD196-'Fert selector'!$G$13)","v":0},{"$f":"IF(AD196<('Fert selector'!$G$13+'Fert selector'!$G$13*'Fert selector'!$G$17),0,1)&IF(AD196>('Fert selector'!$G$13-'Fert selector'!$G$13*'Fert selector'!$G$18),0,1)","v":"11"}]
[null,null,null,null,null,null,null,null,null,null,null,null,null,{"$f":"IF(E197=0,0,'Fert selector'!$D$13/E197)","v":0},{"$f":"IF('Fert selector'!$D$15=\"Y\",E197*N197,IF('Fert selector'!$E$15=\"Y\",F197*S197,IF('Fert selector'!$F$15=\"Y\",G197*X197,IF('Fert selector'!$G$15=\"Y\",H197*AC197))))","v":0},150,{"$f":"IF((O197-'Fert selector'!$D$13)<0,(O197-'Fert selector'!$D$13)*-1,O197-'Fert selector'!$D$13)","v":150},{"$f":"IF(O197<('Fert selector'!$D$13+'Fert selector'!$D$13*'Fert selector'!$D$17),0,1)&IF(O197>('Fert selector'!$D$13-'Fert selector'!$D$13*'Fert selector'!$D$18),0,1)","v":"01"},{"$f":"IF(F197=0,0,'Fert selector'!$E$13/F197)","v":0},{"$f":"IF('Fert selector'!$D$15=\"Y\",$F197*$N197,IF('Fert selector'!$E$15=\"Y\",$F197*$S197,IF('Fert selector'!$F$15=\"Y\",$F197*$X197,IF('Fert selector'!$G$15=\"Y\",$F197*$AC197))))","v":0},0,{"$f":"IF((T197-'Fert selector'!$E$13)<0,(T197-'Fert selector'!$E$13)*-1,T197-'Fert selector'!$E$13)","v":0},{"$f":"IF(T197<('Fert selector'!$E$13+'Fert selector'!$E$13*'Fert selector'!$E$17),0,1)&IF(T197>('Fert selector'!$E$13-'Fert selector'!$E$13*'Fert selector'!$E$18),0,1)","v":"11"},{"$f":"IF(G197=0,0,'Fert selector'!$F$13/G197)","v":0},{"$f":"IF('Fert selector'!$D$15=\"Y\",$G197*$N197,IF('Fert selector'!$E$15=\"Y\",$G197*$S197,IF('Fert selector'!$F$15=\"Y\",$G197*$X197,IF('Fert selector'!$G$15=\"Y\",$G197*$AC197))))","v":0},90,{"$f":"IF((Y197-'Fert selector'!$F$13)<0,(Y197-'Fert selector'!$F$13)*-1,Y197-'Fert selector'!$F$13)","v":90},{"$f":"IF(Y197<('Fert selector'!$F$13+'Fert selector'!$F$13*'Fert selector'!$F$17),0,1)&IF(Y197>('Fert selector'!$F$13-'Fert selector'!$F$13*'Fert selector'!$F$18),0,1)","v":"01"},{"$f":"IF(H197=0,0,'Fert selector'!$G$13/H197)","v":0},{"$f":"IF('Fert selector'!$D$15=\"Y\",$H197*$N197,IF('Fert selector'!$E$15=\"Y\",$H197*$S197,IF('Fert selector'!$F$15=\"Y\",$H197*$X197,IF('Fert selector'!$G$15=\"Y\",$H197*$AC197))))","v":0},0,{"$f":"IF((AD197-'Fert selector'!$G$13)<0,(AD197-'Fert selector'!$G$13)*-1,AD197-'Fert selector'!$G$13)","v":0},{"$f":"IF(AD197<('Fert selector'!$G$13+'Fert selector'!$G$13*'Fert selector'!$G$17),0,1)&IF(AD197>('Fert selector'!$G$13-'Fert selector'!$G$13*'Fert selector'!$G$18),0,1)","v":"11"}]
[null,null,null,null,null,null,null,null,null,null,null,null,null,{"$f":"IF(E198=0,0,'Fert selector'!$D$13/E198)","v":0},{"$f":"IF('Fert selector'!$D$15=\"Y\",E198*N198,IF('Fert selector'!$E$15=\"Y\",F198*S198,IF('Fert selector'!$F$15=\"Y\",G198*X198,IF('Fert selector'!$G$15=\"Y\",H198*AC198))))","v":0},150,{"$f":"IF((O198-'Fert selector'!$D$13)<0,(O198-'Fert selector'!$D$13)*-1,O198-'Fert selector'!$D$13)","v":150},{"$f":"IF(O198<('Fert selector'!$D$13+'Fert selector'!$D$13*'Fert selector'!$D$17),0,1)&IF(O198>('Fert selector'!$D$13-'Fert selector'!$D$13*'Fert selector'!$D$18),0,1)","v":"01"},{"$f":"IF(F198=0,0,'Fert selector'!$E$13/F198)","v":0},{"$f":"IF('Fert selector'!$D$15=\"Y\",$F198*$N198,IF('Fert selector'!$E$15=\"Y\",$F198*$S198,IF('Fert selector'!$F$15=\"Y\",$F198*$X198,IF('Fert selector'!$G$15=\"Y\",$F198*$AC198))))","v":0},0,{"$f":"IF((T198-'Fert selector'!$E$13)<0,(T198-'Fert selector'!$E$13)*-1,T198-'Fert selector'!$E$13)","v":0},{"$f":"IF(T198<('Fert selector'!$E$13+'Fert selector'!$E$13*'Fert selector'!$E$17),0,1)&IF(T198>('Fert selector'!$E$13-'Fert selector'!$E$13*'Fert selector'!$E$18),0,1)","v":"11"},{"$f":"IF(G198=0,0,'Fert selector'!$F$13/G198)","v":0},{"$f":"IF('Fert selector'!$D$15=\"Y\",$G198*$N198,IF('Fert selector'!$E$15=\"Y\",$G198*$S198,IF('Fert selector'!$F$15=\"Y\",$G198*$X198,IF('Fert selector'!$G$15=\"Y\",$G198*$AC198))))","v":0},90,{"$f":"IF((Y198-'Fert selector'!$F$13)<0,(Y198-'Fert selector'!$F$13)*-1,Y198-'Fert selector'!$F$13)","v":90},{"$f":"IF(Y198<('Fert selector'!$F$13+'Fert selector'!$F$13*'Fert selector'!$F$17),0,1)&IF(Y198>('Fert selector'!$F$13-'Fert selector'!$F$13*'Fert selector'!$F$18),0,1)","v":"01"},{"$f":"IF(H198=0,0,'Fert selector'!$G$13/H198)","v":0},{"$f":"IF('Fert selector'!$D$15=\"Y\",$H198*$N198,IF('Fert selector'!$E$15=\"Y\",$H198*$S198,IF('Fert selector'!$F$15=\"Y\",$H198*$X198,IF('Fert selector'!$G$15=\"Y\",$H198*$AC198))))","v":0},0,{"$f":"IF((AD198-'Fert selector'!$G$13)<0,(AD198-'Fert selector'!$G$13)*-1,AD198-'Fert selector'!$G$13)","v":0},{"$f":"IF(AD198<('Fert selector'!$G$13+'Fert selector'!$G$13*'Fert selector'!$G$17),0,1)&IF(AD198>('Fert selector'!$G$13-'Fert selector'!$G$13*'Fert selector'!$G$18),0,1)","v":"11"}]
[null,null,null,null,null,null,null,null,null,null,null,null,null,{"$f":"IF(E199=0,0,'Fert selector'!$D$13/E199)","v":0},{"$f":"IF('Fert selector'!$D$15=\"Y\",E199*N199,IF('Fert selector'!$E$15=\"Y\",F199*S199,IF('Fert selector'!$F$15=\"Y\",G199*X199,IF('Fert selector'!$G$15=\"Y\",H199*AC199))))","v":0},150,{"$f":"IF((O199-'Fert selector'!$D$13)<0,(O199-'Fert selector'!$D$13)*-1,O199-'Fert selector'!$D$13)","v":150},{"$f":"IF(O199<('Fert selector'!$D$13+'Fert selector'!$D$13*'Fert selector'!$D$17),0,1)&IF(O199>('Fert selector'!$D$13-'Fert selector'!$D$13*'Fert selector'!$D$18),0,1)","v":"01"},{"$f":"IF(F199=0,0,'Fert selector'!$E$13/F199)","v":0},{"$f":"IF('Fert selector'!$D$15=\"Y\",$F199*$N199,IF('Fert selector'!$E$15=\"Y\",$F199*$S199,IF('Fert selector'!$F$15=\"Y\",$F199*$X199,IF('Fert selector'!$G$15=\"Y\",$F199*$AC199))))","v":0},0,{"$f":"IF((T199-'Fert selector'!$E$13)<0,(T199-'Fert selector'!$E$13)*-1,T199-'Fert selector'!$E$13)","v":0},{"$f":"IF(T199<('Fert selector'!$E$13+'Fert selector'!$E$13*'Fert selector'!$E$17),0,1)&IF(T199>('Fert selector'!$E$13-'Fert selector'!$E$13*'Fert selector'!$E$18),0,1)","v":"11"},{"$f":"IF(G199=0,0,'Fert selector'!$F$13/G199)","v":0},{"$f":"IF('Fert selector'!$D$15=\"Y\",$G199*$N199,IF('Fert selector'!$E$15=\"Y\",$G199*$S199,IF('Fert selector'!$F$15=\"Y\",$G199*$X199,IF('Fert selector'!$G$15=\"Y\",$G199*$AC199))))","v":0},90,{"$f":"IF((Y199-'Fert selector'!$F$13)<0,(Y199-'Fert selector'!$F$13)*-1,Y199-'Fert selector'!$F$13)","v":90},{"$f":"IF(Y199<('Fert selector'!$F$13+'Fert selector'!$F$13*'Fert selector'!$F$17),0,1)&IF(Y199>('Fert selector'!$F$13-'Fert selector'!$F$13*'Fert selector'!$F$18),0,1)","v":"01"},{"$f":"IF(H199=0,0,'Fert selector'!$G$13/H199)","v":0},{"$f":"IF('Fert selector'!$D$15=\"Y\",$H199*$N199,IF('Fert selector'!$E$15=\"Y\",$H199*$S199,IF('Fert selector'!$F$15=\"Y\",$H199*$X199,IF('Fert selector'!$G$15=\"Y\",$H199*$AC199))))","v":0},0,{"$f":"IF((AD199-'Fert selector'!$G$13)<0,(AD199-'Fert selector'!$G$13)*-1,AD199-'Fert selector'!$G$13)","v":0},{"$f":"IF(AD199<('Fert selector'!$G$13+'Fert selector'!$G$13*'Fert selector'!$G$17),0,1)&IF(AD199>('Fert selector'!$G$13-'Fert selector'!$G$13*'Fert selector'!$G$18),0,1)","v":"11"}]
[null,null,null,null,null,null,null,null,null,null,null,null,null,{"$f":"IF(E200=0,0,'Fert selector'!$D$13/E200)","v":0},{"$f":"IF('Fert selector'!$D$15=\"Y\",E200*N200,IF('Fert selector'!$E$15=\"Y\",F200*S200,IF('Fert selector'!$F$15=\"Y\",G200*X200,IF('Fert selector'!$G$15=\"Y\",H200*AC200))))","v":0},150,{"$f":"IF((O200-'Fert selector'!$D$13)<0,(O200-'Fert selector'!$D$13)*-1,O200-'Fert selector'!$D$13)","v":150},{"$f":"IF(O200<('Fert selector'!$D$13+'Fert selector'!$D$13*'Fert selector'!$D$17),0,1)&IF(O200>('Fert selector'!$D$13-'Fert selector'!$D$13*'Fert selector'!$D$18),0,1)","v":"01"},{"$f":"IF(F200=0,0,'Fert selector'!$E$13/F200)","v":0},{"$f":"IF('Fert selector'!$D$15=\"Y\",$F200*$N200,IF('Fert selector'!$E$15=\"Y\",$F200*$S200,IF('Fert selector'!$F$15=\"Y\",$F200*$X200,IF('Fert selector'!$G$15=\"Y\",$F200*$AC200))))","v":0},0,{"$f":"IF((T200-'Fert selector'!$E$13)<0,(T200-'Fert selector'!$E$13)*-1,T200-'Fert selector'!$E$13)","v":0},{"$f":"IF(T200<('Fert selector'!$E$13+'Fert selector'!$E$13*'Fert selector'!$E$17),0,1)&IF(T200>('Fert selector'!$E$13-'Fert selector'!$E$13*'Fert selector'!$E$18),0,1)","v":"11"},{"$f":"IF(G200=0,0,'Fert selector'!$F$13/G200)","v":0},{"$f":"IF('Fert selector'!$D$15=\"Y\",$G200*$N200,IF('Fert selector'!$E$15=\"Y\",$G200*$S200,IF('Fert selector'!$F$15=\"Y\",$G200*$X200,IF('Fert selector'!$G$15=\"Y\",$G200*$AC200))))","v":0},90,{"$f":"IF((Y200-'Fert selector'!$F$13)<0,(Y200-'Fert selector'!$F$13)*-1,Y200-'Fert selector'!$F$13)","v":90},{"$f":"IF(Y200<('Fert selector'!$F$13+'Fert selector'!$F$13*'Fert selector'!$F$17),0,1)&IF(Y200>('Fert selector'!$F$13-'Fert selector'!$F$13*'Fert selector'!$F$18),0,1)","v":"01"},{"$f":"IF(H200=0,0,'Fert selector'!$G$13/H200)","v":0},{"$f":"IF('Fert selector'!$D$15=\"Y\",$H200*$N200,IF('Fert selector'!$E$15=\"Y\",$H200*$S200,IF('Fert selector'!$F$15=\"Y\",$H200*$X200,IF('Fert selector'!$G$15=\"Y\",$H200*$AC200))))","v":0},0,{"$f":"IF((AD200-'Fert selector'!$G$13)<0,(AD200-'Fert selector'!$G$13)*-1,AD200-'Fert selector'!$G$13)","v":0},{"$f":"IF(AD200<('Fert selector'!$G$13+'Fert selector'!$G$13*'Fert selector'!$G$17),0,1)&IF(AD200>('Fert selector'!$G$13-'Fert selector'!$G$13*'Fert selector'!$G$18),0,1)","v":"11"}]
[null,null,null,null,null,null,null,null,null,null,null,null,null,{"$f":"IF(E201=0,0,'Fert selector'!$D$13/E201)","v":0},{"$f":"IF('Fert selector'!$D$15=\"Y\",E201*N201,IF('Fert selector'!$E$15=\"Y\",F201*S201,IF('Fert selector'!$F$15=\"Y\",G201*X201,IF('Fert selector'!$G$15=\"Y\",H201*AC201))))","v":0},150,{"$f":"IF((O201-'Fert selector'!$D$13)<0,(O201-'Fert selector'!$D$13)*-1,O201-'Fert selector'!$D$13)","v":150},{"$f":"IF(O201<('Fert selector'!$D$13+'Fert selector'!$D$13*'Fert selector'!$D$17),0,1)&IF(O201>('Fert selector'!$D$13-'Fert selector'!$D$13*'Fert selector'!$D$18),0,1)","v":"01"},{"$f":"IF(F201=0,0,'Fert selector'!$E$13/F201)","v":0},{"$f":"IF('Fert selector'!$D$15=\"Y\",$F201*$N201,IF('Fert selector'!$E$15=\"Y\",$F201*$S201,IF('Fert selector'!$F$15=\"Y\",$F201*$X201,IF('Fert selector'!$G$15=\"Y\",$F201*$AC201))))","v":0},0,{"$f":"IF((T201-'Fert selector'!$E$13)<0,(T201-'Fert selector'!$E$13)*-1,T201-'Fert selector'!$E$13)","v":0},{"$f":"IF(T201<('Fert selector'!$E$13+'Fert selector'!$E$13*'Fert selector'!$E$17),0,1)&IF(T201>('Fert selector'!$E$13-'Fert selector'!$E$13*'Fert selector'!$E$18),0,1)","v":"11"},{"$f":"IF(G201=0,0,'Fert selector'!$F$13/G201)","v":0},{"$f":"IF('Fert selector'!$D$15=\"Y\",$G201*$N201,IF('Fert selector'!$E$15=\"Y\",$G201*$S201,IF('Fert selector'!$F$15=\"Y\",$G201*$X201,IF('Fert selector'!$G$15=\"Y\",$G201*$AC201))))","v":0},90,{"$f":"IF((Y201-'Fert selector'!$F$13)<0,(Y201-'Fert selector'!$F$13)*-1,Y201-'Fert selector'!$F$13)","v":90},{"$f":"IF(Y201<('Fert selector'!$F$13+'Fert selector'!$F$13*'Fert selector'!$F$17),0,1)&IF(Y201>('Fert selector'!$F$13-'Fert selector'!$F$13*'Fert selector'!$F$18),0,1)","v":"01"},{"$f":"IF(H201=0,0,'Fert selector'!$G$13/H201)","v":0},{"$f":"IF('Fert selector'!$D$15=\"Y\",$H201*$N201,IF('Fert selector'!$E$15=\"Y\",$H201*$S201,IF('Fert selector'!$F$15=\"Y\",$H201*$X201,IF('Fert selector'!$G$15=\"Y\",$H201*$AC201))))","v":0},0,{"$f":"IF((AD201-'Fert selector'!$G$13)<0,(AD201-'Fert selector'!$G$13)*-1,AD201-'Fert selector'!$G$13)","v":0},{"$f":"IF(AD201<('Fert selector'!$G$13+'Fert selector'!$G$13*'Fert selector'!$G$17),0,1)&IF(AD201>('Fert selector'!$G$13-'Fert selector'!$G$13*'Fert selector'!$G$18),0,1)","v":"11"}]
[null,null,null,null,null,null,null,null,null,null,null,null,null,{"$f":"IF(E202=0,0,'Fert selector'!$D$13/E202)","v":0},{"$f":"IF('Fert selector'!$D$15=\"Y\",E202*N202,IF('Fert selector'!$E$15=\"Y\",F202*S202,IF('Fert selector'!$F$15=\"Y\",G202*X202,IF('Fert selector'!$G$15=\"Y\",H202*AC202))))","v":0},150,{"$f":"IF((O202-'Fert selector'!$D$13)<0,(O202-'Fert selector'!$D$13)*-1,O202-'Fert selector'!$D$13)","v":150},{"$f":"IF(O202<('Fert selector'!$D$13+'Fert selector'!$D$13*'Fert selector'!$D$17),0,1)&IF(O202>('Fert selector'!$D$13-'Fert selector'!$D$13*'Fert selector'!$D$18),0,1)","v":"01"},{"$f":"IF(F202=0,0,'Fert selector'!$E$13/F202)","v":0},{"$f":"IF('Fert selector'!$D$15=\"Y\",$F202*$N202,IF('Fert selector'!$E$15=\"Y\",$F202*$S202,IF('Fert selector'!$F$15=\"Y\",$F202*$X202,IF('Fert selector'!$G$15=\"Y\",$F202*$AC202))))","v":0},0,{"$f":"IF((T202-'Fert selector'!$E$13)<0,(T202-'Fert selector'!$E$13)*-1,T202-'Fert selector'!$E$13)","v":0},{"$f":"IF(T202<('Fert selector'!$E$13+'Fert selector'!$E$13*'Fert selector'!$E$17),0,1)&IF(T202>('Fert selector'!$E$13-'Fert selector'!$E$13*'Fert selector'!$E$18),0,1)","v":"11"},{"$f":"IF(G202=0,0,'Fert selector'!$F$13/G202)","v":0},{"$f":"IF('Fert selector'!$D$15=\"Y\",$G202*$N202,IF('Fert selector'!$E$15=\"Y\",$G202*$S202,IF('Fert selector'!$F$15=\"Y\",$G202*$X202,IF('Fert selector'!$G$15=\"Y\",$G202*$AC202))))","v":0},90,{"$f":"IF((Y202-'Fert selector'!$F$13)<0,(Y202-'Fert selector'!$F$13)*-1,Y202-'Fert selector'!$F$13)","v":90},{"$f":"IF(Y202<('Fert selector'!$F$13+'Fert selector'!$F$13*'Fert selector'!$F$17),0,1)&IF(Y202>('Fert selector'!$F$13-'Fert selector'!$F$13*'Fert selector'!$F$18),0,1)","v":"01"},{"$f":"IF(H202=0,0,'Fert selector'!$G$13/H202)","v":0},{"$f":"IF('Fert selector'!$D$15=\"Y\",$H202*$N202,IF('Fert selector'!$E$15=\"Y\",$H202*$S202,IF('Fert selector'!$F$15=\"Y\",$H202*$X202,IF('Fert selector'!$G$15=\"Y\",$H202*$AC202))))","v":0},0,{"$f":"IF((AD202-'Fert selector'!$G$13)<0,(AD202-'Fert selector'!$G$13)*-1,AD202-'Fert selector'!$G$13)","v":0},{"$f":"IF(AD202<('Fert selector'!$G$13+'Fert selector'!$G$13*'Fert selector'!$G$17),0,1)&IF(AD202>('Fert selector'!$G$13-'Fert selector'!$G$13*'Fert selector'!$G$18),0,1)","v":"11"}]
[null,null,null,null,null,null,null,null,null,null,null,null,null,{"$f":"IF(E203=0,0,'Fert selector'!$D$13/E203)","v":0},{"$f":"IF('Fert selector'!$D$15=\"Y\",E203*N203,IF('Fert selector'!$E$15=\"Y\",F203*S203,IF('Fert selector'!$F$15=\"Y\",G203*X203,IF('Fert selector'!$G$15=\"Y\",H203*AC203))))","v":0},150,{"$f":"IF((O203-'Fert selector'!$D$13)<0,(O203-'Fert selector'!$D$13)*-1,O203-'Fert selector'!$D$13)","v":150},{"$f":"IF(O203<('Fert selector'!$D$13+'Fert selector'!$D$13*'Fert selector'!$D$17),0,1)&IF(O203>('Fert selector'!$D$13-'Fert selector'!$D$13*'Fert selector'!$D$18),0,1)","v":"01"},{"$f":"IF(F203=0,0,'Fert selector'!$E$13/F203)","v":0},{"$f":"IF('Fert selector'!$D$15=\"Y\",$F203*$N203,IF('Fert selector'!$E$15=\"Y\",$F203*$S203,IF('Fert selector'!$F$15=\"Y\",$F203*$X203,IF('Fert selector'!$G$15=\"Y\",$F203*$AC203))))","v":0},0,{"$f":"IF((T203-'Fert selector'!$E$13)<0,(T203-'Fert selector'!$E$13)*-1,T203-'Fert selector'!$E$13)","v":0},{"$f":"IF(T203<('Fert selector'!$E$13+'Fert selector'!$E$13*'Fert selector'!$E$17),0,1)&IF(T203>('Fert selector'!$E$13-'Fert selector'!$E$13*'Fert selector'!$E$18),0,1)","v":"11"},{"$f":"IF(G203=0,0,'Fert selector'!$F$13/G203)","v":0},{"$f":"IF('Fert selector'!$D$15=\"Y\",$G203*$N203,IF('Fert selector'!$E$15=\"Y\",$G203*$S203,IF('Fert selector'!$F$15=\"Y\",$G203*$X203,IF('Fert selector'!$G$15=\"Y\",$G203*$AC203))))","v":0},90,{"$f":"IF((Y203-'Fert selector'!$F$13)<0,(Y203-'Fert selector'!$F$13)*-1,Y203-'Fert selector'!$F$13)","v":90},{"$f":"IF(Y203<('Fert selector'!$F$13+'Fert selector'!$F$13*'Fert selector'!$F$17),0,1)&IF(Y203>('Fert selector'!$F$13-'Fert selector'!$F$13*'Fert selector'!$F$18),0,1)","v":"01"},{"$f":"IF(H203=0,0,'Fert selector'!$G$13/H203)","v":0},{"$f":"IF('Fert selector'!$D$15=\"Y\",$H203*$N203,IF('Fert selector'!$E$15=\"Y\",$H203*$S203,IF('Fert selector'!$F$15=\"Y\",$H203*$X203,IF('Fert selector'!$G$15=\"Y\",$H203*$AC203))))","v":0},0,{"$f":"IF((AD203-'Fert selector'!$G$13)<0,(AD203-'Fert selector'!$G$13)*-1,AD203-'Fert selector'!$G$13)","v":0},{"$f":"IF(AD203<('Fert selector'!$G$13+'Fert selector'!$G$13*'Fert selector'!$G$17),0,1)&IF(AD203>('Fert selector'!$G$13-'Fert selector'!$G$13*'Fert selector'!$G$18),0,1)","v":"11"}]
[null,null,null,null,null,null,null,null,null,null,null,null,null,{"$f":"IF(E204=0,0,'Fert selector'!$D$13/E204)","v":0},{"$f":"IF('Fert selector'!$D$15=\"Y\",E204*N204,IF('Fert selector'!$E$15=\"Y\",F204*S204,IF('Fert selector'!$F$15=\"Y\",G204*X204,IF('Fert selector'!$G$15=\"Y\",H204*AC204))))","v":0},150,{"$f":"IF((O204-'Fert selector'!$D$13)<0,(O204-'Fert selector'!$D$13)*-1,O204-'Fert selector'!$D$13)","v":150},{"$f":"IF(O204<('Fert selector'!$D$13+'Fert selector'!$D$13*'Fert selector'!$D$17),0,1)&IF(O204>('Fert selector'!$D$13-'Fert selector'!$D$13*'Fert selector'!$D$18),0,1)","v":"01"},{"$f":"IF(F204=0,0,'Fert selector'!$E$13/F204)","v":0},{"$f":"IF('Fert selector'!$D$15=\"Y\",$F204*$N204,IF('Fert selector'!$E$15=\"Y\",$F204*$S204,IF('Fert selector'!$F$15=\"Y\",$F204*$X204,IF('Fert selector'!$G$15=\"Y\",$F204*$AC204))))","v":0},0,{"$f":"IF((T204-'Fert selector'!$E$13)<0,(T204-'Fert selector'!$E$13)*-1,T204-'Fert selector'!$E$13)","v":0},{"$f":"IF(T204<('Fert selector'!$E$13+'Fert selector'!$E$13*'Fert selector'!$E$17),0,1)&IF(T204>('Fert selector'!$E$13-'Fert selector'!$E$13*'Fert selector'!$E$18),0,1)","v":"11"},{"$f":"IF(G204=0,0,'Fert selector'!$F$13/G204)","v":0},{"$f":"IF('Fert selector'!$D$15=\"Y\",$G204*$N204,IF('Fert selector'!$E$15=\"Y\",$G204*$S204,IF('Fert selector'!$F$15=\"Y\",$G204*$X204,IF('Fert selector'!$G$15=\"Y\",$G204*$AC204))))","v":0},90,{"$f":"IF((Y204-'Fert selector'!$F$13)<0,(Y204-'Fert selector'!$F$13)*-1,Y204-'Fert selector'!$F$13)","v":90},{"$f":"IF(Y204<('Fert selector'!$F$13+'Fert selector'!$F$13*'Fert selector'!$F$17),0,1)&IF(Y204>('Fert selector'!$F$13-'Fert selector'!$F$13*'Fert selector'!$F$18),0,1)","v":"01"},{"$f":"IF(H204=0,0,'Fert selector'!$G$13/H204)","v":0},{"$f":"IF('Fert selector'!$D$15=\"Y\",$H204*$N204,IF('Fert selector'!$E$15=\"Y\",$H204*$S204,IF('Fert selector'!$F$15=\"Y\",$H204*$X204,IF('Fert selector'!$G$15=\"Y\",$H204*$AC204))))","v":0},0,{"$f":"IF((AD204-'Fert selector'!$G$13)<0,(AD204-'Fert selector'!$G$13)*-1,AD204-'Fert selector'!$G$13)","v":0},{"$f":"IF(AD204<('Fert selector'!$G$13+'Fert selector'!$G$13*'Fert selector'!$G$17),0,1)&IF(AD204>('Fert selector'!$G$13-'Fert selector'!$G$13*'Fert selector'!$G$18),0,1)","v":"11"}]
[null,null,null,null,null,null,null,null,null,null,null,null,null,{"$f":"IF(E205=0,0,'Fert selector'!$D$13/E205)","v":0},{"$f":"IF('Fert selector'!$D$15=\"Y\",E205*N205,IF('Fert selector'!$E$15=\"Y\",F205*S205,IF('Fert selector'!$F$15=\"Y\",G205*X205,IF('Fert selector'!$G$15=\"Y\",H205*AC205))))","v":0},150,{"$f":"IF((O205-'Fert selector'!$D$13)<0,(O205-'Fert selector'!$D$13)*-1,O205-'Fert selector'!$D$13)","v":150},{"$f":"IF(O205<('Fert selector'!$D$13+'Fert selector'!$D$13*'Fert selector'!$D$17),0,1)&IF(O205>('Fert selector'!$D$13-'Fert selector'!$D$13*'Fert selector'!$D$18),0,1)","v":"01"},{"$f":"IF(F205=0,0,'Fert selector'!$E$13/F205)","v":0},{"$f":"IF('Fert selector'!$D$15=\"Y\",$F205*$N205,IF('Fert selector'!$E$15=\"Y\",$F205*$S205,IF('Fert selector'!$F$15=\"Y\",$F205*$X205,IF('Fert selector'!$G$15=\"Y\",$F205*$AC205))))","v":0},0,{"$f":"IF((T205-'Fert selector'!$E$13)<0,(T205-'Fert selector'!$E$13)*-1,T205-'Fert selector'!$E$13)","v":0},{"$f":"IF(T205<('Fert selector'!$E$13+'Fert selector'!$E$13*'Fert selector'!$E$17),0,1)&IF(T205>('Fert selector'!$E$13-'Fert selector'!$E$13*'Fert selector'!$E$18),0,1)","v":"11"},{"$f":"IF(G205=0,0,'Fert selector'!$F$13/G205)","v":0},{"$f":"IF('Fert selector'!$D$15=\"Y\",$G205*$N205,IF('Fert selector'!$E$15=\"Y\",$G205*$S205,IF('Fert selector'!$F$15=\"Y\",$G205*$X205,IF('Fert selector'!$G$15=\"Y\",$G205*$AC205))))","v":0},90,{"$f":"IF((Y205-'Fert selector'!$F$13)<0,(Y205-'Fert selector'!$F$13)*-1,Y205-'Fert selector'!$F$13)","v":90},{"$f":"IF(Y205<('Fert selector'!$F$13+'Fert selector'!$F$13*'Fert selector'!$F$17),0,1)&IF(Y205>('Fert selector'!$F$13-'Fert selector'!$F$13*'Fert selector'!$F$18),0,1)","v":"01"},{"$f":"IF(H205=0,0,'Fert selector'!$G$13/H205)","v":0},{"$f":"IF('Fert selector'!$D$15=\"Y\",$H205*$N205,IF('Fert selector'!$E$15=\"Y\",$H205*$S205,IF('Fert selector'!$F$15=\"Y\",$H205*$X205,IF('Fert selector'!$G$15=\"Y\",$H205*$AC205))))","v":0},0,{"$f":"IF((AD205-'Fert selector'!$G$13)<0,(AD205-'Fert selector'!$G$13)*-1,AD205-'Fert selector'!$G$13)","v":0},{"$f":"IF(AD205<('Fert selector'!$G$13+'Fert selector'!$G$13*'Fert selector'!$G$17),0,1)&IF(AD205>('Fert selector'!$G$13-'Fert selector'!$G$13*'Fert selector'!$G$18),0,1)","v":"11"}]
[null,null,null,null,null,null,null,null,null,null,null,null,null,{"$f":"IF(E206=0,0,'Fert selector'!$D$13/E206)","v":0},{"$f":"IF('Fert selector'!$D$15=\"Y\",E206*N206,IF('Fert selector'!$E$15=\"Y\",F206*S206,IF('Fert selector'!$F$15=\"Y\",G206*X206,IF('Fert selector'!$G$15=\"Y\",H206*AC206))))","v":0},150,{"$f":"IF((O206-'Fert selector'!$D$13)<0,(O206-'Fert selector'!$D$13)*-1,O206-'Fert selector'!$D$13)","v":150},{"$f":"IF(O206<('Fert selector'!$D$13+'Fert selector'!$D$13*'Fert selector'!$D$17),0,1)&IF(O206>('Fert selector'!$D$13-'Fert selector'!$D$13*'Fert selector'!$D$18),0,1)","v":"01"},{"$f":"IF(F206=0,0,'Fert selector'!$E$13/F206)","v":0},{"$f":"IF('Fert selector'!$D$15=\"Y\",$F206*$N206,IF('Fert selector'!$E$15=\"Y\",$F206*$S206,IF('Fert selector'!$F$15=\"Y\",$F206*$X206,IF('Fert selector'!$G$15=\"Y\",$F206*$AC206))))","v":0},0,{"$f":"IF((T206-'Fert selector'!$E$13)<0,(T206-'Fert selector'!$E$13)*-1,T206-'Fert selector'!$E$13)","v":0},{"$f":"IF(T206<('Fert selector'!$E$13+'Fert selector'!$E$13*'Fert selector'!$E$17),0,1)&IF(T206>('Fert selector'!$E$13-'Fert selector'!$E$13*'Fert selector'!$E$18),0,1)","v":"11"},{"$f":"IF(G206=0,0,'Fert selector'!$F$13/G206)","v":0},{"$f":"IF('Fert selector'!$D$15=\"Y\",$G206*$N206,IF('Fert selector'!$E$15=\"Y\",$G206*$S206,IF('Fert selector'!$F$15=\"Y\",$G206*$X206,IF('Fert selector'!$G$15=\"Y\",$G206*$AC206))))","v":0},90,{"$f":"IF((Y206-'Fert selector'!$F$13)<0,(Y206-'Fert selector'!$F$13)*-1,Y206-'Fert selector'!$F$13)","v":90},{"$f":"IF(Y206<('Fert selector'!$F$13+'Fert selector'!$F$13*'Fert selector'!$F$17),0,1)&IF(Y206>('Fert selector'!$F$13-'Fert selector'!$F$13*'Fert selector'!$F$18),0,1)","v":"01"},{"$f":"IF(H206=0,0,'Fert selector'!$G$13/H206)","v":0},{"$f":"IF('Fert selector'!$D$15=\"Y\",$H206*$N206,IF('Fert selector'!$E$15=\"Y\",$H206*$S206,IF('Fert selector'!$F$15=\"Y\",$H206*$X206,IF('Fert selector'!$G$15=\"Y\",$H206*$AC206))))","v":0},0,{"$f":"IF((AD206-'Fert selector'!$G$13)<0,(AD206-'Fert selector'!$G$13)*-1,AD206-'Fert selector'!$G$13)","v":0},{"$f":"IF(AD206<('Fert selector'!$G$13+'Fert selector'!$G$13*'Fert selector'!$G$17),0,1)&IF(AD206>('Fert selector'!$G$13-'Fert selector'!$G$13*'Fert selector'!$G$18),0,1)","v":"11"}]
[null,null,null,null,null,null,null,null,null,null,null,null,null,{"$f":"IF(E207=0,0,'Fert selector'!$D$13/E207)","v":0},{"$f":"IF('Fert selector'!$D$15=\"Y\",E207*N207,IF('Fert selector'!$E$15=\"Y\",F207*S207,IF('Fert selector'!$F$15=\"Y\",G207*X207,IF('Fert selector'!$G$15=\"Y\",H207*AC207))))","v":0},150,{"$f":"IF((O207-'Fert selector'!$D$13)<0,(O207-'Fert selector'!$D$13)*-1,O207-'Fert selector'!$D$13)","v":150},{"$f":"IF(O207<('Fert selector'!$D$13+'Fert selector'!$D$13*'Fert selector'!$D$17),0,1)&IF(O207>('Fert selector'!$D$13-'Fert selector'!$D$13*'Fert selector'!$D$18),0,1)","v":"01"},{"$f":"IF(F207=0,0,'Fert selector'!$E$13/F207)","v":0},{"$f":"IF('Fert selector'!$D$15=\"Y\",$F207*$N207,IF('Fert selector'!$E$15=\"Y\",$F207*$S207,IF('Fert selector'!$F$15=\"Y\",$F207*$X207,IF('Fert selector'!$G$15=\"Y\",$F207*$AC207))))","v":0},0,{"$f":"IF((T207-'Fert selector'!$E$13)<0,(T207-'Fert selector'!$E$13)*-1,T207-'Fert selector'!$E$13)","v":0},{"$f":"IF(T207<('Fert selector'!$E$13+'Fert selector'!$E$13*'Fert selector'!$E$17),0,1)&IF(T207>('Fert selector'!$E$13-'Fert selector'!$E$13*'Fert selector'!$E$18),0,1)","v":"11"},{"$f":"IF(G207=0,0,'Fert selector'!$F$13/G207)","v":0},{"$f":"IF('Fert selector'!$D$15=\"Y\",$G207*$N207,IF('Fert selector'!$E$15=\"Y\",$G207*$S207,IF('Fert selector'!$F$15=\"Y\",$G207*$X207,IF('Fert selector'!$G$15=\"Y\",$G207*$AC207))))","v":0},90,{"$f":"IF((Y207-'Fert selector'!$F$13)<0,(Y207-'Fert selector'!$F$13)*-1,Y207-'Fert selector'!$F$13)","v":90},{"$f":"IF(Y207<('Fert selector'!$F$13+'Fert selector'!$F$13*'Fert selector'!$F$17),0,1)&IF(Y207>('Fert selector'!$F$13-'Fert selector'!$F$13*'Fert selector'!$F$18),0,1)","v":"01"},{"$f":"IF(H207=0,0,'Fert selector'!$G$13/H207)","v":0},{"$f":"IF('Fert selector'!$D$15=\"Y\",$H207*$N207,IF('Fert selector'!$E$15=\"Y\",$H207*$S207,IF('Fert selector'!$F$15=\"Y\",$H207*$X207,IF('Fert selector'!$G$15=\"Y\",$H207*$AC207))))","v":0},0,{"$f":"IF((AD207-'Fert selector'!$G$13)<0,(AD207-'Fert selector'!$G$13)*-1,AD207-'Fert selector'!$G$13)","v":0},{"$f":"IF(AD207<('Fert selector'!$G$13+'Fert selector'!$G$13*'Fert selector'!$G$17),0,1)&IF(AD207>('Fert selector'!$G$13-'Fert selector'!$G$13*'Fert selector'!$G$18),0,1)","v":"11"}]
[null,null,null,null,null,null,null,null,null,null,null,null,null,{"$f":"IF(E208=0,0,'Fert selector'!$D$13/E208)","v":0},{"$f":"IF('Fert selector'!$D$15=\"Y\",E208*N208,IF('Fert selector'!$E$15=\"Y\",F208*S208,IF('Fert selector'!$F$15=\"Y\",G208*X208,IF('Fert selector'!$G$15=\"Y\",H208*AC208))))","v":0},150,{"$f":"IF((O208-'Fert selector'!$D$13)<0,(O208-'Fert selector'!$D$13)*-1,O208-'Fert selector'!$D$13)","v":150},{"$f":"IF(O208<('Fert selector'!$D$13+'Fert selector'!$D$13*'Fert selector'!$D$17),0,1)&IF(O208>('Fert selector'!$D$13-'Fert selector'!$D$13*'Fert selector'!$D$18),0,1)","v":"01"},{"$f":"IF(F208=0,0,'Fert selector'!$E$13/F208)","v":0},{"$f":"IF('Fert selector'!$D$15=\"Y\",$F208*$N208,IF('Fert selector'!$E$15=\"Y\",$F208*$S208,IF('Fert selector'!$F$15=\"Y\",$F208*$X208,IF('Fert selector'!$G$15=\"Y\",$F208*$AC208))))","v":0},0,{"$f":"IF((T208-'Fert selector'!$E$13)<0,(T208-'Fert selector'!$E$13)*-1,T208-'Fert selector'!$E$13)","v":0},{"$f":"IF(T208<('Fert selector'!$E$13+'Fert selector'!$E$13*'Fert selector'!$E$17),0,1)&IF(T208>('Fert selector'!$E$13-'Fert selector'!$E$13*'Fert selector'!$E$18),0,1)","v":"11"},{"$f":"IF(G208=0,0,'Fert selector'!$F$13/G208)","v":0},{"$f":"IF('Fert selector'!$D$15=\"Y\",$G208*$N208,IF('Fert selector'!$E$15=\"Y\",$G208*$S208,IF('Fert selector'!$F$15=\"Y\",$G208*$X208,IF('Fert selector'!$G$15=\"Y\",$G208*$AC208))))","v":0},90,{"$f":"IF((Y208-'Fert selector'!$F$13)<0,(Y208-'Fert selector'!$F$13)*-1,Y208-'Fert selector'!$F$13)","v":90},{"$f":"IF(Y208<('Fert selector'!$F$13+'Fert selector'!$F$13*'Fert selector'!$F$17),0,1)&IF(Y208>('Fert selector'!$F$13-'Fert selector'!$F$13*'Fert selector'!$F$18),0,1)","v":"01"},{"$f":"IF(H208=0,0,'Fert selector'!$G$13/H208)","v":0},{"$f":"IF('Fert selector'!$D$15=\"Y\",$H208*$N208,IF('Fert selector'!$E$15=\"Y\",$H208*$S208,IF('Fert selector'!$F$15=\"Y\",$H208*$X208,IF('Fert selector'!$G$15=\"Y\",$H208*$AC208))))","v":0},0,{"$f":"IF((AD208-'Fert selector'!$G$13)<0,(AD208-'Fert selector'!$G$13)*-1,AD208-'Fert selector'!$G$13)","v":0},{"$f":"IF(AD208<('Fert selector'!$G$13+'Fert selector'!$G$13*'Fert selector'!$G$17),0,1)&IF(AD208>('Fert selector'!$G$13-'Fert selector'!$G$13*'Fert selector'!$G$18),0,1)","v":"11"}]
[null,null,null,null,null,null,null,null,null,null,null,null,null,{"$f":"IF(E209=0,0,'Fert selector'!$D$13/E209)","v":0},{"$f":"IF('Fert selector'!$D$15=\"Y\",E209*N209,IF('Fert selector'!$E$15=\"Y\",F209*S209,IF('Fert selector'!$F$15=\"Y\",G209*X209,IF('Fert selector'!$G$15=\"Y\",H209*AC209))))","v":0},150,{"$f":"IF((O209-'Fert selector'!$D$13)<0,(O209-'Fert selector'!$D$13)*-1,O209-'Fert selector'!$D$13)","v":150},{"$f":"IF(O209<('Fert selector'!$D$13+'Fert selector'!$D$13*'Fert selector'!$D$17),0,1)&IF(O209>('Fert selector'!$D$13-'Fert selector'!$D$13*'Fert selector'!$D$18),0,1)","v":"01"},{"$f":"IF(F209=0,0,'Fert selector'!$E$13/F209)","v":0},{"$f":"IF('Fert selector'!$D$15=\"Y\",$F209*$N209,IF('Fert selector'!$E$15=\"Y\",$F209*$S209,IF('Fert selector'!$F$15=\"Y\",$F209*$X209,IF('Fert selector'!$G$15=\"Y\",$F209*$AC209))))","v":0},0,{"$f":"IF((T209-'Fert selector'!$E$13)<0,(T209-'Fert selector'!$E$13)*-1,T209-'Fert selector'!$E$13)","v":0},{"$f":"IF(T209<('Fert selector'!$E$13+'Fert selector'!$E$13*'Fert selector'!$E$17),0,1)&IF(T209>('Fert selector'!$E$13-'Fert selector'!$E$13*'Fert selector'!$E$18),0,1)","v":"11"},{"$f":"IF(G209=0,0,'Fert selector'!$F$13/G209)","v":0},{"$f":"IF('Fert selector'!$D$15=\"Y\",$G209*$N209,IF('Fert selector'!$E$15=\"Y\",$G209*$S209,IF('Fert selector'!$F$15=\"Y\",$G209*$X209,IF('Fert selector'!$G$15=\"Y\",$G209*$AC209))))","v":0},90,{"$f":"IF((Y209-'Fert selector'!$F$13)<0,(Y209-'Fert selector'!$F$13)*-1,Y209-'Fert selector'!$F$13)","v":90},{"$f":"IF(Y209<('Fert selector'!$F$13+'Fert selector'!$F$13*'Fert selector'!$F$17),0,1)&IF(Y209>('Fert selector'!$F$13-'Fert selector'!$F$13*'Fert selector'!$F$18),0,1)","v":"01"},{"$f":"IF(H209=0,0,'Fert selector'!$G$13/H209)","v":0},{"$f":"IF('Fert selector'!$D$15=\"Y\",$H209*$N209,IF('Fert selector'!$E$15=\"Y\",$H209*$S209,IF('Fert selector'!$F$15=\"Y\",$H209*$X209,IF('Fert selector'!$G$15=\"Y\",$H209*$AC209))))","v":0},0,{"$f":"IF((AD209-'Fert selector'!$G$13)<0,(AD209-'Fert selector'!$G$13)*-1,AD209-'Fert selector'!$G$13)","v":0},{"$f":"IF(AD209<('Fert selector'!$G$13+'Fert selector'!$G$13*'Fert selector'!$G$17),0,1)&IF(AD209>('Fert selector'!$G$13-'Fert selector'!$G$13*'Fert selector'!$G$18),0,1)","v":"11"}]
[null,null,null,null,null,null,null,null,null,null,null,null,null,{"$f":"IF(E210=0,0,'Fert selector'!$D$13/E210)","v":0},{"$f":"IF('Fert selector'!$D$15=\"Y\",E210*N210,IF('Fert selector'!$E$15=\"Y\",F210*S210,IF('Fert selector'!$F$15=\"Y\",G210*X210,IF('Fert selector'!$G$15=\"Y\",H210*AC210))))","v":0},150,{"$f":"IF((O210-'Fert selector'!$D$13)<0,(O210-'Fert selector'!$D$13)*-1,O210-'Fert selector'!$D$13)","v":150},{"$f":"IF(O210<('Fert selector'!$D$13+'Fert selector'!$D$13*'Fert selector'!$D$17),0,1)&IF(O210>('Fert selector'!$D$13-'Fert selector'!$D$13*'Fert selector'!$D$18),0,1)","v":"01"},{"$f":"IF(F210=0,0,'Fert selector'!$E$13/F210)","v":0},{"$f":"IF('Fert selector'!$D$15=\"Y\",$F210*$N210,IF('Fert selector'!$E$15=\"Y\",$F210*$S210,IF('Fert selector'!$F$15=\"Y\",$F210*$X210,IF('Fert selector'!$G$15=\"Y\",$F210*$AC210))))","v":0},0,{"$f":"IF((T210-'Fert selector'!$E$13)<0,(T210-'Fert selector'!$E$13)*-1,T210-'Fert selector'!$E$13)","v":0},{"$f":"IF(T210<('Fert selector'!$E$13+'Fert selector'!$E$13*'Fert selector'!$E$17),0,1)&IF(T210>('Fert selector'!$E$13-'Fert selector'!$E$13*'Fert selector'!$E$18),0,1)","v":"11"},{"$f":"IF(G210=0,0,'Fert selector'!$F$13/G210)","v":0},{"$f":"IF('Fert selector'!$D$15=\"Y\",$G210*$N210,IF('Fert selector'!$E$15=\"Y\",$G210*$S210,IF('Fert selector'!$F$15=\"Y\",$G210*$X210,IF('Fert selector'!$G$15=\"Y\",$G210*$AC210))))","v":0},90,{"$f":"IF((Y210-'Fert selector'!$F$13)<0,(Y210-'Fert selector'!$F$13)*-1,Y210-'Fert selector'!$F$13)","v":90},{"$f":"IF(Y210<('Fert selector'!$F$13+'Fert selector'!$F$13*'Fert selector'!$F$17),0,1)&IF(Y210>('Fert selector'!$F$13-'Fert selector'!$F$13*'Fert selector'!$F$18),0,1)","v":"01"},{"$f":"IF(H210=0,0,'Fert selector'!$G$13/H210)","v":0},{"$f":"IF('Fert selector'!$D$15=\"Y\",$H210*$N210,IF('Fert selector'!$E$15=\"Y\",$H210*$S210,IF('Fert selector'!$F$15=\"Y\",$H210*$X210,IF('Fert selector'!$G$15=\"Y\",$H210*$AC210))))","v":0},0,{"$f":"IF((AD210-'Fert selector'!$G$13)<0,(AD210-'Fert selector'!$G$13)*-1,AD210-'Fert selector'!$G$13)","v":0},{"$f":"IF(AD210<('Fert selector'!$G$13+'Fert selector'!$G$13*'Fert selector'!$G$17),0,1)&IF(AD210>('Fert selector'!$G$13-'Fert selector'!$G$13*'Fert selector'!$G$18),0,1)","v":"11"}]
[null,null,null,null,null,null,null,null,null,null,null,null,null,{"$f":"IF(E211=0,0,'Fert selector'!$D$13/E211)","v":0},{"$f":"IF('Fert selector'!$D$15=\"Y\",E211*N211,IF('Fert selector'!$E$15=\"Y\",F211*S211,IF('Fert selector'!$F$15=\"Y\",G211*X211,IF('Fert selector'!$G$15=\"Y\",H211*AC211))))","v":0},150,{"$f":"IF((O211-'Fert selector'!$D$13)<0,(O211-'Fert selector'!$D$13)*-1,O211-'Fert selector'!$D$13)","v":150},{"$f":"IF(O211<('Fert selector'!$D$13+'Fert selector'!$D$13*'Fert selector'!$D$17),0,1)&IF(O211>('Fert selector'!$D$13-'Fert selector'!$D$13*'Fert selector'!$D$18),0,1)","v":"01"},{"$f":"IF(F211=0,0,'Fert selector'!$E$13/F211)","v":0},{"$f":"IF('Fert selector'!$D$15=\"Y\",$F211*$N211,IF('Fert selector'!$E$15=\"Y\",$F211*$S211,IF('Fert selector'!$F$15=\"Y\",$F211*$X211,IF('Fert selector'!$G$15=\"Y\",$F211*$AC211))))","v":0},0,{"$f":"IF((T211-'Fert selector'!$E$13)<0,(T211-'Fert selector'!$E$13)*-1,T211-'Fert selector'!$E$13)","v":0},{"$f":"IF(T211<('Fert selector'!$E$13+'Fert selector'!$E$13*'Fert selector'!$E$17),0,1)&IF(T211>('Fert selector'!$E$13-'Fert selector'!$E$13*'Fert selector'!$E$18),0,1)","v":"11"},{"$f":"IF(G211=0,0,'Fert selector'!$F$13/G211)","v":0},{"$f":"IF('Fert selector'!$D$15=\"Y\",$G211*$N211,IF('Fert selector'!$E$15=\"Y\",$G211*$S211,IF('Fert selector'!$F$15=\"Y\",$G211*$X211,IF('Fert selector'!$G$15=\"Y\",$G211*$AC211))))","v":0},90,{"$f":"IF((Y211-'Fert selector'!$F$13)<0,(Y211-'Fert selector'!$F$13)*-1,Y211-'Fert selector'!$F$13)","v":90},{"$f":"IF(Y211<('Fert selector'!$F$13+'Fert selector'!$F$13*'Fert selector'!$F$17),0,1)&IF(Y211>('Fert selector'!$F$13-'Fert selector'!$F$13*'Fert selector'!$F$18),0,1)","v":"01"},{"$f":"IF(H211=0,0,'Fert selector'!$G$13/H211)","v":0},{"$f":"IF('Fert selector'!$D$15=\"Y\",$H211*$N211,IF('Fert selector'!$E$15=\"Y\",$H211*$S211,IF('Fert selector'!$F$15=\"Y\",$H211*$X211,IF('Fert selector'!$G$15=\"Y\",$H211*$AC211))))","v":0},0,{"$f":"IF((AD211-'Fert selector'!$G$13)<0,(AD211-'Fert selector'!$G$13)*-1,AD211-'Fert selector'!$G$13)","v":0},{"$f":"IF(AD211<('Fert selector'!$G$13+'Fert selector'!$G$13*'Fert selector'!$G$17),0,1)&IF(AD211>('Fert selector'!$G$13-'Fert selector'!$G$13*'Fert selector'!$G$18),0,1)","v":"11"}]
[null,null,null,null,null,null,null,null,null,null,null,null,null,{"$f":"IF(E212=0,0,'Fert selector'!$D$13/E212)","v":0},{"$f":"IF('Fert selector'!$D$15=\"Y\",E212*N212,IF('Fert selector'!$E$15=\"Y\",F212*S212,IF('Fert selector'!$F$15=\"Y\",G212*X212,IF('Fert selector'!$G$15=\"Y\",H212*AC212))))","v":0},150,{"$f":"IF((O212-'Fert selector'!$D$13)<0,(O212-'Fert selector'!$D$13)*-1,O212-'Fert selector'!$D$13)","v":150},{"$f":"IF(O212<('Fert selector'!$D$13+'Fert selector'!$D$13*'Fert selector'!$D$17),0,1)&IF(O212>('Fert selector'!$D$13-'Fert selector'!$D$13*'Fert selector'!$D$18),0,1)","v":"01"},{"$f":"IF(F212=0,0,'Fert selector'!$E$13/F212)","v":0},{"$f":"IF('Fert selector'!$D$15=\"Y\",$F212*$N212,IF('Fert selector'!$E$15=\"Y\",$F212*$S212,IF('Fert selector'!$F$15=\"Y\",$F212*$X212,IF('Fert selector'!$G$15=\"Y\",$F212*$AC212))))","v":0},0,{"$f":"IF((T212-'Fert selector'!$E$13)<0,(T212-'Fert selector'!$E$13)*-1,T212-'Fert selector'!$E$13)","v":0},{"$f":"IF(T212<('Fert selector'!$E$13+'Fert selector'!$E$13*'Fert selector'!$E$17),0,1)&IF(T212>('Fert selector'!$E$13-'Fert selector'!$E$13*'Fert selector'!$E$18),0,1)","v":"11"},{"$f":"IF(G212=0,0,'Fert selector'!$F$13/G212)","v":0},{"$f":"IF('Fert selector'!$D$15=\"Y\",$G212*$N212,IF('Fert selector'!$E$15=\"Y\",$G212*$S212,IF('Fert selector'!$F$15=\"Y\",$G212*$X212,IF('Fert selector'!$G$15=\"Y\",$G212*$AC212))))","v":0},90,{"$f":"IF((Y212-'Fert selector'!$F$13)<0,(Y212-'Fert selector'!$F$13)*-1,Y212-'Fert selector'!$F$13)","v":90},{"$f":"IF(Y212<('Fert selector'!$F$13+'Fert selector'!$F$13*'Fert selector'!$F$17),0,1)&IF(Y212>('Fert selector'!$F$13-'Fert selector'!$F$13*'Fert selector'!$F$18),0,1)","v":"01"},{"$f":"IF(H212=0,0,'Fert selector'!$G$13/H212)","v":0},{"$f":"IF('Fert selector'!$D$15=\"Y\",$H212*$N212,IF('Fert selector'!$E$15=\"Y\",$H212*$S212,IF('Fert selector'!$F$15=\"Y\",$H212*$X212,IF('Fert selector'!$G$15=\"Y\",$H212*$AC212))))","v":0},0,{"$f":"IF((AD212-'Fert selector'!$G$13)<0,(AD212-'Fert selector'!$G$13)*-1,AD212-'Fert selector'!$G$13)","v":0},{"$f":"IF(AD212<('Fert selector'!$G$13+'Fert selector'!$G$13*'Fert selector'!$G$17),0,1)&IF(AD212>('Fert selector'!$G$13-'Fert selector'!$G$13*'Fert selector'!$G$18),0,1)","v":"11"}]
[null,null,null,null,null,null,null,null,null,null,null,null,null,{"$f":"IF(E213=0,0,'Fert selector'!$D$13/E213)","v":0},{"$f":"IF('Fert selector'!$D$15=\"Y\",E213*N213,IF('Fert selector'!$E$15=\"Y\",F213*S213,IF('Fert selector'!$F$15=\"Y\",G213*X213,IF('Fert selector'!$G$15=\"Y\",H213*AC213))))","v":0},150,{"$f":"IF((O213-'Fert selector'!$D$13)<0,(O213-'Fert selector'!$D$13)*-1,O213-'Fert selector'!$D$13)","v":150},{"$f":"IF(O213<('Fert selector'!$D$13+'Fert selector'!$D$13*'Fert selector'!$D$17),0,1)&IF(O213>('Fert selector'!$D$13-'Fert selector'!$D$13*'Fert selector'!$D$18),0,1)","v":"01"},{"$f":"IF(F213=0,0,'Fert selector'!$E$13/F213)","v":0},{"$f":"IF('Fert selector'!$D$15=\"Y\",$F213*$N213,IF('Fert selector'!$E$15=\"Y\",$F213*$S213,IF('Fert selector'!$F$15=\"Y\",$F213*$X213,IF('Fert selector'!$G$15=\"Y\",$F213*$AC213))))","v":0},0,{"$f":"IF((T213-'Fert selector'!$E$13)<0,(T213-'Fert selector'!$E$13)*-1,T213-'Fert selector'!$E$13)","v":0},{"$f":"IF(T213<('Fert selector'!$E$13+'Fert selector'!$E$13*'Fert selector'!$E$17),0,1)&IF(T213>('Fert selector'!$E$13-'Fert selector'!$E$13*'Fert selector'!$E$18),0,1)","v":"11"},{"$f":"IF(G213=0,0,'Fert selector'!$F$13/G213)","v":0},{"$f":"IF('Fert selector'!$D$15=\"Y\",$G213*$N213,IF('Fert selector'!$E$15=\"Y\",$G213*$S213,IF('Fert selector'!$F$15=\"Y\",$G213*$X213,IF('Fert selector'!$G$15=\"Y\",$G213*$AC213))))","v":0},90,{"$f":"IF((Y213-'Fert selector'!$F$13)<0,(Y213-'Fert selector'!$F$13)*-1,Y213-'Fert selector'!$F$13)","v":90},{"$f":"IF(Y213<('Fert selector'!$F$13+'Fert selector'!$F$13*'Fert selector'!$F$17),0,1)&IF(Y213>('Fert selector'!$F$13-'Fert selector'!$F$13*'Fert selector'!$F$18),0,1)","v":"01"},{"$f":"IF(H213=0,0,'Fert selector'!$G$13/H213)","v":0},{"$f":"IF('Fert selector'!$D$15=\"Y\",$H213*$N213,IF('Fert selector'!$E$15=\"Y\",$H213*$S213,IF('Fert selector'!$F$15=\"Y\",$H213*$X213,IF('Fert selector'!$G$15=\"Y\",$H213*$AC213))))","v":0},0,{"$f":"IF((AD213-'Fert selector'!$G$13)<0,(AD213-'Fert selector'!$G$13)*-1,AD213-'Fert selector'!$G$13)","v":0},{"$f":"IF(AD213<('Fert selector'!$G$13+'Fert selector'!$G$13*'Fert selector'!$G$17),0,1)&IF(AD213>('Fert selector'!$G$13-'Fert selector'!$G$13*'Fert selector'!$G$18),0,1)","v":"11"}]
[null,null,null,null,null,null,null,null,null,null,null,null,null,{"$f":"IF(E214=0,0,'Fert selector'!$D$13/E214)","v":0},{"$f":"IF('Fert selector'!$D$15=\"Y\",E214*N214,IF('Fert selector'!$E$15=\"Y\",F214*S214,IF('Fert selector'!$F$15=\"Y\",G214*X214,IF('Fert selector'!$G$15=\"Y\",H214*AC214))))","v":0},150,{"$f":"IF((O214-'Fert selector'!$D$13)<0,(O214-'Fert selector'!$D$13)*-1,O214-'Fert selector'!$D$13)","v":150},{"$f":"IF(O214<('Fert selector'!$D$13+'Fert selector'!$D$13*'Fert selector'!$D$17),0,1)&IF(O214>('Fert selector'!$D$13-'Fert selector'!$D$13*'Fert selector'!$D$18),0,1)","v":"01"},{"$f":"IF(F214=0,0,'Fert selector'!$E$13/F214)","v":0},{"$f":"IF('Fert selector'!$D$15=\"Y\",$F214*$N214,IF('Fert selector'!$E$15=\"Y\",$F214*$S214,IF('Fert selector'!$F$15=\"Y\",$F214*$X214,IF('Fert selector'!$G$15=\"Y\",$F214*$AC214))))","v":0},0,{"$f":"IF((T214-'Fert selector'!$E$13)<0,(T214-'Fert selector'!$E$13)*-1,T214-'Fert selector'!$E$13)","v":0},{"$f":"IF(T214<('Fert selector'!$E$13+'Fert selector'!$E$13*'Fert selector'!$E$17),0,1)&IF(T214>('Fert selector'!$E$13-'Fert selector'!$E$13*'Fert selector'!$E$18),0,1)","v":"11"},{"$f":"IF(G214=0,0,'Fert selector'!$F$13/G214)","v":0},{"$f":"IF('Fert selector'!$D$15=\"Y\",$G214*$N214,IF('Fert selector'!$E$15=\"Y\",$G214*$S214,IF('Fert selector'!$F$15=\"Y\",$G214*$X214,IF('Fert selector'!$G$15=\"Y\",$G214*$AC214))))","v":0},90,{"$f":"IF((Y214-'Fert selector'!$F$13)<0,(Y214-'Fert selector'!$F$13)*-1,Y214-'Fert selector'!$F$13)","v":90},{"$f":"IF(Y214<('Fert selector'!$F$13+'Fert selector'!$F$13*'Fert selector'!$F$17),0,1)&IF(Y214>('Fert selector'!$F$13-'Fert selector'!$F$13*'Fert selector'!$F$18),0,1)","v":"01"},{"$f":"IF(H214=0,0,'Fert selector'!$G$13/H214)","v":0},{"$f":"IF('Fert selector'!$D$15=\"Y\",$H214*$N214,IF('Fert selector'!$E$15=\"Y\",$H214*$S214,IF('Fert selector'!$F$15=\"Y\",$H214*$X214,IF('Fert selector'!$G$15=\"Y\",$H214*$AC214))))","v":0},0,{"$f":"IF((AD214-'Fert selector'!$G$13)<0,(AD214-'Fert selector'!$G$13)*-1,AD214-'Fert selector'!$G$13)","v":0},{"$f":"IF(AD214<('Fert selector'!$G$13+'Fert selector'!$G$13*'Fert selector'!$G$17),0,1)&IF(AD214>('Fert selector'!$G$13-'Fert selector'!$G$13*'Fert selector'!$G$18),0,1)","v":"11"}]
[null,null,null,null,null,null,null,null,null,null,null,null,null,{"$f":"IF(E215=0,0,'Fert selector'!$D$13/E215)","v":0},{"$f":"IF('Fert selector'!$D$15=\"Y\",E215*N215,IF('Fert selector'!$E$15=\"Y\",F215*S215,IF('Fert selector'!$F$15=\"Y\",G215*X215,IF('Fert selector'!$G$15=\"Y\",H215*AC215))))","v":0},150,{"$f":"IF((O215-'Fert selector'!$D$13)<0,(O215-'Fert selector'!$D$13)*-1,O215-'Fert selector'!$D$13)","v":150},{"$f":"IF(O215<('Fert selector'!$D$13+'Fert selector'!$D$13*'Fert selector'!$D$17),0,1)&IF(O215>('Fert selector'!$D$13-'Fert selector'!$D$13*'Fert selector'!$D$18),0,1)","v":"01"},{"$f":"IF(F215=0,0,'Fert selector'!$E$13/F215)","v":0},{"$f":"IF('Fert selector'!$D$15=\"Y\",$F215*$N215,IF('Fert selector'!$E$15=\"Y\",$F215*$S215,IF('Fert selector'!$F$15=\"Y\",$F215*$X215,IF('Fert selector'!$G$15=\"Y\",$F215*$AC215))))","v":0},0,{"$f":"IF((T215-'Fert selector'!$E$13)<0,(T215-'Fert selector'!$E$13)*-1,T215-'Fert selector'!$E$13)","v":0},{"$f":"IF(T215<('Fert selector'!$E$13+'Fert selector'!$E$13*'Fert selector'!$E$17),0,1)&IF(T215>('Fert selector'!$E$13-'Fert selector'!$E$13*'Fert selector'!$E$18),0,1)","v":"11"},{"$f":"IF(G215=0,0,'Fert selector'!$F$13/G215)","v":0},{"$f":"IF('Fert selector'!$D$15=\"Y\",$G215*$N215,IF('Fert selector'!$E$15=\"Y\",$G215*$S215,IF('Fert selector'!$F$15=\"Y\",$G215*$X215,IF('Fert selector'!$G$15=\"Y\",$G215*$AC215))))","v":0},90,{"$f":"IF((Y215-'Fert selector'!$F$13)<0,(Y215-'Fert selector'!$F$13)*-1,Y215-'Fert selector'!$F$13)","v":90},{"$f":"IF(Y215<('Fert selector'!$F$13+'Fert selector'!$F$13*'Fert selector'!$F$17),0,1)&IF(Y215>('Fert selector'!$F$13-'Fert selector'!$F$13*'Fert selector'!$F$18),0,1)","v":"01"},{"$f":"IF(H215=0,0,'Fert selector'!$G$13/H215)","v":0},{"$f":"IF('Fert selector'!$D$15=\"Y\",$H215*$N215,IF('Fert selector'!$E$15=\"Y\",$H215*$S215,IF('Fert selector'!$F$15=\"Y\",$H215*$X215,IF('Fert selector'!$G$15=\"Y\",$H215*$AC215))))","v":0},0,{"$f":"IF((AD215-'Fert selector'!$G$13)<0,(AD215-'Fert selector'!$G$13)*-1,AD215-'Fert selector'!$G$13)","v":0},{"$f":"IF(AD215<('Fert selector'!$G$13+'Fert selector'!$G$13*'Fert selector'!$G$17),0,1)&IF(AD215>('Fert selector'!$G$13-'Fert selector'!$G$13*'Fert selector'!$G$18),0,1)","v":"11"}]
[null,null,null,null,null,null,null,null,null,null,null,null,null,{"$f":"IF(E216=0,0,'Fert selector'!$D$13/E216)","v":0},{"$f":"IF('Fert selector'!$D$15=\"Y\",E216*N216,IF('Fert selector'!$E$15=\"Y\",F216*S216,IF('Fert selector'!$F$15=\"Y\",G216*X216,IF('Fert selector'!$G$15=\"Y\",H216*AC216))))","v":0},150,{"$f":"IF((O216-'Fert selector'!$D$13)<0,(O216-'Fert selector'!$D$13)*-1,O216-'Fert selector'!$D$13)","v":150},{"$f":"IF(O216<('Fert selector'!$D$13+'Fert selector'!$D$13*'Fert selector'!$D$17),0,1)&IF(O216>('Fert selector'!$D$13-'Fert selector'!$D$13*'Fert selector'!$D$18),0,1)","v":"01"},{"$f":"IF(F216=0,0,'Fert selector'!$E$13/F216)","v":0},{"$f":"IF('Fert selector'!$D$15=\"Y\",$F216*$N216,IF('Fert selector'!$E$15=\"Y\",$F216*$S216,IF('Fert selector'!$F$15=\"Y\",$F216*$X216,IF('Fert selector'!$G$15=\"Y\",$F216*$AC216))))","v":0},0,{"$f":"IF((T216-'Fert selector'!$E$13)<0,(T216-'Fert selector'!$E$13)*-1,T216-'Fert selector'!$E$13)","v":0},{"$f":"IF(T216<('Fert selector'!$E$13+'Fert selector'!$E$13*'Fert selector'!$E$17),0,1)&IF(T216>('Fert selector'!$E$13-'Fert selector'!$E$13*'Fert selector'!$E$18),0,1)","v":"11"},{"$f":"IF(G216=0,0,'Fert selector'!$F$13/G216)","v":0},{"$f":"IF('Fert selector'!$D$15=\"Y\",$G216*$N216,IF('Fert selector'!$E$15=\"Y\",$G216*$S216,IF('Fert selector'!$F$15=\"Y\",$G216*$X216,IF('Fert selector'!$G$15=\"Y\",$G216*$AC216))))","v":0},90,{"$f":"IF((Y216-'Fert selector'!$F$13)<0,(Y216-'Fert selector'!$F$13)*-1,Y216-'Fert selector'!$F$13)","v":90},{"$f":"IF(Y216<('Fert selector'!$F$13+'Fert selector'!$F$13*'Fert selector'!$F$17),0,1)&IF(Y216>('Fert selector'!$F$13-'Fert selector'!$F$13*'Fert selector'!$F$18),0,1)","v":"01"},{"$f":"IF(H216=0,0,'Fert selector'!$G$13/H216)","v":0},{"$f":"IF('Fert selector'!$D$15=\"Y\",$H216*$N216,IF('Fert selector'!$E$15=\"Y\",$H216*$S216,IF('Fert selector'!$F$15=\"Y\",$H216*$X216,IF('Fert selector'!$G$15=\"Y\",$H216*$AC216))))","v":0},0,{"$f":"IF((AD216-'Fert selector'!$G$13)<0,(AD216-'Fert selector'!$G$13)*-1,AD216-'Fert selector'!$G$13)","v":0},{"$f":"IF(AD216<('Fert selector'!$G$13+'Fert selector'!$G$13*'Fert selector'!$G$17),0,1)&IF(AD216>('Fert selector'!$G$13-'Fert selector'!$G$13*'Fert selector'!$G$18),0,1)","v":"11"}]
[null,null,null,null,null,null,null,null,null,null,null,null,null,{"$f":"IF(E217=0,0,'Fert selector'!$D$13/E217)","v":0},{"$f":"IF('Fert selector'!$D$15=\"Y\",E217*N217,IF('Fert selector'!$E$15=\"Y\",F217*S217,IF('Fert selector'!$F$15=\"Y\",G217*X217,IF('Fert selector'!$G$15=\"Y\",H217*AC217))))","v":0},150,{"$f":"IF((O217-'Fert selector'!$D$13)<0,(O217-'Fert selector'!$D$13)*-1,O217-'Fert selector'!$D$13)","v":150},{"$f":"IF(O217<('Fert selector'!$D$13+'Fert selector'!$D$13*'Fert selector'!$D$17),0,1)&IF(O217>('Fert selector'!$D$13-'Fert selector'!$D$13*'Fert selector'!$D$18),0,1)","v":"01"},{"$f":"IF(F217=0,0,'Fert selector'!$E$13/F217)","v":0},{"$f":"IF('Fert selector'!$D$15=\"Y\",$F217*$N217,IF('Fert selector'!$E$15=\"Y\",$F217*$S217,IF('Fert selector'!$F$15=\"Y\",$F217*$X217,IF('Fert selector'!$G$15=\"Y\",$F217*$AC217))))","v":0},0,{"$f":"IF((T217-'Fert selector'!$E$13)<0,(T217-'Fert selector'!$E$13)*-1,T217-'Fert selector'!$E$13)","v":0},{"$f":"IF(T217<('Fert selector'!$E$13+'Fert selector'!$E$13*'Fert selector'!$E$17),0,1)&IF(T217>('Fert selector'!$E$13-'Fert selector'!$E$13*'Fert selector'!$E$18),0,1)","v":"11"},{"$f":"IF(G217=0,0,'Fert selector'!$F$13/G217)","v":0},{"$f":"IF('Fert selector'!$D$15=\"Y\",$G217*$N217,IF('Fert selector'!$E$15=\"Y\",$G217*$S217,IF('Fert selector'!$F$15=\"Y\",$G217*$X217,IF('Fert selector'!$G$15=\"Y\",$G217*$AC217))))","v":0},90,{"$f":"IF((Y217-'Fert selector'!$F$13)<0,(Y217-'Fert selector'!$F$13)*-1,Y217-'Fert selector'!$F$13)","v":90},{"$f":"IF(Y217<('Fert selector'!$F$13+'Fert selector'!$F$13*'Fert selector'!$F$17),0,1)&IF(Y217>('Fert selector'!$F$13-'Fert selector'!$F$13*'Fert selector'!$F$18),0,1)","v":"01"},{"$f":"IF(H217=0,0,'Fert selector'!$G$13/H217)","v":0},{"$f":"IF('Fert selector'!$D$15=\"Y\",$H217*$N217,IF('Fert selector'!$E$15=\"Y\",$H217*$S217,IF('Fert selector'!$F$15=\"Y\",$H217*$X217,IF('Fert selector'!$G$15=\"Y\",$H217*$AC217))))","v":0},0,{"$f":"IF((AD217-'Fert selector'!$G$13)<0,(AD217-'Fert selector'!$G$13)*-1,AD217-'Fert selector'!$G$13)","v":0},{"$f":"IF(AD217<('Fert selector'!$G$13+'Fert selector'!$G$13*'Fert selector'!$G$17),0,1)&IF(AD217>('Fert selector'!$G$13-'Fert selector'!$G$13*'Fert selector'!$G$18),0,1)","v":"11"}]
[null,null,null,null,null,null,null,null,null,null,null,null,null,{"$f":"IF(E218=0,0,'Fert selector'!$D$13/E218)","v":0},{"$f":"IF('Fert selector'!$D$15=\"Y\",E218*N218,IF('Fert selector'!$E$15=\"Y\",F218*S218,IF('Fert selector'!$F$15=\"Y\",G218*X218,IF('Fert selector'!$G$15=\"Y\",H218*AC218))))","v":0},150,{"$f":"IF((O218-'Fert selector'!$D$13)<0,(O218-'Fert selector'!$D$13)*-1,O218-'Fert selector'!$D$13)","v":150},{"$f":"IF(O218<('Fert selector'!$D$13+'Fert selector'!$D$13*'Fert selector'!$D$17),0,1)&IF(O218>('Fert selector'!$D$13-'Fert selector'!$D$13*'Fert selector'!$D$18),0,1)","v":"01"},{"$f":"IF(F218=0,0,'Fert selector'!$E$13/F218)","v":0},{"$f":"IF('Fert selector'!$D$15=\"Y\",$F218*$N218,IF('Fert selector'!$E$15=\"Y\",$F218*$S218,IF('Fert selector'!$F$15=\"Y\",$F218*$X218,IF('Fert selector'!$G$15=\"Y\",$F218*$AC218))))","v":0},0,{"$f":"IF((T218-'Fert selector'!$E$13)<0,(T218-'Fert selector'!$E$13)*-1,T218-'Fert selector'!$E$13)","v":0},{"$f":"IF(T218<('Fert selector'!$E$13+'Fert selector'!$E$13*'Fert selector'!$E$17),0,1)&IF(T218>('Fert selector'!$E$13-'Fert selector'!$E$13*'Fert selector'!$E$18),0,1)","v":"11"},{"$f":"IF(G218=0,0,'Fert selector'!$F$13/G218)","v":0},{"$f":"IF('Fert selector'!$D$15=\"Y\",$G218*$N218,IF('Fert selector'!$E$15=\"Y\",$G218*$S218,IF('Fert selector'!$F$15=\"Y\",$G218*$X218,IF('Fert selector'!$G$15=\"Y\",$G218*$AC218))))","v":0},90,{"$f":"IF((Y218-'Fert selector'!$F$13)<0,(Y218-'Fert selector'!$F$13)*-1,Y218-'Fert selector'!$F$13)","v":90},{"$f":"IF(Y218<('Fert selector'!$F$13+'Fert selector'!$F$13*'Fert selector'!$F$17),0,1)&IF(Y218>('Fert selector'!$F$13-'Fert selector'!$F$13*'Fert selector'!$F$18),0,1)","v":"01"},{"$f":"IF(H218=0,0,'Fert selector'!$G$13/H218)","v":0},{"$f":"IF('Fert selector'!$D$15=\"Y\",$H218*$N218,IF('Fert selector'!$E$15=\"Y\",$H218*$S218,IF('Fert selector'!$F$15=\"Y\",$H218*$X218,IF('Fert selector'!$G$15=\"Y\",$H218*$AC218))))","v":0},0,{"$f":"IF((AD218-'Fert selector'!$G$13)<0,(AD218-'Fert selector'!$G$13)*-1,AD218-'Fert selector'!$G$13)","v":0},{"$f":"IF(AD218<('Fert selector'!$G$13+'Fert selector'!$G$13*'Fert selector'!$G$17),0,1)&IF(AD218>('Fert selector'!$G$13-'Fert selector'!$G$13*'Fert selector'!$G$18),0,1)","v":"11"}]
[null,null,null,null,null,null,null,null,null,null,null,null,null,{"$f":"IF(E219=0,0,'Fert selector'!$D$13/E219)","v":0},{"$f":"IF('Fert selector'!$D$15=\"Y\",E219*N219,IF('Fert selector'!$E$15=\"Y\",F219*S219,IF('Fert selector'!$F$15=\"Y\",G219*X219,IF('Fert selector'!$G$15=\"Y\",H219*AC219))))","v":0},{"$f":"IF(R219=\"00\",0,Q219)","v":150},{"$f":"IF((O219-'Fert selector'!$D$13)<0,(O219-'Fert selector'!$D$13)*-1,O219-'Fert selector'!$D$13)","v":150},{"$f":"IF(O219<('Fert selector'!$D$13+'Fert selector'!$D$13*'Fert selector'!$D$17),0,1)&IF(O219>('Fert selector'!$D$13-'Fert selector'!$D$13*'Fert selector'!$D$18),0,1)","v":"01"},{"$f":"IF(F219=0,0,'Fert selector'!$E$13/F219)","v":0},{"$f":"IF('Fert selector'!$D$15=\"Y\",$F219*$N219,IF('Fert selector'!$E$15=\"Y\",$F219*$S219,IF('Fert selector'!$F$15=\"Y\",$F219*$X219,IF('Fert selector'!$G$15=\"Y\",$F219*$AC219))))","v":0},{"$f":"IF(W219=\"00\",0,V219)","v":0},{"$f":"IF((T219-'Fert selector'!$E$13)<0,(T219-'Fert selector'!$E$13)*-1,T219-'Fert selector'!$E$13)","v":0},{"$f":"IF(T219<('Fert selector'!$E$13+'Fert selector'!$E$13*'Fert selector'!$E$17),0,1)&IF(T219>('Fert selector'!$E$13-'Fert selector'!$E$13*'Fert selector'!$E$18),0,1)","v":"11"},{"$f":"IF(G219=0,0,'Fert selector'!$F$13/G219)","v":0},{"$f":"IF('Fert selector'!$D$15=\"Y\",$G219*$N219,IF('Fert selector'!$E$15=\"Y\",$G219*$S219,IF('Fert selector'!$F$15=\"Y\",$G219*$X219,IF('Fert selector'!$G$15=\"Y\",$G219*$AC219))))","v":0},{"$f":"IF(AB219=\"00\",0,AA219)","v":90},{"$f":"IF((Y219-'Fert selector'!$F$13)<0,(Y219-'Fert selector'!$F$13)*-1,Y219-'Fert selector'!$F$13)","v":90},{"$f":"IF(Y219<('Fert selector'!$F$13+'Fert selector'!$F$13*'Fert selector'!$F$17),0,1)&IF(Y219>('Fert selector'!$F$13-'Fert selector'!$F$13*'Fert selector'!$F$18),0,1)","v":"01"},{"$f":"IF(H219=0,0,'Fert selector'!$G$13/H219)","v":0},{"$f":"IF('Fert selector'!$D$15=\"Y\",$H219*$N219,IF('Fert selector'!$E$15=\"Y\",$H219*$S219,IF('Fert selector'!$F$15=\"Y\",$H219*$X219,IF('Fert selector'!$G$15=\"Y\",$H219*$AC219))))","v":0},{"$f":"IF(AG219=\"00\",0,AF219)","v":0},{"$f":"IF((AD219-'Fert selector'!$G$13)<0,(AD219-'Fert selector'!$G$13)*-1,AD219-'Fert selector'!$G$13)","v":0},{"$f":"IF(AD219<('Fert selector'!$G$13+'Fert selector'!$G$13*'Fert selector'!$G$17),0,1)&IF(AD219>('Fert selector'!$G$13-'Fert selector'!$G$13*'Fert selector'!$G$18),0,1)","v":"11"}]
[null,null,null,null,null,null,null,null,null,null,null,null,null,{"$f":"IF(E220=0,0,'Fert selector'!$D$13/E220)","v":0},{"$f":"IF('Fert selector'!$D$15=\"Y\",E220*N220,IF('Fert selector'!$E$15=\"Y\",F220*S220,IF('Fert selector'!$F$15=\"Y\",G220*X220,IF('Fert selector'!$G$15=\"Y\",H220*AC220))))","v":0},150,{"$f":"IF((O220-'Fert selector'!$D$13)<0,(O220-'Fert selector'!$D$13)*-1,O220-'Fert selector'!$D$13)","v":150},{"$f":"IF(O220<('Fert selector'!$D$13+'Fert selector'!$D$13*'Fert selector'!$D$17),0,1)&IF(O220>('Fert selector'!$D$13-'Fert selector'!$D$13*'Fert selector'!$D$18),0,1)","v":"01"},{"$f":"IF(F220=0,0,'Fert selector'!$E$13/F220)","v":0},{"$f":"IF('Fert selector'!$D$15=\"Y\",$F220*$N220,IF('Fert selector'!$E$15=\"Y\",$F220*$S220,IF('Fert selector'!$F$15=\"Y\",$F220*$X220,IF('Fert selector'!$G$15=\"Y\",$F220*$AC220))))","v":0},0,{"$f":"IF((T220-'Fert selector'!$E$13)<0,(T220-'Fert selector'!$E$13)*-1,T220-'Fert selector'!$E$13)","v":0},{"$f":"IF(T220<('Fert selector'!$E$13+'Fert selector'!$E$13*'Fert selector'!$E$17),0,1)&IF(T220>('Fert selector'!$E$13-'Fert selector'!$E$13*'Fert selector'!$E$18),0,1)","v":"11"},{"$f":"IF(G220=0,0,'Fert selector'!$F$13/G220)","v":0},{"$f":"IF('Fert selector'!$D$15=\"Y\",$G220*$N220,IF('Fert selector'!$E$15=\"Y\",$G220*$S220,IF('Fert selector'!$F$15=\"Y\",$G220*$X220,IF('Fert selector'!$G$15=\"Y\",$G220*$AC220))))","v":0},90,{"$f":"IF((Y220-'Fert selector'!$F$13)<0,(Y220-'Fert selector'!$F$13)*-1,Y220-'Fert selector'!$F$13)","v":90},{"$f":"IF(Y220<('Fert selector'!$F$13+'Fert selector'!$F$13*'Fert selector'!$F$17),0,1)&IF(Y220>('Fert selector'!$F$13-'Fert selector'!$F$13*'Fert selector'!$F$18),0,1)","v":"01"},{"$f":"IF(H220=0,0,'Fert selector'!$G$13/H220)","v":0},{"$f":"IF('Fert selector'!$D$15=\"Y\",$H220*$N220,IF('Fert selector'!$E$15=\"Y\",$H220*$S220,IF('Fert selector'!$F$15=\"Y\",$H220*$X220,IF('Fert selector'!$G$15=\"Y\",$H220*$AC220))))","v":0},0,{"$f":"IF((AD220-'Fert selector'!$G$13)<0,(AD220-'Fert selector'!$G$13)*-1,AD220-'Fert selector'!$G$13)","v":0},{"$f":"IF(AD220<('Fert selector'!$G$13+'Fert selector'!$G$13*'Fert selector'!$G$17),0,1)&IF(AD220>('Fert selector'!$G$13-'Fert selector'!$G$13*'Fert selector'!$G$18),0,1)","v":"11"}]
[null,null,null,null,null,null,null,null,null,null,null,null,null,{"$f":"IF(E221=0,0,'Fert selector'!$D$13/E221)","v":0},{"$f":"IF('Fert selector'!$D$15=\"Y\",E221*N221,IF('Fert selector'!$E$15=\"Y\",F221*S221,IF('Fert selector'!$F$15=\"Y\",G221*X221,IF('Fert selector'!$G$15=\"Y\",H221*AC221))))","v":0},150,{"$f":"IF((O221-'Fert selector'!$D$13)<0,(O221-'Fert selector'!$D$13)*-1,O221-'Fert selector'!$D$13)","v":150},{"$f":"IF(O221<('Fert selector'!$D$13+'Fert selector'!$D$13*'Fert selector'!$D$17),0,1)&IF(O221>('Fert selector'!$D$13-'Fert selector'!$D$13*'Fert selector'!$D$18),0,1)","v":"01"},{"$f":"IF(F221=0,0,'Fert selector'!$E$13/F221)","v":0},{"$f":"IF('Fert selector'!$D$15=\"Y\",$F221*$N221,IF('Fert selector'!$E$15=\"Y\",$F221*$S221,IF('Fert selector'!$F$15=\"Y\",$F221*$X221,IF('Fert selector'!$G$15=\"Y\",$F221*$AC221))))","v":0},0,{"$f":"IF((T221-'Fert selector'!$E$13)<0,(T221-'Fert selector'!$E$13)*-1,T221-'Fert selector'!$E$13)","v":0},{"$f":"IF(T221<('Fert selector'!$E$13+'Fert selector'!$E$13*'Fert selector'!$E$17),0,1)&IF(T221>('Fert selector'!$E$13-'Fert selector'!$E$13*'Fert selector'!$E$18),0,1)","v":"11"},{"$f":"IF(G221=0,0,'Fert selector'!$F$13/G221)","v":0},{"$f":"IF('Fert selector'!$D$15=\"Y\",$G221*$N221,IF('Fert selector'!$E$15=\"Y\",$G221*$S221,IF('Fert selector'!$F$15=\"Y\",$G221*$X221,IF('Fert selector'!$G$15=\"Y\",$G221*$AC221))))","v":0},90,{"$f":"IF((Y221-'Fert selector'!$F$13)<0,(Y221-'Fert selector'!$F$13)*-1,Y221-'Fert selector'!$F$13)","v":90},{"$f":"IF(Y221<('Fert selector'!$F$13+'Fert selector'!$F$13*'Fert selector'!$F$17),0,1)&IF(Y221>('Fert selector'!$F$13-'Fert selector'!$F$13*'Fert selector'!$F$18),0,1)","v":"01"},{"$f":"IF(H221=0,0,'Fert selector'!$G$13/H221)","v":0},{"$f":"IF('Fert selector'!$D$15=\"Y\",$H221*$N221,IF('Fert selector'!$E$15=\"Y\",$H221*$S221,IF('Fert selector'!$F$15=\"Y\",$H221*$X221,IF('Fert selector'!$G$15=\"Y\",$H221*$AC221))))","v":0},0,{"$f":"IF((AD221-'Fert selector'!$G$13)<0,(AD221-'Fert selector'!$G$13)*-1,AD221-'Fert selector'!$G$13)","v":0},{"$f":"IF(AD221<('Fert selector'!$G$13+'Fert selector'!$G$13*'Fert selector'!$G$17),0,1)&IF(AD221>('Fert selector'!$G$13-'Fert selector'!$G$13*'Fert selector'!$G$18),0,1)","v":"11"}]
[null,null,null,null,null,null,null,null,null,null,null,null,null,{"$f":"IF(E222=0,0,'Fert selector'!$D$13/E222)","v":0},{"$f":"IF('Fert selector'!$D$15=\"Y\",E222*N222,IF('Fert selector'!$E$15=\"Y\",F222*S222,IF('Fert selector'!$F$15=\"Y\",G222*X222,IF('Fert selector'!$G$15=\"Y\",H222*AC222))))","v":0},150,{"$f":"IF((O222-'Fert selector'!$D$13)<0,(O222-'Fert selector'!$D$13)*-1,O222-'Fert selector'!$D$13)","v":150},{"$f":"IF(O222<('Fert selector'!$D$13+'Fert selector'!$D$13*'Fert selector'!$D$17),0,1)&IF(O222>('Fert selector'!$D$13-'Fert selector'!$D$13*'Fert selector'!$D$18),0,1)","v":"01"},{"$f":"IF(F222=0,0,'Fert selector'!$E$13/F222)","v":0},{"$f":"IF('Fert selector'!$D$15=\"Y\",$F222*$N222,IF('Fert selector'!$E$15=\"Y\",$F222*$S222,IF('Fert selector'!$F$15=\"Y\",$F222*$X222,IF('Fert selector'!$G$15=\"Y\",$F222*$AC222))))","v":0},0,{"$f":"IF((T222-'Fert selector'!$E$13)<0,(T222-'Fert selector'!$E$13)*-1,T222-'Fert selector'!$E$13)","v":0},{"$f":"IF(T222<('Fert selector'!$E$13+'Fert selector'!$E$13*'Fert selector'!$E$17),0,1)&IF(T222>('Fert selector'!$E$13-'Fert selector'!$E$13*'Fert selector'!$E$18),0,1)","v":"11"},{"$f":"IF(G222=0,0,'Fert selector'!$F$13/G222)","v":0},{"$f":"IF('Fert selector'!$D$15=\"Y\",$G222*$N222,IF('Fert selector'!$E$15=\"Y\",$G222*$S222,IF('Fert selector'!$F$15=\"Y\",$G222*$X222,IF('Fert selector'!$G$15=\"Y\",$G222*$AC222))))","v":0},90,{"$f":"IF((Y222-'Fert selector'!$F$13)<0,(Y222-'Fert selector'!$F$13)*-1,Y222-'Fert selector'!$F$13)","v":90},{"$f":"IF(Y222<('Fert selector'!$F$13+'Fert selector'!$F$13*'Fert selector'!$F$17),0,1)&IF(Y222>('Fert selector'!$F$13-'Fert selector'!$F$13*'Fert selector'!$F$18),0,1)","v":"01"},{"$f":"IF(H222=0,0,'Fert selector'!$G$13/H222)","v":0},{"$f":"IF('Fert selector'!$D$15=\"Y\",$H222*$N222,IF('Fert selector'!$E$15=\"Y\",$H222*$S222,IF('Fert selector'!$F$15=\"Y\",$H222*$X222,IF('Fert selector'!$G$15=\"Y\",$H222*$AC222))))","v":0},0,{"$f":"IF((AD222-'Fert selector'!$G$13)<0,(AD222-'Fert selector'!$G$13)*-1,AD222-'Fert selector'!$G$13)","v":0},{"$f":"IF(AD222<('Fert selector'!$G$13+'Fert selector'!$G$13*'Fert selector'!$G$17),0,1)&IF(AD222>('Fert selector'!$G$13-'Fert selector'!$G$13*'Fert selector'!$G$18),0,1)","v":"11"}]
[null,null,null,null,null,null,null,null,null,null,null,null,null,{"$f":"IF(E223=0,0,'Fert selector'!$D$13/E223)","v":0},{"$f":"IF('Fert selector'!$D$15=\"Y\",E223*N223,IF('Fert selector'!$E$15=\"Y\",F223*S223,IF('Fert selector'!$F$15=\"Y\",G223*X223,IF('Fert selector'!$G$15=\"Y\",H223*AC223))))","v":0},150,{"$f":"IF((O223-'Fert selector'!$D$13)<0,(O223-'Fert selector'!$D$13)*-1,O223-'Fert selector'!$D$13)","v":150},{"$f":"IF(O223<('Fert selector'!$D$13+'Fert selector'!$D$13*'Fert selector'!$D$17),0,1)&IF(O223>('Fert selector'!$D$13-'Fert selector'!$D$13*'Fert selector'!$D$18),0,1)","v":"01"},{"$f":"IF(F223=0,0,'Fert selector'!$E$13/F223)","v":0},{"$f":"IF('Fert selector'!$D$15=\"Y\",$F223*$N223,IF('Fert selector'!$E$15=\"Y\",$F223*$S223,IF('Fert selector'!$F$15=\"Y\",$F223*$X223,IF('Fert selector'!$G$15=\"Y\",$F223*$AC223))))","v":0},0,{"$f":"IF((T223-'Fert selector'!$E$13)<0,(T223-'Fert selector'!$E$13)*-1,T223-'Fert selector'!$E$13)","v":0},{"$f":"IF(T223<('Fert selector'!$E$13+'Fert selector'!$E$13*'Fert selector'!$E$17),0,1)&IF(T223>('Fert selector'!$E$13-'Fert selector'!$E$13*'Fert selector'!$E$18),0,1)","v":"11"},{"$f":"IF(G223=0,0,'Fert selector'!$F$13/G223)","v":0},{"$f":"IF('Fert selector'!$D$15=\"Y\",$G223*$N223,IF('Fert selector'!$E$15=\"Y\",$G223*$S223,IF('Fert selector'!$F$15=\"Y\",$G223*$X223,IF('Fert selector'!$G$15=\"Y\",$G223*$AC223))))","v":0},90,{"$f":"IF((Y223-'Fert selector'!$F$13)<0,(Y223-'Fert selector'!$F$13)*-1,Y223-'Fert selector'!$F$13)","v":90},{"$f":"IF(Y223<('Fert selector'!$F$13+'Fert selector'!$F$13*'Fert selector'!$F$17),0,1)&IF(Y223>('Fert selector'!$F$13-'Fert selector'!$F$13*'Fert selector'!$F$18),0,1)","v":"01"},{"$f":"IF(H223=0,0,'Fert selector'!$G$13/H223)","v":0},{"$f":"IF('Fert selector'!$D$15=\"Y\",$H223*$N223,IF('Fert selector'!$E$15=\"Y\",$H223*$S223,IF('Fert selector'!$F$15=\"Y\",$H223*$X223,IF('Fert selector'!$G$15=\"Y\",$H223*$AC223))))","v":0},0,{"$f":"IF((AD223-'Fert selector'!$G$13)<0,(AD223-'Fert selector'!$G$13)*-1,AD223-'Fert selector'!$G$13)","v":0},{"$f":"IF(AD223<('Fert selector'!$G$13+'Fert selector'!$G$13*'Fert selector'!$G$17),0,1)&IF(AD223>('Fert selector'!$G$13-'Fert selector'!$G$13*'Fert selector'!$G$18),0,1)","v":"11"}]
[null,null,null,null,null,null,null,null,null,null,null,null,null,{"$f":"IF(E224=0,0,'Fert selector'!$D$13/E224)","v":0},{"$f":"IF('Fert selector'!$D$15=\"Y\",E224*N224,IF('Fert selector'!$E$15=\"Y\",F224*S224,IF('Fert selector'!$F$15=\"Y\",G224*X224,IF('Fert selector'!$G$15=\"Y\",H224*AC224))))","v":0},150,{"$f":"IF((O224-'Fert selector'!$D$13)<0,(O224-'Fert selector'!$D$13)*-1,O224-'Fert selector'!$D$13)","v":150},{"$f":"IF(O224<('Fert selector'!$D$13+'Fert selector'!$D$13*'Fert selector'!$D$17),0,1)&IF(O224>('Fert selector'!$D$13-'Fert selector'!$D$13*'Fert selector'!$D$18),0,1)","v":"01"},{"$f":"IF(F224=0,0,'Fert selector'!$E$13/F224)","v":0},{"$f":"IF('Fert selector'!$D$15=\"Y\",$F224*$N224,IF('Fert selector'!$E$15=\"Y\",$F224*$S224,IF('Fert selector'!$F$15=\"Y\",$F224*$X224,IF('Fert selector'!$G$15=\"Y\",$F224*$AC224))))","v":0},0,{"$f":"IF((T224-'Fert selector'!$E$13)<0,(T224-'Fert selector'!$E$13)*-1,T224-'Fert selector'!$E$13)","v":0},{"$f":"IF(T224<('Fert selector'!$E$13+'Fert selector'!$E$13*'Fert selector'!$E$17),0,1)&IF(T224>('Fert selector'!$E$13-'Fert selector'!$E$13*'Fert selector'!$E$18),0,1)","v":"11"},{"$f":"IF(G224=0,0,'Fert selector'!$F$13/G224)","v":0},{"$f":"IF('Fert selector'!$D$15=\"Y\",$G224*$N224,IF('Fert selector'!$E$15=\"Y\",$G224*$S224,IF('Fert selector'!$F$15=\"Y\",$G224*$X224,IF('Fert selector'!$G$15=\"Y\",$G224*$AC224))))","v":0},90,{"$f":"IF((Y224-'Fert selector'!$F$13)<0,(Y224-'Fert selector'!$F$13)*-1,Y224-'Fert selector'!$F$13)","v":90},{"$f":"IF(Y224<('Fert selector'!$F$13+'Fert selector'!$F$13*'Fert selector'!$F$17),0,1)&IF(Y224>('Fert selector'!$F$13-'Fert selector'!$F$13*'Fert selector'!$F$18),0,1)","v":"01"},{"$f":"IF(H224=0,0,'Fert selector'!$G$13/H224)","v":0},{"$f":"IF('Fert selector'!$D$15=\"Y\",$H224*$N224,IF('Fert selector'!$E$15=\"Y\",$H224*$S224,IF('Fert selector'!$F$15=\"Y\",$H224*$X224,IF('Fert selector'!$G$15=\"Y\",$H224*$AC224))))","v":0},0,{"$f":"IF((AD224-'Fert selector'!$G$13)<0,(AD224-'Fert selector'!$G$13)*-1,AD224-'Fert selector'!$G$13)","v":0},{"$f":"IF(AD224<('Fert selector'!$G$13+'Fert selector'!$G$13*'Fert selector'!$G$17),0,1)&IF(AD224>('Fert selector'!$G$13-'Fert selector'!$G$13*'Fert selector'!$G$18),0,1)","v":"11"}]
[null,null,null,null,null,null,null,null,null,null,null,null,null,{"$f":"IF(E225=0,0,'Fert selector'!$D$13/E225)","v":0},{"$f":"IF('Fert selector'!$D$15=\"Y\",E225*N225,IF('Fert selector'!$E$15=\"Y\",F225*S225,IF('Fert selector'!$F$15=\"Y\",G225*X225,IF('Fert selector'!$G$15=\"Y\",H225*AC225))))","v":0},150,{"$f":"IF((O225-'Fert selector'!$D$13)<0,(O225-'Fert selector'!$D$13)*-1,O225-'Fert selector'!$D$13)","v":150},{"$f":"IF(O225<('Fert selector'!$D$13+'Fert selector'!$D$13*'Fert selector'!$D$17),0,1)&IF(O225>('Fert selector'!$D$13-'Fert selector'!$D$13*'Fert selector'!$D$18),0,1)","v":"01"},{"$f":"IF(F225=0,0,'Fert selector'!$E$13/F225)","v":0},{"$f":"IF('Fert selector'!$D$15=\"Y\",$F225*$N225,IF('Fert selector'!$E$15=\"Y\",$F225*$S225,IF('Fert selector'!$F$15=\"Y\",$F225*$X225,IF('Fert selector'!$G$15=\"Y\",$F225*$AC225))))","v":0},0,{"$f":"IF((T225-'Fert selector'!$E$13)<0,(T225-'Fert selector'!$E$13)*-1,T225-'Fert selector'!$E$13)","v":0},{"$f":"IF(T225<('Fert selector'!$E$13+'Fert selector'!$E$13*'Fert selector'!$E$17),0,1)&IF(T225>('Fert selector'!$E$13-'Fert selector'!$E$13*'Fert selector'!$E$18),0,1)","v":"11"},{"$f":"IF(G225=0,0,'Fert selector'!$F$13/G225)","v":0},{"$f":"IF('Fert selector'!$D$15=\"Y\",$G225*$N225,IF('Fert selector'!$E$15=\"Y\",$G225*$S225,IF('Fert selector'!$F$15=\"Y\",$G225*$X225,IF('Fert selector'!$G$15=\"Y\",$G225*$AC225))))","v":0},90,{"$f":"IF((Y225-'Fert selector'!$F$13)<0,(Y225-'Fert selector'!$F$13)*-1,Y225-'Fert selector'!$F$13)","v":90},{"$f":"IF(Y225<('Fert selector'!$F$13+'Fert selector'!$F$13*'Fert selector'!$F$17),0,1)&IF(Y225>('Fert selector'!$F$13-'Fert selector'!$F$13*'Fert selector'!$F$18),0,1)","v":"01"},{"$f":"IF(H225=0,0,'Fert selector'!$G$13/H225)","v":0},{"$f":"IF('Fert selector'!$D$15=\"Y\",$H225*$N225,IF('Fert selector'!$E$15=\"Y\",$H225*$S225,IF('Fert selector'!$F$15=\"Y\",$H225*$X225,IF('Fert selector'!$G$15=\"Y\",$H225*$AC225))))","v":0},0,{"$f":"IF((AD225-'Fert selector'!$G$13)<0,(AD225-'Fert selector'!$G$13)*-1,AD225-'Fert selector'!$G$13)","v":0},{"$f":"IF(AD225<('Fert selector'!$G$13+'Fert selector'!$G$13*'Fert selector'!$G$17),0,1)&IF(AD225>('Fert selector'!$G$13-'Fert selector'!$G$13*'Fert selector'!$G$18),0,1)","v":"11"}]
[null,null,null,null,null,null,null,null,null,null,null,null,null,{"$f":"IF(E226=0,0,'Fert selector'!$D$13/E226)","v":0},{"$f":"IF('Fert selector'!$D$15=\"Y\",E226*N226,IF('Fert selector'!$E$15=\"Y\",F226*S226,IF('Fert selector'!$F$15=\"Y\",G226*X226,IF('Fert selector'!$G$15=\"Y\",H226*AC226))))","v":0},150,{"$f":"IF((O226-'Fert selector'!$D$13)<0,(O226-'Fert selector'!$D$13)*-1,O226-'Fert selector'!$D$13)","v":150},{"$f":"IF(O226<('Fert selector'!$D$13+'Fert selector'!$D$13*'Fert selector'!$D$17),0,1)&IF(O226>('Fert selector'!$D$13-'Fert selector'!$D$13*'Fert selector'!$D$18),0,1)","v":"01"},{"$f":"IF(F226=0,0,'Fert selector'!$E$13/F226)","v":0},{"$f":"IF('Fert selector'!$D$15=\"Y\",$F226*$N226,IF('Fert selector'!$E$15=\"Y\",$F226*$S226,IF('Fert selector'!$F$15=\"Y\",$F226*$X226,IF('Fert selector'!$G$15=\"Y\",$F226*$AC226))))","v":0},0,{"$f":"IF((T226-'Fert selector'!$E$13)<0,(T226-'Fert selector'!$E$13)*-1,T226-'Fert selector'!$E$13)","v":0},{"$f":"IF(T226<('Fert selector'!$E$13+'Fert selector'!$E$13*'Fert selector'!$E$17),0,1)&IF(T226>('Fert selector'!$E$13-'Fert selector'!$E$13*'Fert selector'!$E$18),0,1)","v":"11"},{"$f":"IF(G226=0,0,'Fert selector'!$F$13/G226)","v":0},{"$f":"IF('Fert selector'!$D$15=\"Y\",$G226*$N226,IF('Fert selector'!$E$15=\"Y\",$G226*$S226,IF('Fert selector'!$F$15=\"Y\",$G226*$X226,IF('Fert selector'!$G$15=\"Y\",$G226*$AC226))))","v":0},90,{"$f":"IF((Y226-'Fert selector'!$F$13)<0,(Y226-'Fert selector'!$F$13)*-1,Y226-'Fert selector'!$F$13)","v":90},{"$f":"IF(Y226<('Fert selector'!$F$13+'Fert selector'!$F$13*'Fert selector'!$F$17),0,1)&IF(Y226>('Fert selector'!$F$13-'Fert selector'!$F$13*'Fert selector'!$F$18),0,1)","v":"01"},{"$f":"IF(H226=0,0,'Fert selector'!$G$13/H226)","v":0},{"$f":"IF('Fert selector'!$D$15=\"Y\",$H226*$N226,IF('Fert selector'!$E$15=\"Y\",$H226*$S226,IF('Fert selector'!$F$15=\"Y\",$H226*$X226,IF('Fert selector'!$G$15=\"Y\",$H226*$AC226))))","v":0},0,{"$f":"IF((AD226-'Fert selector'!$G$13)<0,(AD226-'Fert selector'!$G$13)*-1,AD226-'Fert selector'!$G$13)","v":0},{"$f":"IF(AD226<('Fert selector'!$G$13+'Fert selector'!$G$13*'Fert selector'!$G$17),0,1)&IF(AD226>('Fert selector'!$G$13-'Fert selector'!$G$13*'Fert selector'!$G$18),0,1)","v":"11"}]
[null,null,null,null,null,null,null,null,null,null,null,null,null,{"$f":"IF(E227=0,0,'Fert selector'!$D$13/E227)","v":0},{"$f":"IF('Fert selector'!$D$15=\"Y\",E227*N227,IF('Fert selector'!$E$15=\"Y\",F227*S227,IF('Fert selector'!$F$15=\"Y\",G227*X227,IF('Fert selector'!$G$15=\"Y\",H227*AC227))))","v":0},150,{"$f":"IF((O227-'Fert selector'!$D$13)<0,(O227-'Fert selector'!$D$13)*-1,O227-'Fert selector'!$D$13)","v":150},{"$f":"IF(O227<('Fert selector'!$D$13+'Fert selector'!$D$13*'Fert selector'!$D$17),0,1)&IF(O227>('Fert selector'!$D$13-'Fert selector'!$D$13*'Fert selector'!$D$18),0,1)","v":"01"},{"$f":"IF(F227=0,0,'Fert selector'!$E$13/F227)","v":0},{"$f":"IF('Fert selector'!$D$15=\"Y\",$F227*$N227,IF('Fert selector'!$E$15=\"Y\",$F227*$S227,IF('Fert selector'!$F$15=\"Y\",$F227*$X227,IF('Fert selector'!$G$15=\"Y\",$F227*$AC227))))","v":0},0,{"$f":"IF((T227-'Fert selector'!$E$13)<0,(T227-'Fert selector'!$E$13)*-1,T227-'Fert selector'!$E$13)","v":0},{"$f":"IF(T227<('Fert selector'!$E$13+'Fert selector'!$E$13*'Fert selector'!$E$17),0,1)&IF(T227>('Fert selector'!$E$13-'Fert selector'!$E$13*'Fert selector'!$E$18),0,1)","v":"11"},{"$f":"IF(G227=0,0,'Fert selector'!$F$13/G227)","v":0},{"$f":"IF('Fert selector'!$D$15=\"Y\",$G227*$N227,IF('Fert selector'!$E$15=\"Y\",$G227*$S227,IF('Fert selector'!$F$15=\"Y\",$G227*$X227,IF('Fert selector'!$G$15=\"Y\",$G227*$AC227))))","v":0},90,{"$f":"IF((Y227-'Fert selector'!$F$13)<0,(Y227-'Fert selector'!$F$13)*-1,Y227-'Fert selector'!$F$13)","v":90},{"$f":"IF(Y227<('Fert selector'!$F$13+'Fert selector'!$F$13*'Fert selector'!$F$17),0,1)&IF(Y227>('Fert selector'!$F$13-'Fert selector'!$F$13*'Fert selector'!$F$18),0,1)","v":"01"},{"$f":"IF(H227=0,0,'Fert selector'!$G$13/H227)","v":0},{"$f":"IF('Fert selector'!$D$15=\"Y\",$H227*$N227,IF('Fert selector'!$E$15=\"Y\",$H227*$S227,IF('Fert selector'!$F$15=\"Y\",$H227*$X227,IF('Fert selector'!$G$15=\"Y\",$H227*$AC227))))","v":0},0,{"$f":"IF((AD227-'Fert selector'!$G$13)<0,(AD227-'Fert selector'!$G$13)*-1,AD227-'Fert selector'!$G$13)","v":0},{"$f":"IF(AD227<('Fert selector'!$G$13+'Fert selector'!$G$13*'Fert selector'!$G$17),0,1)&IF(AD227>('Fert selector'!$G$13-'Fert selector'!$G$13*'Fert selector'!$G$18),0,1)","v":"11"}]
[null,null,null,null,null,null,null,null,null,null,null,null,null,{"$f":"IF(E228=0,0,'Fert selector'!$D$13/E228)","v":0},{"$f":"IF('Fert selector'!$D$15=\"Y\",E228*N228,IF('Fert selector'!$E$15=\"Y\",F228*S228,IF('Fert selector'!$F$15=\"Y\",G228*X228,IF('Fert selector'!$G$15=\"Y\",H228*AC228))))","v":0},150,{"$f":"IF((O228-'Fert selector'!$D$13)<0,(O228-'Fert selector'!$D$13)*-1,O228-'Fert selector'!$D$13)","v":150},{"$f":"IF(O228<('Fert selector'!$D$13+'Fert selector'!$D$13*'Fert selector'!$D$17),0,1)&IF(O228>('Fert selector'!$D$13-'Fert selector'!$D$13*'Fert selector'!$D$18),0,1)","v":"01"},{"$f":"IF(F228=0,0,'Fert selector'!$E$13/F228)","v":0},{"$f":"IF('Fert selector'!$D$15=\"Y\",$F228*$N228,IF('Fert selector'!$E$15=\"Y\",$F228*$S228,IF('Fert selector'!$F$15=\"Y\",$F228*$X228,IF('Fert selector'!$G$15=\"Y\",$F228*$AC228))))","v":0},0,{"$f":"IF((T228-'Fert selector'!$E$13)<0,(T228-'Fert selector'!$E$13)*-1,T228-'Fert selector'!$E$13)","v":0},{"$f":"IF(T228<('Fert selector'!$E$13+'Fert selector'!$E$13*'Fert selector'!$E$17),0,1)&IF(T228>('Fert selector'!$E$13-'Fert selector'!$E$13*'Fert selector'!$E$18),0,1)","v":"11"},{"$f":"IF(G228=0,0,'Fert selector'!$F$13/G228)","v":0},{"$f":"IF('Fert selector'!$D$15=\"Y\",$G228*$N228,IF('Fert selector'!$E$15=\"Y\",$G228*$S228,IF('Fert selector'!$F$15=\"Y\",$G228*$X228,IF('Fert selector'!$G$15=\"Y\",$G228*$AC228))))","v":0},90,{"$f":"IF((Y228-'Fert selector'!$F$13)<0,(Y228-'Fert selector'!$F$13)*-1,Y228-'Fert selector'!$F$13)","v":90},{"$f":"IF(Y228<('Fert selector'!$F$13+'Fert selector'!$F$13*'Fert selector'!$F$17),0,1)&IF(Y228>('Fert selector'!$F$13-'Fert selector'!$F$13*'Fert selector'!$F$18),0,1)","v":"01"},{"$f":"IF(H228=0,0,'Fert selector'!$G$13/H228)","v":0},{"$f":"IF('Fert selector'!$D$15=\"Y\",$H228*$N228,IF('Fert selector'!$E$15=\"Y\",$H228*$S228,IF('Fert selector'!$F$15=\"Y\",$H228*$X228,IF('Fert selector'!$G$15=\"Y\",$H228*$AC228))))","v":0},0,{"$f":"IF((AD228-'Fert selector'!$G$13)<0,(AD228-'Fert selector'!$G$13)*-1,AD228-'Fert selector'!$G$13)","v":0},{"$f":"IF(AD228<('Fert selector'!$G$13+'Fert selector'!$G$13*'Fert selector'!$G$17),0,1)&IF(AD228>('Fert selector'!$G$13-'Fert selector'!$G$13*'Fert selector'!$G$18),0,1)","v":"11"}]
[null,null,null,null,null,null,null,null,null,null,null,null,null,{"$f":"IF(E229=0,0,'Fert selector'!$D$13/E229)","v":0},{"$f":"IF('Fert selector'!$D$15=\"Y\",E229*N229,IF('Fert selector'!$E$15=\"Y\",F229*S229,IF('Fert selector'!$F$15=\"Y\",G229*X229,IF('Fert selector'!$G$15=\"Y\",H229*AC229))))","v":0},150,{"$f":"IF((O229-'Fert selector'!$D$13)<0,(O229-'Fert selector'!$D$13)*-1,O229-'Fert selector'!$D$13)","v":150},{"$f":"IF(O229<('Fert selector'!$D$13+'Fert selector'!$D$13*'Fert selector'!$D$17),0,1)&IF(O229>('Fert selector'!$D$13-'Fert selector'!$D$13*'Fert selector'!$D$18),0,1)","v":"01"},{"$f":"IF(F229=0,0,'Fert selector'!$E$13/F229)","v":0},{"$f":"IF('Fert selector'!$D$15=\"Y\",$F229*$N229,IF('Fert selector'!$E$15=\"Y\",$F229*$S229,IF('Fert selector'!$F$15=\"Y\",$F229*$X229,IF('Fert selector'!$G$15=\"Y\",$F229*$AC229))))","v":0},0,{"$f":"IF((T229-'Fert selector'!$E$13)<0,(T229-'Fert selector'!$E$13)*-1,T229-'Fert selector'!$E$13)","v":0},{"$f":"IF(T229<('Fert selector'!$E$13+'Fert selector'!$E$13*'Fert selector'!$E$17),0,1)&IF(T229>('Fert selector'!$E$13-'Fert selector'!$E$13*'Fert selector'!$E$18),0,1)","v":"11"},{"$f":"IF(G229=0,0,'Fert selector'!$F$13/G229)","v":0},{"$f":"IF('Fert selector'!$D$15=\"Y\",$G229*$N229,IF('Fert selector'!$E$15=\"Y\",$G229*$S229,IF('Fert selector'!$F$15=\"Y\",$G229*$X229,IF('Fert selector'!$G$15=\"Y\",$G229*$AC229))))","v":0},90,{"$f":"IF((Y229-'Fert selector'!$F$13)<0,(Y229-'Fert selector'!$F$13)*-1,Y229-'Fert selector'!$F$13)","v":90},{"$f":"IF(Y229<('Fert selector'!$F$13+'Fert selector'!$F$13*'Fert selector'!$F$17),0,1)&IF(Y229>('Fert selector'!$F$13-'Fert selector'!$F$13*'Fert selector'!$F$18),0,1)","v":"01"},{"$f":"IF(H229=0,0,'Fert selector'!$G$13/H229)","v":0},{"$f":"IF('Fert selector'!$D$15=\"Y\",$H229*$N229,IF('Fert selector'!$E$15=\"Y\",$H229*$S229,IF('Fert selector'!$F$15=\"Y\",$H229*$X229,IF('Fert selector'!$G$15=\"Y\",$H229*$AC229))))","v":0},0,{"$f":"IF((AD229-'Fert selector'!$G$13)<0,(AD229-'Fert selector'!$G$13)*-1,AD229-'Fert selector'!$G$13)","v":0},{"$f":"IF(AD229<('Fert selector'!$G$13+'Fert selector'!$G$13*'Fert selector'!$G$17),0,1)&IF(AD229>('Fert selector'!$G$13-'Fert selector'!$G$13*'Fert selector'!$G$18),0,1)","v":"11"}]
[null,null,null,null,null,null,null,null,null,null,null,null,null,{"$f":"IF(E230=0,0,'Fert selector'!$D$13/E230)","v":0},{"$f":"IF('Fert selector'!$D$15=\"Y\",E230*N230,IF('Fert selector'!$E$15=\"Y\",F230*S230,IF('Fert selector'!$F$15=\"Y\",G230*X230,IF('Fert selector'!$G$15=\"Y\",H230*AC230))))","v":0},150,{"$f":"IF((O230-'Fert selector'!$D$13)<0,(O230-'Fert selector'!$D$13)*-1,O230-'Fert selector'!$D$13)","v":150},{"$f":"IF(O230<('Fert selector'!$D$13+'Fert selector'!$D$13*'Fert selector'!$D$17),0,1)&IF(O230>('Fert selector'!$D$13-'Fert selector'!$D$13*'Fert selector'!$D$18),0,1)","v":"01"},{"$f":"IF(F230=0,0,'Fert selector'!$E$13/F230)","v":0},{"$f":"IF('Fert selector'!$D$15=\"Y\",$F230*$N230,IF('Fert selector'!$E$15=\"Y\",$F230*$S230,IF('Fert selector'!$F$15=\"Y\",$F230*$X230,IF('Fert selector'!$G$15=\"Y\",$F230*$AC230))))","v":0},0,{"$f":"IF((T230-'Fert selector'!$E$13)<0,(T230-'Fert selector'!$E$13)*-1,T230-'Fert selector'!$E$13)","v":0},{"$f":"IF(T230<('Fert selector'!$E$13+'Fert selector'!$E$13*'Fert selector'!$E$17),0,1)&IF(T230>('Fert selector'!$E$13-'Fert selector'!$E$13*'Fert selector'!$E$18),0,1)","v":"11"},{"$f":"IF(G230=0,0,'Fert selector'!$F$13/G230)","v":0},{"$f":"IF('Fert selector'!$D$15=\"Y\",$G230*$N230,IF('Fert selector'!$E$15=\"Y\",$G230*$S230,IF('Fert selector'!$F$15=\"Y\",$G230*$X230,IF('Fert selector'!$G$15=\"Y\",$G230*$AC230))))","v":0},90,{"$f":"IF((Y230-'Fert selector'!$F$13)<0,(Y230-'Fert selector'!$F$13)*-1,Y230-'Fert selector'!$F$13)","v":90},{"$f":"IF(Y230<('Fert selector'!$F$13+'Fert selector'!$F$13*'Fert selector'!$F$17),0,1)&IF(Y230>('Fert selector'!$F$13-'Fert selector'!$F$13*'Fert selector'!$F$18),0,1)","v":"01"},{"$f":"IF(H230=0,0,'Fert selector'!$G$13/H230)","v":0},{"$f":"IF('Fert selector'!$D$15=\"Y\",$H230*$N230,IF('Fert selector'!$E$15=\"Y\",$H230*$S230,IF('Fert selector'!$F$15=\"Y\",$H230*$X230,IF('Fert selector'!$G$15=\"Y\",$H230*$AC230))))","v":0},0,{"$f":"IF((AD230-'Fert selector'!$G$13)<0,(AD230-'Fert selector'!$G$13)*-1,AD230-'Fert selector'!$G$13)","v":0},{"$f":"IF(AD230<('Fert selector'!$G$13+'Fert selector'!$G$13*'Fert selector'!$G$17),0,1)&IF(AD230>('Fert selector'!$G$13-'Fert selector'!$G$13*'Fert selector'!$G$18),0,1)","v":"11"}]
[null,null,null,null,null,null,null,null,null,null,null,null,null,{"$f":"IF(E231=0,0,'Fert selector'!$D$13/E231)","v":0},{"$f":"IF('Fert selector'!$D$15=\"Y\",E231*N231,IF('Fert selector'!$E$15=\"Y\",F231*S231,IF('Fert selector'!$F$15=\"Y\",G231*X231,IF('Fert selector'!$G$15=\"Y\",H231*AC231))))","v":0},150,{"$f":"IF((O231-'Fert selector'!$D$13)<0,(O231-'Fert selector'!$D$13)*-1,O231-'Fert selector'!$D$13)","v":150},{"$f":"IF(O231<('Fert selector'!$D$13+'Fert selector'!$D$13*'Fert selector'!$D$17),0,1)&IF(O231>('Fert selector'!$D$13-'Fert selector'!$D$13*'Fert selector'!$D$18),0,1)","v":"01"},{"$f":"IF(F231=0,0,'Fert selector'!$E$13/F231)","v":0},{"$f":"IF('Fert selector'!$D$15=\"Y\",$F231*$N231,IF('Fert selector'!$E$15=\"Y\",$F231*$S231,IF('Fert selector'!$F$15=\"Y\",$F231*$X231,IF('Fert selector'!$G$15=\"Y\",$F231*$AC231))))","v":0},0,{"$f":"IF((T231-'Fert selector'!$E$13)<0,(T231-'Fert selector'!$E$13)*-1,T231-'Fert selector'!$E$13)","v":0},{"$f":"IF(T231<('Fert selector'!$E$13+'Fert selector'!$E$13*'Fert selector'!$E$17),0,1)&IF(T231>('Fert selector'!$E$13-'Fert selector'!$E$13*'Fert selector'!$E$18),0,1)","v":"11"},{"$f":"IF(G231=0,0,'Fert selector'!$F$13/G231)","v":0},{"$f":"IF('Fert selector'!$D$15=\"Y\",$G231*$N231,IF('Fert selector'!$E$15=\"Y\",$G231*$S231,IF('Fert selector'!$F$15=\"Y\",$G231*$X231,IF('Fert selector'!$G$15=\"Y\",$G231*$AC231))))","v":0},90,{"$f":"IF((Y231-'Fert selector'!$F$13)<0,(Y231-'Fert selector'!$F$13)*-1,Y231-'Fert selector'!$F$13)","v":90},{"$f":"IF(Y231<('Fert selector'!$F$13+'Fert selector'!$F$13*'Fert selector'!$F$17),0,1)&IF(Y231>('Fert selector'!$F$13-'Fert selector'!$F$13*'Fert selector'!$F$18),0,1)","v":"01"},{"$f":"IF(H231=0,0,'Fert selector'!$G$13/H231)","v":0},{"$f":"IF('Fert selector'!$D$15=\"Y\",$H231*$N231,IF('Fert selector'!$E$15=\"Y\",$H231*$S231,IF('Fert selector'!$F$15=\"Y\",$H231*$X231,IF('Fert selector'!$G$15=\"Y\",$H231*$AC231))))","v":0},0,{"$f":"IF((AD231-'Fert selector'!$G$13)<0,(AD231-'Fert selector'!$G$13)*-1,AD231-'Fert selector'!$G$13)","v":0},{"$f":"IF(AD231<('Fert selector'!$G$13+'Fert selector'!$G$13*'Fert selector'!$G$17),0,1)&IF(AD231>('Fert selector'!$G$13-'Fert selector'!$G$13*'Fert selector'!$G$18),0,1)","v":"11"}]
[null,null,null,null,null,null,null,null,null,null,null,null,null,{"$f":"IF(E232=0,0,'Fert selector'!$D$13/E232)","v":0},{"$f":"IF('Fert selector'!$D$15=\"Y\",E232*N232,IF('Fert selector'!$E$15=\"Y\",F232*S232,IF('Fert selector'!$F$15=\"Y\",G232*X232,IF('Fert selector'!$G$15=\"Y\",H232*AC232))))","v":0},150,{"$f":"IF((O232-'Fert selector'!$D$13)<0,(O232-'Fert selector'!$D$13)*-1,O232-'Fert selector'!$D$13)","v":150},{"$f":"IF(O232<('Fert selector'!$D$13+'Fert selector'!$D$13*'Fert selector'!$D$17),0,1)&IF(O232>('Fert selector'!$D$13-'Fert selector'!$D$13*'Fert selector'!$D$18),0,1)","v":"01"},{"$f":"IF(F232=0,0,'Fert selector'!$E$13/F232)","v":0},{"$f":"IF('Fert selector'!$D$15=\"Y\",$F232*$N232,IF('Fert selector'!$E$15=\"Y\",$F232*$S232,IF('Fert selector'!$F$15=\"Y\",$F232*$X232,IF('Fert selector'!$G$15=\"Y\",$F232*$AC232))))","v":0},0,{"$f":"IF((T232-'Fert selector'!$E$13)<0,(T232-'Fert selector'!$E$13)*-1,T232-'Fert selector'!$E$13)","v":0},{"$f":"IF(T232<('Fert selector'!$E$13+'Fert selector'!$E$13*'Fert selector'!$E$17),0,1)&IF(T232>('Fert selector'!$E$13-'Fert selector'!$E$13*'Fert selector'!$E$18),0,1)","v":"11"},{"$f":"IF(G232=0,0,'Fert selector'!$F$13/G232)","v":0},{"$f":"IF('Fert selector'!$D$15=\"Y\",$G232*$N232,IF('Fert selector'!$E$15=\"Y\",$G232*$S232,IF('Fert selector'!$F$15=\"Y\",$G232*$X232,IF('Fert selector'!$G$15=\"Y\",$G232*$AC232))))","v":0},90,{"$f":"IF((Y232-'Fert selector'!$F$13)<0,(Y232-'Fert selector'!$F$13)*-1,Y232-'Fert selector'!$F$13)","v":90},{"$f":"IF(Y232<('Fert selector'!$F$13+'Fert selector'!$F$13*'Fert selector'!$F$17),0,1)&IF(Y232>('Fert selector'!$F$13-'Fert selector'!$F$13*'Fert selector'!$F$18),0,1)","v":"01"},{"$f":"IF(H232=0,0,'Fert selector'!$G$13/H232)","v":0},{"$f":"IF('Fert selector'!$D$15=\"Y\",$H232*$N232,IF('Fert selector'!$E$15=\"Y\",$H232*$S232,IF('Fert selector'!$F$15=\"Y\",$H232*$X232,IF('Fert selector'!$G$15=\"Y\",$H232*$AC232))))","v":0},0,{"$f":"IF((AD232-'Fert selector'!$G$13)<0,(AD232-'Fert selector'!$G$13)*-1,AD232-'Fert selector'!$G$13)","v":0},{"$f":"IF(AD232<('Fert selector'!$G$13+'Fert selector'!$G$13*'Fert selector'!$G$17),0,1)&IF(AD232>('Fert selector'!$G$13-'Fert selector'!$G$13*'Fert selector'!$G$18),0,1)","v":"11"}]
[null,null,null,null,null,null,null,null,null,null,null,null,null,{"$f":"IF(E233=0,0,'Fert selector'!$D$13/E233)","v":0},{"$f":"IF('Fert selector'!$D$15=\"Y\",E233*N233,IF('Fert selector'!$E$15=\"Y\",F233*S233,IF('Fert selector'!$F$15=\"Y\",G233*X233,IF('Fert selector'!$G$15=\"Y\",H233*AC233))))","v":0},150,{"$f":"IF((O233-'Fert selector'!$D$13)<0,(O233-'Fert selector'!$D$13)*-1,O233-'Fert selector'!$D$13)","v":150},{"$f":"IF(O233<('Fert selector'!$D$13+'Fert selector'!$D$13*'Fert selector'!$D$17),0,1)&IF(O233>('Fert selector'!$D$13-'Fert selector'!$D$13*'Fert selector'!$D$18),0,1)","v":"01"},{"$f":"IF(F233=0,0,'Fert selector'!$E$13/F233)","v":0},{"$f":"IF('Fert selector'!$D$15=\"Y\",$F233*$N233,IF('Fert selector'!$E$15=\"Y\",$F233*$S233,IF('Fert selector'!$F$15=\"Y\",$F233*$X233,IF('Fert selector'!$G$15=\"Y\",$F233*$AC233))))","v":0},0,{"$f":"IF((T233-'Fert selector'!$E$13)<0,(T233-'Fert selector'!$E$13)*-1,T233-'Fert selector'!$E$13)","v":0},{"$f":"IF(T233<('Fert selector'!$E$13+'Fert selector'!$E$13*'Fert selector'!$E$17),0,1)&IF(T233>('Fert selector'!$E$13-'Fert selector'!$E$13*'Fert selector'!$E$18),0,1)","v":"11"},{"$f":"IF(G233=0,0,'Fert selector'!$F$13/G233)","v":0},{"$f":"IF('Fert selector'!$D$15=\"Y\",$G233*$N233,IF('Fert selector'!$E$15=\"Y\",$G233*$S233,IF('Fert selector'!$F$15=\"Y\",$G233*$X233,IF('Fert selector'!$G$15=\"Y\",$G233*$AC233))))","v":0},90,{"$f":"IF((Y233-'Fert selector'!$F$13)<0,(Y233-'Fert selector'!$F$13)*-1,Y233-'Fert selector'!$F$13)","v":90},{"$f":"IF(Y233<('Fert selector'!$F$13+'Fert selector'!$F$13*'Fert selector'!$F$17),0,1)&IF(Y233>('Fert selector'!$F$13-'Fert selector'!$F$13*'Fert selector'!$F$18),0,1)","v":"01"},{"$f":"IF(H233=0,0,'Fert selector'!$G$13/H233)","v":0},{"$f":"IF('Fert selector'!$D$15=\"Y\",$H233*$N233,IF('Fert selector'!$E$15=\"Y\",$H233*$S233,IF('Fert selector'!$F$15=\"Y\",$H233*$X233,IF('Fert selector'!$G$15=\"Y\",$H233*$AC233))))","v":0},0,{"$f":"IF((AD233-'Fert selector'!$G$13)<0,(AD233-'Fert selector'!$G$13)*-1,AD233-'Fert selector'!$G$13)","v":0},{"$f":"IF(AD233<('Fert selector'!$G$13+'Fert selector'!$G$13*'Fert selector'!$G$17),0,1)&IF(AD233>('Fert selector'!$G$13-'Fert selector'!$G$13*'Fert selector'!$G$18),0,1)","v":"11"}]
[null,null,null,null,null,null,null,null,null,null,null,null,null,{"$f":"IF(E234=0,0,'Fert selector'!$D$13/E234)","v":0},{"$f":"IF('Fert selector'!$D$15=\"Y\",E234*N234,IF('Fert selector'!$E$15=\"Y\",F234*S234,IF('Fert selector'!$F$15=\"Y\",G234*X234,IF('Fert selector'!$G$15=\"Y\",H234*AC234))))","v":0},150,{"$f":"IF((O234-'Fert selector'!$D$13)<0,(O234-'Fert selector'!$D$13)*-1,O234-'Fert selector'!$D$13)","v":150},{"$f":"IF(O234<('Fert selector'!$D$13+'Fert selector'!$D$13*'Fert selector'!$D$17),0,1)&IF(O234>('Fert selector'!$D$13-'Fert selector'!$D$13*'Fert selector'!$D$18),0,1)","v":"01"},{"$f":"IF(F234=0,0,'Fert selector'!$E$13/F234)","v":0},{"$f":"IF('Fert selector'!$D$15=\"Y\",$F234*$N234,IF('Fert selector'!$E$15=\"Y\",$F234*$S234,IF('Fert selector'!$F$15=\"Y\",$F234*$X234,IF('Fert selector'!$G$15=\"Y\",$F234*$AC234))))","v":0},0,{"$f":"IF((T234-'Fert selector'!$E$13)<0,(T234-'Fert selector'!$E$13)*-1,T234-'Fert selector'!$E$13)","v":0},{"$f":"IF(T234<('Fert selector'!$E$13+'Fert selector'!$E$13*'Fert selector'!$E$17),0,1)&IF(T234>('Fert selector'!$E$13-'Fert selector'!$E$13*'Fert selector'!$E$18),0,1)","v":"11"},{"$f":"IF(G234=0,0,'Fert selector'!$F$13/G234)","v":0},{"$f":"IF('Fert selector'!$D$15=\"Y\",$G234*$N234,IF('Fert selector'!$E$15=\"Y\",$G234*$S234,IF('Fert selector'!$F$15=\"Y\",$G234*$X234,IF('Fert selector'!$G$15=\"Y\",$G234*$AC234))))","v":0},90,{"$f":"IF((Y234-'Fert selector'!$F$13)<0,(Y234-'Fert selector'!$F$13)*-1,Y234-'Fert selector'!$F$13)","v":90},{"$f":"IF(Y234<('Fert selector'!$F$13+'Fert selector'!$F$13*'Fert selector'!$F$17),0,1)&IF(Y234>('Fert selector'!$F$13-'Fert selector'!$F$13*'Fert selector'!$F$18),0,1)","v":"01"},{"$f":"IF(H234=0,0,'Fert selector'!$G$13/H234)","v":0},{"$f":"IF('Fert selector'!$D$15=\"Y\",$H234*$N234,IF('Fert selector'!$E$15=\"Y\",$H234*$S234,IF('Fert selector'!$F$15=\"Y\",$H234*$X234,IF('Fert selector'!$G$15=\"Y\",$H234*$AC234))))","v":0},0,{"$f":"IF((AD234-'Fert selector'!$G$13)<0,(AD234-'Fert selector'!$G$13)*-1,AD234-'Fert selector'!$G$13)","v":0},{"$f":"IF(AD234<('Fert selector'!$G$13+'Fert selector'!$G$13*'Fert selector'!$G$17),0,1)&IF(AD234>('Fert selector'!$G$13-'Fert selector'!$G$13*'Fert selector'!$G$18),0,1)","v":"11"}]
[null,null,null,null,null,null,null,null,null,null,null,null,null,{"$f":"IF(E235=0,0,'Fert selector'!$D$13/E235)","v":0},{"$f":"IF('Fert selector'!$D$15=\"Y\",E235*N235,IF('Fert selector'!$E$15=\"Y\",F235*S235,IF('Fert selector'!$F$15=\"Y\",G235*X235,IF('Fert selector'!$G$15=\"Y\",H235*AC235))))","v":0},150,{"$f":"IF((O235-'Fert selector'!$D$13)<0,(O235-'Fert selector'!$D$13)*-1,O235-'Fert selector'!$D$13)","v":150},{"$f":"IF(O235<('Fert selector'!$D$13+'Fert selector'!$D$13*'Fert selector'!$D$17),0,1)&IF(O235>('Fert selector'!$D$13-'Fert selector'!$D$13*'Fert selector'!$D$18),0,1)","v":"01"},{"$f":"IF(F235=0,0,'Fert selector'!$E$13/F235)","v":0},{"$f":"IF('Fert selector'!$D$15=\"Y\",$F235*$N235,IF('Fert selector'!$E$15=\"Y\",$F235*$S235,IF('Fert selector'!$F$15=\"Y\",$F235*$X235,IF('Fert selector'!$G$15=\"Y\",$F235*$AC235))))","v":0},0,{"$f":"IF((T235-'Fert selector'!$E$13)<0,(T235-'Fert selector'!$E$13)*-1,T235-'Fert selector'!$E$13)","v":0},{"$f":"IF(T235<('Fert selector'!$E$13+'Fert selector'!$E$13*'Fert selector'!$E$17),0,1)&IF(T235>('Fert selector'!$E$13-'Fert selector'!$E$13*'Fert selector'!$E$18),0,1)","v":"11"},{"$f":"IF(G235=0,0,'Fert selector'!$F$13/G235)","v":0},{"$f":"IF('Fert selector'!$D$15=\"Y\",$G235*$N235,IF('Fert selector'!$E$15=\"Y\",$G235*$S235,IF('Fert selector'!$F$15=\"Y\",$G235*$X235,IF('Fert selector'!$G$15=\"Y\",$G235*$AC235))))","v":0},90,{"$f":"IF((Y235-'Fert selector'!$F$13)<0,(Y235-'Fert selector'!$F$13)*-1,Y235-'Fert selector'!$F$13)","v":90},{"$f":"IF(Y235<('Fert selector'!$F$13+'Fert selector'!$F$13*'Fert selector'!$F$17),0,1)&IF(Y235>('Fert selector'!$F$13-'Fert selector'!$F$13*'Fert selector'!$F$18),0,1)","v":"01"},{"$f":"IF(H235=0,0,'Fert selector'!$G$13/H235)","v":0},{"$f":"IF('Fert selector'!$D$15=\"Y\",$H235*$N235,IF('Fert selector'!$E$15=\"Y\",$H235*$S235,IF('Fert selector'!$F$15=\"Y\",$H235*$X235,IF('Fert selector'!$G$15=\"Y\",$H235*$AC235))))","v":0},0,{"$f":"IF((AD235-'Fert selector'!$G$13)<0,(AD235-'Fert selector'!$G$13)*-1,AD235-'Fert selector'!$G$13)","v":0},{"$f":"IF(AD235<('Fert selector'!$G$13+'Fert selector'!$G$13*'Fert selector'!$G$17),0,1)&IF(AD235>('Fert selector'!$G$13-'Fert selector'!$G$13*'Fert selector'!$G$18),0,1)","v":"11"}]
[null,null,null,null,null,null,null,null,null,null,null,null,null,{"$f":"IF(E236=0,0,'Fert selector'!$D$13/E236)","v":0},{"$f":"IF('Fert selector'!$D$15=\"Y\",E236*N236,IF('Fert selector'!$E$15=\"Y\",F236*S236,IF('Fert selector'!$F$15=\"Y\",G236*X236,IF('Fert selector'!$G$15=\"Y\",H236*AC236))))","v":0},150,{"$f":"IF((O236-'Fert selector'!$D$13)<0,(O236-'Fert selector'!$D$13)*-1,O236-'Fert selector'!$D$13)","v":150},{"$f":"IF(O236<('Fert selector'!$D$13+'Fert selector'!$D$13*'Fert selector'!$D$17),0,1)&IF(O236>('Fert selector'!$D$13-'Fert selector'!$D$13*'Fert selector'!$D$18),0,1)","v":"01"},{"$f":"IF(F236=0,0,'Fert selector'!$E$13/F236)","v":0},{"$f":"IF('Fert selector'!$D$15=\"Y\",$F236*$N236,IF('Fert selector'!$E$15=\"Y\",$F236*$S236,IF('Fert selector'!$F$15=\"Y\",$F236*$X236,IF('Fert selector'!$G$15=\"Y\",$F236*$AC236))))","v":0},0,{"$f":"IF((T236-'Fert selector'!$E$13)<0,(T236-'Fert selector'!$E$13)*-1,T236-'Fert selector'!$E$13)","v":0},{"$f":"IF(T236<('Fert selector'!$E$13+'Fert selector'!$E$13*'Fert selector'!$E$17),0,1)&IF(T236>('Fert selector'!$E$13-'Fert selector'!$E$13*'Fert selector'!$E$18),0,1)","v":"11"},{"$f":"IF(G236=0,0,'Fert selector'!$F$13/G236)","v":0},{"$f":"IF('Fert selector'!$D$15=\"Y\",$G236*$N236,IF('Fert selector'!$E$15=\"Y\",$G236*$S236,IF('Fert selector'!$F$15=\"Y\",$G236*$X236,IF('Fert selector'!$G$15=\"Y\",$G236*$AC236))))","v":0},90,{"$f":"IF((Y236-'Fert selector'!$F$13)<0,(Y236-'Fert selector'!$F$13)*-1,Y236-'Fert selector'!$F$13)","v":90},{"$f":"IF(Y236<('Fert selector'!$F$13+'Fert selector'!$F$13*'Fert selector'!$F$17),0,1)&IF(Y236>('Fert selector'!$F$13-'Fert selector'!$F$13*'Fert selector'!$F$18),0,1)","v":"01"},{"$f":"IF(H236=0,0,'Fert selector'!$G$13/H236)","v":0},{"$f":"IF('Fert selector'!$D$15=\"Y\",$H236*$N236,IF('Fert selector'!$E$15=\"Y\",$H236*$S236,IF('Fert selector'!$F$15=\"Y\",$H236*$X236,IF('Fert selector'!$G$15=\"Y\",$H236*$AC236))))","v":0},0,{"$f":"IF((AD236-'Fert selector'!$G$13)<0,(AD236-'Fert selector'!$G$13)*-1,AD236-'Fert selector'!$G$13)","v":0},{"$f":"IF(AD236<('Fert selector'!$G$13+'Fert selector'!$G$13*'Fert selector'!$G$17),0,1)&IF(AD236>('Fert selector'!$G$13-'Fert selector'!$G$13*'Fert selector'!$G$18),0,1)","v":"11"}]
[null,null,null,null,null,null,null,null,null,null,null,null,null,{"$f":"IF(E237=0,0,'Fert selector'!$D$13/E237)","v":0},{"$f":"IF('Fert selector'!$D$15=\"Y\",E237*N237,IF('Fert selector'!$E$15=\"Y\",F237*S237,IF('Fert selector'!$F$15=\"Y\",G237*X237,IF('Fert selector'!$G$15=\"Y\",H237*AC237))))","v":0},150,{"$f":"IF((O237-'Fert selector'!$D$13)<0,(O237-'Fert selector'!$D$13)*-1,O237-'Fert selector'!$D$13)","v":150},{"$f":"IF(O237<('Fert selector'!$D$13+'Fert selector'!$D$13*'Fert selector'!$D$17),0,1)&IF(O237>('Fert selector'!$D$13-'Fert selector'!$D$13*'Fert selector'!$D$18),0,1)","v":"01"},{"$f":"IF(F237=0,0,'Fert selector'!$E$13/F237)","v":0},{"$f":"IF('Fert selector'!$D$15=\"Y\",$F237*$N237,IF('Fert selector'!$E$15=\"Y\",$F237*$S237,IF('Fert selector'!$F$15=\"Y\",$F237*$X237,IF('Fert selector'!$G$15=\"Y\",$F237*$AC237))))","v":0},0,{"$f":"IF((T237-'Fert selector'!$E$13)<0,(T237-'Fert selector'!$E$13)*-1,T237-'Fert selector'!$E$13)","v":0},{"$f":"IF(T237<('Fert selector'!$E$13+'Fert selector'!$E$13*'Fert selector'!$E$17),0,1)&IF(T237>('Fert selector'!$E$13-'Fert selector'!$E$13*'Fert selector'!$E$18),0,1)","v":"11"},{"$f":"IF(G237=0,0,'Fert selector'!$F$13/G237)","v":0},{"$f":"IF('Fert selector'!$D$15=\"Y\",$G237*$N237,IF('Fert selector'!$E$15=\"Y\",$G237*$S237,IF('Fert selector'!$F$15=\"Y\",$G237*$X237,IF('Fert selector'!$G$15=\"Y\",$G237*$AC237))))","v":0},90,{"$f":"IF((Y237-'Fert selector'!$F$13)<0,(Y237-'Fert selector'!$F$13)*-1,Y237-'Fert selector'!$F$13)","v":90},{"$f":"IF(Y237<('Fert selector'!$F$13+'Fert selector'!$F$13*'Fert selector'!$F$17),0,1)&IF(Y237>('Fert selector'!$F$13-'Fert selector'!$F$13*'Fert selector'!$F$18),0,1)","v":"01"},{"$f":"IF(H237=0,0,'Fert selector'!$G$13/H237)","v":0},{"$f":"IF('Fert selector'!$D$15=\"Y\",$H237*$N237,IF('Fert selector'!$E$15=\"Y\",$H237*$S237,IF('Fert selector'!$F$15=\"Y\",$H237*$X237,IF('Fert selector'!$G$15=\"Y\",$H237*$AC237))))","v":0},0,{"$f":"IF((AD237-'Fert selector'!$G$13)<0,(AD237-'Fert selector'!$G$13)*-1,AD237-'Fert selector'!$G$13)","v":0},{"$f":"IF(AD237<('Fert selector'!$G$13+'Fert selector'!$G$13*'Fert selector'!$G$17),0,1)&IF(AD237>('Fert selector'!$G$13-'Fert selector'!$G$13*'Fert selector'!$G$18),0,1)","v":"11"}]
[null,null,null,null,null,null,null,null,null,null,null,null,null,{"$f":"IF(E238=0,0,'Fert selector'!$D$13/E238)","v":0},{"$f":"IF('Fert selector'!$D$15=\"Y\",E238*N238,IF('Fert selector'!$E$15=\"Y\",F238*S238,IF('Fert selector'!$F$15=\"Y\",G238*X238,IF('Fert selector'!$G$15=\"Y\",H238*AC238))))","v":0},150,{"$f":"IF((O238-'Fert selector'!$D$13)<0,(O238-'Fert selector'!$D$13)*-1,O238-'Fert selector'!$D$13)","v":150},{"$f":"IF(O238<('Fert selector'!$D$13+'Fert selector'!$D$13*'Fert selector'!$D$17),0,1)&IF(O238>('Fert selector'!$D$13-'Fert selector'!$D$13*'Fert selector'!$D$18),0,1)","v":"01"},{"$f":"IF(F238=0,0,'Fert selector'!$E$13/F238)","v":0},{"$f":"IF('Fert selector'!$D$15=\"Y\",$F238*$N238,IF('Fert selector'!$E$15=\"Y\",$F238*$S238,IF('Fert selector'!$F$15=\"Y\",$F238*$X238,IF('Fert selector'!$G$15=\"Y\",$F238*$AC238))))","v":0},0,{"$f":"IF((T238-'Fert selector'!$E$13)<0,(T238-'Fert selector'!$E$13)*-1,T238-'Fert selector'!$E$13)","v":0},{"$f":"IF(T238<('Fert selector'!$E$13+'Fert selector'!$E$13*'Fert selector'!$E$17),0,1)&IF(T238>('Fert selector'!$E$13-'Fert selector'!$E$13*'Fert selector'!$E$18),0,1)","v":"11"},{"$f":"IF(G238=0,0,'Fert selector'!$F$13/G238)","v":0},{"$f":"IF('Fert selector'!$D$15=\"Y\",$G238*$N238,IF('Fert selector'!$E$15=\"Y\",$G238*$S238,IF('Fert selector'!$F$15=\"Y\",$G238*$X238,IF('Fert selector'!$G$15=\"Y\",$G238*$AC238))))","v":0},90,{"$f":"IF((Y238-'Fert selector'!$F$13)<0,(Y238-'Fert selector'!$F$13)*-1,Y238-'Fert selector'!$F$13)","v":90},{"$f":"IF(Y238<('Fert selector'!$F$13+'Fert selector'!$F$13*'Fert selector'!$F$17),0,1)&IF(Y238>('Fert selector'!$F$13-'Fert selector'!$F$13*'Fert selector'!$F$18),0,1)","v":"01"},{"$f":"IF(H238=0,0,'Fert selector'!$G$13/H238)","v":0},{"$f":"IF('Fert selector'!$D$15=\"Y\",$H238*$N238,IF('Fert selector'!$E$15=\"Y\",$H238*$S238,IF('Fert selector'!$F$15=\"Y\",$H238*$X238,IF('Fert selector'!$G$15=\"Y\",$H238*$AC238))))","v":0},0,{"$f":"IF((AD238-'Fert selector'!$G$13)<0,(AD238-'Fert selector'!$G$13)*-1,AD238-'Fert selector'!$G$13)","v":0},{"$f":"IF(AD238<('Fert selector'!$G$13+'Fert selector'!$G$13*'Fert selector'!$G$17),0,1)&IF(AD238>('Fert selector'!$G$13-'Fert selector'!$G$13*'Fert selector'!$G$18),0,1)","v":"11"}]
[null,null,null,null,null,null,null,null,null,null,null,null,null,{"$f":"IF(E239=0,0,'Fert selector'!$D$13/E239)","v":0},{"$f":"IF('Fert selector'!$D$15=\"Y\",E239*N239,IF('Fert selector'!$E$15=\"Y\",F239*S239,IF('Fert selector'!$F$15=\"Y\",G239*X239,IF('Fert selector'!$G$15=\"Y\",H239*AC239))))","v":0},150,{"$f":"IF((O239-'Fert selector'!$D$13)<0,(O239-'Fert selector'!$D$13)*-1,O239-'Fert selector'!$D$13)","v":150},{"$f":"IF(O239<('Fert selector'!$D$13+'Fert selector'!$D$13*'Fert selector'!$D$17),0,1)&IF(O239>('Fert selector'!$D$13-'Fert selector'!$D$13*'Fert selector'!$D$18),0,1)","v":"01"},{"$f":"IF(F239=0,0,'Fert selector'!$E$13/F239)","v":0},{"$f":"IF('Fert selector'!$D$15=\"Y\",$F239*$N239,IF('Fert selector'!$E$15=\"Y\",$F239*$S239,IF('Fert selector'!$F$15=\"Y\",$F239*$X239,IF('Fert selector'!$G$15=\"Y\",$F239*$AC239))))","v":0},0,{"$f":"IF((T239-'Fert selector'!$E$13)<0,(T239-'Fert selector'!$E$13)*-1,T239-'Fert selector'!$E$13)","v":0},{"$f":"IF(T239<('Fert selector'!$E$13+'Fert selector'!$E$13*'Fert selector'!$E$17),0,1)&IF(T239>('Fert selector'!$E$13-'Fert selector'!$E$13*'Fert selector'!$E$18),0,1)","v":"11"},{"$f":"IF(G239=0,0,'Fert selector'!$F$13/G239)","v":0},{"$f":"IF('Fert selector'!$D$15=\"Y\",$G239*$N239,IF('Fert selector'!$E$15=\"Y\",$G239*$S239,IF('Fert selector'!$F$15=\"Y\",$G239*$X239,IF('Fert selector'!$G$15=\"Y\",$G239*$AC239))))","v":0},90,{"$f":"IF((Y239-'Fert selector'!$F$13)<0,(Y239-'Fert selector'!$F$13)*-1,Y239-'Fert selector'!$F$13)","v":90},{"$f":"IF(Y239<('Fert selector'!$F$13+'Fert selector'!$F$13*'Fert selector'!$F$17),0,1)&IF(Y239>('Fert selector'!$F$13-'Fert selector'!$F$13*'Fert selector'!$F$18),0,1)","v":"01"},{"$f":"IF(H239=0,0,'Fert selector'!$G$13/H239)","v":0},{"$f":"IF('Fert selector'!$D$15=\"Y\",$H239*$N239,IF('Fert selector'!$E$15=\"Y\",$H239*$S239,IF('Fert selector'!$F$15=\"Y\",$H239*$X239,IF('Fert selector'!$G$15=\"Y\",$H239*$AC239))))","v":0},0,{"$f":"IF((AD239-'Fert selector'!$G$13)<0,(AD239-'Fert selector'!$G$13)*-1,AD239-'Fert selector'!$G$13)","v":0},{"$f":"IF(AD239<('Fert selector'!$G$13+'Fert selector'!$G$13*'Fert selector'!$G$17),0,1)&IF(AD239>('Fert selector'!$G$13-'Fert selector'!$G$13*'Fert selector'!$G$18),0,1)","v":"11"}]
[null,null,null,null,null,null,null,null,null,null,null,null,null,{"$f":"IF(E240=0,0,'Fert selector'!$D$13/E240)","v":0},{"$f":"IF('Fert selector'!$D$15=\"Y\",E240*N240,IF('Fert selector'!$E$15=\"Y\",F240*S240,IF('Fert selector'!$F$15=\"Y\",G240*X240,IF('Fert selector'!$G$15=\"Y\",H240*AC240))))","v":0},150,{"$f":"IF((O240-'Fert selector'!$D$13)<0,(O240-'Fert selector'!$D$13)*-1,O240-'Fert selector'!$D$13)","v":150},{"$f":"IF(O240<('Fert selector'!$D$13+'Fert selector'!$D$13*'Fert selector'!$D$17),0,1)&IF(O240>('Fert selector'!$D$13-'Fert selector'!$D$13*'Fert selector'!$D$18),0,1)","v":"01"},{"$f":"IF(F240=0,0,'Fert selector'!$E$13/F240)","v":0},{"$f":"IF('Fert selector'!$D$15=\"Y\",$F240*$N240,IF('Fert selector'!$E$15=\"Y\",$F240*$S240,IF('Fert selector'!$F$15=\"Y\",$F240*$X240,IF('Fert selector'!$G$15=\"Y\",$F240*$AC240))))","v":0},0,{"$f":"IF((T240-'Fert selector'!$E$13)<0,(T240-'Fert selector'!$E$13)*-1,T240-'Fert selector'!$E$13)","v":0},{"$f":"IF(T240<('Fert selector'!$E$13+'Fert selector'!$E$13*'Fert selector'!$E$17),0,1)&IF(T240>('Fert selector'!$E$13-'Fert selector'!$E$13*'Fert selector'!$E$18),0,1)","v":"11"},{"$f":"IF(G240=0,0,'Fert selector'!$F$13/G240)","v":0},{"$f":"IF('Fert selector'!$D$15=\"Y\",$G240*$N240,IF('Fert selector'!$E$15=\"Y\",$G240*$S240,IF('Fert selector'!$F$15=\"Y\",$G240*$X240,IF('Fert selector'!$G$15=\"Y\",$G240*$AC240))))","v":0},90,{"$f":"IF((Y240-'Fert selector'!$F$13)<0,(Y240-'Fert selector'!$F$13)*-1,Y240-'Fert selector'!$F$13)","v":90},{"$f":"IF(Y240<('Fert selector'!$F$13+'Fert selector'!$F$13*'Fert selector'!$F$17),0,1)&IF(Y240>('Fert selector'!$F$13-'Fert selector'!$F$13*'Fert selector'!$F$18),0,1)","v":"01"},{"$f":"IF(H240=0,0,'Fert selector'!$G$13/H240)","v":0},{"$f":"IF('Fert selector'!$D$15=\"Y\",$H240*$N240,IF('Fert selector'!$E$15=\"Y\",$H240*$S240,IF('Fert selector'!$F$15=\"Y\",$H240*$X240,IF('Fert selector'!$G$15=\"Y\",$H240*$AC240))))","v":0},0,{"$f":"IF((AD240-'Fert selector'!$G$13)<0,(AD240-'Fert selector'!$G$13)*-1,AD240-'Fert selector'!$G$13)","v":0},{"$f":"IF(AD240<('Fert selector'!$G$13+'Fert selector'!$G$13*'Fert selector'!$G$17),0,1)&IF(AD240>('Fert selector'!$G$13-'Fert selector'!$G$13*'Fert selector'!$G$18),0,1)","v":"11"}]
[null,null,null,null,null,null,null,null,null,null,null,null,null,{"$f":"IF(E241=0,0,'Fert selector'!$D$13/E241)","v":0},{"$f":"IF('Fert selector'!$D$15=\"Y\",E241*N241,IF('Fert selector'!$E$15=\"Y\",F241*S241,IF('Fert selector'!$F$15=\"Y\",G241*X241,IF('Fert selector'!$G$15=\"Y\",H241*AC241))))","v":0},150,{"$f":"IF((O241-'Fert selector'!$D$13)<0,(O241-'Fert selector'!$D$13)*-1,O241-'Fert selector'!$D$13)","v":150},{"$f":"IF(O241<('Fert selector'!$D$13+'Fert selector'!$D$13*'Fert selector'!$D$17),0,1)&IF(O241>('Fert selector'!$D$13-'Fert selector'!$D$13*'Fert selector'!$D$18),0,1)","v":"01"},{"$f":"IF(F241=0,0,'Fert selector'!$E$13/F241)","v":0},{"$f":"IF('Fert selector'!$D$15=\"Y\",$F241*$N241,IF('Fert selector'!$E$15=\"Y\",$F241*$S241,IF('Fert selector'!$F$15=\"Y\",$F241*$X241,IF('Fert selector'!$G$15=\"Y\",$F241*$AC241))))","v":0},0,{"$f":"IF((T241-'Fert selector'!$E$13)<0,(T241-'Fert selector'!$E$13)*-1,T241-'Fert selector'!$E$13)","v":0},{"$f":"IF(T241<('Fert selector'!$E$13+'Fert selector'!$E$13*'Fert selector'!$E$17),0,1)&IF(T241>('Fert selector'!$E$13-'Fert selector'!$E$13*'Fert selector'!$E$18),0,1)","v":"11"},{"$f":"IF(G241=0,0,'Fert selector'!$F$13/G241)","v":0},{"$f":"IF('Fert selector'!$D$15=\"Y\",$G241*$N241,IF('Fert selector'!$E$15=\"Y\",$G241*$S241,IF('Fert selector'!$F$15=\"Y\",$G241*$X241,IF('Fert selector'!$G$15=\"Y\",$G241*$AC241))))","v":0},90,{"$f":"IF((Y241-'Fert selector'!$F$13)<0,(Y241-'Fert selector'!$F$13)*-1,Y241-'Fert selector'!$F$13)","v":90},{"$f":"IF(Y241<('Fert selector'!$F$13+'Fert selector'!$F$13*'Fert selector'!$F$17),0,1)&IF(Y241>('Fert selector'!$F$13-'Fert selector'!$F$13*'Fert selector'!$F$18),0,1)","v":"01"},{"$f":"IF(H241=0,0,'Fert selector'!$G$13/H241)","v":0},{"$f":"IF('Fert selector'!$D$15=\"Y\",$H241*$N241,IF('Fert selector'!$E$15=\"Y\",$H241*$S241,IF('Fert selector'!$F$15=\"Y\",$H241*$X241,IF('Fert selector'!$G$15=\"Y\",$H241*$AC241))))","v":0},0,{"$f":"IF((AD241-'Fert selector'!$G$13)<0,(AD241-'Fert selector'!$G$13)*-1,AD241-'Fert selector'!$G$13)","v":0},{"$f":"IF(AD241<('Fert selector'!$G$13+'Fert selector'!$G$13*'Fert selector'!$G$17),0,1)&IF(AD241>('Fert selector'!$G$13-'Fert selector'!$G$13*'Fert selector'!$G$18),0,1)","v":"11"}]
[null,null,null,null,null,null,null,null,null,null,null,null,null,{"$f":"IF(E242=0,0,'Fert selector'!$D$13/E242)","v":0},{"$f":"IF('Fert selector'!$D$15=\"Y\",E242*N242,IF('Fert selector'!$E$15=\"Y\",F242*S242,IF('Fert selector'!$F$15=\"Y\",G242*X242,IF('Fert selector'!$G$15=\"Y\",H242*AC242))))","v":0},150,{"$f":"IF((O242-'Fert selector'!$D$13)<0,(O242-'Fert selector'!$D$13)*-1,O242-'Fert selector'!$D$13)","v":150},{"$f":"IF(O242<('Fert selector'!$D$13+'Fert selector'!$D$13*'Fert selector'!$D$17),0,1)&IF(O242>('Fert selector'!$D$13-'Fert selector'!$D$13*'Fert selector'!$D$18),0,1)","v":"01"},{"$f":"IF(F242=0,0,'Fert selector'!$E$13/F242)","v":0},{"$f":"IF('Fert selector'!$D$15=\"Y\",$F242*$N242,IF('Fert selector'!$E$15=\"Y\",$F242*$S242,IF('Fert selector'!$F$15=\"Y\",$F242*$X242,IF('Fert selector'!$G$15=\"Y\",$F242*$AC242))))","v":0},0,{"$f":"IF((T242-'Fert selector'!$E$13)<0,(T242-'Fert selector'!$E$13)*-1,T242-'Fert selector'!$E$13)","v":0},{"$f":"IF(T242<('Fert selector'!$E$13+'Fert selector'!$E$13*'Fert selector'!$E$17),0,1)&IF(T242>('Fert selector'!$E$13-'Fert selector'!$E$13*'Fert selector'!$E$18),0,1)","v":"11"},{"$f":"IF(G242=0,0,'Fert selector'!$F$13/G242)","v":0},{"$f":"IF('Fert selector'!$D$15=\"Y\",$G242*$N242,IF('Fert selector'!$E$15=\"Y\",$G242*$S242,IF('Fert selector'!$F$15=\"Y\",$G242*$X242,IF('Fert selector'!$G$15=\"Y\",$G242*$AC242))))","v":0},90,{"$f":"IF((Y242-'Fert selector'!$F$13)<0,(Y242-'Fert selector'!$F$13)*-1,Y242-'Fert selector'!$F$13)","v":90},{"$f":"IF(Y242<('Fert selector'!$F$13+'Fert selector'!$F$13*'Fert selector'!$F$17),0,1)&IF(Y242>('Fert selector'!$F$13-'Fert selector'!$F$13*'Fert selector'!$F$18),0,1)","v":"01"},{"$f":"IF(H242=0,0,'Fert selector'!$G$13/H242)","v":0},{"$f":"IF('Fert selector'!$D$15=\"Y\",$H242*$N242,IF('Fert selector'!$E$15=\"Y\",$H242*$S242,IF('Fert selector'!$F$15=\"Y\",$H242*$X242,IF('Fert selector'!$G$15=\"Y\",$H242*$AC242))))","v":0},0,{"$f":"IF((AD242-'Fert selector'!$G$13)<0,(AD242-'Fert selector'!$G$13)*-1,AD242-'Fert selector'!$G$13)","v":0},{"$f":"IF(AD242<('Fert selector'!$G$13+'Fert selector'!$G$13*'Fert selector'!$G$17),0,1)&IF(AD242>('Fert selector'!$G$13-'Fert selector'!$G$13*'Fert selector'!$G$18),0,1)","v":"11"}]
[null,null,null,null,null,null,null,null,null,null,null,null,null,{"$f":"IF(E243=0,0,'Fert selector'!$D$13/E243)","v":0},{"$f":"IF('Fert selector'!$D$15=\"Y\",E243*N243,IF('Fert selector'!$E$15=\"Y\",F243*S243,IF('Fert selector'!$F$15=\"Y\",G243*X243,IF('Fert selector'!$G$15=\"Y\",H243*AC243))))","v":0},150,{"$f":"IF((O243-'Fert selector'!$D$13)<0,(O243-'Fert selector'!$D$13)*-1,O243-'Fert selector'!$D$13)","v":150},{"$f":"IF(O243<('Fert selector'!$D$13+'Fert selector'!$D$13*'Fert selector'!$D$17),0,1)&IF(O243>('Fert selector'!$D$13-'Fert selector'!$D$13*'Fert selector'!$D$18),0,1)","v":"01"},{"$f":"IF(F243=0,0,'Fert selector'!$E$13/F243)","v":0},{"$f":"IF('Fert selector'!$D$15=\"Y\",$F243*$N243,IF('Fert selector'!$E$15=\"Y\",$F243*$S243,IF('Fert selector'!$F$15=\"Y\",$F243*$X243,IF('Fert selector'!$G$15=\"Y\",$F243*$AC243))))","v":0},0,{"$f":"IF((T243-'Fert selector'!$E$13)<0,(T243-'Fert selector'!$E$13)*-1,T243-'Fert selector'!$E$13)","v":0},{"$f":"IF(T243<('Fert selector'!$E$13+'Fert selector'!$E$13*'Fert selector'!$E$17),0,1)&IF(T243>('Fert selector'!$E$13-'Fert selector'!$E$13*'Fert selector'!$E$18),0,1)","v":"11"},{"$f":"IF(G243=0,0,'Fert selector'!$F$13/G243)","v":0},{"$f":"IF('Fert selector'!$D$15=\"Y\",$G243*$N243,IF('Fert selector'!$E$15=\"Y\",$G243*$S243,IF('Fert selector'!$F$15=\"Y\",$G243*$X243,IF('Fert selector'!$G$15=\"Y\",$G243*$AC243))))","v":0},90,{"$f":"IF((Y243-'Fert selector'!$F$13)<0,(Y243-'Fert selector'!$F$13)*-1,Y243-'Fert selector'!$F$13)","v":90},{"$f":"IF(Y243<('Fert selector'!$F$13+'Fert selector'!$F$13*'Fert selector'!$F$17),0,1)&IF(Y243>('Fert selector'!$F$13-'Fert selector'!$F$13*'Fert selector'!$F$18),0,1)","v":"01"},{"$f":"IF(H243=0,0,'Fert selector'!$G$13/H243)","v":0},{"$f":"IF('Fert selector'!$D$15=\"Y\",$H243*$N243,IF('Fert selector'!$E$15=\"Y\",$H243*$S243,IF('Fert selector'!$F$15=\"Y\",$H243*$X243,IF('Fert selector'!$G$15=\"Y\",$H243*$AC243))))","v":0},0,{"$f":"IF((AD243-'Fert selector'!$G$13)<0,(AD243-'Fert selector'!$G$13)*-1,AD243-'Fert selector'!$G$13)","v":0},{"$f":"IF(AD243<('Fert selector'!$G$13+'Fert selector'!$G$13*'Fert selector'!$G$17),0,1)&IF(AD243>('Fert selector'!$G$13-'Fert selector'!$G$13*'Fert selector'!$G$18),0,1)","v":"11"}]
[null,null,null,null,null,null,null,null,null,null,null,null,null,{"$f":"IF(E244=0,0,'Fert selector'!$D$13/E244)","v":0},{"$f":"IF('Fert selector'!$D$15=\"Y\",E244*N244,IF('Fert selector'!$E$15=\"Y\",F244*S244,IF('Fert selector'!$F$15=\"Y\",G244*X244,IF('Fert selector'!$G$15=\"Y\",H244*AC244))))","v":0},150,{"$f":"IF((O244-'Fert selector'!$D$13)<0,(O244-'Fert selector'!$D$13)*-1,O244-'Fert selector'!$D$13)","v":150},{"$f":"IF(O244<('Fert selector'!$D$13+'Fert selector'!$D$13*'Fert selector'!$D$17),0,1)&IF(O244>('Fert selector'!$D$13-'Fert selector'!$D$13*'Fert selector'!$D$18),0,1)","v":"01"},{"$f":"IF(F244=0,0,'Fert selector'!$E$13/F244)","v":0},{"$f":"IF('Fert selector'!$D$15=\"Y\",$F244*$N244,IF('Fert selector'!$E$15=\"Y\",$F244*$S244,IF('Fert selector'!$F$15=\"Y\",$F244*$X244,IF('Fert selector'!$G$15=\"Y\",$F244*$AC244))))","v":0},0,{"$f":"IF((T244-'Fert selector'!$E$13)<0,(T244-'Fert selector'!$E$13)*-1,T244-'Fert selector'!$E$13)","v":0},{"$f":"IF(T244<('Fert selector'!$E$13+'Fert selector'!$E$13*'Fert selector'!$E$17),0,1)&IF(T244>('Fert selector'!$E$13-'Fert selector'!$E$13*'Fert selector'!$E$18),0,1)","v":"11"},{"$f":"IF(G244=0,0,'Fert selector'!$F$13/G244)","v":0},{"$f":"IF('Fert selector'!$D$15=\"Y\",$G244*$N244,IF('Fert selector'!$E$15=\"Y\",$G244*$S244,IF('Fert selector'!$F$15=\"Y\",$G244*$X244,IF('Fert selector'!$G$15=\"Y\",$G244*$AC244))))","v":0},90,{"$f":"IF((Y244-'Fert selector'!$F$13)<0,(Y244-'Fert selector'!$F$13)*-1,Y244-'Fert selector'!$F$13)","v":90},{"$f":"IF(Y244<('Fert selector'!$F$13+'Fert selector'!$F$13*'Fert selector'!$F$17),0,1)&IF(Y244>('Fert selector'!$F$13-'Fert selector'!$F$13*'Fert selector'!$F$18),0,1)","v":"01"},{"$f":"IF(H244=0,0,'Fert selector'!$G$13/H244)","v":0},{"$f":"IF('Fert selector'!$D$15=\"Y\",$H244*$N244,IF('Fert selector'!$E$15=\"Y\",$H244*$S244,IF('Fert selector'!$F$15=\"Y\",$H244*$X244,IF('Fert selector'!$G$15=\"Y\",$H244*$AC244))))","v":0},0,{"$f":"IF((AD244-'Fert selector'!$G$13)<0,(AD244-'Fert selector'!$G$13)*-1,AD244-'Fert selector'!$G$13)","v":0},{"$f":"IF(AD244<('Fert selector'!$G$13+'Fert selector'!$G$13*'Fert selector'!$G$17),0,1)&IF(AD244>('Fert selector'!$G$13-'Fert selector'!$G$13*'Fert selector'!$G$18),0,1)","v":"11"}]
[null,null,null,null,null,null,null,null,null,null,null,null,null,{"$f":"IF(E245=0,0,'Fert selector'!$D$13/E245)","v":0},{"$f":"IF('Fert selector'!$D$15=\"Y\",E245*N245,IF('Fert selector'!$E$15=\"Y\",F245*S245,IF('Fert selector'!$F$15=\"Y\",G245*X245,IF('Fert selector'!$G$15=\"Y\",H245*AC245))))","v":0},150,{"$f":"IF((O245-'Fert selector'!$D$13)<0,(O245-'Fert selector'!$D$13)*-1,O245-'Fert selector'!$D$13)","v":150},{"$f":"IF(O245<('Fert selector'!$D$13+'Fert selector'!$D$13*'Fert selector'!$D$17),0,1)&IF(O245>('Fert selector'!$D$13-'Fert selector'!$D$13*'Fert selector'!$D$18),0,1)","v":"01"},{"$f":"IF(F245=0,0,'Fert selector'!$E$13/F245)","v":0},{"$f":"IF('Fert selector'!$D$15=\"Y\",$F245*$N245,IF('Fert selector'!$E$15=\"Y\",$F245*$S245,IF('Fert selector'!$F$15=\"Y\",$F245*$X245,IF('Fert selector'!$G$15=\"Y\",$F245*$AC245))))","v":0},0,{"$f":"IF((T245-'Fert selector'!$E$13)<0,(T245-'Fert selector'!$E$13)*-1,T245-'Fert selector'!$E$13)","v":0},{"$f":"IF(T245<('Fert selector'!$E$13+'Fert selector'!$E$13*'Fert selector'!$E$17),0,1)&IF(T245>('Fert selector'!$E$13-'Fert selector'!$E$13*'Fert selector'!$E$18),0,1)","v":"11"},{"$f":"IF(G245=0,0,'Fert selector'!$F$13/G245)","v":0},{"$f":"IF('Fert selector'!$D$15=\"Y\",$G245*$N245,IF('Fert selector'!$E$15=\"Y\",$G245*$S245,IF('Fert selector'!$F$15=\"Y\",$G245*$X245,IF('Fert selector'!$G$15=\"Y\",$G245*$AC245))))","v":0},90,{"$f":"IF((Y245-'Fert selector'!$F$13)<0,(Y245-'Fert selector'!$F$13)*-1,Y245-'Fert selector'!$F$13)","v":90},{"$f":"IF(Y245<('Fert selector'!$F$13+'Fert selector'!$F$13*'Fert selector'!$F$17),0,1)&IF(Y245>('Fert selector'!$F$13-'Fert selector'!$F$13*'Fert selector'!$F$18),0,1)","v":"01"},{"$f":"IF(H245=0,0,'Fert selector'!$G$13/H245)","v":0},{"$f":"IF('Fert selector'!$D$15=\"Y\",$H245*$N245,IF('Fert selector'!$E$15=\"Y\",$H245*$S245,IF('Fert selector'!$F$15=\"Y\",$H245*$X245,IF('Fert selector'!$G$15=\"Y\",$H245*$AC245))))","v":0},0,{"$f":"IF((AD245-'Fert selector'!$G$13)<0,(AD245-'Fert selector'!$G$13)*-1,AD245-'Fert selector'!$G$13)","v":0},{"$f":"IF(AD245<('Fert selector'!$G$13+'Fert selector'!$G$13*'Fert selector'!$G$17),0,1)&IF(AD245>('Fert selector'!$G$13-'Fert selector'!$G$13*'Fert selector'!$G$18),0,1)","v":"11"}]
[null,null,null,null,null,null,null,null,null,null,null,null,null,{"$f":"IF(E246=0,0,'Fert selector'!$D$13/E246)","v":0},{"$f":"IF('Fert selector'!$D$15=\"Y\",E246*N246,IF('Fert selector'!$E$15=\"Y\",F246*S246,IF('Fert selector'!$F$15=\"Y\",G246*X246,IF('Fert selector'!$G$15=\"Y\",H246*AC246))))","v":0},150,{"$f":"IF((O246-'Fert selector'!$D$13)<0,(O246-'Fert selector'!$D$13)*-1,O246-'Fert selector'!$D$13)","v":150},{"$f":"IF(O246<('Fert selector'!$D$13+'Fert selector'!$D$13*'Fert selector'!$D$17),0,1)&IF(O246>('Fert selector'!$D$13-'Fert selector'!$D$13*'Fert selector'!$D$18),0,1)","v":"01"},{"$f":"IF(F246=0,0,'Fert selector'!$E$13/F246)","v":0},{"$f":"IF('Fert selector'!$D$15=\"Y\",$F246*$N246,IF('Fert selector'!$E$15=\"Y\",$F246*$S246,IF('Fert selector'!$F$15=\"Y\",$F246*$X246,IF('Fert selector'!$G$15=\"Y\",$F246*$AC246))))","v":0},0,{"$f":"IF((T246-'Fert selector'!$E$13)<0,(T246-'Fert selector'!$E$13)*-1,T246-'Fert selector'!$E$13)","v":0},{"$f":"IF(T246<('Fert selector'!$E$13+'Fert selector'!$E$13*'Fert selector'!$E$17),0,1)&IF(T246>('Fert selector'!$E$13-'Fert selector'!$E$13*'Fert selector'!$E$18),0,1)","v":"11"},{"$f":"IF(G246=0,0,'Fert selector'!$F$13/G246)","v":0},{"$f":"IF('Fert selector'!$D$15=\"Y\",$G246*$N246,IF('Fert selector'!$E$15=\"Y\",$G246*$S246,IF('Fert selector'!$F$15=\"Y\",$G246*$X246,IF('Fert selector'!$G$15=\"Y\",$G246*$AC246))))","v":0},90,{"$f":"IF((Y246-'Fert selector'!$F$13)<0,(Y246-'Fert selector'!$F$13)*-1,Y246-'Fert selector'!$F$13)","v":90},{"$f":"IF(Y246<('Fert selector'!$F$13+'Fert selector'!$F$13*'Fert selector'!$F$17),0,1)&IF(Y246>('Fert selector'!$F$13-'Fert selector'!$F$13*'Fert selector'!$F$18),0,1)","v":"01"},{"$f":"IF(H246=0,0,'Fert selector'!$G$13/H246)","v":0},{"$f":"IF('Fert selector'!$D$15=\"Y\",$H246*$N246,IF('Fert selector'!$E$15=\"Y\",$H246*$S246,IF('Fert selector'!$F$15=\"Y\",$H246*$X246,IF('Fert selector'!$G$15=\"Y\",$H246*$AC246))))","v":0},0,{"$f":"IF((AD246-'Fert selector'!$G$13)<0,(AD246-'Fert selector'!$G$13)*-1,AD246-'Fert selector'!$G$13)","v":0},{"$f":"IF(AD246<('Fert selector'!$G$13+'Fert selector'!$G$13*'Fert selector'!$G$17),0,1)&IF(AD246>('Fert selector'!$G$13-'Fert selector'!$G$13*'Fert selector'!$G$18),0,1)","v":"11"}]
[null,null,null,null,null,null,null,null,null,null,null,null,null,{"$f":"IF(E247=0,0,'Fert selector'!$D$13/E247)","v":0},{"$f":"IF('Fert selector'!$D$15=\"Y\",E247*N247,IF('Fert selector'!$E$15=\"Y\",F247*S247,IF('Fert selector'!$F$15=\"Y\",G247*X247,IF('Fert selector'!$G$15=\"Y\",H247*AC247))))","v":0},150,{"$f":"IF((O247-'Fert selector'!$D$13)<0,(O247-'Fert selector'!$D$13)*-1,O247-'Fert selector'!$D$13)","v":150},{"$f":"IF(O247<('Fert selector'!$D$13+'Fert selector'!$D$13*'Fert selector'!$D$17),0,1)&IF(O247>('Fert selector'!$D$13-'Fert selector'!$D$13*'Fert selector'!$D$18),0,1)","v":"01"},{"$f":"IF(F247=0,0,'Fert selector'!$E$13/F247)","v":0},{"$f":"IF('Fert selector'!$D$15=\"Y\",$F247*$N247,IF('Fert selector'!$E$15=\"Y\",$F247*$S247,IF('Fert selector'!$F$15=\"Y\",$F247*$X247,IF('Fert selector'!$G$15=\"Y\",$F247*$AC247))))","v":0},0,{"$f":"IF((T247-'Fert selector'!$E$13)<0,(T247-'Fert selector'!$E$13)*-1,T247-'Fert selector'!$E$13)","v":0},{"$f":"IF(T247<('Fert selector'!$E$13+'Fert selector'!$E$13*'Fert selector'!$E$17),0,1)&IF(T247>('Fert selector'!$E$13-'Fert selector'!$E$13*'Fert selector'!$E$18),0,1)","v":"11"},{"$f":"IF(G247=0,0,'Fert selector'!$F$13/G247)","v":0},{"$f":"IF('Fert selector'!$D$15=\"Y\",$G247*$N247,IF('Fert selector'!$E$15=\"Y\",$G247*$S247,IF('Fert selector'!$F$15=\"Y\",$G247*$X247,IF('Fert selector'!$G$15=\"Y\",$G247*$AC247))))","v":0},90,{"$f":"IF((Y247-'Fert selector'!$F$13)<0,(Y247-'Fert selector'!$F$13)*-1,Y247-'Fert selector'!$F$13)","v":90},{"$f":"IF(Y247<('Fert selector'!$F$13+'Fert selector'!$F$13*'Fert selector'!$F$17),0,1)&IF(Y247>('Fert selector'!$F$13-'Fert selector'!$F$13*'Fert selector'!$F$18),0,1)","v":"01"},{"$f":"IF(H247=0,0,'Fert selector'!$G$13/H247)","v":0},{"$f":"IF('Fert selector'!$D$15=\"Y\",$H247*$N247,IF('Fert selector'!$E$15=\"Y\",$H247*$S247,IF('Fert selector'!$F$15=\"Y\",$H247*$X247,IF('Fert selector'!$G$15=\"Y\",$H247*$AC247))))","v":0},0,{"$f":"IF((AD247-'Fert selector'!$G$13)<0,(AD247-'Fert selector'!$G$13)*-1,AD247-'Fert selector'!$G$13)","v":0},{"$f":"IF(AD247<('Fert selector'!$G$13+'Fert selector'!$G$13*'Fert selector'!$G$17),0,1)&IF(AD247>('Fert selector'!$G$13-'Fert selector'!$G$13*'Fert selector'!$G$18),0,1)","v":"11"}]
[null,null,null,null,null,null,null,null,null,null,null,null,null,{"$f":"IF(E248=0,0,'Fert selector'!$D$13/E248)","v":0},{"$f":"IF('Fert selector'!$D$15=\"Y\",E248*N248,IF('Fert selector'!$E$15=\"Y\",F248*S248,IF('Fert selector'!$F$15=\"Y\",G248*X248,IF('Fert selector'!$G$15=\"Y\",H248*AC248))))","v":0},150,{"$f":"IF((O248-'Fert selector'!$D$13)<0,(O248-'Fert selector'!$D$13)*-1,O248-'Fert selector'!$D$13)","v":150},{"$f":"IF(O248<('Fert selector'!$D$13+'Fert selector'!$D$13*'Fert selector'!$D$17),0,1)&IF(O248>('Fert selector'!$D$13-'Fert selector'!$D$13*'Fert selector'!$D$18),0,1)","v":"01"},{"$f":"IF(F248=0,0,'Fert selector'!$E$13/F248)","v":0},{"$f":"IF('Fert selector'!$D$15=\"Y\",$F248*$N248,IF('Fert selector'!$E$15=\"Y\",$F248*$S248,IF('Fert selector'!$F$15=\"Y\",$F248*$X248,IF('Fert selector'!$G$15=\"Y\",$F248*$AC248))))","v":0},0,{"$f":"IF((T248-'Fert selector'!$E$13)<0,(T248-'Fert selector'!$E$13)*-1,T248-'Fert selector'!$E$13)","v":0},{"$f":"IF(T248<('Fert selector'!$E$13+'Fert selector'!$E$13*'Fert selector'!$E$17),0,1)&IF(T248>('Fert selector'!$E$13-'Fert selector'!$E$13*'Fert selector'!$E$18),0,1)","v":"11"},{"$f":"IF(G248=0,0,'Fert selector'!$F$13/G248)","v":0},{"$f":"IF('Fert selector'!$D$15=\"Y\",$G248*$N248,IF('Fert selector'!$E$15=\"Y\",$G248*$S248,IF('Fert selector'!$F$15=\"Y\",$G248*$X248,IF('Fert selector'!$G$15=\"Y\",$G248*$AC248))))","v":0},90,{"$f":"IF((Y248-'Fert selector'!$F$13)<0,(Y248-'Fert selector'!$F$13)*-1,Y248-'Fert selector'!$F$13)","v":90},{"$f":"IF(Y248<('Fert selector'!$F$13+'Fert selector'!$F$13*'Fert selector'!$F$17),0,1)&IF(Y248>('Fert selector'!$F$13-'Fert selector'!$F$13*'Fert selector'!$F$18),0,1)","v":"01"},{"$f":"IF(H248=0,0,'Fert selector'!$G$13/H248)","v":0},{"$f":"IF('Fert selector'!$D$15=\"Y\",$H248*$N248,IF('Fert selector'!$E$15=\"Y\",$H248*$S248,IF('Fert selector'!$F$15=\"Y\",$H248*$X248,IF('Fert selector'!$G$15=\"Y\",$H248*$AC248))))","v":0},0,{"$f":"IF((AD248-'Fert selector'!$G$13)<0,(AD248-'Fert selector'!$G$13)*-1,AD248-'Fert selector'!$G$13)","v":0},{"$f":"IF(AD248<('Fert selector'!$G$13+'Fert selector'!$G$13*'Fert selector'!$G$17),0,1)&IF(AD248>('Fert selector'!$G$13-'Fert selector'!$G$13*'Fert selector'!$G$18),0,1)","v":"11"}]
[null,null,null,null,null,null,null,null,null,null,null,null,null,{"$f":"IF(E249=0,0,'Fert selector'!$D$13/E249)","v":0},{"$f":"IF('Fert selector'!$D$15=\"Y\",E249*N249,IF('Fert selector'!$E$15=\"Y\",F249*S249,IF('Fert selector'!$F$15=\"Y\",G249*X249,IF('Fert selector'!$G$15=\"Y\",H249*AC249))))","v":0},150,{"$f":"IF((O249-'Fert selector'!$D$13)<0,(O249-'Fert selector'!$D$13)*-1,O249-'Fert selector'!$D$13)","v":150},{"$f":"IF(O249<('Fert selector'!$D$13+'Fert selector'!$D$13*'Fert selector'!$D$17),0,1)&IF(O249>('Fert selector'!$D$13-'Fert selector'!$D$13*'Fert selector'!$D$18),0,1)","v":"01"},{"$f":"IF(F249=0,0,'Fert selector'!$E$13/F249)","v":0},{"$f":"IF('Fert selector'!$D$15=\"Y\",$F249*$N249,IF('Fert selector'!$E$15=\"Y\",$F249*$S249,IF('Fert selector'!$F$15=\"Y\",$F249*$X249,IF('Fert selector'!$G$15=\"Y\",$F249*$AC249))))","v":0},0,{"$f":"IF((T249-'Fert selector'!$E$13)<0,(T249-'Fert selector'!$E$13)*-1,T249-'Fert selector'!$E$13)","v":0},{"$f":"IF(T249<('Fert selector'!$E$13+'Fert selector'!$E$13*'Fert selector'!$E$17),0,1)&IF(T249>('Fert selector'!$E$13-'Fert selector'!$E$13*'Fert selector'!$E$18),0,1)","v":"11"},{"$f":"IF(G249=0,0,'Fert selector'!$F$13/G249)","v":0},{"$f":"IF('Fert selector'!$D$15=\"Y\",$G249*$N249,IF('Fert selector'!$E$15=\"Y\",$G249*$S249,IF('Fert selector'!$F$15=\"Y\",$G249*$X249,IF('Fert selector'!$G$15=\"Y\",$G249*$AC249))))","v":0},90,{"$f":"IF((Y249-'Fert selector'!$F$13)<0,(Y249-'Fert selector'!$F$13)*-1,Y249-'Fert selector'!$F$13)","v":90},{"$f":"IF(Y249<('Fert selector'!$F$13+'Fert selector'!$F$13*'Fert selector'!$F$17),0,1)&IF(Y249>('Fert selector'!$F$13-'Fert selector'!$F$13*'Fert selector'!$F$18),0,1)","v":"01"},{"$f":"IF(H249=0,0,'Fert selector'!$G$13/H249)","v":0},{"$f":"IF('Fert selector'!$D$15=\"Y\",$H249*$N249,IF('Fert selector'!$E$15=\"Y\",$H249*$S249,IF('Fert selector'!$F$15=\"Y\",$H249*$X249,IF('Fert selector'!$G$15=\"Y\",$H249*$AC249))))","v":0},0,{"$f":"IF((AD249-'Fert selector'!$G$13)<0,(AD249-'Fert selector'!$G$13)*-1,AD249-'Fert selector'!$G$13)","v":0},{"$f":"IF(AD249<('Fert selector'!$G$13+'Fert selector'!$G$13*'Fert selector'!$G$17),0,1)&IF(AD249>('Fert selector'!$G$13-'Fert selector'!$G$13*'Fert selector'!$G$18),0,1)","v":"11"}]
[null,null,null,null,null,null,null,null,null,null,null,null,null,{"$f":"IF(E250=0,0,'Fert selector'!$D$13/E250)","v":0},{"$f":"IF('Fert selector'!$D$15=\"Y\",E250*N250,IF('Fert selector'!$E$15=\"Y\",F250*S250,IF('Fert selector'!$F$15=\"Y\",G250*X250,IF('Fert selector'!$G$15=\"Y\",H250*AC250))))","v":0},150,{"$f":"IF((O250-'Fert selector'!$D$13)<0,(O250-'Fert selector'!$D$13)*-1,O250-'Fert selector'!$D$13)","v":150},{"$f":"IF(O250<('Fert selector'!$D$13+'Fert selector'!$D$13*'Fert selector'!$D$17),0,1)&IF(O250>('Fert selector'!$D$13-'Fert selector'!$D$13*'Fert selector'!$D$18),0,1)","v":"01"},{"$f":"IF(F250=0,0,'Fert selector'!$E$13/F250)","v":0},{"$f":"IF('Fert selector'!$D$15=\"Y\",$F250*$N250,IF('Fert selector'!$E$15=\"Y\",$F250*$S250,IF('Fert selector'!$F$15=\"Y\",$F250*$X250,IF('Fert selector'!$G$15=\"Y\",$F250*$AC250))))","v":0},0,{"$f":"IF((T250-'Fert selector'!$E$13)<0,(T250-'Fert selector'!$E$13)*-1,T250-'Fert selector'!$E$13)","v":0},{"$f":"IF(T250<('Fert selector'!$E$13+'Fert selector'!$E$13*'Fert selector'!$E$17),0,1)&IF(T250>('Fert selector'!$E$13-'Fert selector'!$E$13*'Fert selector'!$E$18),0,1)","v":"11"},{"$f":"IF(G250=0,0,'Fert selector'!$F$13/G250)","v":0},{"$f":"IF('Fert selector'!$D$15=\"Y\",$G250*$N250,IF('Fert selector'!$E$15=\"Y\",$G250*$S250,IF('Fert selector'!$F$15=\"Y\",$G250*$X250,IF('Fert selector'!$G$15=\"Y\",$G250*$AC250))))","v":0},90,{"$f":"IF((Y250-'Fert selector'!$F$13)<0,(Y250-'Fert selector'!$F$13)*-1,Y250-'Fert selector'!$F$13)","v":90},{"$f":"IF(Y250<('Fert selector'!$F$13+'Fert selector'!$F$13*'Fert selector'!$F$17),0,1)&IF(Y250>('Fert selector'!$F$13-'Fert selector'!$F$13*'Fert selector'!$F$18),0,1)","v":"01"},{"$f":"IF(H250=0,0,'Fert selector'!$G$13/H250)","v":0},{"$f":"IF('Fert selector'!$D$15=\"Y\",$H250*$N250,IF('Fert selector'!$E$15=\"Y\",$H250*$S250,IF('Fert selector'!$F$15=\"Y\",$H250*$X250,IF('Fert selector'!$G$15=\"Y\",$H250*$AC250))))","v":0},0,{"$f":"IF((AD250-'Fert selector'!$G$13)<0,(AD250-'Fert selector'!$G$13)*-1,AD250-'Fert selector'!$G$13)","v":0},{"$f":"IF(AD250<('Fert selector'!$G$13+'Fert selector'!$G$13*'Fert selector'!$G$17),0,1)&IF(AD250>('Fert selector'!$G$13-'Fert selector'!$G$13*'Fert selector'!$G$18),0,1)","v":"11"}]
[null,null,null,null,null,null,null,null,null,null,null,null,null,{"$f":"IF(E251=0,0,'Fert selector'!$D$13/E251)","v":0},{"$f":"IF('Fert selector'!$D$15=\"Y\",E251*N251,IF('Fert selector'!$E$15=\"Y\",F251*S251,IF('Fert selector'!$F$15=\"Y\",G251*X251,IF('Fert selector'!$G$15=\"Y\",H251*AC251))))","v":0},150,{"$f":"IF((O251-'Fert selector'!$D$13)<0,(O251-'Fert selector'!$D$13)*-1,O251-'Fert selector'!$D$13)","v":150},{"$f":"IF(O251<('Fert selector'!$D$13+'Fert selector'!$D$13*'Fert selector'!$D$17),0,1)&IF(O251>('Fert selector'!$D$13-'Fert selector'!$D$13*'Fert selector'!$D$18),0,1)","v":"01"},{"$f":"IF(F251=0,0,'Fert selector'!$E$13/F251)","v":0},{"$f":"IF('Fert selector'!$D$15=\"Y\",$F251*$N251,IF('Fert selector'!$E$15=\"Y\",$F251*$S251,IF('Fert selector'!$F$15=\"Y\",$F251*$X251,IF('Fert selector'!$G$15=\"Y\",$F251*$AC251))))","v":0},0,{"$f":"IF((T251-'Fert selector'!$E$13)<0,(T251-'Fert selector'!$E$13)*-1,T251-'Fert selector'!$E$13)","v":0},{"$f":"IF(T251<('Fert selector'!$E$13+'Fert selector'!$E$13*'Fert selector'!$E$17),0,1)&IF(T251>('Fert selector'!$E$13-'Fert selector'!$E$13*'Fert selector'!$E$18),0,1)","v":"11"},{"$f":"IF(G251=0,0,'Fert selector'!$F$13/G251)","v":0},{"$f":"IF('Fert selector'!$D$15=\"Y\",$G251*$N251,IF('Fert selector'!$E$15=\"Y\",$G251*$S251,IF('Fert selector'!$F$15=\"Y\",$G251*$X251,IF('Fert selector'!$G$15=\"Y\",$G251*$AC251))))","v":0},90,{"$f":"IF((Y251-'Fert selector'!$F$13)<0,(Y251-'Fert selector'!$F$13)*-1,Y251-'Fert selector'!$F$13)","v":90},{"$f":"IF(Y251<('Fert selector'!$F$13+'Fert selector'!$F$13*'Fert selector'!$F$17),0,1)&IF(Y251>('Fert selector'!$F$13-'Fert selector'!$F$13*'Fert selector'!$F$18),0,1)","v":"01"},{"$f":"IF(H251=0,0,'Fert selector'!$G$13/H251)","v":0},{"$f":"IF('Fert selector'!$D$15=\"Y\",$H251*$N251,IF('Fert selector'!$E$15=\"Y\",$H251*$S251,IF('Fert selector'!$F$15=\"Y\",$H251*$X251,IF('Fert selector'!$G$15=\"Y\",$H251*$AC251))))","v":0},0,{"$f":"IF((AD251-'Fert selector'!$G$13)<0,(AD251-'Fert selector'!$G$13)*-1,AD251-'Fert selector'!$G$13)","v":0},{"$f":"IF(AD251<('Fert selector'!$G$13+'Fert selector'!$G$13*'Fert selector'!$G$17),0,1)&IF(AD251>('Fert selector'!$G$13-'Fert selector'!$G$13*'Fert selector'!$G$18),0,1)","v":"11"}]
[null,null,null,null,null,null,null,null,null,null,null,null,null,{"$f":"IF(E252=0,0,'Fert selector'!$D$13/E252)","v":0},{"$f":"IF('Fert selector'!$D$15=\"Y\",E252*N252,IF('Fert selector'!$E$15=\"Y\",F252*S252,IF('Fert selector'!$F$15=\"Y\",G252*X252,IF('Fert selector'!$G$15=\"Y\",H252*AC252))))","v":0},150,{"$f":"IF((O252-'Fert selector'!$D$13)<0,(O252-'Fert selector'!$D$13)*-1,O252-'Fert selector'!$D$13)","v":150},{"$f":"IF(O252<('Fert selector'!$D$13+'Fert selector'!$D$13*'Fert selector'!$D$17),0,1)&IF(O252>('Fert selector'!$D$13-'Fert selector'!$D$13*'Fert selector'!$D$18),0,1)","v":"01"},{"$f":"IF(F252=0,0,'Fert selector'!$E$13/F252)","v":0},{"$f":"IF('Fert selector'!$D$15=\"Y\",$F252*$N252,IF('Fert selector'!$E$15=\"Y\",$F252*$S252,IF('Fert selector'!$F$15=\"Y\",$F252*$X252,IF('Fert selector'!$G$15=\"Y\",$F252*$AC252))))","v":0},0,{"$f":"IF((T252-'Fert selector'!$E$13)<0,(T252-'Fert selector'!$E$13)*-1,T252-'Fert selector'!$E$13)","v":0},{"$f":"IF(T252<('Fert selector'!$E$13+'Fert selector'!$E$13*'Fert selector'!$E$17),0,1)&IF(T252>('Fert selector'!$E$13-'Fert selector'!$E$13*'Fert selector'!$E$18),0,1)","v":"11"},{"$f":"IF(G252=0,0,'Fert selector'!$F$13/G252)","v":0},{"$f":"IF('Fert selector'!$D$15=\"Y\",$G252*$N252,IF('Fert selector'!$E$15=\"Y\",$G252*$S252,IF('Fert selector'!$F$15=\"Y\",$G252*$X252,IF('Fert selector'!$G$15=\"Y\",$G252*$AC252))))","v":0},90,{"$f":"IF((Y252-'Fert selector'!$F$13)<0,(Y252-'Fert selector'!$F$13)*-1,Y252-'Fert selector'!$F$13)","v":90},{"$f":"IF(Y252<('Fert selector'!$F$13+'Fert selector'!$F$13*'Fert selector'!$F$17),0,1)&IF(Y252>('Fert selector'!$F$13-'Fert selector'!$F$13*'Fert selector'!$F$18),0,1)","v":"01"},{"$f":"IF(H252=0,0,'Fert selector'!$G$13/H252)","v":0},{"$f":"IF('Fert selector'!$D$15=\"Y\",$H252*$N252,IF('Fert selector'!$E$15=\"Y\",$H252*$S252,IF('Fert selector'!$F$15=\"Y\",$H252*$X252,IF('Fert selector'!$G$15=\"Y\",$H252*$AC252))))","v":0},0,{"$f":"IF((AD252-'Fert selector'!$G$13)<0,(AD252-'Fert selector'!$G$13)*-1,AD252-'Fert selector'!$G$13)","v":0},{"$f":"IF(AD252<('Fert selector'!$G$13+'Fert selector'!$G$13*'Fert selector'!$G$17),0,1)&IF(AD252>('Fert selector'!$G$13-'Fert selector'!$G$13*'Fert selector'!$G$18),0,1)","v":"11"}]
[null,null,null,null,null,null,null,null,null,null,null,null,null,{"$f":"IF(E253=0,0,'Fert selector'!$D$13/E253)","v":0},{"$f":"IF('Fert selector'!$D$15=\"Y\",E253*N253,IF('Fert selector'!$E$15=\"Y\",F253*S253,IF('Fert selector'!$F$15=\"Y\",G253*X253,IF('Fert selector'!$G$15=\"Y\",H253*AC253))))","v":0},150,{"$f":"IF((O253-'Fert selector'!$D$13)<0,(O253-'Fert selector'!$D$13)*-1,O253-'Fert selector'!$D$13)","v":150},{"$f":"IF(O253<('Fert selector'!$D$13+'Fert selector'!$D$13*'Fert selector'!$D$17),0,1)&IF(O253>('Fert selector'!$D$13-'Fert selector'!$D$13*'Fert selector'!$D$18),0,1)","v":"01"},{"$f":"IF(F253=0,0,'Fert selector'!$E$13/F253)","v":0},{"$f":"IF('Fert selector'!$D$15=\"Y\",$F253*$N253,IF('Fert selector'!$E$15=\"Y\",$F253*$S253,IF('Fert selector'!$F$15=\"Y\",$F253*$X253,IF('Fert selector'!$G$15=\"Y\",$F253*$AC253))))","v":0},0,{"$f":"IF((T253-'Fert selector'!$E$13)<0,(T253-'Fert selector'!$E$13)*-1,T253-'Fert selector'!$E$13)","v":0},{"$f":"IF(T253<('Fert selector'!$E$13+'Fert selector'!$E$13*'Fert selector'!$E$17),0,1)&IF(T253>('Fert selector'!$E$13-'Fert selector'!$E$13*'Fert selector'!$E$18),0,1)","v":"11"},{"$f":"IF(G253=0,0,'Fert selector'!$F$13/G253)","v":0},{"$f":"IF('Fert selector'!$D$15=\"Y\",$G253*$N253,IF('Fert selector'!$E$15=\"Y\",$G253*$S253,IF('Fert selector'!$F$15=\"Y\",$G253*$X253,IF('Fert selector'!$G$15=\"Y\",$G253*$AC253))))","v":0},90,{"$f":"IF((Y253-'Fert selector'!$F$13)<0,(Y253-'Fert selector'!$F$13)*-1,Y253-'Fert selector'!$F$13)","v":90},{"$f":"IF(Y253<('Fert selector'!$F$13+'Fert selector'!$F$13*'Fert selector'!$F$17),0,1)&IF(Y253>('Fert selector'!$F$13-'Fert selector'!$F$13*'Fert selector'!$F$18),0,1)","v":"01"},{"$f":"IF(H253=0,0,'Fert selector'!$G$13/H253)","v":0},{"$f":"IF('Fert selector'!$D$15=\"Y\",$H253*$N253,IF('Fert selector'!$E$15=\"Y\",$H253*$S253,IF('Fert selector'!$F$15=\"Y\",$H253*$X253,IF('Fert selector'!$G$15=\"Y\",$H253*$AC253))))","v":0},0,{"$f":"IF((AD253-'Fert selector'!$G$13)<0,(AD253-'Fert selector'!$G$13)*-1,AD253-'Fert selector'!$G$13)","v":0},{"$f":"IF(AD253<('Fert selector'!$G$13+'Fert selector'!$G$13*'Fert selector'!$G$17),0,1)&IF(AD253>('Fert selector'!$G$13-'Fert selector'!$G$13*'Fert selector'!$G$18),0,1)","v":"11"}]
[null,null,null,null,null,null,null,null,null,null,null,null,null,{"$f":"IF(E254=0,0,'Fert selector'!$D$13/E254)","v":0},{"$f":"IF('Fert selector'!$D$15=\"Y\",E254*N254,IF('Fert selector'!$E$15=\"Y\",F254*S254,IF('Fert selector'!$F$15=\"Y\",G254*X254,IF('Fert selector'!$G$15=\"Y\",H254*AC254))))","v":0},150,{"$f":"IF((O254-'Fert selector'!$D$13)<0,(O254-'Fert selector'!$D$13)*-1,O254-'Fert selector'!$D$13)","v":150},{"$f":"IF(O254<('Fert selector'!$D$13+'Fert selector'!$D$13*'Fert selector'!$D$17),0,1)&IF(O254>('Fert selector'!$D$13-'Fert selector'!$D$13*'Fert selector'!$D$18),0,1)","v":"01"},{"$f":"IF(F254=0,0,'Fert selector'!$E$13/F254)","v":0},{"$f":"IF('Fert selector'!$D$15=\"Y\",$F254*$N254,IF('Fert selector'!$E$15=\"Y\",$F254*$S254,IF('Fert selector'!$F$15=\"Y\",$F254*$X254,IF('Fert selector'!$G$15=\"Y\",$F254*$AC254))))","v":0},0,{"$f":"IF((T254-'Fert selector'!$E$13)<0,(T254-'Fert selector'!$E$13)*-1,T254-'Fert selector'!$E$13)","v":0},{"$f":"IF(T254<('Fert selector'!$E$13+'Fert selector'!$E$13*'Fert selector'!$E$17),0,1)&IF(T254>('Fert selector'!$E$13-'Fert selector'!$E$13*'Fert selector'!$E$18),0,1)","v":"11"},{"$f":"IF(G254=0,0,'Fert selector'!$F$13/G254)","v":0},{"$f":"IF('Fert selector'!$D$15=\"Y\",$G254*$N254,IF('Fert selector'!$E$15=\"Y\",$G254*$S254,IF('Fert selector'!$F$15=\"Y\",$G254*$X254,IF('Fert selector'!$G$15=\"Y\",$G254*$AC254))))","v":0},90,{"$f":"IF((Y254-'Fert selector'!$F$13)<0,(Y254-'Fert selector'!$F$13)*-1,Y254-'Fert selector'!$F$13)","v":90},{"$f":"IF(Y254<('Fert selector'!$F$13+'Fert selector'!$F$13*'Fert selector'!$F$17),0,1)&IF(Y254>('Fert selector'!$F$13-'Fert selector'!$F$13*'Fert selector'!$F$18),0,1)","v":"01"},{"$f":"IF(H254=0,0,'Fert selector'!$G$13/H254)","v":0},{"$f":"IF('Fert selector'!$D$15=\"Y\",$H254*$N254,IF('Fert selector'!$E$15=\"Y\",$H254*$S254,IF('Fert selector'!$F$15=\"Y\",$H254*$X254,IF('Fert selector'!$G$15=\"Y\",$H254*$AC254))))","v":0},0,{"$f":"IF((AD254-'Fert selector'!$G$13)<0,(AD254-'Fert selector'!$G$13)*-1,AD254-'Fert selector'!$G$13)","v":0},{"$f":"IF(AD254<('Fert selector'!$G$13+'Fert selector'!$G$13*'Fert selector'!$G$17),0,1)&IF(AD254>('Fert selector'!$G$13-'Fert selector'!$G$13*'Fert selector'!$G$18),0,1)","v":"11"}]
[null,null,null,null,null,null,null,null,null,null,null,null,null,{"$f":"IF(E255=0,0,'Fert selector'!$D$13/E255)","v":0},{"$f":"IF('Fert selector'!$D$15=\"Y\",E255*N255,IF('Fert selector'!$E$15=\"Y\",F255*S255,IF('Fert selector'!$F$15=\"Y\",G255*X255,IF('Fert selector'!$G$15=\"Y\",H255*AC255))))","v":0},150,{"$f":"IF((O255-'Fert selector'!$D$13)<0,(O255-'Fert selector'!$D$13)*-1,O255-'Fert selector'!$D$13)","v":150},{"$f":"IF(O255<('Fert selector'!$D$13+'Fert selector'!$D$13*'Fert selector'!$D$17),0,1)&IF(O255>('Fert selector'!$D$13-'Fert selector'!$D$13*'Fert selector'!$D$18),0,1)","v":"01"},{"$f":"IF(F255=0,0,'Fert selector'!$E$13/F255)","v":0},{"$f":"IF('Fert selector'!$D$15=\"Y\",$F255*$N255,IF('Fert selector'!$E$15=\"Y\",$F255*$S255,IF('Fert selector'!$F$15=\"Y\",$F255*$X255,IF('Fert selector'!$G$15=\"Y\",$F255*$AC255))))","v":0},0,{"$f":"IF((T255-'Fert selector'!$E$13)<0,(T255-'Fert selector'!$E$13)*-1,T255-'Fert selector'!$E$13)","v":0},{"$f":"IF(T255<('Fert selector'!$E$13+'Fert selector'!$E$13*'Fert selector'!$E$17),0,1)&IF(T255>('Fert selector'!$E$13-'Fert selector'!$E$13*'Fert selector'!$E$18),0,1)","v":"11"},{"$f":"IF(G255=0,0,'Fert selector'!$F$13/G255)","v":0},{"$f":"IF('Fert selector'!$D$15=\"Y\",$G255*$N255,IF('Fert selector'!$E$15=\"Y\",$G255*$S255,IF('Fert selector'!$F$15=\"Y\",$G255*$X255,IF('Fert selector'!$G$15=\"Y\",$G255*$AC255))))","v":0},90,{"$f":"IF((Y255-'Fert selector'!$F$13)<0,(Y255-'Fert selector'!$F$13)*-1,Y255-'Fert selector'!$F$13)","v":90},{"$f":"IF(Y255<('Fert selector'!$F$13+'Fert selector'!$F$13*'Fert selector'!$F$17),0,1)&IF(Y255>('Fert selector'!$F$13-'Fert selector'!$F$13*'Fert selector'!$F$18),0,1)","v":"01"},{"$f":"IF(H255=0,0,'Fert selector'!$G$13/H255)","v":0},{"$f":"IF('Fert selector'!$D$15=\"Y\",$H255*$N255,IF('Fert selector'!$E$15=\"Y\",$H255*$S255,IF('Fert selector'!$F$15=\"Y\",$H255*$X255,IF('Fert selector'!$G$15=\"Y\",$H255*$AC255))))","v":0},0,{"$f":"IF((AD255-'Fert selector'!$G$13)<0,(AD255-'Fert selector'!$G$13)*-1,AD255-'Fert selector'!$G$13)","v":0},{"$f":"IF(AD255<('Fert selector'!$G$13+'Fert selector'!$G$13*'Fert selector'!$G$17),0,1)&IF(AD255>('Fert selector'!$G$13-'Fert selector'!$G$13*'Fert selector'!$G$18),0,1)","v":"11"}]
[null,null,null,null,null,null,null,null,null,null,null,null,null,{"$f":"IF(E256=0,0,'Fert selector'!$D$13/E256)","v":0},{"$f":"IF('Fert selector'!$D$15=\"Y\",E256*N256,IF('Fert selector'!$E$15=\"Y\",F256*S256,IF('Fert selector'!$F$15=\"Y\",G256*X256,IF('Fert selector'!$G$15=\"Y\",H256*AC256))))","v":0},150,{"$f":"IF((O256-'Fert selector'!$D$13)<0,(O256-'Fert selector'!$D$13)*-1,O256-'Fert selector'!$D$13)","v":150},{"$f":"IF(O256<('Fert selector'!$D$13+'Fert selector'!$D$13*'Fert selector'!$D$17),0,1)&IF(O256>('Fert selector'!$D$13-'Fert selector'!$D$13*'Fert selector'!$D$18),0,1)","v":"01"},{"$f":"IF(F256=0,0,'Fert selector'!$E$13/F256)","v":0},{"$f":"IF('Fert selector'!$D$15=\"Y\",$F256*$N256,IF('Fert selector'!$E$15=\"Y\",$F256*$S256,IF('Fert selector'!$F$15=\"Y\",$F256*$X256,IF('Fert selector'!$G$15=\"Y\",$F256*$AC256))))","v":0},0,{"$f":"IF((T256-'Fert selector'!$E$13)<0,(T256-'Fert selector'!$E$13)*-1,T256-'Fert selector'!$E$13)","v":0},{"$f":"IF(T256<('Fert selector'!$E$13+'Fert selector'!$E$13*'Fert selector'!$E$17),0,1)&IF(T256>('Fert selector'!$E$13-'Fert selector'!$E$13*'Fert selector'!$E$18),0,1)","v":"11"},{"$f":"IF(G256=0,0,'Fert selector'!$F$13/G256)","v":0},{"$f":"IF('Fert selector'!$D$15=\"Y\",$G256*$N256,IF('Fert selector'!$E$15=\"Y\",$G256*$S256,IF('Fert selector'!$F$15=\"Y\",$G256*$X256,IF('Fert selector'!$G$15=\"Y\",$G256*$AC256))))","v":0},90,{"$f":"IF((Y256-'Fert selector'!$F$13)<0,(Y256-'Fert selector'!$F$13)*-1,Y256-'Fert selector'!$F$13)","v":90},{"$f":"IF(Y256<('Fert selector'!$F$13+'Fert selector'!$F$13*'Fert selector'!$F$17),0,1)&IF(Y256>('Fert selector'!$F$13-'Fert selector'!$F$13*'Fert selector'!$F$18),0,1)","v":"01"},{"$f":"IF(H256=0,0,'Fert selector'!$G$13/H256)","v":0},{"$f":"IF('Fert selector'!$D$15=\"Y\",$H256*$N256,IF('Fert selector'!$E$15=\"Y\",$H256*$S256,IF('Fert selector'!$F$15=\"Y\",$H256*$X256,IF('Fert selector'!$G$15=\"Y\",$H256*$AC256))))","v":0},0,{"$f":"IF((AD256-'Fert selector'!$G$13)<0,(AD256-'Fert selector'!$G$13)*-1,AD256-'Fert selector'!$G$13)","v":0},{"$f":"IF(AD256<('Fert selector'!$G$13+'Fert selector'!$G$13*'Fert selector'!$G$17),0,1)&IF(AD256>('Fert selector'!$G$13-'Fert selector'!$G$13*'Fert selector'!$G$18),0,1)","v":"11"}]
[null,null,null,null,null,null,null,null,null,null,null,null,null,{"$f":"IF(E257=0,0,'Fert selector'!$D$13/E257)","v":0},{"$f":"IF('Fert selector'!$D$15=\"Y\",E257*N257,IF('Fert selector'!$E$15=\"Y\",F257*S257,IF('Fert selector'!$F$15=\"Y\",G257*X257,IF('Fert selector'!$G$15=\"Y\",H257*AC257))))","v":0},150,{"$f":"IF((O257-'Fert selector'!$D$13)<0,(O257-'Fert selector'!$D$13)*-1,O257-'Fert selector'!$D$13)","v":150},{"$f":"IF(O257<('Fert selector'!$D$13+'Fert selector'!$D$13*'Fert selector'!$D$17),0,1)&IF(O257>('Fert selector'!$D$13-'Fert selector'!$D$13*'Fert selector'!$D$18),0,1)","v":"01"},{"$f":"IF(F257=0,0,'Fert selector'!$E$13/F257)","v":0},{"$f":"IF('Fert selector'!$D$15=\"Y\",$F257*$N257,IF('Fert selector'!$E$15=\"Y\",$F257*$S257,IF('Fert selector'!$F$15=\"Y\",$F257*$X257,IF('Fert selector'!$G$15=\"Y\",$F257*$AC257))))","v":0},0,{"$f":"IF((T257-'Fert selector'!$E$13)<0,(T257-'Fert selector'!$E$13)*-1,T257-'Fert selector'!$E$13)","v":0},{"$f":"IF(T257<('Fert selector'!$E$13+'Fert selector'!$E$13*'Fert selector'!$E$17),0,1)&IF(T257>('Fert selector'!$E$13-'Fert selector'!$E$13*'Fert selector'!$E$18),0,1)","v":"11"},{"$f":"IF(G257=0,0,'Fert selector'!$F$13/G257)","v":0},{"$f":"IF('Fert selector'!$D$15=\"Y\",$G257*$N257,IF('Fert selector'!$E$15=\"Y\",$G257*$S257,IF('Fert selector'!$F$15=\"Y\",$G257*$X257,IF('Fert selector'!$G$15=\"Y\",$G257*$AC257))))","v":0},90,{"$f":"IF((Y257-'Fert selector'!$F$13)<0,(Y257-'Fert selector'!$F$13)*-1,Y257-'Fert selector'!$F$13)","v":90},{"$f":"IF(Y257<('Fert selector'!$F$13+'Fert selector'!$F$13*'Fert selector'!$F$17),0,1)&IF(Y257>('Fert selector'!$F$13-'Fert selector'!$F$13*'Fert selector'!$F$18),0,1)","v":"01"},{"$f":"IF(H257=0,0,'Fert selector'!$G$13/H257)","v":0},{"$f":"IF('Fert selector'!$D$15=\"Y\",$H257*$N257,IF('Fert selector'!$E$15=\"Y\",$H257*$S257,IF('Fert selector'!$F$15=\"Y\",$H257*$X257,IF('Fert selector'!$G$15=\"Y\",$H257*$AC257))))","v":0},0,{"$f":"IF((AD257-'Fert selector'!$G$13)<0,(AD257-'Fert selector'!$G$13)*-1,AD257-'Fert selector'!$G$13)","v":0},{"$f":"IF(AD257<('Fert selector'!$G$13+'Fert selector'!$G$13*'Fert selector'!$G$17),0,1)&IF(AD257>('Fert selector'!$G$13-'Fert selector'!$G$13*'Fert selector'!$G$18),0,1)","v":"11"}]
[null,null,null,null,null,null,null,null,null,null,null,null,null,{"$f":"IF(E258=0,0,'Fert selector'!$D$13/E258)","v":0},{"$f":"IF('Fert selector'!$D$15=\"Y\",E258*N258,IF('Fert selector'!$E$15=\"Y\",F258*S258,IF('Fert selector'!$F$15=\"Y\",G258*X258,IF('Fert selector'!$G$15=\"Y\",H258*AC258))))","v":0},150,{"$f":"IF((O258-'Fert selector'!$D$13)<0,(O258-'Fert selector'!$D$13)*-1,O258-'Fert selector'!$D$13)","v":150},{"$f":"IF(O258<('Fert selector'!$D$13+'Fert selector'!$D$13*'Fert selector'!$D$17),0,1)&IF(O258>('Fert selector'!$D$13-'Fert selector'!$D$13*'Fert selector'!$D$18),0,1)","v":"01"},{"$f":"IF(F258=0,0,'Fert selector'!$E$13/F258)","v":0},{"$f":"IF('Fert selector'!$D$15=\"Y\",$F258*$N258,IF('Fert selector'!$E$15=\"Y\",$F258*$S258,IF('Fert selector'!$F$15=\"Y\",$F258*$X258,IF('Fert selector'!$G$15=\"Y\",$F258*$AC258))))","v":0},0,{"$f":"IF((T258-'Fert selector'!$E$13)<0,(T258-'Fert selector'!$E$13)*-1,T258-'Fert selector'!$E$13)","v":0},{"$f":"IF(T258<('Fert selector'!$E$13+'Fert selector'!$E$13*'Fert selector'!$E$17),0,1)&IF(T258>('Fert selector'!$E$13-'Fert selector'!$E$13*'Fert selector'!$E$18),0,1)","v":"11"},{"$f":"IF(G258=0,0,'Fert selector'!$F$13/G258)","v":0},{"$f":"IF('Fert selector'!$D$15=\"Y\",$G258*$N258,IF('Fert selector'!$E$15=\"Y\",$G258*$S258,IF('Fert selector'!$F$15=\"Y\",$G258*$X258,IF('Fert selector'!$G$15=\"Y\",$G258*$AC258))))","v":0},90,{"$f":"IF((Y258-'Fert selector'!$F$13)<0,(Y258-'Fert selector'!$F$13)*-1,Y258-'Fert selector'!$F$13)","v":90},{"$f":"IF(Y258<('Fert selector'!$F$13+'Fert selector'!$F$13*'Fert selector'!$F$17),0,1)&IF(Y258>('Fert selector'!$F$13-'Fert selector'!$F$13*'Fert selector'!$F$18),0,1)","v":"01"},{"$f":"IF(H258=0,0,'Fert selector'!$G$13/H258)","v":0},{"$f":"IF('Fert selector'!$D$15=\"Y\",$H258*$N258,IF('Fert selector'!$E$15=\"Y\",$H258*$S258,IF('Fert selector'!$F$15=\"Y\",$H258*$X258,IF('Fert selector'!$G$15=\"Y\",$H258*$AC258))))","v":0},0,{"$f":"IF((AD258-'Fert selector'!$G$13)<0,(AD258-'Fert selector'!$G$13)*-1,AD258-'Fert selector'!$G$13)","v":0},{"$f":"IF(AD258<('Fert selector'!$G$13+'Fert selector'!$G$13*'Fert selector'!$G$17),0,1)&IF(AD258>('Fert selector'!$G$13-'Fert selector'!$G$13*'Fert selector'!$G$18),0,1)","v":"11"}]
[null,null,null,null,null,null,null,null,null,null,null,null,null,{"$f":"IF(E259=0,0,'Fert selector'!$D$13/E259)","v":0},{"$f":"IF('Fert selector'!$D$15=\"Y\",E259*N259,IF('Fert selector'!$E$15=\"Y\",F259*S259,IF('Fert selector'!$F$15=\"Y\",G259*X259,IF('Fert selector'!$G$15=\"Y\",H259*AC259))))","v":0},150,{"$f":"IF((O259-'Fert selector'!$D$13)<0,(O259-'Fert selector'!$D$13)*-1,O259-'Fert selector'!$D$13)","v":150},{"$f":"IF(O259<('Fert selector'!$D$13+'Fert selector'!$D$13*'Fert selector'!$D$17),0,1)&IF(O259>('Fert selector'!$D$13-'Fert selector'!$D$13*'Fert selector'!$D$18),0,1)","v":"01"},{"$f":"IF(F259=0,0,'Fert selector'!$E$13/F259)","v":0},{"$f":"IF('Fert selector'!$D$15=\"Y\",$F259*$N259,IF('Fert selector'!$E$15=\"Y\",$F259*$S259,IF('Fert selector'!$F$15=\"Y\",$F259*$X259,IF('Fert selector'!$G$15=\"Y\",$F259*$AC259))))","v":0},0,{"$f":"IF((T259-'Fert selector'!$E$13)<0,(T259-'Fert selector'!$E$13)*-1,T259-'Fert selector'!$E$13)","v":0},{"$f":"IF(T259<('Fert selector'!$E$13+'Fert selector'!$E$13*'Fert selector'!$E$17),0,1)&IF(T259>('Fert selector'!$E$13-'Fert selector'!$E$13*'Fert selector'!$E$18),0,1)","v":"11"},{"$f":"IF(G259=0,0,'Fert selector'!$F$13/G259)","v":0},{"$f":"IF('Fert selector'!$D$15=\"Y\",$G259*$N259,IF('Fert selector'!$E$15=\"Y\",$G259*$S259,IF('Fert selector'!$F$15=\"Y\",$G259*$X259,IF('Fert selector'!$G$15=\"Y\",$G259*$AC259))))","v":0},90,{"$f":"IF((Y259-'Fert selector'!$F$13)<0,(Y259-'Fert selector'!$F$13)*-1,Y259-'Fert selector'!$F$13)","v":90},{"$f":"IF(Y259<('Fert selector'!$F$13+'Fert selector'!$F$13*'Fert selector'!$F$17),0,1)&IF(Y259>('Fert selector'!$F$13-'Fert selector'!$F$13*'Fert selector'!$F$18),0,1)","v":"01"},{"$f":"IF(H259=0,0,'Fert selector'!$G$13/H259)","v":0},{"$f":"IF('Fert selector'!$D$15=\"Y\",$H259*$N259,IF('Fert selector'!$E$15=\"Y\",$H259*$S259,IF('Fert selector'!$F$15=\"Y\",$H259*$X259,IF('Fert selector'!$G$15=\"Y\",$H259*$AC259))))","v":0},0,{"$f":"IF((AD259-'Fert selector'!$G$13)<0,(AD259-'Fert selector'!$G$13)*-1,AD259-'Fert selector'!$G$13)","v":0},{"$f":"IF(AD259<('Fert selector'!$G$13+'Fert selector'!$G$13*'Fert selector'!$G$17),0,1)&IF(AD259>('Fert selector'!$G$13-'Fert selector'!$G$13*'Fert selector'!$G$18),0,1)","v":"11"}]
[null,null,null,null,null,null,null,null,null,null,null,null,null,{"$f":"IF(E260=0,0,'Fert selector'!$D$13/E260)","v":0},{"$f":"IF('Fert selector'!$D$15=\"Y\",E260*N260,IF('Fert selector'!$E$15=\"Y\",F260*S260,IF('Fert selector'!$F$15=\"Y\",G260*X260,IF('Fert selector'!$G$15=\"Y\",H260*AC260))))","v":0},150,{"$f":"IF((O260-'Fert selector'!$D$13)<0,(O260-'Fert selector'!$D$13)*-1,O260-'Fert selector'!$D$13)","v":150},{"$f":"IF(O260<('Fert selector'!$D$13+'Fert selector'!$D$13*'Fert selector'!$D$17),0,1)&IF(O260>('Fert selector'!$D$13-'Fert selector'!$D$13*'Fert selector'!$D$18),0,1)","v":"01"},{"$f":"IF(F260=0,0,'Fert selector'!$E$13/F260)","v":0},{"$f":"IF('Fert selector'!$D$15=\"Y\",$F260*$N260,IF('Fert selector'!$E$15=\"Y\",$F260*$S260,IF('Fert selector'!$F$15=\"Y\",$F260*$X260,IF('Fert selector'!$G$15=\"Y\",$F260*$AC260))))","v":0},0,{"$f":"IF((T260-'Fert selector'!$E$13)<0,(T260-'Fert selector'!$E$13)*-1,T260-'Fert selector'!$E$13)","v":0},{"$f":"IF(T260<('Fert selector'!$E$13+'Fert selector'!$E$13*'Fert selector'!$E$17),0,1)&IF(T260>('Fert selector'!$E$13-'Fert selector'!$E$13*'Fert selector'!$E$18),0,1)","v":"11"},{"$f":"IF(G260=0,0,'Fert selector'!$F$13/G260)","v":0},{"$f":"IF('Fert selector'!$D$15=\"Y\",$G260*$N260,IF('Fert selector'!$E$15=\"Y\",$G260*$S260,IF('Fert selector'!$F$15=\"Y\",$G260*$X260,IF('Fert selector'!$G$15=\"Y\",$G260*$AC260))))","v":0},90,{"$f":"IF((Y260-'Fert selector'!$F$13)<0,(Y260-'Fert selector'!$F$13)*-1,Y260-'Fert selector'!$F$13)","v":90},{"$f":"IF(Y260<('Fert selector'!$F$13+'Fert selector'!$F$13*'Fert selector'!$F$17),0,1)&IF(Y260>('Fert selector'!$F$13-'Fert selector'!$F$13*'Fert selector'!$F$18),0,1)","v":"01"},{"$f":"IF(H260=0,0,'Fert selector'!$G$13/H260)","v":0},{"$f":"IF('Fert selector'!$D$15=\"Y\",$H260*$N260,IF('Fert selector'!$E$15=\"Y\",$H260*$S260,IF('Fert selector'!$F$15=\"Y\",$H260*$X260,IF('Fert selector'!$G$15=\"Y\",$H260*$AC260))))","v":0},0,{"$f":"IF((AD260-'Fert selector'!$G$13)<0,(AD260-'Fert selector'!$G$13)*-1,AD260-'Fert selector'!$G$13)","v":0},{"$f":"IF(AD260<('Fert selector'!$G$13+'Fert selector'!$G$13*'Fert selector'!$G$17),0,1)&IF(AD260>('Fert selector'!$G$13-'Fert selector'!$G$13*'Fert selector'!$G$18),0,1)","v":"11"}]
[null,null,null,null,null,null,null,null,null,null,null,null,null,{"$f":"IF(E261=0,0,'Fert selector'!$D$13/E261)","v":0},{"$f":"IF('Fert selector'!$D$15=\"Y\",E261*N261,IF('Fert selector'!$E$15=\"Y\",F261*S261,IF('Fert selector'!$F$15=\"Y\",G261*X261,IF('Fert selector'!$G$15=\"Y\",H261*AC261))))","v":0},150,{"$f":"IF((O261-'Fert selector'!$D$13)<0,(O261-'Fert selector'!$D$13)*-1,O261-'Fert selector'!$D$13)","v":150},{"$f":"IF(O261<('Fert selector'!$D$13+'Fert selector'!$D$13*'Fert selector'!$D$17),0,1)&IF(O261>('Fert selector'!$D$13-'Fert selector'!$D$13*'Fert selector'!$D$18),0,1)","v":"01"},{"$f":"IF(F261=0,0,'Fert selector'!$E$13/F261)","v":0},{"$f":"IF('Fert selector'!$D$15=\"Y\",$F261*$N261,IF('Fert selector'!$E$15=\"Y\",$F261*$S261,IF('Fert selector'!$F$15=\"Y\",$F261*$X261,IF('Fert selector'!$G$15=\"Y\",$F261*$AC261))))","v":0},0,{"$f":"IF((T261-'Fert selector'!$E$13)<0,(T261-'Fert selector'!$E$13)*-1,T261-'Fert selector'!$E$13)","v":0},{"$f":"IF(T261<('Fert selector'!$E$13+'Fert selector'!$E$13*'Fert selector'!$E$17),0,1)&IF(T261>('Fert selector'!$E$13-'Fert selector'!$E$13*'Fert selector'!$E$18),0,1)","v":"11"},{"$f":"IF(G261=0,0,'Fert selector'!$F$13/G261)","v":0},{"$f":"IF('Fert selector'!$D$15=\"Y\",$G261*$N261,IF('Fert selector'!$E$15=\"Y\",$G261*$S261,IF('Fert selector'!$F$15=\"Y\",$G261*$X261,IF('Fert selector'!$G$15=\"Y\",$G261*$AC261))))","v":0},90,{"$f":"IF((Y261-'Fert selector'!$F$13)<0,(Y261-'Fert selector'!$F$13)*-1,Y261-'Fert selector'!$F$13)","v":90},{"$f":"IF(Y261<('Fert selector'!$F$13+'Fert selector'!$F$13*'Fert selector'!$F$17),0,1)&IF(Y261>('Fert selector'!$F$13-'Fert selector'!$F$13*'Fert selector'!$F$18),0,1)","v":"01"},{"$f":"IF(H261=0,0,'Fert selector'!$G$13/H261)","v":0},{"$f":"IF('Fert selector'!$D$15=\"Y\",$H261*$N261,IF('Fert selector'!$E$15=\"Y\",$H261*$S261,IF('Fert selector'!$F$15=\"Y\",$H261*$X261,IF('Fert selector'!$G$15=\"Y\",$H261*$AC261))))","v":0},0,{"$f":"IF((AD261-'Fert selector'!$G$13)<0,(AD261-'Fert selector'!$G$13)*-1,AD261-'Fert selector'!$G$13)","v":0},{"$f":"IF(AD261<('Fert selector'!$G$13+'Fert selector'!$G$13*'Fert selector'!$G$17),0,1)&IF(AD261>('Fert selector'!$G$13-'Fert selector'!$G$13*'Fert selector'!$G$18),0,1)","v":"11"}]
[null,null,null,null,null,null,null,null,null,null,null,null,null,{"$f":"IF(E262=0,0,'Fert selector'!$D$13/E262)","v":0},{"$f":"IF('Fert selector'!$D$15=\"Y\",E262*N262,IF('Fert selector'!$E$15=\"Y\",F262*S262,IF('Fert selector'!$F$15=\"Y\",G262*X262,IF('Fert selector'!$G$15=\"Y\",H262*AC262))))","v":0},150,{"$f":"IF((O262-'Fert selector'!$D$13)<0,(O262-'Fert selector'!$D$13)*-1,O262-'Fert selector'!$D$13)","v":150},{"$f":"IF(O262<('Fert selector'!$D$13+'Fert selector'!$D$13*'Fert selector'!$D$17),0,1)&IF(O262>('Fert selector'!$D$13-'Fert selector'!$D$13*'Fert selector'!$D$18),0,1)","v":"01"},{"$f":"IF(F262=0,0,'Fert selector'!$E$13/F262)","v":0},{"$f":"IF('Fert selector'!$D$15=\"Y\",$F262*$N262,IF('Fert selector'!$E$15=\"Y\",$F262*$S262,IF('Fert selector'!$F$15=\"Y\",$F262*$X262,IF('Fert selector'!$G$15=\"Y\",$F262*$AC262))))","v":0},0,{"$f":"IF((T262-'Fert selector'!$E$13)<0,(T262-'Fert selector'!$E$13)*-1,T262-'Fert selector'!$E$13)","v":0},{"$f":"IF(T262<('Fert selector'!$E$13+'Fert selector'!$E$13*'Fert selector'!$E$17),0,1)&IF(T262>('Fert selector'!$E$13-'Fert selector'!$E$13*'Fert selector'!$E$18),0,1)","v":"11"},{"$f":"IF(G262=0,0,'Fert selector'!$F$13/G262)","v":0},{"$f":"IF('Fert selector'!$D$15=\"Y\",$G262*$N262,IF('Fert selector'!$E$15=\"Y\",$G262*$S262,IF('Fert selector'!$F$15=\"Y\",$G262*$X262,IF('Fert selector'!$G$15=\"Y\",$G262*$AC262))))","v":0},90,{"$f":"IF((Y262-'Fert selector'!$F$13)<0,(Y262-'Fert selector'!$F$13)*-1,Y262-'Fert selector'!$F$13)","v":90},{"$f":"IF(Y262<('Fert selector'!$F$13+'Fert selector'!$F$13*'Fert selector'!$F$17),0,1)&IF(Y262>('Fert selector'!$F$13-'Fert selector'!$F$13*'Fert selector'!$F$18),0,1)","v":"01"},{"$f":"IF(H262=0,0,'Fert selector'!$G$13/H262)","v":0},{"$f":"IF('Fert selector'!$D$15=\"Y\",$H262*$N262,IF('Fert selector'!$E$15=\"Y\",$H262*$S262,IF('Fert selector'!$F$15=\"Y\",$H262*$X262,IF('Fert selector'!$G$15=\"Y\",$H262*$AC262))))","v":0},0,{"$f":"IF((AD262-'Fert selector'!$G$13)<0,(AD262-'Fert selector'!$G$13)*-1,AD262-'Fert selector'!$G$13)","v":0},{"$f":"IF(AD262<('Fert selector'!$G$13+'Fert selector'!$G$13*'Fert selector'!$G$17),0,1)&IF(AD262>('Fert selector'!$G$13-'Fert selector'!$G$13*'Fert selector'!$G$18),0,1)","v":"11"}]
[null,null,null,null,null,null,null,null,null,null,null,null,null,{"$f":"IF(E263=0,0,'Fert selector'!$D$13/E263)","v":0},{"$f":"IF('Fert selector'!$D$15=\"Y\",E263*N263,IF('Fert selector'!$E$15=\"Y\",F263*S263,IF('Fert selector'!$F$15=\"Y\",G263*X263,IF('Fert selector'!$G$15=\"Y\",H263*AC263))))","v":0},150,{"$f":"IF((O263-'Fert selector'!$D$13)<0,(O263-'Fert selector'!$D$13)*-1,O263-'Fert selector'!$D$13)","v":150},{"$f":"IF(O263<('Fert selector'!$D$13+'Fert selector'!$D$13*'Fert selector'!$D$17),0,1)&IF(O263>('Fert selector'!$D$13-'Fert selector'!$D$13*'Fert selector'!$D$18),0,1)","v":"01"},{"$f":"IF(F263=0,0,'Fert selector'!$E$13/F263)","v":0},{"$f":"IF('Fert selector'!$D$15=\"Y\",$F263*$N263,IF('Fert selector'!$E$15=\"Y\",$F263*$S263,IF('Fert selector'!$F$15=\"Y\",$F263*$X263,IF('Fert selector'!$G$15=\"Y\",$F263*$AC263))))","v":0},0,{"$f":"IF((T263-'Fert selector'!$E$13)<0,(T263-'Fert selector'!$E$13)*-1,T263-'Fert selector'!$E$13)","v":0},{"$f":"IF(T263<('Fert selector'!$E$13+'Fert selector'!$E$13*'Fert selector'!$E$17),0,1)&IF(T263>('Fert selector'!$E$13-'Fert selector'!$E$13*'Fert selector'!$E$18),0,1)","v":"11"},{"$f":"IF(G263=0,0,'Fert selector'!$F$13/G263)","v":0},{"$f":"IF('Fert selector'!$D$15=\"Y\",$G263*$N263,IF('Fert selector'!$E$15=\"Y\",$G263*$S263,IF('Fert selector'!$F$15=\"Y\",$G263*$X263,IF('Fert selector'!$G$15=\"Y\",$G263*$AC263))))","v":0},90,{"$f":"IF((Y263-'Fert selector'!$F$13)<0,(Y263-'Fert selector'!$F$13)*-1,Y263-'Fert selector'!$F$13)","v":90},{"$f":"IF(Y263<('Fert selector'!$F$13+'Fert selector'!$F$13*'Fert selector'!$F$17),0,1)&IF(Y263>('Fert selector'!$F$13-'Fert selector'!$F$13*'Fert selector'!$F$18),0,1)","v":"01"},{"$f":"IF(H263=0,0,'Fert selector'!$G$13/H263)","v":0},{"$f":"IF('Fert selector'!$D$15=\"Y\",$H263*$N263,IF('Fert selector'!$E$15=\"Y\",$H263*$S263,IF('Fert selector'!$F$15=\"Y\",$H263*$X263,IF('Fert selector'!$G$15=\"Y\",$H263*$AC263))))","v":0},0,{"$f":"IF((AD263-'Fert selector'!$G$13)<0,(AD263-'Fert selector'!$G$13)*-1,AD263-'Fert selector'!$G$13)","v":0},{"$f":"IF(AD263<('Fert selector'!$G$13+'Fert selector'!$G$13*'Fert selector'!$G$17),0,1)&IF(AD263>('Fert selector'!$G$13-'Fert selector'!$G$13*'Fert selector'!$G$18),0,1)","v":"11"}]
[null,null,null,null,null,null,null,null,null,null,null,null,null,{"$f":"IF(E264=0,0,'Fert selector'!$D$13/E264)","v":0},{"$f":"IF('Fert selector'!$D$15=\"Y\",E264*N264,IF('Fert selector'!$E$15=\"Y\",F264*S264,IF('Fert selector'!$F$15=\"Y\",G264*X264,IF('Fert selector'!$G$15=\"Y\",H264*AC264))))","v":0},150,{"$f":"IF((O264-'Fert selector'!$D$13)<0,(O264-'Fert selector'!$D$13)*-1,O264-'Fert selector'!$D$13)","v":150},{"$f":"IF(O264<('Fert selector'!$D$13+'Fert selector'!$D$13*'Fert selector'!$D$17),0,1)&IF(O264>('Fert selector'!$D$13-'Fert selector'!$D$13*'Fert selector'!$D$18),0,1)","v":"01"},{"$f":"IF(F264=0,0,'Fert selector'!$E$13/F264)","v":0},{"$f":"IF('Fert selector'!$D$15=\"Y\",$F264*$N264,IF('Fert selector'!$E$15=\"Y\",$F264*$S264,IF('Fert selector'!$F$15=\"Y\",$F264*$X264,IF('Fert selector'!$G$15=\"Y\",$F264*$AC264))))","v":0},0,{"$f":"IF((T264-'Fert selector'!$E$13)<0,(T264-'Fert selector'!$E$13)*-1,T264-'Fert selector'!$E$13)","v":0},{"$f":"IF(T264<('Fert selector'!$E$13+'Fert selector'!$E$13*'Fert selector'!$E$17),0,1)&IF(T264>('Fert selector'!$E$13-'Fert selector'!$E$13*'Fert selector'!$E$18),0,1)","v":"11"},{"$f":"IF(G264=0,0,'Fert selector'!$F$13/G264)","v":0},{"$f":"IF('Fert selector'!$D$15=\"Y\",$G264*$N264,IF('Fert selector'!$E$15=\"Y\",$G264*$S264,IF('Fert selector'!$F$15=\"Y\",$G264*$X264,IF('Fert selector'!$G$15=\"Y\",$G264*$AC264))))","v":0},90,{"$f":"IF((Y264-'Fert selector'!$F$13)<0,(Y264-'Fert selector'!$F$13)*-1,Y264-'Fert selector'!$F$13)","v":90},{"$f":"IF(Y264<('Fert selector'!$F$13+'Fert selector'!$F$13*'Fert selector'!$F$17),0,1)&IF(Y264>('Fert selector'!$F$13-'Fert selector'!$F$13*'Fert selector'!$F$18),0,1)","v":"01"},{"$f":"IF(H264=0,0,'Fert selector'!$G$13/H264)","v":0},{"$f":"IF('Fert selector'!$D$15=\"Y\",$H264*$N264,IF('Fert selector'!$E$15=\"Y\",$H264*$S264,IF('Fert selector'!$F$15=\"Y\",$H264*$X264,IF('Fert selector'!$G$15=\"Y\",$H264*$AC264))))","v":0},0,{"$f":"IF((AD264-'Fert selector'!$G$13)<0,(AD264-'Fert selector'!$G$13)*-1,AD264-'Fert selector'!$G$13)","v":0},{"$f":"IF(AD264<('Fert selector'!$G$13+'Fert selector'!$G$13*'Fert selector'!$G$17),0,1)&IF(AD264>('Fert selector'!$G$13-'Fert selector'!$G$13*'Fert selector'!$G$18),0,1)","v":"11"}]
[null,null,null,null,null,null,null,null,null,null,null,null,null,{"$f":"IF(E265=0,0,'Fert selector'!$D$13/E265)","v":0},{"$f":"IF('Fert selector'!$D$15=\"Y\",E265*N265,IF('Fert selector'!$E$15=\"Y\",F265*S265,IF('Fert selector'!$F$15=\"Y\",G265*X265,IF('Fert selector'!$G$15=\"Y\",H265*AC265))))","v":0},150,{"$f":"IF((O265-'Fert selector'!$D$13)<0,(O265-'Fert selector'!$D$13)*-1,O265-'Fert selector'!$D$13)","v":150},{"$f":"IF(O265<('Fert selector'!$D$13+'Fert selector'!$D$13*'Fert selector'!$D$17),0,1)&IF(O265>('Fert selector'!$D$13-'Fert selector'!$D$13*'Fert selector'!$D$18),0,1)","v":"01"},{"$f":"IF(F265=0,0,'Fert selector'!$E$13/F265)","v":0},{"$f":"IF('Fert selector'!$D$15=\"Y\",$F265*$N265,IF('Fert selector'!$E$15=\"Y\",$F265*$S265,IF('Fert selector'!$F$15=\"Y\",$F265*$X265,IF('Fert selector'!$G$15=\"Y\",$F265*$AC265))))","v":0},0,{"$f":"IF((T265-'Fert selector'!$E$13)<0,(T265-'Fert selector'!$E$13)*-1,T265-'Fert selector'!$E$13)","v":0},{"$f":"IF(T265<('Fert selector'!$E$13+'Fert selector'!$E$13*'Fert selector'!$E$17),0,1)&IF(T265>('Fert selector'!$E$13-'Fert selector'!$E$13*'Fert selector'!$E$18),0,1)","v":"11"},{"$f":"IF(G265=0,0,'Fert selector'!$F$13/G265)","v":0},{"$f":"IF('Fert selector'!$D$15=\"Y\",$G265*$N265,IF('Fert selector'!$E$15=\"Y\",$G265*$S265,IF('Fert selector'!$F$15=\"Y\",$G265*$X265,IF('Fert selector'!$G$15=\"Y\",$G265*$AC265))))","v":0},90,{"$f":"IF((Y265-'Fert selector'!$F$13)<0,(Y265-'Fert selector'!$F$13)*-1,Y265-'Fert selector'!$F$13)","v":90},{"$f":"IF(Y265<('Fert selector'!$F$13+'Fert selector'!$F$13*'Fert selector'!$F$17),0,1)&IF(Y265>('Fert selector'!$F$13-'Fert selector'!$F$13*'Fert selector'!$F$18),0,1)","v":"01"},{"$f":"IF(H265=0,0,'Fert selector'!$G$13/H265)","v":0},{"$f":"IF('Fert selector'!$D$15=\"Y\",$H265*$N265,IF('Fert selector'!$E$15=\"Y\",$H265*$S265,IF('Fert selector'!$F$15=\"Y\",$H265*$X265,IF('Fert selector'!$G$15=\"Y\",$H265*$AC265))))","v":0},0,{"$f":"IF((AD265-'Fert selector'!$G$13)<0,(AD265-'Fert selector'!$G$13)*-1,AD265-'Fert selector'!$G$13)","v":0},{"$f":"IF(AD265<('Fert selector'!$G$13+'Fert selector'!$G$13*'Fert selector'!$G$17),0,1)&IF(AD265>('Fert selector'!$G$13-'Fert selector'!$G$13*'Fert selector'!$G$18),0,1)","v":"11"}]
[null,null,null,null,null,null,null,null,null,null,null,null,null,{"$f":"IF(E266=0,0,'Fert selector'!$D$13/E266)","v":0},{"$f":"IF('Fert selector'!$D$15=\"Y\",E266*N266,IF('Fert selector'!$E$15=\"Y\",F266*S266,IF('Fert selector'!$F$15=\"Y\",G266*X266,IF('Fert selector'!$G$15=\"Y\",H266*AC266))))","v":0},150,{"$f":"IF((O266-'Fert selector'!$D$13)<0,(O266-'Fert selector'!$D$13)*-1,O266-'Fert selector'!$D$13)","v":150},{"$f":"IF(O266<('Fert selector'!$D$13+'Fert selector'!$D$13*'Fert selector'!$D$17),0,1)&IF(O266>('Fert selector'!$D$13-'Fert selector'!$D$13*'Fert selector'!$D$18),0,1)","v":"01"},{"$f":"IF(F266=0,0,'Fert selector'!$E$13/F266)","v":0},{"$f":"IF('Fert selector'!$D$15=\"Y\",$F266*$N266,IF('Fert selector'!$E$15=\"Y\",$F266*$S266,IF('Fert selector'!$F$15=\"Y\",$F266*$X266,IF('Fert selector'!$G$15=\"Y\",$F266*$AC266))))","v":0},0,{"$f":"IF((T266-'Fert selector'!$E$13)<0,(T266-'Fert selector'!$E$13)*-1,T266-'Fert selector'!$E$13)","v":0},{"$f":"IF(T266<('Fert selector'!$E$13+'Fert selector'!$E$13*'Fert selector'!$E$17),0,1)&IF(T266>('Fert selector'!$E$13-'Fert selector'!$E$13*'Fert selector'!$E$18),0,1)","v":"11"},{"$f":"IF(G266=0,0,'Fert selector'!$F$13/G266)","v":0},{"$f":"IF('Fert selector'!$D$15=\"Y\",$G266*$N266,IF('Fert selector'!$E$15=\"Y\",$G266*$S266,IF('Fert selector'!$F$15=\"Y\",$G266*$X266,IF('Fert selector'!$G$15=\"Y\",$G266*$AC266))))","v":0},90,{"$f":"IF((Y266-'Fert selector'!$F$13)<0,(Y266-'Fert selector'!$F$13)*-1,Y266-'Fert selector'!$F$13)","v":90},{"$f":"IF(Y266<('Fert selector'!$F$13+'Fert selector'!$F$13*'Fert selector'!$F$17),0,1)&IF(Y266>('Fert selector'!$F$13-'Fert selector'!$F$13*'Fert selector'!$F$18),0,1)","v":"01"},{"$f":"IF(H266=0,0,'Fert selector'!$G$13/H266)","v":0},{"$f":"IF('Fert selector'!$D$15=\"Y\",$H266*$N266,IF('Fert selector'!$E$15=\"Y\",$H266*$S266,IF('Fert selector'!$F$15=\"Y\",$H266*$X266,IF('Fert selector'!$G$15=\"Y\",$H266*$AC266))))","v":0},0,{"$f":"IF((AD266-'Fert selector'!$G$13)<0,(AD266-'Fert selector'!$G$13)*-1,AD266-'Fert selector'!$G$13)","v":0},{"$f":"IF(AD266<('Fert selector'!$G$13+'Fert selector'!$G$13*'Fert selector'!$G$17),0,1)&IF(AD266>('Fert selector'!$G$13-'Fert selector'!$G$13*'Fert selector'!$G$18),0,1)","v":"11"}]
[null,null,null,null,null,null,null,null,null,null,null,null,null,{"$f":"IF(E267=0,0,'Fert selector'!$D$13/E267)","v":0},{"$f":"IF('Fert selector'!$D$15=\"Y\",E267*N267,IF('Fert selector'!$E$15=\"Y\",F267*S267,IF('Fert selector'!$F$15=\"Y\",G267*X267,IF('Fert selector'!$G$15=\"Y\",H267*AC267))))","v":0},150,{"$f":"IF((O267-'Fert selector'!$D$13)<0,(O267-'Fert selector'!$D$13)*-1,O267-'Fert selector'!$D$13)","v":150},{"$f":"IF(O267<('Fert selector'!$D$13+'Fert selector'!$D$13*'Fert selector'!$D$17),0,1)&IF(O267>('Fert selector'!$D$13-'Fert selector'!$D$13*'Fert selector'!$D$18),0,1)","v":"01"},{"$f":"IF(F267=0,0,'Fert selector'!$E$13/F267)","v":0},{"$f":"IF('Fert selector'!$D$15=\"Y\",$F267*$N267,IF('Fert selector'!$E$15=\"Y\",$F267*$S267,IF('Fert selector'!$F$15=\"Y\",$F267*$X267,IF('Fert selector'!$G$15=\"Y\",$F267*$AC267))))","v":0},0,{"$f":"IF((T267-'Fert selector'!$E$13)<0,(T267-'Fert selector'!$E$13)*-1,T267-'Fert selector'!$E$13)","v":0},{"$f":"IF(T267<('Fert selector'!$E$13+'Fert selector'!$E$13*'Fert selector'!$E$17),0,1)&IF(T267>('Fert selector'!$E$13-'Fert selector'!$E$13*'Fert selector'!$E$18),0,1)","v":"11"},{"$f":"IF(G267=0,0,'Fert selector'!$F$13/G267)","v":0},{"$f":"IF('Fert selector'!$D$15=\"Y\",$G267*$N267,IF('Fert selector'!$E$15=\"Y\",$G267*$S267,IF('Fert selector'!$F$15=\"Y\",$G267*$X267,IF('Fert selector'!$G$15=\"Y\",$G267*$AC267))))","v":0},90,{"$f":"IF((Y267-'Fert selector'!$F$13)<0,(Y267-'Fert selector'!$F$13)*-1,Y267-'Fert selector'!$F$13)","v":90},{"$f":"IF(Y267<('Fert selector'!$F$13+'Fert selector'!$F$13*'Fert selector'!$F$17),0,1)&IF(Y267>('Fert selector'!$F$13-'Fert selector'!$F$13*'Fert selector'!$F$18),0,1)","v":"01"},{"$f":"IF(H267=0,0,'Fert selector'!$G$13/H267)","v":0},{"$f":"IF('Fert selector'!$D$15=\"Y\",$H267*$N267,IF('Fert selector'!$E$15=\"Y\",$H267*$S267,IF('Fert selector'!$F$15=\"Y\",$H267*$X267,IF('Fert selector'!$G$15=\"Y\",$H267*$AC267))))","v":0},0,{"$f":"IF((AD267-'Fert selector'!$G$13)<0,(AD267-'Fert selector'!$G$13)*-1,AD267-'Fert selector'!$G$13)","v":0},{"$f":"IF(AD267<('Fert selector'!$G$13+'Fert selector'!$G$13*'Fert selector'!$G$17),0,1)&IF(AD267>('Fert selector'!$G$13-'Fert selector'!$G$13*'Fert selector'!$G$18),0,1)","v":"11"}]
[null,null,null,null,null,null,null,null,null,null,null,null,null,{"$f":"IF(E268=0,0,'Fert selector'!$D$13/E268)","v":0},{"$f":"IF('Fert selector'!$D$15=\"Y\",E268*N268,IF('Fert selector'!$E$15=\"Y\",F268*S268,IF('Fert selector'!$F$15=\"Y\",G268*X268,IF('Fert selector'!$G$15=\"Y\",H268*AC268))))","v":0},150,{"$f":"IF((O268-'Fert selector'!$D$13)<0,(O268-'Fert selector'!$D$13)*-1,O268-'Fert selector'!$D$13)","v":150},{"$f":"IF(O268<('Fert selector'!$D$13+'Fert selector'!$D$13*'Fert selector'!$D$17),0,1)&IF(O268>('Fert selector'!$D$13-'Fert selector'!$D$13*'Fert selector'!$D$18),0,1)","v":"01"},{"$f":"IF(F268=0,0,'Fert selector'!$E$13/F268)","v":0},{"$f":"IF('Fert selector'!$D$15=\"Y\",$F268*$N268,IF('Fert selector'!$E$15=\"Y\",$F268*$S268,IF('Fert selector'!$F$15=\"Y\",$F268*$X268,IF('Fert selector'!$G$15=\"Y\",$F268*$AC268))))","v":0},0,{"$f":"IF((T268-'Fert selector'!$E$13)<0,(T268-'Fert selector'!$E$13)*-1,T268-'Fert selector'!$E$13)","v":0},{"$f":"IF(T268<('Fert selector'!$E$13+'Fert selector'!$E$13*'Fert selector'!$E$17),0,1)&IF(T268>('Fert selector'!$E$13-'Fert selector'!$E$13*'Fert selector'!$E$18),0,1)","v":"11"},{"$f":"IF(G268=0,0,'Fert selector'!$F$13/G268)","v":0},{"$f":"IF('Fert selector'!$D$15=\"Y\",$G268*$N268,IF('Fert selector'!$E$15=\"Y\",$G268*$S268,IF('Fert selector'!$F$15=\"Y\",$G268*$X268,IF('Fert selector'!$G$15=\"Y\",$G268*$AC268))))","v":0},90,{"$f":"IF((Y268-'Fert selector'!$F$13)<0,(Y268-'Fert selector'!$F$13)*-1,Y268-'Fert selector'!$F$13)","v":90},{"$f":"IF(Y268<('Fert selector'!$F$13+'Fert selector'!$F$13*'Fert selector'!$F$17),0,1)&IF(Y268>('Fert selector'!$F$13-'Fert selector'!$F$13*'Fert selector'!$F$18),0,1)","v":"01"},{"$f":"IF(H268=0,0,'Fert selector'!$G$13/H268)","v":0},{"$f":"IF('Fert selector'!$D$15=\"Y\",$H268*$N268,IF('Fert selector'!$E$15=\"Y\",$H268*$S268,IF('Fert selector'!$F$15=\"Y\",$H268*$X268,IF('Fert selector'!$G$15=\"Y\",$H268*$AC268))))","v":0},0,{"$f":"IF((AD268-'Fert selector'!$G$13)<0,(AD268-'Fert selector'!$G$13)*-1,AD268-'Fert selector'!$G$13)","v":0},{"$f":"IF(AD268<('Fert selector'!$G$13+'Fert selector'!$G$13*'Fert selector'!$G$17),0,1)&IF(AD268>('Fert selector'!$G$13-'Fert selector'!$G$13*'Fert selector'!$G$18),0,1)","v":"11"}]
[null,null,null,null,null,null,null,null,null,null,null,null,null,{"$f":"IF(E269=0,0,'Fert selector'!$D$13/E269)","v":0},{"$f":"IF('Fert selector'!$D$15=\"Y\",E269*N269,IF('Fert selector'!$E$15=\"Y\",F269*S269,IF('Fert selector'!$F$15=\"Y\",G269*X269,IF('Fert selector'!$G$15=\"Y\",H269*AC269))))","v":0},150,{"$f":"IF((O269-'Fert selector'!$D$13)<0,(O269-'Fert selector'!$D$13)*-1,O269-'Fert selector'!$D$13)","v":150},{"$f":"IF(O269<('Fert selector'!$D$13+'Fert selector'!$D$13*'Fert selector'!$D$17),0,1)&IF(O269>('Fert selector'!$D$13-'Fert selector'!$D$13*'Fert selector'!$D$18),0,1)","v":"01"},{"$f":"IF(F269=0,0,'Fert selector'!$E$13/F269)","v":0},{"$f":"IF('Fert selector'!$D$15=\"Y\",$F269*$N269,IF('Fert selector'!$E$15=\"Y\",$F269*$S269,IF('Fert selector'!$F$15=\"Y\",$F269*$X269,IF('Fert selector'!$G$15=\"Y\",$F269*$AC269))))","v":0},0,{"$f":"IF((T269-'Fert selector'!$E$13)<0,(T269-'Fert selector'!$E$13)*-1,T269-'Fert selector'!$E$13)","v":0},{"$f":"IF(T269<('Fert selector'!$E$13+'Fert selector'!$E$13*'Fert selector'!$E$17),0,1)&IF(T269>('Fert selector'!$E$13-'Fert selector'!$E$13*'Fert selector'!$E$18),0,1)","v":"11"},{"$f":"IF(G269=0,0,'Fert selector'!$F$13/G269)","v":0},{"$f":"IF('Fert selector'!$D$15=\"Y\",$G269*$N269,IF('Fert selector'!$E$15=\"Y\",$G269*$S269,IF('Fert selector'!$F$15=\"Y\",$G269*$X269,IF('Fert selector'!$G$15=\"Y\",$G269*$AC269))))","v":0},90,{"$f":"IF((Y269-'Fert selector'!$F$13)<0,(Y269-'Fert selector'!$F$13)*-1,Y269-'Fert selector'!$F$13)","v":90},{"$f":"IF(Y269<('Fert selector'!$F$13+'Fert selector'!$F$13*'Fert selector'!$F$17),0,1)&IF(Y269>('Fert selector'!$F$13-'Fert selector'!$F$13*'Fert selector'!$F$18),0,1)","v":"01"},{"$f":"IF(H269=0,0,'Fert selector'!$G$13/H269)","v":0},{"$f":"IF('Fert selector'!$D$15=\"Y\",$H269*$N269,IF('Fert selector'!$E$15=\"Y\",$H269*$S269,IF('Fert selector'!$F$15=\"Y\",$H269*$X269,IF('Fert selector'!$G$15=\"Y\",$H269*$AC269))))","v":0},0,{"$f":"IF((AD269-'Fert selector'!$G$13)<0,(AD269-'Fert selector'!$G$13)*-1,AD269-'Fert selector'!$G$13)","v":0},{"$f":"IF(AD269<('Fert selector'!$G$13+'Fert selector'!$G$13*'Fert selector'!$G$17),0,1)&IF(AD269>('Fert selector'!$G$13-'Fert selector'!$G$13*'Fert selector'!$G$18),0,1)","v":"11"}]
[null,null,null,null,null,null,null,null,null,null,null,null,null,{"$f":"IF(E270=0,0,'Fert selector'!$D$13/E270)","v":0},{"$f":"IF('Fert selector'!$D$15=\"Y\",E270*N270,IF('Fert selector'!$E$15=\"Y\",F270*S270,IF('Fert selector'!$F$15=\"Y\",G270*X270,IF('Fert selector'!$G$15=\"Y\",H270*AC270))))","v":0},150,{"$f":"IF((O270-'Fert selector'!$D$13)<0,(O270-'Fert selector'!$D$13)*-1,O270-'Fert selector'!$D$13)","v":150},{"$f":"IF(O270<('Fert selector'!$D$13+'Fert selector'!$D$13*'Fert selector'!$D$17),0,1)&IF(O270>('Fert selector'!$D$13-'Fert selector'!$D$13*'Fert selector'!$D$18),0,1)","v":"01"},{"$f":"IF(F270=0,0,'Fert selector'!$E$13/F270)","v":0},{"$f":"IF('Fert selector'!$D$15=\"Y\",$F270*$N270,IF('Fert selector'!$E$15=\"Y\",$F270*$S270,IF('Fert selector'!$F$15=\"Y\",$F270*$X270,IF('Fert selector'!$G$15=\"Y\",$F270*$AC270))))","v":0},0,{"$f":"IF((T270-'Fert selector'!$E$13)<0,(T270-'Fert selector'!$E$13)*-1,T270-'Fert selector'!$E$13)","v":0},{"$f":"IF(T270<('Fert selector'!$E$13+'Fert selector'!$E$13*'Fert selector'!$E$17),0,1)&IF(T270>('Fert selector'!$E$13-'Fert selector'!$E$13*'Fert selector'!$E$18),0,1)","v":"11"},{"$f":"IF(G270=0,0,'Fert selector'!$F$13/G270)","v":0},{"$f":"IF('Fert selector'!$D$15=\"Y\",$G270*$N270,IF('Fert selector'!$E$15=\"Y\",$G270*$S270,IF('Fert selector'!$F$15=\"Y\",$G270*$X270,IF('Fert selector'!$G$15=\"Y\",$G270*$AC270))))","v":0},90,{"$f":"IF((Y270-'Fert selector'!$F$13)<0,(Y270-'Fert selector'!$F$13)*-1,Y270-'Fert selector'!$F$13)","v":90},{"$f":"IF(Y270<('Fert selector'!$F$13+'Fert selector'!$F$13*'Fert selector'!$F$17),0,1)&IF(Y270>('Fert selector'!$F$13-'Fert selector'!$F$13*'Fert selector'!$F$18),0,1)","v":"01"},{"$f":"IF(H270=0,0,'Fert selector'!$G$13/H270)","v":0},{"$f":"IF('Fert selector'!$D$15=\"Y\",$H270*$N270,IF('Fert selector'!$E$15=\"Y\",$H270*$S270,IF('Fert selector'!$F$15=\"Y\",$H270*$X270,IF('Fert selector'!$G$15=\"Y\",$H270*$AC270))))","v":0},0,{"$f":"IF((AD270-'Fert selector'!$G$13)<0,(AD270-'Fert selector'!$G$13)*-1,AD270-'Fert selector'!$G$13)","v":0},{"$f":"IF(AD270<('Fert selector'!$G$13+'Fert selector'!$G$13*'Fert selector'!$G$17),0,1)&IF(AD270>('Fert selector'!$G$13-'Fert selector'!$G$13*'Fert selector'!$G$18),0,1)","v":"11"}]
[null,null,null,null,null,null,null,null,null,null,null,null,null,{"$f":"IF(E271=0,0,'Fert selector'!$D$13/E271)","v":0},{"$f":"IF('Fert selector'!$D$15=\"Y\",E271*N271,IF('Fert selector'!$E$15=\"Y\",F271*S271,IF('Fert selector'!$F$15=\"Y\",G271*X271,IF('Fert selector'!$G$15=\"Y\",H271*AC271))))","v":0},150,{"$f":"IF((O271-'Fert selector'!$D$13)<0,(O271-'Fert selector'!$D$13)*-1,O271-'Fert selector'!$D$13)","v":150},{"$f":"IF(O271<('Fert selector'!$D$13+'Fert selector'!$D$13*'Fert selector'!$D$17),0,1)&IF(O271>('Fert selector'!$D$13-'Fert selector'!$D$13*'Fert selector'!$D$18),0,1)","v":"01"},{"$f":"IF(F271=0,0,'Fert selector'!$E$13/F271)","v":0},{"$f":"IF('Fert selector'!$D$15=\"Y\",$F271*$N271,IF('Fert selector'!$E$15=\"Y\",$F271*$S271,IF('Fert selector'!$F$15=\"Y\",$F271*$X271,IF('Fert selector'!$G$15=\"Y\",$F271*$AC271))))","v":0},0,{"$f":"IF((T271-'Fert selector'!$E$13)<0,(T271-'Fert selector'!$E$13)*-1,T271-'Fert selector'!$E$13)","v":0},{"$f":"IF(T271<('Fert selector'!$E$13+'Fert selector'!$E$13*'Fert selector'!$E$17),0,1)&IF(T271>('Fert selector'!$E$13-'Fert selector'!$E$13*'Fert selector'!$E$18),0,1)","v":"11"},{"$f":"IF(G271=0,0,'Fert selector'!$F$13/G271)","v":0},{"$f":"IF('Fert selector'!$D$15=\"Y\",$G271*$N271,IF('Fert selector'!$E$15=\"Y\",$G271*$S271,IF('Fert selector'!$F$15=\"Y\",$G271*$X271,IF('Fert selector'!$G$15=\"Y\",$G271*$AC271))))","v":0},90,{"$f":"IF((Y271-'Fert selector'!$F$13)<0,(Y271-'Fert selector'!$F$13)*-1,Y271-'Fert selector'!$F$13)","v":90},{"$f":"IF(Y271<('Fert selector'!$F$13+'Fert selector'!$F$13*'Fert selector'!$F$17),0,1)&IF(Y271>('Fert selector'!$F$13-'Fert selector'!$F$13*'Fert selector'!$F$18),0,1)","v":"01"},{"$f":"IF(H271=0,0,'Fert selector'!$G$13/H271)","v":0},{"$f":"IF('Fert selector'!$D$15=\"Y\",$H271*$N271,IF('Fert selector'!$E$15=\"Y\",$H271*$S271,IF('Fert selector'!$F$15=\"Y\",$H271*$X271,IF('Fert selector'!$G$15=\"Y\",$H271*$AC271))))","v":0},0,{"$f":"IF((AD271-'Fert selector'!$G$13)<0,(AD271-'Fert selector'!$G$13)*-1,AD271-'Fert selector'!$G$13)","v":0},{"$f":"IF(AD271<('Fert selector'!$G$13+'Fert selector'!$G$13*'Fert selector'!$G$17),0,1)&IF(AD271>('Fert selector'!$G$13-'Fert selector'!$G$13*'Fert selector'!$G$18),0,1)","v":"11"}]
[null,null,null,null,null,null,null,null,null,null,null,null,null,{"$f":"IF(E272=0,0,'Fert selector'!$D$13/E272)","v":0},{"$f":"IF('Fert selector'!$D$15=\"Y\",E272*N272,IF('Fert selector'!$E$15=\"Y\",F272*S272,IF('Fert selector'!$F$15=\"Y\",G272*X272,IF('Fert selector'!$G$15=\"Y\",H272*AC272))))","v":0},150,{"$f":"IF((O272-'Fert selector'!$D$13)<0,(O272-'Fert selector'!$D$13)*-1,O272-'Fert selector'!$D$13)","v":150},{"$f":"IF(O272<('Fert selector'!$D$13+'Fert selector'!$D$13*'Fert selector'!$D$17),0,1)&IF(O272>('Fert selector'!$D$13-'Fert selector'!$D$13*'Fert selector'!$D$18),0,1)","v":"01"},{"$f":"IF(F272=0,0,'Fert selector'!$E$13/F272)","v":0},{"$f":"IF('Fert selector'!$D$15=\"Y\",$F272*$N272,IF('Fert selector'!$E$15=\"Y\",$F272*$S272,IF('Fert selector'!$F$15=\"Y\",$F272*$X272,IF('Fert selector'!$G$15=\"Y\",$F272*$AC272))))","v":0},0,{"$f":"IF((T272-'Fert selector'!$E$13)<0,(T272-'Fert selector'!$E$13)*-1,T272-'Fert selector'!$E$13)","v":0},{"$f":"IF(T272<('Fert selector'!$E$13+'Fert selector'!$E$13*'Fert selector'!$E$17),0,1)&IF(T272>('Fert selector'!$E$13-'Fert selector'!$E$13*'Fert selector'!$E$18),0,1)","v":"11"},{"$f":"IF(G272=0,0,'Fert selector'!$F$13/G272)","v":0},{"$f":"IF('Fert selector'!$D$15=\"Y\",$G272*$N272,IF('Fert selector'!$E$15=\"Y\",$G272*$S272,IF('Fert selector'!$F$15=\"Y\",$G272*$X272,IF('Fert selector'!$G$15=\"Y\",$G272*$AC272))))","v":0},90,{"$f":"IF((Y272-'Fert selector'!$F$13)<0,(Y272-'Fert selector'!$F$13)*-1,Y272-'Fert selector'!$F$13)","v":90},{"$f":"IF(Y272<('Fert selector'!$F$13+'Fert selector'!$F$13*'Fert selector'!$F$17),0,1)&IF(Y272>('Fert selector'!$F$13-'Fert selector'!$F$13*'Fert selector'!$F$18),0,1)","v":"01"},{"$f":"IF(H272=0,0,'Fert selector'!$G$13/H272)","v":0},{"$f":"IF('Fert selector'!$D$15=\"Y\",$H272*$N272,IF('Fert selector'!$E$15=\"Y\",$H272*$S272,IF('Fert selector'!$F$15=\"Y\",$H272*$X272,IF('Fert selector'!$G$15=\"Y\",$H272*$AC272))))","v":0},0,{"$f":"IF((AD272-'Fert selector'!$G$13)<0,(AD272-'Fert selector'!$G$13)*-1,AD272-'Fert selector'!$G$13)","v":0},{"$f":"IF(AD272<('Fert selector'!$G$13+'Fert selector'!$G$13*'Fert selector'!$G$17),0,1)&IF(AD272>('Fert selector'!$G$13-'Fert selector'!$G$13*'Fert selector'!$G$18),0,1)","v":"11"}]
[null,null,null,null,null,null,null,null,null,null,null,null,null,{"$f":"IF(E273=0,0,'Fert selector'!$D$13/E273)","v":0},{"$f":"IF('Fert selector'!$D$15=\"Y\",E273*N273,IF('Fert selector'!$E$15=\"Y\",F273*S273,IF('Fert selector'!$F$15=\"Y\",G273*X273,IF('Fert selector'!$G$15=\"Y\",H273*AC273))))","v":0},150,{"$f":"IF((O273-'Fert selector'!$D$13)<0,(O273-'Fert selector'!$D$13)*-1,O273-'Fert selector'!$D$13)","v":150},{"$f":"IF(O273<('Fert selector'!$D$13+'Fert selector'!$D$13*'Fert selector'!$D$17),0,1)&IF(O273>('Fert selector'!$D$13-'Fert selector'!$D$13*'Fert selector'!$D$18),0,1)","v":"01"},{"$f":"IF(F273=0,0,'Fert selector'!$E$13/F273)","v":0},{"$f":"IF('Fert selector'!$D$15=\"Y\",$F273*$N273,IF('Fert selector'!$E$15=\"Y\",$F273*$S273,IF('Fert selector'!$F$15=\"Y\",$F273*$X273,IF('Fert selector'!$G$15=\"Y\",$F273*$AC273))))","v":0},0,{"$f":"IF((T273-'Fert selector'!$E$13)<0,(T273-'Fert selector'!$E$13)*-1,T273-'Fert selector'!$E$13)","v":0},{"$f":"IF(T273<('Fert selector'!$E$13+'Fert selector'!$E$13*'Fert selector'!$E$17),0,1)&IF(T273>('Fert selector'!$E$13-'Fert selector'!$E$13*'Fert selector'!$E$18),0,1)","v":"11"},{"$f":"IF(G273=0,0,'Fert selector'!$F$13/G273)","v":0},{"$f":"IF('Fert selector'!$D$15=\"Y\",$G273*$N273,IF('Fert selector'!$E$15=\"Y\",$G273*$S273,IF('Fert selector'!$F$15=\"Y\",$G273*$X273,IF('Fert selector'!$G$15=\"Y\",$G273*$AC273))))","v":0},90,{"$f":"IF((Y273-'Fert selector'!$F$13)<0,(Y273-'Fert selector'!$F$13)*-1,Y273-'Fert selector'!$F$13)","v":90},{"$f":"IF(Y273<('Fert selector'!$F$13+'Fert selector'!$F$13*'Fert selector'!$F$17),0,1)&IF(Y273>('Fert selector'!$F$13-'Fert selector'!$F$13*'Fert selector'!$F$18),0,1)","v":"01"},{"$f":"IF(H273=0,0,'Fert selector'!$G$13/H273)","v":0},{"$f":"IF('Fert selector'!$D$15=\"Y\",$H273*$N273,IF('Fert selector'!$E$15=\"Y\",$H273*$S273,IF('Fert selector'!$F$15=\"Y\",$H273*$X273,IF('Fert selector'!$G$15=\"Y\",$H273*$AC273))))","v":0},0,{"$f":"IF((AD273-'Fert selector'!$G$13)<0,(AD273-'Fert selector'!$G$13)*-1,AD273-'Fert selector'!$G$13)","v":0},{"$f":"IF(AD273<('Fert selector'!$G$13+'Fert selector'!$G$13*'Fert selector'!$G$17),0,1)&IF(AD273>('Fert selector'!$G$13-'Fert selector'!$G$13*'Fert selector'!$G$18),0,1)","v":"11"}]
[null,null,null,null,null,null,null,null,null,null,null,null,null,{"$f":"IF(E274=0,0,'Fert selector'!$D$13/E274)","v":0},{"$f":"IF('Fert selector'!$D$15=\"Y\",E274*N274,IF('Fert selector'!$E$15=\"Y\",F274*S274,IF('Fert selector'!$F$15=\"Y\",G274*X274,IF('Fert selector'!$G$15=\"Y\",H274*AC274))))","v":0},150,{"$f":"IF((O274-'Fert selector'!$D$13)<0,(O274-'Fert selector'!$D$13)*-1,O274-'Fert selector'!$D$13)","v":150},{"$f":"IF(O274<('Fert selector'!$D$13+'Fert selector'!$D$13*'Fert selector'!$D$17),0,1)&IF(O274>('Fert selector'!$D$13-'Fert selector'!$D$13*'Fert selector'!$D$18),0,1)","v":"01"},{"$f":"IF(F274=0,0,'Fert selector'!$E$13/F274)","v":0},{"$f":"IF('Fert selector'!$D$15=\"Y\",$F274*$N274,IF('Fert selector'!$E$15=\"Y\",$F274*$S274,IF('Fert selector'!$F$15=\"Y\",$F274*$X274,IF('Fert selector'!$G$15=\"Y\",$F274*$AC274))))","v":0},0,{"$f":"IF((T274-'Fert selector'!$E$13)<0,(T274-'Fert selector'!$E$13)*-1,T274-'Fert selector'!$E$13)","v":0},{"$f":"IF(T274<('Fert selector'!$E$13+'Fert selector'!$E$13*'Fert selector'!$E$17),0,1)&IF(T274>('Fert selector'!$E$13-'Fert selector'!$E$13*'Fert selector'!$E$18),0,1)","v":"11"},{"$f":"IF(G274=0,0,'Fert selector'!$F$13/G274)","v":0},{"$f":"IF('Fert selector'!$D$15=\"Y\",$G274*$N274,IF('Fert selector'!$E$15=\"Y\",$G274*$S274,IF('Fert selector'!$F$15=\"Y\",$G274*$X274,IF('Fert selector'!$G$15=\"Y\",$G274*$AC274))))","v":0},90,{"$f":"IF((Y274-'Fert selector'!$F$13)<0,(Y274-'Fert selector'!$F$13)*-1,Y274-'Fert selector'!$F$13)","v":90},{"$f":"IF(Y274<('Fert selector'!$F$13+'Fert selector'!$F$13*'Fert selector'!$F$17),0,1)&IF(Y274>('Fert selector'!$F$13-'Fert selector'!$F$13*'Fert selector'!$F$18),0,1)","v":"01"},{"$f":"IF(H274=0,0,'Fert selector'!$G$13/H274)","v":0},{"$f":"IF('Fert selector'!$D$15=\"Y\",$H274*$N274,IF('Fert selector'!$E$15=\"Y\",$H274*$S274,IF('Fert selector'!$F$15=\"Y\",$H274*$X274,IF('Fert selector'!$G$15=\"Y\",$H274*$AC274))))","v":0},0,{"$f":"IF((AD274-'Fert selector'!$G$13)<0,(AD274-'Fert selector'!$G$13)*-1,AD274-'Fert selector'!$G$13)","v":0},{"$f":"IF(AD274<('Fert selector'!$G$13+'Fert selector'!$G$13*'Fert selector'!$G$17),0,1)&IF(AD274>('Fert selector'!$G$13-'Fert selector'!$G$13*'Fert selector'!$G$18),0,1)","v":"11"}]
[null,null,null,null,null,null,null,null,null,null,null,null,null,{"$f":"IF(E275=0,0,'Fert selector'!$D$13/E275)","v":0},{"$f":"IF('Fert selector'!$D$15=\"Y\",E275*N275,IF('Fert selector'!$E$15=\"Y\",F275*S275,IF('Fert selector'!$F$15=\"Y\",G275*X275,IF('Fert selector'!$G$15=\"Y\",H275*AC275))))","v":0},150,{"$f":"IF((O275-'Fert selector'!$D$13)<0,(O275-'Fert selector'!$D$13)*-1,O275-'Fert selector'!$D$13)","v":150},{"$f":"IF(O275<('Fert selector'!$D$13+'Fert selector'!$D$13*'Fert selector'!$D$17),0,1)&IF(O275>('Fert selector'!$D$13-'Fert selector'!$D$13*'Fert selector'!$D$18),0,1)","v":"01"},{"$f":"IF(F275=0,0,'Fert selector'!$E$13/F275)","v":0},{"$f":"IF('Fert selector'!$D$15=\"Y\",$F275*$N275,IF('Fert selector'!$E$15=\"Y\",$F275*$S275,IF('Fert selector'!$F$15=\"Y\",$F275*$X275,IF('Fert selector'!$G$15=\"Y\",$F275*$AC275))))","v":0},0,{"$f":"IF((T275-'Fert selector'!$E$13)<0,(T275-'Fert selector'!$E$13)*-1,T275-'Fert selector'!$E$13)","v":0},{"$f":"IF(T275<('Fert selector'!$E$13+'Fert selector'!$E$13*'Fert selector'!$E$17),0,1)&IF(T275>('Fert selector'!$E$13-'Fert selector'!$E$13*'Fert selector'!$E$18),0,1)","v":"11"},{"$f":"IF(G275=0,0,'Fert selector'!$F$13/G275)","v":0},{"$f":"IF('Fert selector'!$D$15=\"Y\",$G275*$N275,IF('Fert selector'!$E$15=\"Y\",$G275*$S275,IF('Fert selector'!$F$15=\"Y\",$G275*$X275,IF('Fert selector'!$G$15=\"Y\",$G275*$AC275))))","v":0},90,{"$f":"IF((Y275-'Fert selector'!$F$13)<0,(Y275-'Fert selector'!$F$13)*-1,Y275-'Fert selector'!$F$13)","v":90},{"$f":"IF(Y275<('Fert selector'!$F$13+'Fert selector'!$F$13*'Fert selector'!$F$17),0,1)&IF(Y275>('Fert selector'!$F$13-'Fert selector'!$F$13*'Fert selector'!$F$18),0,1)","v":"01"},{"$f":"IF(H275=0,0,'Fert selector'!$G$13/H275)","v":0},{"$f":"IF('Fert selector'!$D$15=\"Y\",$H275*$N275,IF('Fert selector'!$E$15=\"Y\",$H275*$S275,IF('Fert selector'!$F$15=\"Y\",$H275*$X275,IF('Fert selector'!$G$15=\"Y\",$H275*$AC275))))","v":0},0,{"$f":"IF((AD275-'Fert selector'!$G$13)<0,(AD275-'Fert selector'!$G$13)*-1,AD275-'Fert selector'!$G$13)","v":0},{"$f":"IF(AD275<('Fert selector'!$G$13+'Fert selector'!$G$13*'Fert selector'!$G$17),0,1)&IF(AD275>('Fert selector'!$G$13-'Fert selector'!$G$13*'Fert selector'!$G$18),0,1)","v":"11"}]
[null,null,null,null,null,null,null,null,null,null,null,null,null,{"$f":"IF(E276=0,0,'Fert selector'!$D$13/E276)","v":0},{"$f":"IF('Fert selector'!$D$15=\"Y\",E276*N276,IF('Fert selector'!$E$15=\"Y\",F276*S276,IF('Fert selector'!$F$15=\"Y\",G276*X276,IF('Fert selector'!$G$15=\"Y\",H276*AC276))))","v":0},150,{"$f":"IF((O276-'Fert selector'!$D$13)<0,(O276-'Fert selector'!$D$13)*-1,O276-'Fert selector'!$D$13)","v":150},{"$f":"IF(O276<('Fert selector'!$D$13+'Fert selector'!$D$13*'Fert selector'!$D$17),0,1)&IF(O276>('Fert selector'!$D$13-'Fert selector'!$D$13*'Fert selector'!$D$18),0,1)","v":"01"},{"$f":"IF(F276=0,0,'Fert selector'!$E$13/F276)","v":0},{"$f":"IF('Fert selector'!$D$15=\"Y\",$F276*$N276,IF('Fert selector'!$E$15=\"Y\",$F276*$S276,IF('Fert selector'!$F$15=\"Y\",$F276*$X276,IF('Fert selector'!$G$15=\"Y\",$F276*$AC276))))","v":0},0,{"$f":"IF((T276-'Fert selector'!$E$13)<0,(T276-'Fert selector'!$E$13)*-1,T276-'Fert selector'!$E$13)","v":0},{"$f":"IF(T276<('Fert selector'!$E$13+'Fert selector'!$E$13*'Fert selector'!$E$17),0,1)&IF(T276>('Fert selector'!$E$13-'Fert selector'!$E$13*'Fert selector'!$E$18),0,1)","v":"11"},{"$f":"IF(G276=0,0,'Fert selector'!$F$13/G276)","v":0},{"$f":"IF('Fert selector'!$D$15=\"Y\",$G276*$N276,IF('Fert selector'!$E$15=\"Y\",$G276*$S276,IF('Fert selector'!$F$15=\"Y\",$G276*$X276,IF('Fert selector'!$G$15=\"Y\",$G276*$AC276))))","v":0},90,{"$f":"IF((Y276-'Fert selector'!$F$13)<0,(Y276-'Fert selector'!$F$13)*-1,Y276-'Fert selector'!$F$13)","v":90},{"$f":"IF(Y276<('Fert selector'!$F$13+'Fert selector'!$F$13*'Fert selector'!$F$17),0,1)&IF(Y276>('Fert selector'!$F$13-'Fert selector'!$F$13*'Fert selector'!$F$18),0,1)","v":"01"},{"$f":"IF(H276=0,0,'Fert selector'!$G$13/H276)","v":0},{"$f":"IF('Fert selector'!$D$15=\"Y\",$H276*$N276,IF('Fert selector'!$E$15=\"Y\",$H276*$S276,IF('Fert selector'!$F$15=\"Y\",$H276*$X276,IF('Fert selector'!$G$15=\"Y\",$H276*$AC276))))","v":0},0,{"$f":"IF((AD276-'Fert selector'!$G$13)<0,(AD276-'Fert selector'!$G$13)*-1,AD276-'Fert selector'!$G$13)","v":0},{"$f":"IF(AD276<('Fert selector'!$G$13+'Fert selector'!$G$13*'Fert selector'!$G$17),0,1)&IF(AD276>('Fert selector'!$G$13-'Fert selector'!$G$13*'Fert selector'!$G$18),0,1)","v":"11"}]
[null,null,null,null,null,null,null,null,null,null,null,null,null,{"$f":"IF(E277=0,0,'Fert selector'!$D$13/E277)","v":0},{"$f":"IF('Fert selector'!$D$15=\"Y\",E277*N277,IF('Fert selector'!$E$15=\"Y\",F277*S277,IF('Fert selector'!$F$15=\"Y\",G277*X277,IF('Fert selector'!$G$15=\"Y\",H277*AC277))))","v":0},150,{"$f":"IF((O277-'Fert selector'!$D$13)<0,(O277-'Fert selector'!$D$13)*-1,O277-'Fert selector'!$D$13)","v":150},{"$f":"IF(O277<('Fert selector'!$D$13+'Fert selector'!$D$13*'Fert selector'!$D$17),0,1)&IF(O277>('Fert selector'!$D$13-'Fert selector'!$D$13*'Fert selector'!$D$18),0,1)","v":"01"},{"$f":"IF(F277=0,0,'Fert selector'!$E$13/F277)","v":0},{"$f":"IF('Fert selector'!$D$15=\"Y\",$F277*$N277,IF('Fert selector'!$E$15=\"Y\",$F277*$S277,IF('Fert selector'!$F$15=\"Y\",$F277*$X277,IF('Fert selector'!$G$15=\"Y\",$F277*$AC277))))","v":0},0,{"$f":"IF((T277-'Fert selector'!$E$13)<0,(T277-'Fert selector'!$E$13)*-1,T277-'Fert selector'!$E$13)","v":0},{"$f":"IF(T277<('Fert selector'!$E$13+'Fert selector'!$E$13*'Fert selector'!$E$17),0,1)&IF(T277>('Fert selector'!$E$13-'Fert selector'!$E$13*'Fert selector'!$E$18),0,1)","v":"11"},{"$f":"IF(G277=0,0,'Fert selector'!$F$13/G277)","v":0},{"$f":"IF('Fert selector'!$D$15=\"Y\",$G277*$N277,IF('Fert selector'!$E$15=\"Y\",$G277*$S277,IF('Fert selector'!$F$15=\"Y\",$G277*$X277,IF('Fert selector'!$G$15=\"Y\",$G277*$AC277))))","v":0},90,{"$f":"IF((Y277-'Fert selector'!$F$13)<0,(Y277-'Fert selector'!$F$13)*-1,Y277-'Fert selector'!$F$13)","v":90},{"$f":"IF(Y277<('Fert selector'!$F$13+'Fert selector'!$F$13*'Fert selector'!$F$17),0,1)&IF(Y277>('Fert selector'!$F$13-'Fert selector'!$F$13*'Fert selector'!$F$18),0,1)","v":"01"},{"$f":"IF(H277=0,0,'Fert selector'!$G$13/H277)","v":0},{"$f":"IF('Fert selector'!$D$15=\"Y\",$H277*$N277,IF('Fert selector'!$E$15=\"Y\",$H277*$S277,IF('Fert selector'!$F$15=\"Y\",$H277*$X277,IF('Fert selector'!$G$15=\"Y\",$H277*$AC277))))","v":0},0,{"$f":"IF((AD277-'Fert selector'!$G$13)<0,(AD277-'Fert selector'!$G$13)*-1,AD277-'Fert selector'!$G$13)","v":0},{"$f":"IF(AD277<('Fert selector'!$G$13+'Fert selector'!$G$13*'Fert selector'!$G$17),0,1)&IF(AD277>('Fert selector'!$G$13-'Fert selector'!$G$13*'Fert selector'!$G$18),0,1)","v":"11"}]
[null,null,null,null,null,null,null,null,null,null,null,null,null,{"$f":"IF(E278=0,0,'Fert selector'!$D$13/E278)","v":0},{"$f":"IF('Fert selector'!$D$15=\"Y\",E278*N278,IF('Fert selector'!$E$15=\"Y\",F278*S278,IF('Fert selector'!$F$15=\"Y\",G278*X278,IF('Fert selector'!$G$15=\"Y\",H278*AC278))))","v":0},150,{"$f":"IF((O278-'Fert selector'!$D$13)<0,(O278-'Fert selector'!$D$13)*-1,O278-'Fert selector'!$D$13)","v":150},{"$f":"IF(O278<('Fert selector'!$D$13+'Fert selector'!$D$13*'Fert selector'!$D$17),0,1)&IF(O278>('Fert selector'!$D$13-'Fert selector'!$D$13*'Fert selector'!$D$18),0,1)","v":"01"},{"$f":"IF(F278=0,0,'Fert selector'!$E$13/F278)","v":0},{"$f":"IF('Fert selector'!$D$15=\"Y\",$F278*$N278,IF('Fert selector'!$E$15=\"Y\",$F278*$S278,IF('Fert selector'!$F$15=\"Y\",$F278*$X278,IF('Fert selector'!$G$15=\"Y\",$F278*$AC278))))","v":0},0,{"$f":"IF((T278-'Fert selector'!$E$13)<0,(T278-'Fert selector'!$E$13)*-1,T278-'Fert selector'!$E$13)","v":0},{"$f":"IF(T278<('Fert selector'!$E$13+'Fert selector'!$E$13*'Fert selector'!$E$17),0,1)&IF(T278>('Fert selector'!$E$13-'Fert selector'!$E$13*'Fert selector'!$E$18),0,1)","v":"11"},{"$f":"IF(G278=0,0,'Fert selector'!$F$13/G278)","v":0},{"$f":"IF('Fert selector'!$D$15=\"Y\",$G278*$N278,IF('Fert selector'!$E$15=\"Y\",$G278*$S278,IF('Fert selector'!$F$15=\"Y\",$G278*$X278,IF('Fert selector'!$G$15=\"Y\",$G278*$AC278))))","v":0},90,{"$f":"IF((Y278-'Fert selector'!$F$13)<0,(Y278-'Fert selector'!$F$13)*-1,Y278-'Fert selector'!$F$13)","v":90},{"$f":"IF(Y278<('Fert selector'!$F$13+'Fert selector'!$F$13*'Fert selector'!$F$17),0,1)&IF(Y278>('Fert selector'!$F$13-'Fert selector'!$F$13*'Fert selector'!$F$18),0,1)","v":"01"},{"$f":"IF(H278=0,0,'Fert selector'!$G$13/H278)","v":0},{"$f":"IF('Fert selector'!$D$15=\"Y\",$H278*$N278,IF('Fert selector'!$E$15=\"Y\",$H278*$S278,IF('Fert selector'!$F$15=\"Y\",$H278*$X278,IF('Fert selector'!$G$15=\"Y\",$H278*$AC278))))","v":0},0,{"$f":"IF((AD278-'Fert selector'!$G$13)<0,(AD278-'Fert selector'!$G$13)*-1,AD278-'Fert selector'!$G$13)","v":0},{"$f":"IF(AD278<('Fert selector'!$G$13+'Fert selector'!$G$13*'Fert selector'!$G$17),0,1)&IF(AD278>('Fert selector'!$G$13-'Fert selector'!$G$13*'Fert selector'!$G$18),0,1)","v":"11"}]
[null,null,null,null,null,null,null,null,null,null,null,null,null,{"$f":"IF(E279=0,0,'Fert selector'!$D$13/E279)","v":0},{"$f":"IF('Fert selector'!$D$15=\"Y\",E279*N279,IF('Fert selector'!$E$15=\"Y\",F279*S279,IF('Fert selector'!$F$15=\"Y\",G279*X279,IF('Fert selector'!$G$15=\"Y\",H279*AC279))))","v":0},150,{"$f":"IF((O279-'Fert selector'!$D$13)<0,(O279-'Fert selector'!$D$13)*-1,O279-'Fert selector'!$D$13)","v":150},{"$f":"IF(O279<('Fert selector'!$D$13+'Fert selector'!$D$13*'Fert selector'!$D$17),0,1)&IF(O279>('Fert selector'!$D$13-'Fert selector'!$D$13*'Fert selector'!$D$18),0,1)","v":"01"},{"$f":"IF(F279=0,0,'Fert selector'!$E$13/F279)","v":0},{"$f":"IF('Fert selector'!$D$15=\"Y\",$F279*$N279,IF('Fert selector'!$E$15=\"Y\",$F279*$S279,IF('Fert selector'!$F$15=\"Y\",$F279*$X279,IF('Fert selector'!$G$15=\"Y\",$F279*$AC279))))","v":0},0,{"$f":"IF((T279-'Fert selector'!$E$13)<0,(T279-'Fert selector'!$E$13)*-1,T279-'Fert selector'!$E$13)","v":0},{"$f":"IF(T279<('Fert selector'!$E$13+'Fert selector'!$E$13*'Fert selector'!$E$17),0,1)&IF(T279>('Fert selector'!$E$13-'Fert selector'!$E$13*'Fert selector'!$E$18),0,1)","v":"11"},{"$f":"IF(G279=0,0,'Fert selector'!$F$13/G279)","v":0},{"$f":"IF('Fert selector'!$D$15=\"Y\",$G279*$N279,IF('Fert selector'!$E$15=\"Y\",$G279*$S279,IF('Fert selector'!$F$15=\"Y\",$G279*$X279,IF('Fert selector'!$G$15=\"Y\",$G279*$AC279))))","v":0},90,{"$f":"IF((Y279-'Fert selector'!$F$13)<0,(Y279-'Fert selector'!$F$13)*-1,Y279-'Fert selector'!$F$13)","v":90},{"$f":"IF(Y279<('Fert selector'!$F$13+'Fert selector'!$F$13*'Fert selector'!$F$17),0,1)&IF(Y279>('Fert selector'!$F$13-'Fert selector'!$F$13*'Fert selector'!$F$18),0,1)","v":"01"},{"$f":"IF(H279=0,0,'Fert selector'!$G$13/H279)","v":0},{"$f":"IF('Fert selector'!$D$15=\"Y\",$H279*$N279,IF('Fert selector'!$E$15=\"Y\",$H279*$S279,IF('Fert selector'!$F$15=\"Y\",$H279*$X279,IF('Fert selector'!$G$15=\"Y\",$H279*$AC279))))","v":0},0,{"$f":"IF((AD279-'Fert selector'!$G$13)<0,(AD279-'Fert selector'!$G$13)*-1,AD279-'Fert selector'!$G$13)","v":0},{"$f":"IF(AD279<('Fert selector'!$G$13+'Fert selector'!$G$13*'Fert selector'!$G$17),0,1)&IF(AD279>('Fert selector'!$G$13-'Fert selector'!$G$13*'Fert selector'!$G$18),0,1)","v":"11"}]
[null,null,null,null,null,null,null,null,null,null,null,null,null,{"$f":"IF(E280=0,0,'Fert selector'!$D$13/E280)","v":0},{"$f":"IF('Fert selector'!$D$15=\"Y\",E280*N280,IF('Fert selector'!$E$15=\"Y\",F280*S280,IF('Fert selector'!$F$15=\"Y\",G280*X280,IF('Fert selector'!$G$15=\"Y\",H280*AC280))))","v":0},150,{"$f":"IF((O280-'Fert selector'!$D$13)<0,(O280-'Fert selector'!$D$13)*-1,O280-'Fert selector'!$D$13)","v":150},{"$f":"IF(O280<('Fert selector'!$D$13+'Fert selector'!$D$13*'Fert selector'!$D$17),0,1)&IF(O280>('Fert selector'!$D$13-'Fert selector'!$D$13*'Fert selector'!$D$18),0,1)","v":"01"},{"$f":"IF(F280=0,0,'Fert selector'!$E$13/F280)","v":0},{"$f":"IF('Fert selector'!$D$15=\"Y\",$F280*$N280,IF('Fert selector'!$E$15=\"Y\",$F280*$S280,IF('Fert selector'!$F$15=\"Y\",$F280*$X280,IF('Fert selector'!$G$15=\"Y\",$F280*$AC280))))","v":0},0,{"$f":"IF((T280-'Fert selector'!$E$13)<0,(T280-'Fert selector'!$E$13)*-1,T280-'Fert selector'!$E$13)","v":0},{"$f":"IF(T280<('Fert selector'!$E$13+'Fert selector'!$E$13*'Fert selector'!$E$17),0,1)&IF(T280>('Fert selector'!$E$13-'Fert selector'!$E$13*'Fert selector'!$E$18),0,1)","v":"11"},{"$f":"IF(G280=0,0,'Fert selector'!$F$13/G280)","v":0},{"$f":"IF('Fert selector'!$D$15=\"Y\",$G280*$N280,IF('Fert selector'!$E$15=\"Y\",$G280*$S280,IF('Fert selector'!$F$15=\"Y\",$G280*$X280,IF('Fert selector'!$G$15=\"Y\",$G280*$AC280))))","v":0},90,{"$f":"IF((Y280-'Fert selector'!$F$13)<0,(Y280-'Fert selector'!$F$13)*-1,Y280-'Fert selector'!$F$13)","v":90},{"$f":"IF(Y280<('Fert selector'!$F$13+'Fert selector'!$F$13*'Fert selector'!$F$17),0,1)&IF(Y280>('Fert selector'!$F$13-'Fert selector'!$F$13*'Fert selector'!$F$18),0,1)","v":"01"},{"$f":"IF(H280=0,0,'Fert selector'!$G$13/H280)","v":0},{"$f":"IF('Fert selector'!$D$15=\"Y\",$H280*$N280,IF('Fert selector'!$E$15=\"Y\",$H280*$S280,IF('Fert selector'!$F$15=\"Y\",$H280*$X280,IF('Fert selector'!$G$15=\"Y\",$H280*$AC280))))","v":0},0,{"$f":"IF((AD280-'Fert selector'!$G$13)<0,(AD280-'Fert selector'!$G$13)*-1,AD280-'Fert selector'!$G$13)","v":0},{"$f":"IF(AD280<('Fert selector'!$G$13+'Fert selector'!$G$13*'Fert selector'!$G$17),0,1)&IF(AD280>('Fert selector'!$G$13-'Fert selector'!$G$13*'Fert selector'!$G$18),0,1)","v":"11"}]
[null,null,null,null,null,null,null,null,null,null,null,null,null,{"$f":"IF(E281=0,0,'Fert selector'!$D$13/E281)","v":0},{"$f":"IF('Fert selector'!$D$15=\"Y\",E281*N281,IF('Fert selector'!$E$15=\"Y\",F281*S281,IF('Fert selector'!$F$15=\"Y\",G281*X281,IF('Fert selector'!$G$15=\"Y\",H281*AC281))))","v":0},150,{"$f":"IF((O281-'Fert selector'!$D$13)<0,(O281-'Fert selector'!$D$13)*-1,O281-'Fert selector'!$D$13)","v":150},{"$f":"IF(O281<('Fert selector'!$D$13+'Fert selector'!$D$13*'Fert selector'!$D$17),0,1)&IF(O281>('Fert selector'!$D$13-'Fert selector'!$D$13*'Fert selector'!$D$18),0,1)","v":"01"},{"$f":"IF(F281=0,0,'Fert selector'!$E$13/F281)","v":0},{"$f":"IF('Fert selector'!$D$15=\"Y\",$F281*$N281,IF('Fert selector'!$E$15=\"Y\",$F281*$S281,IF('Fert selector'!$F$15=\"Y\",$F281*$X281,IF('Fert selector'!$G$15=\"Y\",$F281*$AC281))))","v":0},0,{"$f":"IF((T281-'Fert selector'!$E$13)<0,(T281-'Fert selector'!$E$13)*-1,T281-'Fert selector'!$E$13)","v":0},{"$f":"IF(T281<('Fert selector'!$E$13+'Fert selector'!$E$13*'Fert selector'!$E$17),0,1)&IF(T281>('Fert selector'!$E$13-'Fert selector'!$E$13*'Fert selector'!$E$18),0,1)","v":"11"},{"$f":"IF(G281=0,0,'Fert selector'!$F$13/G281)","v":0},{"$f":"IF('Fert selector'!$D$15=\"Y\",$G281*$N281,IF('Fert selector'!$E$15=\"Y\",$G281*$S281,IF('Fert selector'!$F$15=\"Y\",$G281*$X281,IF('Fert selector'!$G$15=\"Y\",$G281*$AC281))))","v":0},90,{"$f":"IF((Y281-'Fert selector'!$F$13)<0,(Y281-'Fert selector'!$F$13)*-1,Y281-'Fert selector'!$F$13)","v":90},{"$f":"IF(Y281<('Fert selector'!$F$13+'Fert selector'!$F$13*'Fert selector'!$F$17),0,1)&IF(Y281>('Fert selector'!$F$13-'Fert selector'!$F$13*'Fert selector'!$F$18),0,1)","v":"01"},{"$f":"IF(H281=0,0,'Fert selector'!$G$13/H281)","v":0},{"$f":"IF('Fert selector'!$D$15=\"Y\",$H281*$N281,IF('Fert selector'!$E$15=\"Y\",$H281*$S281,IF('Fert selector'!$F$15=\"Y\",$H281*$X281,IF('Fert selector'!$G$15=\"Y\",$H281*$AC281))))","v":0},0,{"$f":"IF((AD281-'Fert selector'!$G$13)<0,(AD281-'Fert selector'!$G$13)*-1,AD281-'Fert selector'!$G$13)","v":0},{"$f":"IF(AD281<('Fert selector'!$G$13+'Fert selector'!$G$13*'Fert selector'!$G$17),0,1)&IF(AD281>('Fert selector'!$G$13-'Fert selector'!$G$13*'Fert selector'!$G$18),0,1)","v":"11"}]
[null,null,null,null,null,null,null,null,null,null,null,null,null,{"$f":"IF(E282=0,0,'Fert selector'!$D$13/E282)","v":0},{"$f":"IF('Fert selector'!$D$15=\"Y\",E282*N282,IF('Fert selector'!$E$15=\"Y\",F282*S282,IF('Fert selector'!$F$15=\"Y\",G282*X282,IF('Fert selector'!$G$15=\"Y\",H282*AC282))))","v":0},150,{"$f":"IF((O282-'Fert selector'!$D$13)<0,(O282-'Fert selector'!$D$13)*-1,O282-'Fert selector'!$D$13)","v":150},{"$f":"IF(O282<('Fert selector'!$D$13+'Fert selector'!$D$13*'Fert selector'!$D$17),0,1)&IF(O282>('Fert selector'!$D$13-'Fert selector'!$D$13*'Fert selector'!$D$18),0,1)","v":"01"},{"$f":"IF(F282=0,0,'Fert selector'!$E$13/F282)","v":0},{"$f":"IF('Fert selector'!$D$15=\"Y\",$F282*$N282,IF('Fert selector'!$E$15=\"Y\",$F282*$S282,IF('Fert selector'!$F$15=\"Y\",$F282*$X282,IF('Fert selector'!$G$15=\"Y\",$F282*$AC282))))","v":0},0,{"$f":"IF((T282-'Fert selector'!$E$13)<0,(T282-'Fert selector'!$E$13)*-1,T282-'Fert selector'!$E$13)","v":0},{"$f":"IF(T282<('Fert selector'!$E$13+'Fert selector'!$E$13*'Fert selector'!$E$17),0,1)&IF(T282>('Fert selector'!$E$13-'Fert selector'!$E$13*'Fert selector'!$E$18),0,1)","v":"11"},{"$f":"IF(G282=0,0,'Fert selector'!$F$13/G282)","v":0},{"$f":"IF('Fert selector'!$D$15=\"Y\",$G282*$N282,IF('Fert selector'!$E$15=\"Y\",$G282*$S282,IF('Fert selector'!$F$15=\"Y\",$G282*$X282,IF('Fert selector'!$G$15=\"Y\",$G282*$AC282))))","v":0},90,{"$f":"IF((Y282-'Fert selector'!$F$13)<0,(Y282-'Fert selector'!$F$13)*-1,Y282-'Fert selector'!$F$13)","v":90},{"$f":"IF(Y282<('Fert selector'!$F$13+'Fert selector'!$F$13*'Fert selector'!$F$17),0,1)&IF(Y282>('Fert selector'!$F$13-'Fert selector'!$F$13*'Fert selector'!$F$18),0,1)","v":"01"},{"$f":"IF(H282=0,0,'Fert selector'!$G$13/H282)","v":0},{"$f":"IF('Fert selector'!$D$15=\"Y\",$H282*$N282,IF('Fert selector'!$E$15=\"Y\",$H282*$S282,IF('Fert selector'!$F$15=\"Y\",$H282*$X282,IF('Fert selector'!$G$15=\"Y\",$H282*$AC282))))","v":0},0,{"$f":"IF((AD282-'Fert selector'!$G$13)<0,(AD282-'Fert selector'!$G$13)*-1,AD282-'Fert selector'!$G$13)","v":0},{"$f":"IF(AD282<('Fert selector'!$G$13+'Fert selector'!$G$13*'Fert selector'!$G$17),0,1)&IF(AD282>('Fert selector'!$G$13-'Fert selector'!$G$13*'Fert selector'!$G$18),0,1)","v":"11"}]
[null,null,null,null,null,null,null,null,null,null,null,null,null,{"$f":"IF(E283=0,0,'Fert selector'!$D$13/E283)","v":0},{"$f":"IF('Fert selector'!$D$15=\"Y\",E283*N283,IF('Fert selector'!$E$15=\"Y\",F283*S283,IF('Fert selector'!$F$15=\"Y\",G283*X283,IF('Fert selector'!$G$15=\"Y\",H283*AC283))))","v":0},{"$f":"IF(R283=\"00\",0,Q283)","v":150},{"$f":"IF((O283-'Fert selector'!$D$13)<0,(O283-'Fert selector'!$D$13)*-1,O283-'Fert selector'!$D$13)","v":150},{"$f":"IF(O283<('Fert selector'!$D$13+'Fert selector'!$D$13*'Fert selector'!$D$17),0,1)&IF(O283>('Fert selector'!$D$13-'Fert selector'!$D$13*'Fert selector'!$D$18),0,1)","v":"01"},{"$f":"IF(F283=0,0,'Fert selector'!$E$13/F283)","v":0},{"$f":"IF('Fert selector'!$D$15=\"Y\",$F283*$N283,IF('Fert selector'!$E$15=\"Y\",$F283*$S283,IF('Fert selector'!$F$15=\"Y\",$F283*$X283,IF('Fert selector'!$G$15=\"Y\",$F283*$AC283))))","v":0},{"$f":"IF(W283=\"00\",0,V283)","v":0},{"$f":"IF((T283-'Fert selector'!$E$13)<0,(T283-'Fert selector'!$E$13)*-1,T283-'Fert selector'!$E$13)","v":0},{"$f":"IF(T283<('Fert selector'!$E$13+'Fert selector'!$E$13*'Fert selector'!$E$17),0,1)&IF(T283>('Fert selector'!$E$13-'Fert selector'!$E$13*'Fert selector'!$E$18),0,1)","v":"11"},{"$f":"IF(G283=0,0,'Fert selector'!$F$13/G283)","v":0},{"$f":"IF('Fert selector'!$D$15=\"Y\",$G283*$N283,IF('Fert selector'!$E$15=\"Y\",$G283*$S283,IF('Fert selector'!$F$15=\"Y\",$G283*$X283,IF('Fert selector'!$G$15=\"Y\",$G283*$AC283))))","v":0},{"$f":"IF(AB283=\"00\",0,AA283)","v":90},{"$f":"IF((Y283-'Fert selector'!$F$13)<0,(Y283-'Fert selector'!$F$13)*-1,Y283-'Fert selector'!$F$13)","v":90},{"$f":"IF(Y283<('Fert selector'!$F$13+'Fert selector'!$F$13*'Fert selector'!$F$17),0,1)&IF(Y283>('Fert selector'!$F$13-'Fert selector'!$F$13*'Fert selector'!$F$18),0,1)","v":"01"},{"$f":"IF(H283=0,0,'Fert selector'!$G$13/H283)","v":0},{"$f":"IF('Fert selector'!$D$15=\"Y\",$H283*$N283,IF('Fert selector'!$E$15=\"Y\",$H283*$S283,IF('Fert selector'!$F$15=\"Y\",$H283*$X283,IF('Fert selector'!$G$15=\"Y\",$H283*$AC283))))","v":0},{"$f":"IF(AG283=\"00\",0,AF283)","v":0},{"$f":"IF((AD283-'Fert selector'!$G$13)<0,(AD283-'Fert selector'!$G$13)*-1,AD283-'Fert selector'!$G$13)","v":0},{"$f":"IF(AD283<('Fert selector'!$G$13+'Fert selector'!$G$13*'Fert selector'!$G$17),0,1)&IF(AD283>('Fert selector'!$G$13-'Fert selector'!$G$13*'Fert selector'!$G$18),0,1)","v":"11"}]
[null,null,null,null,null,null,null,null,null,null,null,null,null,{"$f":"IF(E284=0,0,'Fert selector'!$D$13/E284)","v":0},{"$f":"IF('Fert selector'!$D$15=\"Y\",E284*N284,IF('Fert selector'!$E$15=\"Y\",F284*S284,IF('Fert selector'!$F$15=\"Y\",G284*X284,IF('Fert selector'!$G$15=\"Y\",H284*AC284))))","v":0},150,{"$f":"IF((O284-'Fert selector'!$D$13)<0,(O284-'Fert selector'!$D$13)*-1,O284-'Fert selector'!$D$13)","v":150},{"$f":"IF(O284<('Fert selector'!$D$13+'Fert selector'!$D$13*'Fert selector'!$D$17),0,1)&IF(O284>('Fert selector'!$D$13-'Fert selector'!$D$13*'Fert selector'!$D$18),0,1)","v":"01"},{"$f":"IF(F284=0,0,'Fert selector'!$E$13/F284)","v":0},{"$f":"IF('Fert selector'!$D$15=\"Y\",$F284*$N284,IF('Fert selector'!$E$15=\"Y\",$F284*$S284,IF('Fert selector'!$F$15=\"Y\",$F284*$X284,IF('Fert selector'!$G$15=\"Y\",$F284*$AC284))))","v":0},0,{"$f":"IF((T284-'Fert selector'!$E$13)<0,(T284-'Fert selector'!$E$13)*-1,T284-'Fert selector'!$E$13)","v":0},{"$f":"IF(T284<('Fert selector'!$E$13+'Fert selector'!$E$13*'Fert selector'!$E$17),0,1)&IF(T284>('Fert selector'!$E$13-'Fert selector'!$E$13*'Fert selector'!$E$18),0,1)","v":"11"},{"$f":"IF(G284=0,0,'Fert selector'!$F$13/G284)","v":0},{"$f":"IF('Fert selector'!$D$15=\"Y\",$G284*$N284,IF('Fert selector'!$E$15=\"Y\",$G284*$S284,IF('Fert selector'!$F$15=\"Y\",$G284*$X284,IF('Fert selector'!$G$15=\"Y\",$G284*$AC284))))","v":0},90,{"$f":"IF((Y284-'Fert selector'!$F$13)<0,(Y284-'Fert selector'!$F$13)*-1,Y284-'Fert selector'!$F$13)","v":90},{"$f":"IF(Y284<('Fert selector'!$F$13+'Fert selector'!$F$13*'Fert selector'!$F$17),0,1)&IF(Y284>('Fert selector'!$F$13-'Fert selector'!$F$13*'Fert selector'!$F$18),0,1)","v":"01"},{"$f":"IF(H284=0,0,'Fert selector'!$G$13/H284)","v":0},{"$f":"IF('Fert selector'!$D$15=\"Y\",$H284*$N284,IF('Fert selector'!$E$15=\"Y\",$H284*$S284,IF('Fert selector'!$F$15=\"Y\",$H284*$X284,IF('Fert selector'!$G$15=\"Y\",$H284*$AC284))))","v":0},0,{"$f":"IF((AD284-'Fert selector'!$G$13)<0,(AD284-'Fert selector'!$G$13)*-1,AD284-'Fert selector'!$G$13)","v":0},{"$f":"IF(AD284<('Fert selector'!$G$13+'Fert selector'!$G$13*'Fert selector'!$G$17),0,1)&IF(AD284>('Fert selector'!$G$13-'Fert selector'!$G$13*'Fert selector'!$G$18),0,1)","v":"11"}]
[null,null,null,null,null,null,null,null,null,null,null,null,null,{"$f":"IF(E285=0,0,'Fert selector'!$D$13/E285)","v":0},{"$f":"IF('Fert selector'!$D$15=\"Y\",E285*N285,IF('Fert selector'!$E$15=\"Y\",F285*S285,IF('Fert selector'!$F$15=\"Y\",G285*X285,IF('Fert selector'!$G$15=\"Y\",H285*AC285))))","v":0},150,{"$f":"IF((O285-'Fert selector'!$D$13)<0,(O285-'Fert selector'!$D$13)*-1,O285-'Fert selector'!$D$13)","v":150},{"$f":"IF(O285<('Fert selector'!$D$13+'Fert selector'!$D$13*'Fert selector'!$D$17),0,1)&IF(O285>('Fert selector'!$D$13-'Fert selector'!$D$13*'Fert selector'!$D$18),0,1)","v":"01"},{"$f":"IF(F285=0,0,'Fert selector'!$E$13/F285)","v":0},{"$f":"IF('Fert selector'!$D$15=\"Y\",$F285*$N285,IF('Fert selector'!$E$15=\"Y\",$F285*$S285,IF('Fert selector'!$F$15=\"Y\",$F285*$X285,IF('Fert selector'!$G$15=\"Y\",$F285*$AC285))))","v":0},0,{"$f":"IF((T285-'Fert selector'!$E$13)<0,(T285-'Fert selector'!$E$13)*-1,T285-'Fert selector'!$E$13)","v":0},{"$f":"IF(T285<('Fert selector'!$E$13+'Fert selector'!$E$13*'Fert selector'!$E$17),0,1)&IF(T285>('Fert selector'!$E$13-'Fert selector'!$E$13*'Fert selector'!$E$18),0,1)","v":"11"},{"$f":"IF(G285=0,0,'Fert selector'!$F$13/G285)","v":0},{"$f":"IF('Fert selector'!$D$15=\"Y\",$G285*$N285,IF('Fert selector'!$E$15=\"Y\",$G285*$S285,IF('Fert selector'!$F$15=\"Y\",$G285*$X285,IF('Fert selector'!$G$15=\"Y\",$G285*$AC285))))","v":0},90,{"$f":"IF((Y285-'Fert selector'!$F$13)<0,(Y285-'Fert selector'!$F$13)*-1,Y285-'Fert selector'!$F$13)","v":90},{"$f":"IF(Y285<('Fert selector'!$F$13+'Fert selector'!$F$13*'Fert selector'!$F$17),0,1)&IF(Y285>('Fert selector'!$F$13-'Fert selector'!$F$13*'Fert selector'!$F$18),0,1)","v":"01"},{"$f":"IF(H285=0,0,'Fert selector'!$G$13/H285)","v":0},{"$f":"IF('Fert selector'!$D$15=\"Y\",$H285*$N285,IF('Fert selector'!$E$15=\"Y\",$H285*$S285,IF('Fert selector'!$F$15=\"Y\",$H285*$X285,IF('Fert selector'!$G$15=\"Y\",$H285*$AC285))))","v":0},0,{"$f":"IF((AD285-'Fert selector'!$G$13)<0,(AD285-'Fert selector'!$G$13)*-1,AD285-'Fert selector'!$G$13)","v":0},{"$f":"IF(AD285<('Fert selector'!$G$13+'Fert selector'!$G$13*'Fert selector'!$G$17),0,1)&IF(AD285>('Fert selector'!$G$13-'Fert selector'!$G$13*'Fert selector'!$G$18),0,1)","v":"11"}]
[null,null,null,null,null,null,null,null,null,null,null,null,null,{"$f":"IF(E286=0,0,'Fert selector'!$D$13/E286)","v":0},{"$f":"IF('Fert selector'!$D$15=\"Y\",E286*N286,IF('Fert selector'!$E$15=\"Y\",F286*S286,IF('Fert selector'!$F$15=\"Y\",G286*X286,IF('Fert selector'!$G$15=\"Y\",H286*AC286))))","v":0},150,{"$f":"IF((O286-'Fert selector'!$D$13)<0,(O286-'Fert selector'!$D$13)*-1,O286-'Fert selector'!$D$13)","v":150},{"$f":"IF(O286<('Fert selector'!$D$13+'Fert selector'!$D$13*'Fert selector'!$D$17),0,1)&IF(O286>('Fert selector'!$D$13-'Fert selector'!$D$13*'Fert selector'!$D$18),0,1)","v":"01"},{"$f":"IF(F286=0,0,'Fert selector'!$E$13/F286)","v":0},{"$f":"IF('Fert selector'!$D$15=\"Y\",$F286*$N286,IF('Fert selector'!$E$15=\"Y\",$F286*$S286,IF('Fert selector'!$F$15=\"Y\",$F286*$X286,IF('Fert selector'!$G$15=\"Y\",$F286*$AC286))))","v":0},0,{"$f":"IF((T286-'Fert selector'!$E$13)<0,(T286-'Fert selector'!$E$13)*-1,T286-'Fert selector'!$E$13)","v":0},{"$f":"IF(T286<('Fert selector'!$E$13+'Fert selector'!$E$13*'Fert selector'!$E$17),0,1)&IF(T286>('Fert selector'!$E$13-'Fert selector'!$E$13*'Fert selector'!$E$18),0,1)","v":"11"},{"$f":"IF(G286=0,0,'Fert selector'!$F$13/G286)","v":0},{"$f":"IF('Fert selector'!$D$15=\"Y\",$G286*$N286,IF('Fert selector'!$E$15=\"Y\",$G286*$S286,IF('Fert selector'!$F$15=\"Y\",$G286*$X286,IF('Fert selector'!$G$15=\"Y\",$G286*$AC286))))","v":0},90,{"$f":"IF((Y286-'Fert selector'!$F$13)<0,(Y286-'Fert selector'!$F$13)*-1,Y286-'Fert selector'!$F$13)","v":90},{"$f":"IF(Y286<('Fert selector'!$F$13+'Fert selector'!$F$13*'Fert selector'!$F$17),0,1)&IF(Y286>('Fert selector'!$F$13-'Fert selector'!$F$13*'Fert selector'!$F$18),0,1)","v":"01"},{"$f":"IF(H286=0,0,'Fert selector'!$G$13/H286)","v":0},{"$f":"IF('Fert selector'!$D$15=\"Y\",$H286*$N286,IF('Fert selector'!$E$15=\"Y\",$H286*$S286,IF('Fert selector'!$F$15=\"Y\",$H286*$X286,IF('Fert selector'!$G$15=\"Y\",$H286*$AC286))))","v":0},0,{"$f":"IF((AD286-'Fert selector'!$G$13)<0,(AD286-'Fert selector'!$G$13)*-1,AD286-'Fert selector'!$G$13)","v":0},{"$f":"IF(AD286<('Fert selector'!$G$13+'Fert selector'!$G$13*'Fert selector'!$G$17),0,1)&IF(AD286>('Fert selector'!$G$13-'Fert selector'!$G$13*'Fert selector'!$G$18),0,1)","v":"11"}]
[null,null,null,null,null,null,null,null,null,null,null,null,null,{"$f":"IF(E287=0,0,'Fert selector'!$D$13/E287)","v":0},{"$f":"IF('Fert selector'!$D$15=\"Y\",E287*N287,IF('Fert selector'!$E$15=\"Y\",F287*S287,IF('Fert selector'!$F$15=\"Y\",G287*X287,IF('Fert selector'!$G$15=\"Y\",H287*AC287))))","v":0},150,{"$f":"IF((O287-'Fert selector'!$D$13)<0,(O287-'Fert selector'!$D$13)*-1,O287-'Fert selector'!$D$13)","v":150},{"$f":"IF(O287<('Fert selector'!$D$13+'Fert selector'!$D$13*'Fert selector'!$D$17),0,1)&IF(O287>('Fert selector'!$D$13-'Fert selector'!$D$13*'Fert selector'!$D$18),0,1)","v":"01"},{"$f":"IF(F287=0,0,'Fert selector'!$E$13/F287)","v":0},{"$f":"IF('Fert selector'!$D$15=\"Y\",$F287*$N287,IF('Fert selector'!$E$15=\"Y\",$F287*$S287,IF('Fert selector'!$F$15=\"Y\",$F287*$X287,IF('Fert selector'!$G$15=\"Y\",$F287*$AC287))))","v":0},0,{"$f":"IF((T287-'Fert selector'!$E$13)<0,(T287-'Fert selector'!$E$13)*-1,T287-'Fert selector'!$E$13)","v":0},{"$f":"IF(T287<('Fert selector'!$E$13+'Fert selector'!$E$13*'Fert selector'!$E$17),0,1)&IF(T287>('Fert selector'!$E$13-'Fert selector'!$E$13*'Fert selector'!$E$18),0,1)","v":"11"},{"$f":"IF(G287=0,0,'Fert selector'!$F$13/G287)","v":0},{"$f":"IF('Fert selector'!$D$15=\"Y\",$G287*$N287,IF('Fert selector'!$E$15=\"Y\",$G287*$S287,IF('Fert selector'!$F$15=\"Y\",$G287*$X287,IF('Fert selector'!$G$15=\"Y\",$G287*$AC287))))","v":0},90,{"$f":"IF((Y287-'Fert selector'!$F$13)<0,(Y287-'Fert selector'!$F$13)*-1,Y287-'Fert selector'!$F$13)","v":90},{"$f":"IF(Y287<('Fert selector'!$F$13+'Fert selector'!$F$13*'Fert selector'!$F$17),0,1)&IF(Y287>('Fert selector'!$F$13-'Fert selector'!$F$13*'Fert selector'!$F$18),0,1)","v":"01"},{"$f":"IF(H287=0,0,'Fert selector'!$G$13/H287)","v":0},{"$f":"IF('Fert selector'!$D$15=\"Y\",$H287*$N287,IF('Fert selector'!$E$15=\"Y\",$H287*$S287,IF('Fert selector'!$F$15=\"Y\",$H287*$X287,IF('Fert selector'!$G$15=\"Y\",$H287*$AC287))))","v":0},0,{"$f":"IF((AD287-'Fert selector'!$G$13)<0,(AD287-'Fert selector'!$G$13)*-1,AD287-'Fert selector'!$G$13)","v":0},{"$f":"IF(AD287<('Fert selector'!$G$13+'Fert selector'!$G$13*'Fert selector'!$G$17),0,1)&IF(AD287>('Fert selector'!$G$13-'Fert selector'!$G$13*'Fert selector'!$G$18),0,1)","v":"11"}]
[null,null,null,null,null,null,null,null,null,null,null,null,null,{"$f":"IF(E288=0,0,'Fert selector'!$D$13/E288)","v":0},{"$f":"IF('Fert selector'!$D$15=\"Y\",E288*N288,IF('Fert selector'!$E$15=\"Y\",F288*S288,IF('Fert selector'!$F$15=\"Y\",G288*X288,IF('Fert selector'!$G$15=\"Y\",H288*AC288))))","v":0},150,{"$f":"IF((O288-'Fert selector'!$D$13)<0,(O288-'Fert selector'!$D$13)*-1,O288-'Fert selector'!$D$13)","v":150},{"$f":"IF(O288<('Fert selector'!$D$13+'Fert selector'!$D$13*'Fert selector'!$D$17),0,1)&IF(O288>('Fert selector'!$D$13-'Fert selector'!$D$13*'Fert selector'!$D$18),0,1)","v":"01"},{"$f":"IF(F288=0,0,'Fert selector'!$E$13/F288)","v":0},{"$f":"IF('Fert selector'!$D$15=\"Y\",$F288*$N288,IF('Fert selector'!$E$15=\"Y\",$F288*$S288,IF('Fert selector'!$F$15=\"Y\",$F288*$X288,IF('Fert selector'!$G$15=\"Y\",$F288*$AC288))))","v":0},0,{"$f":"IF((T288-'Fert selector'!$E$13)<0,(T288-'Fert selector'!$E$13)*-1,T288-'Fert selector'!$E$13)","v":0},{"$f":"IF(T288<('Fert selector'!$E$13+'Fert selector'!$E$13*'Fert selector'!$E$17),0,1)&IF(T288>('Fert selector'!$E$13-'Fert selector'!$E$13*'Fert selector'!$E$18),0,1)","v":"11"},{"$f":"IF(G288=0,0,'Fert selector'!$F$13/G288)","v":0},{"$f":"IF('Fert selector'!$D$15=\"Y\",$G288*$N288,IF('Fert selector'!$E$15=\"Y\",$G288*$S288,IF('Fert selector'!$F$15=\"Y\",$G288*$X288,IF('Fert selector'!$G$15=\"Y\",$G288*$AC288))))","v":0},90,{"$f":"IF((Y288-'Fert selector'!$F$13)<0,(Y288-'Fert selector'!$F$13)*-1,Y288-'Fert selector'!$F$13)","v":90},{"$f":"IF(Y288<('Fert selector'!$F$13+'Fert selector'!$F$13*'Fert selector'!$F$17),0,1)&IF(Y288>('Fert selector'!$F$13-'Fert selector'!$F$13*'Fert selector'!$F$18),0,1)","v":"01"},{"$f":"IF(H288=0,0,'Fert selector'!$G$13/H288)","v":0},{"$f":"IF('Fert selector'!$D$15=\"Y\",$H288*$N288,IF('Fert selector'!$E$15=\"Y\",$H288*$S288,IF('Fert selector'!$F$15=\"Y\",$H288*$X288,IF('Fert selector'!$G$15=\"Y\",$H288*$AC288))))","v":0},0,{"$f":"IF((AD288-'Fert selector'!$G$13)<0,(AD288-'Fert selector'!$G$13)*-1,AD288-'Fert selector'!$G$13)","v":0},{"$f":"IF(AD288<('Fert selector'!$G$13+'Fert selector'!$G$13*'Fert selector'!$G$17),0,1)&IF(AD288>('Fert selector'!$G$13-'Fert selector'!$G$13*'Fert selector'!$G$18),0,1)","v":"11"}]
[null,null,null,null,null,null,null,null,null,null,null,null,null,{"$f":"IF(E289=0,0,'Fert selector'!$D$13/E289)","v":0},{"$f":"IF('Fert selector'!$D$15=\"Y\",E289*N289,IF('Fert selector'!$E$15=\"Y\",F289*S289,IF('Fert selector'!$F$15=\"Y\",G289*X289,IF('Fert selector'!$G$15=\"Y\",H289*AC289))))","v":0},150,{"$f":"IF((O289-'Fert selector'!$D$13)<0,(O289-'Fert selector'!$D$13)*-1,O289-'Fert selector'!$D$13)","v":150},{"$f":"IF(O289<('Fert selector'!$D$13+'Fert selector'!$D$13*'Fert selector'!$D$17),0,1)&IF(O289>('Fert selector'!$D$13-'Fert selector'!$D$13*'Fert selector'!$D$18),0,1)","v":"01"},{"$f":"IF(F289=0,0,'Fert selector'!$E$13/F289)","v":0},{"$f":"IF('Fert selector'!$D$15=\"Y\",$F289*$N289,IF('Fert selector'!$E$15=\"Y\",$F289*$S289,IF('Fert selector'!$F$15=\"Y\",$F289*$X289,IF('Fert selector'!$G$15=\"Y\",$F289*$AC289))))","v":0},0,{"$f":"IF((T289-'Fert selector'!$E$13)<0,(T289-'Fert selector'!$E$13)*-1,T289-'Fert selector'!$E$13)","v":0},{"$f":"IF(T289<('Fert selector'!$E$13+'Fert selector'!$E$13*'Fert selector'!$E$17),0,1)&IF(T289>('Fert selector'!$E$13-'Fert selector'!$E$13*'Fert selector'!$E$18),0,1)","v":"11"},{"$f":"IF(G289=0,0,'Fert selector'!$F$13/G289)","v":0},{"$f":"IF('Fert selector'!$D$15=\"Y\",$G289*$N289,IF('Fert selector'!$E$15=\"Y\",$G289*$S289,IF('Fert selector'!$F$15=\"Y\",$G289*$X289,IF('Fert selector'!$G$15=\"Y\",$G289*$AC289))))","v":0},90,{"$f":"IF((Y289-'Fert selector'!$F$13)<0,(Y289-'Fert selector'!$F$13)*-1,Y289-'Fert selector'!$F$13)","v":90},{"$f":"IF(Y289<('Fert selector'!$F$13+'Fert selector'!$F$13*'Fert selector'!$F$17),0,1)&IF(Y289>('Fert selector'!$F$13-'Fert selector'!$F$13*'Fert selector'!$F$18),0,1)","v":"01"},{"$f":"IF(H289=0,0,'Fert selector'!$G$13/H289)","v":0},{"$f":"IF('Fert selector'!$D$15=\"Y\",$H289*$N289,IF('Fert selector'!$E$15=\"Y\",$H289*$S289,IF('Fert selector'!$F$15=\"Y\",$H289*$X289,IF('Fert selector'!$G$15=\"Y\",$H289*$AC289))))","v":0},0,{"$f":"IF((AD289-'Fert selector'!$G$13)<0,(AD289-'Fert selector'!$G$13)*-1,AD289-'Fert selector'!$G$13)","v":0},{"$f":"IF(AD289<('Fert selector'!$G$13+'Fert selector'!$G$13*'Fert selector'!$G$17),0,1)&IF(AD289>('Fert selector'!$G$13-'Fert selector'!$G$13*'Fert selector'!$G$18),0,1)","v":"11"}]
[null,null,null,null,null,null,null,null,null,null,null,null,null,{"$f":"IF(E290=0,0,'Fert selector'!$D$13/E290)","v":0},{"$f":"IF('Fert selector'!$D$15=\"Y\",E290*N290,IF('Fert selector'!$E$15=\"Y\",F290*S290,IF('Fert selector'!$F$15=\"Y\",G290*X290,IF('Fert selector'!$G$15=\"Y\",H290*AC290))))","v":0},150,{"$f":"IF((O290-'Fert selector'!$D$13)<0,(O290-'Fert selector'!$D$13)*-1,O290-'Fert selector'!$D$13)","v":150},{"$f":"IF(O290<('Fert selector'!$D$13+'Fert selector'!$D$13*'Fert selector'!$D$17),0,1)&IF(O290>('Fert selector'!$D$13-'Fert selector'!$D$13*'Fert selector'!$D$18),0,1)","v":"01"},{"$f":"IF(F290=0,0,'Fert selector'!$E$13/F290)","v":0},{"$f":"IF('Fert selector'!$D$15=\"Y\",$F290*$N290,IF('Fert selector'!$E$15=\"Y\",$F290*$S290,IF('Fert selector'!$F$15=\"Y\",$F290*$X290,IF('Fert selector'!$G$15=\"Y\",$F290*$AC290))))","v":0},0,{"$f":"IF((T290-'Fert selector'!$E$13)<0,(T290-'Fert selector'!$E$13)*-1,T290-'Fert selector'!$E$13)","v":0},{"$f":"IF(T290<('Fert selector'!$E$13+'Fert selector'!$E$13*'Fert selector'!$E$17),0,1)&IF(T290>('Fert selector'!$E$13-'Fert selector'!$E$13*'Fert selector'!$E$18),0,1)","v":"11"},{"$f":"IF(G290=0,0,'Fert selector'!$F$13/G290)","v":0},{"$f":"IF('Fert selector'!$D$15=\"Y\",$G290*$N290,IF('Fert selector'!$E$15=\"Y\",$G290*$S290,IF('Fert selector'!$F$15=\"Y\",$G290*$X290,IF('Fert selector'!$G$15=\"Y\",$G290*$AC290))))","v":0},90,{"$f":"IF((Y290-'Fert selector'!$F$13)<0,(Y290-'Fert selector'!$F$13)*-1,Y290-'Fert selector'!$F$13)","v":90},{"$f":"IF(Y290<('Fert selector'!$F$13+'Fert selector'!$F$13*'Fert selector'!$F$17),0,1)&IF(Y290>('Fert selector'!$F$13-'Fert selector'!$F$13*'Fert selector'!$F$18),0,1)","v":"01"},{"$f":"IF(H290=0,0,'Fert selector'!$G$13/H290)","v":0},{"$f":"IF('Fert selector'!$D$15=\"Y\",$H290*$N290,IF('Fert selector'!$E$15=\"Y\",$H290*$S290,IF('Fert selector'!$F$15=\"Y\",$H290*$X290,IF('Fert selector'!$G$15=\"Y\",$H290*$AC290))))","v":0},0,{"$f":"IF((AD290-'Fert selector'!$G$13)<0,(AD290-'Fert selector'!$G$13)*-1,AD290-'Fert selector'!$G$13)","v":0},{"$f":"IF(AD290<('Fert selector'!$G$13+'Fert selector'!$G$13*'Fert selector'!$G$17),0,1)&IF(AD290>('Fert selector'!$G$13-'Fert selector'!$G$13*'Fert selector'!$G$18),0,1)","v":"11"}]
[null,null,null,null,null,null,null,null,null,null,null,null,null,{"$f":"IF(E291=0,0,'Fert selector'!$D$13/E291)","v":0},{"$f":"IF('Fert selector'!$D$15=\"Y\",E291*N291,IF('Fert selector'!$E$15=\"Y\",F291*S291,IF('Fert selector'!$F$15=\"Y\",G291*X291,IF('Fert selector'!$G$15=\"Y\",H291*AC291))))","v":0},150,{"$f":"IF((O291-'Fert selector'!$D$13)<0,(O291-'Fert selector'!$D$13)*-1,O291-'Fert selector'!$D$13)","v":150},{"$f":"IF(O291<('Fert selector'!$D$13+'Fert selector'!$D$13*'Fert selector'!$D$17),0,1)&IF(O291>('Fert selector'!$D$13-'Fert selector'!$D$13*'Fert selector'!$D$18),0,1)","v":"01"},{"$f":"IF(F291=0,0,'Fert selector'!$E$13/F291)","v":0},{"$f":"IF('Fert selector'!$D$15=\"Y\",$F291*$N291,IF('Fert selector'!$E$15=\"Y\",$F291*$S291,IF('Fert selector'!$F$15=\"Y\",$F291*$X291,IF('Fert selector'!$G$15=\"Y\",$F291*$AC291))))","v":0},0,{"$f":"IF((T291-'Fert selector'!$E$13)<0,(T291-'Fert selector'!$E$13)*-1,T291-'Fert selector'!$E$13)","v":0},{"$f":"IF(T291<('Fert selector'!$E$13+'Fert selector'!$E$13*'Fert selector'!$E$17),0,1)&IF(T291>('Fert selector'!$E$13-'Fert selector'!$E$13*'Fert selector'!$E$18),0,1)","v":"11"},{"$f":"IF(G291=0,0,'Fert selector'!$F$13/G291)","v":0},{"$f":"IF('Fert selector'!$D$15=\"Y\",$G291*$N291,IF('Fert selector'!$E$15=\"Y\",$G291*$S291,IF('Fert selector'!$F$15=\"Y\",$G291*$X291,IF('Fert selector'!$G$15=\"Y\",$G291*$AC291))))","v":0},90,{"$f":"IF((Y291-'Fert selector'!$F$13)<0,(Y291-'Fert selector'!$F$13)*-1,Y291-'Fert selector'!$F$13)","v":90},{"$f":"IF(Y291<('Fert selector'!$F$13+'Fert selector'!$F$13*'Fert selector'!$F$17),0,1)&IF(Y291>('Fert selector'!$F$13-'Fert selector'!$F$13*'Fert selector'!$F$18),0,1)","v":"01"},{"$f":"IF(H291=0,0,'Fert selector'!$G$13/H291)","v":0},{"$f":"IF('Fert selector'!$D$15=\"Y\",$H291*$N291,IF('Fert selector'!$E$15=\"Y\",$H291*$S291,IF('Fert selector'!$F$15=\"Y\",$H291*$X291,IF('Fert selector'!$G$15=\"Y\",$H291*$AC291))))","v":0},0,{"$f":"IF((AD291-'Fert selector'!$G$13)<0,(AD291-'Fert selector'!$G$13)*-1,AD291-'Fert selector'!$G$13)","v":0},{"$f":"IF(AD291<('Fert selector'!$G$13+'Fert selector'!$G$13*'Fert selector'!$G$17),0,1)&IF(AD291>('Fert selector'!$G$13-'Fert selector'!$G$13*'Fert selector'!$G$18),0,1)","v":"11"}]
[null,null,null,null,null,null,null,null,null,null,null,null,null,{"$f":"IF(E292=0,0,'Fert selector'!$D$13/E292)","v":0},{"$f":"IF('Fert selector'!$D$15=\"Y\",E292*N292,IF('Fert selector'!$E$15=\"Y\",F292*S292,IF('Fert selector'!$F$15=\"Y\",G292*X292,IF('Fert selector'!$G$15=\"Y\",H292*AC292))))","v":0},150,{"$f":"IF((O292-'Fert selector'!$D$13)<0,(O292-'Fert selector'!$D$13)*-1,O292-'Fert selector'!$D$13)","v":150},{"$f":"IF(O292<('Fert selector'!$D$13+'Fert selector'!$D$13*'Fert selector'!$D$17),0,1)&IF(O292>('Fert selector'!$D$13-'Fert selector'!$D$13*'Fert selector'!$D$18),0,1)","v":"01"},{"$f":"IF(F292=0,0,'Fert selector'!$E$13/F292)","v":0},{"$f":"IF('Fert selector'!$D$15=\"Y\",$F292*$N292,IF('Fert selector'!$E$15=\"Y\",$F292*$S292,IF('Fert selector'!$F$15=\"Y\",$F292*$X292,IF('Fert selector'!$G$15=\"Y\",$F292*$AC292))))","v":0},0,{"$f":"IF((T292-'Fert selector'!$E$13)<0,(T292-'Fert selector'!$E$13)*-1,T292-'Fert selector'!$E$13)","v":0},{"$f":"IF(T292<('Fert selector'!$E$13+'Fert selector'!$E$13*'Fert selector'!$E$17),0,1)&IF(T292>('Fert selector'!$E$13-'Fert selector'!$E$13*'Fert selector'!$E$18),0,1)","v":"11"},{"$f":"IF(G292=0,0,'Fert selector'!$F$13/G292)","v":0},{"$f":"IF('Fert selector'!$D$15=\"Y\",$G292*$N292,IF('Fert selector'!$E$15=\"Y\",$G292*$S292,IF('Fert selector'!$F$15=\"Y\",$G292*$X292,IF('Fert selector'!$G$15=\"Y\",$G292*$AC292))))","v":0},90,{"$f":"IF((Y292-'Fert selector'!$F$13)<0,(Y292-'Fert selector'!$F$13)*-1,Y292-'Fert selector'!$F$13)","v":90},{"$f":"IF(Y292<('Fert selector'!$F$13+'Fert selector'!$F$13*'Fert selector'!$F$17),0,1)&IF(Y292>('Fert selector'!$F$13-'Fert selector'!$F$13*'Fert selector'!$F$18),0,1)","v":"01"},{"$f":"IF(H292=0,0,'Fert selector'!$G$13/H292)","v":0},{"$f":"IF('Fert selector'!$D$15=\"Y\",$H292*$N292,IF('Fert selector'!$E$15=\"Y\",$H292*$S292,IF('Fert selector'!$F$15=\"Y\",$H292*$X292,IF('Fert selector'!$G$15=\"Y\",$H292*$AC292))))","v":0},0,{"$f":"IF((AD292-'Fert selector'!$G$13)<0,(AD292-'Fert selector'!$G$13)*-1,AD292-'Fert selector'!$G$13)","v":0},{"$f":"IF(AD292<('Fert selector'!$G$13+'Fert selector'!$G$13*'Fert selector'!$G$17),0,1)&IF(AD292>('Fert selector'!$G$13-'Fert selector'!$G$13*'Fert selector'!$G$18),0,1)","v":"11"}]
[null,null,null,null,null,null,null,null,null,null,null,null,null,{"$f":"IF(E293=0,0,'Fert selector'!$D$13/E293)","v":0},{"$f":"IF('Fert selector'!$D$15=\"Y\",E293*N293,IF('Fert selector'!$E$15=\"Y\",F293*S293,IF('Fert selector'!$F$15=\"Y\",G293*X293,IF('Fert selector'!$G$15=\"Y\",H293*AC293))))","v":0},150,{"$f":"IF((O293-'Fert selector'!$D$13)<0,(O293-'Fert selector'!$D$13)*-1,O293-'Fert selector'!$D$13)","v":150},{"$f":"IF(O293<('Fert selector'!$D$13+'Fert selector'!$D$13*'Fert selector'!$D$17),0,1)&IF(O293>('Fert selector'!$D$13-'Fert selector'!$D$13*'Fert selector'!$D$18),0,1)","v":"01"},{"$f":"IF(F293=0,0,'Fert selector'!$E$13/F293)","v":0},{"$f":"IF('Fert selector'!$D$15=\"Y\",$F293*$N293,IF('Fert selector'!$E$15=\"Y\",$F293*$S293,IF('Fert selector'!$F$15=\"Y\",$F293*$X293,IF('Fert selector'!$G$15=\"Y\",$F293*$AC293))))","v":0},0,{"$f":"IF((T293-'Fert selector'!$E$13)<0,(T293-'Fert selector'!$E$13)*-1,T293-'Fert selector'!$E$13)","v":0},{"$f":"IF(T293<('Fert selector'!$E$13+'Fert selector'!$E$13*'Fert selector'!$E$17),0,1)&IF(T293>('Fert selector'!$E$13-'Fert selector'!$E$13*'Fert selector'!$E$18),0,1)","v":"11"},{"$f":"IF(G293=0,0,'Fert selector'!$F$13/G293)","v":0},{"$f":"IF('Fert selector'!$D$15=\"Y\",$G293*$N293,IF('Fert selector'!$E$15=\"Y\",$G293*$S293,IF('Fert selector'!$F$15=\"Y\",$G293*$X293,IF('Fert selector'!$G$15=\"Y\",$G293*$AC293))))","v":0},90,{"$f":"IF((Y293-'Fert selector'!$F$13)<0,(Y293-'Fert selector'!$F$13)*-1,Y293-'Fert selector'!$F$13)","v":90},{"$f":"IF(Y293<('Fert selector'!$F$13+'Fert selector'!$F$13*'Fert selector'!$F$17),0,1)&IF(Y293>('Fert selector'!$F$13-'Fert selector'!$F$13*'Fert selector'!$F$18),0,1)","v":"01"},{"$f":"IF(H293=0,0,'Fert selector'!$G$13/H293)","v":0},{"$f":"IF('Fert selector'!$D$15=\"Y\",$H293*$N293,IF('Fert selector'!$E$15=\"Y\",$H293*$S293,IF('Fert selector'!$F$15=\"Y\",$H293*$X293,IF('Fert selector'!$G$15=\"Y\",$H293*$AC293))))","v":0},0,{"$f":"IF((AD293-'Fert selector'!$G$13)<0,(AD293-'Fert selector'!$G$13)*-1,AD293-'Fert selector'!$G$13)","v":0},{"$f":"IF(AD293<('Fert selector'!$G$13+'Fert selector'!$G$13*'Fert selector'!$G$17),0,1)&IF(AD293>('Fert selector'!$G$13-'Fert selector'!$G$13*'Fert selector'!$G$18),0,1)","v":"11"}]
[null,null,null,null,null,null,null,null,null,null,null,null,null,{"$f":"IF(E294=0,0,'Fert selector'!$D$13/E294)","v":0},{"$f":"IF('Fert selector'!$D$15=\"Y\",E294*N294,IF('Fert selector'!$E$15=\"Y\",F294*S294,IF('Fert selector'!$F$15=\"Y\",G294*X294,IF('Fert selector'!$G$15=\"Y\",H294*AC294))))","v":0},150,{"$f":"IF((O294-'Fert selector'!$D$13)<0,(O294-'Fert selector'!$D$13)*-1,O294-'Fert selector'!$D$13)","v":150},{"$f":"IF(O294<('Fert selector'!$D$13+'Fert selector'!$D$13*'Fert selector'!$D$17),0,1)&IF(O294>('Fert selector'!$D$13-'Fert selector'!$D$13*'Fert selector'!$D$18),0,1)","v":"01"},{"$f":"IF(F294=0,0,'Fert selector'!$E$13/F294)","v":0},{"$f":"IF('Fert selector'!$D$15=\"Y\",$F294*$N294,IF('Fert selector'!$E$15=\"Y\",$F294*$S294,IF('Fert selector'!$F$15=\"Y\",$F294*$X294,IF('Fert selector'!$G$15=\"Y\",$F294*$AC294))))","v":0},0,{"$f":"IF((T294-'Fert selector'!$E$13)<0,(T294-'Fert selector'!$E$13)*-1,T294-'Fert selector'!$E$13)","v":0},{"$f":"IF(T294<('Fert selector'!$E$13+'Fert selector'!$E$13*'Fert selector'!$E$17),0,1)&IF(T294>('Fert selector'!$E$13-'Fert selector'!$E$13*'Fert selector'!$E$18),0,1)","v":"11"},{"$f":"IF(G294=0,0,'Fert selector'!$F$13/G294)","v":0},{"$f":"IF('Fert selector'!$D$15=\"Y\",$G294*$N294,IF('Fert selector'!$E$15=\"Y\",$G294*$S294,IF('Fert selector'!$F$15=\"Y\",$G294*$X294,IF('Fert selector'!$G$15=\"Y\",$G294*$AC294))))","v":0},90,{"$f":"IF((Y294-'Fert selector'!$F$13)<0,(Y294-'Fert selector'!$F$13)*-1,Y294-'Fert selector'!$F$13)","v":90},{"$f":"IF(Y294<('Fert selector'!$F$13+'Fert selector'!$F$13*'Fert selector'!$F$17),0,1)&IF(Y294>('Fert selector'!$F$13-'Fert selector'!$F$13*'Fert selector'!$F$18),0,1)","v":"01"},{"$f":"IF(H294=0,0,'Fert selector'!$G$13/H294)","v":0},{"$f":"IF('Fert selector'!$D$15=\"Y\",$H294*$N294,IF('Fert selector'!$E$15=\"Y\",$H294*$S294,IF('Fert selector'!$F$15=\"Y\",$H294*$X294,IF('Fert selector'!$G$15=\"Y\",$H294*$AC294))))","v":0},0,{"$f":"IF((AD294-'Fert selector'!$G$13)<0,(AD294-'Fert selector'!$G$13)*-1,AD294-'Fert selector'!$G$13)","v":0},{"$f":"IF(AD294<('Fert selector'!$G$13+'Fert selector'!$G$13*'Fert selector'!$G$17),0,1)&IF(AD294>('Fert selector'!$G$13-'Fert selector'!$G$13*'Fert selector'!$G$18),0,1)","v":"11"}]
[null,null,null,null,null,null,null,null,null,null,null,null,null,{"$f":"IF(E295=0,0,'Fert selector'!$D$13/E295)","v":0},{"$f":"IF('Fert selector'!$D$15=\"Y\",E295*N295,IF('Fert selector'!$E$15=\"Y\",F295*S295,IF('Fert selector'!$F$15=\"Y\",G295*X295,IF('Fert selector'!$G$15=\"Y\",H295*AC295))))","v":0},150,{"$f":"IF((O295-'Fert selector'!$D$13)<0,(O295-'Fert selector'!$D$13)*-1,O295-'Fert selector'!$D$13)","v":150},{"$f":"IF(O295<('Fert selector'!$D$13+'Fert selector'!$D$13*'Fert selector'!$D$17),0,1)&IF(O295>('Fert selector'!$D$13-'Fert selector'!$D$13*'Fert selector'!$D$18),0,1)","v":"01"},{"$f":"IF(F295=0,0,'Fert selector'!$E$13/F295)","v":0},{"$f":"IF('Fert selector'!$D$15=\"Y\",$F295*$N295,IF('Fert selector'!$E$15=\"Y\",$F295*$S295,IF('Fert selector'!$F$15=\"Y\",$F295*$X295,IF('Fert selector'!$G$15=\"Y\",$F295*$AC295))))","v":0},0,{"$f":"IF((T295-'Fert selector'!$E$13)<0,(T295-'Fert selector'!$E$13)*-1,T295-'Fert selector'!$E$13)","v":0},{"$f":"IF(T295<('Fert selector'!$E$13+'Fert selector'!$E$13*'Fert selector'!$E$17),0,1)&IF(T295>('Fert selector'!$E$13-'Fert selector'!$E$13*'Fert selector'!$E$18),0,1)","v":"11"},{"$f":"IF(G295=0,0,'Fert selector'!$F$13/G295)","v":0},{"$f":"IF('Fert selector'!$D$15=\"Y\",$G295*$N295,IF('Fert selector'!$E$15=\"Y\",$G295*$S295,IF('Fert selector'!$F$15=\"Y\",$G295*$X295,IF('Fert selector'!$G$15=\"Y\",$G295*$AC295))))","v":0},90,{"$f":"IF((Y295-'Fert selector'!$F$13)<0,(Y295-'Fert selector'!$F$13)*-1,Y295-'Fert selector'!$F$13)","v":90},{"$f":"IF(Y295<('Fert selector'!$F$13+'Fert selector'!$F$13*'Fert selector'!$F$17),0,1)&IF(Y295>('Fert selector'!$F$13-'Fert selector'!$F$13*'Fert selector'!$F$18),0,1)","v":"01"},{"$f":"IF(H295=0,0,'Fert selector'!$G$13/H295)","v":0},{"$f":"IF('Fert selector'!$D$15=\"Y\",$H295*$N295,IF('Fert selector'!$E$15=\"Y\",$H295*$S295,IF('Fert selector'!$F$15=\"Y\",$H295*$X295,IF('Fert selector'!$G$15=\"Y\",$H295*$AC295))))","v":0},0,{"$f":"IF((AD295-'Fert selector'!$G$13)<0,(AD295-'Fert selector'!$G$13)*-1,AD295-'Fert selector'!$G$13)","v":0},{"$f":"IF(AD295<('Fert selector'!$G$13+'Fert selector'!$G$13*'Fert selector'!$G$17),0,1)&IF(AD295>('Fert selector'!$G$13-'Fert selector'!$G$13*'Fert selector'!$G$18),0,1)","v":"11"}]
[null,null,null,null,null,null,null,null,null,null,null,null,null,{"$f":"IF(E296=0,0,'Fert selector'!$D$13/E296)","v":0},{"$f":"IF('Fert selector'!$D$15=\"Y\",E296*N296,IF('Fert selector'!$E$15=\"Y\",F296*S296,IF('Fert selector'!$F$15=\"Y\",G296*X296,IF('Fert selector'!$G$15=\"Y\",H296*AC296))))","v":0},150,{"$f":"IF((O296-'Fert selector'!$D$13)<0,(O296-'Fert selector'!$D$13)*-1,O296-'Fert selector'!$D$13)","v":150},{"$f":"IF(O296<('Fert selector'!$D$13+'Fert selector'!$D$13*'Fert selector'!$D$17),0,1)&IF(O296>('Fert selector'!$D$13-'Fert selector'!$D$13*'Fert selector'!$D$18),0,1)","v":"01"},{"$f":"IF(F296=0,0,'Fert selector'!$E$13/F296)","v":0},{"$f":"IF('Fert selector'!$D$15=\"Y\",$F296*$N296,IF('Fert selector'!$E$15=\"Y\",$F296*$S296,IF('Fert selector'!$F$15=\"Y\",$F296*$X296,IF('Fert selector'!$G$15=\"Y\",$F296*$AC296))))","v":0},0,{"$f":"IF((T296-'Fert selector'!$E$13)<0,(T296-'Fert selector'!$E$13)*-1,T296-'Fert selector'!$E$13)","v":0},{"$f":"IF(T296<('Fert selector'!$E$13+'Fert selector'!$E$13*'Fert selector'!$E$17),0,1)&IF(T296>('Fert selector'!$E$13-'Fert selector'!$E$13*'Fert selector'!$E$18),0,1)","v":"11"},{"$f":"IF(G296=0,0,'Fert selector'!$F$13/G296)","v":0},{"$f":"IF('Fert selector'!$D$15=\"Y\",$G296*$N296,IF('Fert selector'!$E$15=\"Y\",$G296*$S296,IF('Fert selector'!$F$15=\"Y\",$G296*$X296,IF('Fert selector'!$G$15=\"Y\",$G296*$AC296))))","v":0},90,{"$f":"IF((Y296-'Fert selector'!$F$13)<0,(Y296-'Fert selector'!$F$13)*-1,Y296-'Fert selector'!$F$13)","v":90},{"$f":"IF(Y296<('Fert selector'!$F$13+'Fert selector'!$F$13*'Fert selector'!$F$17),0,1)&IF(Y296>('Fert selector'!$F$13-'Fert selector'!$F$13*'Fert selector'!$F$18),0,1)","v":"01"},{"$f":"IF(H296=0,0,'Fert selector'!$G$13/H296)","v":0},{"$f":"IF('Fert selector'!$D$15=\"Y\",$H296*$N296,IF('Fert selector'!$E$15=\"Y\",$H296*$S296,IF('Fert selector'!$F$15=\"Y\",$H296*$X296,IF('Fert selector'!$G$15=\"Y\",$H296*$AC296))))","v":0},0,{"$f":"IF((AD296-'Fert selector'!$G$13)<0,(AD296-'Fert selector'!$G$13)*-1,AD296-'Fert selector'!$G$13)","v":0},{"$f":"IF(AD296<('Fert selector'!$G$13+'Fert selector'!$G$13*'Fert selector'!$G$17),0,1)&IF(AD296>('Fert selector'!$G$13-'Fert selector'!$G$13*'Fert selector'!$G$18),0,1)","v":"11"}]
[null,null,null,null,null,null,null,null,null,null,null,null,null,{"$f":"IF(E297=0,0,'Fert selector'!$D$13/E297)","v":0},{"$f":"IF('Fert selector'!$D$15=\"Y\",E297*N297,IF('Fert selector'!$E$15=\"Y\",F297*S297,IF('Fert selector'!$F$15=\"Y\",G297*X297,IF('Fert selector'!$G$15=\"Y\",H297*AC297))))","v":0},150,{"$f":"IF((O297-'Fert selector'!$D$13)<0,(O297-'Fert selector'!$D$13)*-1,O297-'Fert selector'!$D$13)","v":150},{"$f":"IF(O297<('Fert selector'!$D$13+'Fert selector'!$D$13*'Fert selector'!$D$17),0,1)&IF(O297>('Fert selector'!$D$13-'Fert selector'!$D$13*'Fert selector'!$D$18),0,1)","v":"01"},{"$f":"IF(F297=0,0,'Fert selector'!$E$13/F297)","v":0},{"$f":"IF('Fert selector'!$D$15=\"Y\",$F297*$N297,IF('Fert selector'!$E$15=\"Y\",$F297*$S297,IF('Fert selector'!$F$15=\"Y\",$F297*$X297,IF('Fert selector'!$G$15=\"Y\",$F297*$AC297))))","v":0},0,{"$f":"IF((T297-'Fert selector'!$E$13)<0,(T297-'Fert selector'!$E$13)*-1,T297-'Fert selector'!$E$13)","v":0},{"$f":"IF(T297<('Fert selector'!$E$13+'Fert selector'!$E$13*'Fert selector'!$E$17),0,1)&IF(T297>('Fert selector'!$E$13-'Fert selector'!$E$13*'Fert selector'!$E$18),0,1)","v":"11"},{"$f":"IF(G297=0,0,'Fert selector'!$F$13/G297)","v":0},{"$f":"IF('Fert selector'!$D$15=\"Y\",$G297*$N297,IF('Fert selector'!$E$15=\"Y\",$G297*$S297,IF('Fert selector'!$F$15=\"Y\",$G297*$X297,IF('Fert selector'!$G$15=\"Y\",$G297*$AC297))))","v":0},90,{"$f":"IF((Y297-'Fert selector'!$F$13)<0,(Y297-'Fert selector'!$F$13)*-1,Y297-'Fert selector'!$F$13)","v":90},{"$f":"IF(Y297<('Fert selector'!$F$13+'Fert selector'!$F$13*'Fert selector'!$F$17),0,1)&IF(Y297>('Fert selector'!$F$13-'Fert selector'!$F$13*'Fert selector'!$F$18),0,1)","v":"01"},{"$f":"IF(H297=0,0,'Fert selector'!$G$13/H297)","v":0},{"$f":"IF('Fert selector'!$D$15=\"Y\",$H297*$N297,IF('Fert selector'!$E$15=\"Y\",$H297*$S297,IF('Fert selector'!$F$15=\"Y\",$H297*$X297,IF('Fert selector'!$G$15=\"Y\",$H297*$AC297))))","v":0},0,{"$f":"IF((AD297-'Fert selector'!$G$13)<0,(AD297-'Fert selector'!$G$13)*-1,AD297-'Fert selector'!$G$13)","v":0},{"$f":"IF(AD297<('Fert selector'!$G$13+'Fert selector'!$G$13*'Fert selector'!$G$17),0,1)&IF(AD297>('Fert selector'!$G$13-'Fert selector'!$G$13*'Fert selector'!$G$18),0,1)","v":"11"}]
[null,null,null,null,null,null,null,null,null,null,null,null,null,{"$f":"IF(E298=0,0,'Fert selector'!$D$13/E298)","v":0},{"$f":"IF('Fert selector'!$D$15=\"Y\",E298*N298,IF('Fert selector'!$E$15=\"Y\",F298*S298,IF('Fert selector'!$F$15=\"Y\",G298*X298,IF('Fert selector'!$G$15=\"Y\",H298*AC298))))","v":0},150,{"$f":"IF((O298-'Fert selector'!$D$13)<0,(O298-'Fert selector'!$D$13)*-1,O298-'Fert selector'!$D$13)","v":150},{"$f":"IF(O298<('Fert selector'!$D$13+'Fert selector'!$D$13*'Fert selector'!$D$17),0,1)&IF(O298>('Fert selector'!$D$13-'Fert selector'!$D$13*'Fert selector'!$D$18),0,1)","v":"01"},{"$f":"IF(F298=0,0,'Fert selector'!$E$13/F298)","v":0},{"$f":"IF('Fert selector'!$D$15=\"Y\",$F298*$N298,IF('Fert selector'!$E$15=\"Y\",$F298*$S298,IF('Fert selector'!$F$15=\"Y\",$F298*$X298,IF('Fert selector'!$G$15=\"Y\",$F298*$AC298))))","v":0},0,{"$f":"IF((T298-'Fert selector'!$E$13)<0,(T298-'Fert selector'!$E$13)*-1,T298-'Fert selector'!$E$13)","v":0},{"$f":"IF(T298<('Fert selector'!$E$13+'Fert selector'!$E$13*'Fert selector'!$E$17),0,1)&IF(T298>('Fert selector'!$E$13-'Fert selector'!$E$13*'Fert selector'!$E$18),0,1)","v":"11"},{"$f":"IF(G298=0,0,'Fert selector'!$F$13/G298)","v":0},{"$f":"IF('Fert selector'!$D$15=\"Y\",$G298*$N298,IF('Fert selector'!$E$15=\"Y\",$G298*$S298,IF('Fert selector'!$F$15=\"Y\",$G298*$X298,IF('Fert selector'!$G$15=\"Y\",$G298*$AC298))))","v":0},90,{"$f":"IF((Y298-'Fert selector'!$F$13)<0,(Y298-'Fert selector'!$F$13)*-1,Y298-'Fert selector'!$F$13)","v":90},{"$f":"IF(Y298<('Fert selector'!$F$13+'Fert selector'!$F$13*'Fert selector'!$F$17),0,1)&IF(Y298>('Fert selector'!$F$13-'Fert selector'!$F$13*'Fert selector'!$F$18),0,1)","v":"01"},{"$f":"IF(H298=0,0,'Fert selector'!$G$13/H298)","v":0},{"$f":"IF('Fert selector'!$D$15=\"Y\",$H298*$N298,IF('Fert selector'!$E$15=\"Y\",$H298*$S298,IF('Fert selector'!$F$15=\"Y\",$H298*$X298,IF('Fert selector'!$G$15=\"Y\",$H298*$AC298))))","v":0},0,{"$f":"IF((AD298-'Fert selector'!$G$13)<0,(AD298-'Fert selector'!$G$13)*-1,AD298-'Fert selector'!$G$13)","v":0},{"$f":"IF(AD298<('Fert selector'!$G$13+'Fert selector'!$G$13*'Fert selector'!$G$17),0,1)&IF(AD298>('Fert selector'!$G$13-'Fert selector'!$G$13*'Fert selector'!$G$18),0,1)","v":"11"}]
[null,null,null,null,null,null,null,null,null,null,null,null,null,{"$f":"IF(E299=0,0,'Fert selector'!$D$13/E299)","v":0},{"$f":"IF('Fert selector'!$D$15=\"Y\",E299*N299,IF('Fert selector'!$E$15=\"Y\",F299*S299,IF('Fert selector'!$F$15=\"Y\",G299*X299,IF('Fert selector'!$G$15=\"Y\",H299*AC299))))","v":0},150,{"$f":"IF((O299-'Fert selector'!$D$13)<0,(O299-'Fert selector'!$D$13)*-1,O299-'Fert selector'!$D$13)","v":150},{"$f":"IF(O299<('Fert selector'!$D$13+'Fert selector'!$D$13*'Fert selector'!$D$17),0,1)&IF(O299>('Fert selector'!$D$13-'Fert selector'!$D$13*'Fert selector'!$D$18),0,1)","v":"01"},{"$f":"IF(F299=0,0,'Fert selector'!$E$13/F299)","v":0},{"$f":"IF('Fert selector'!$D$15=\"Y\",$F299*$N299,IF('Fert selector'!$E$15=\"Y\",$F299*$S299,IF('Fert selector'!$F$15=\"Y\",$F299*$X299,IF('Fert selector'!$G$15=\"Y\",$F299*$AC299))))","v":0},0,{"$f":"IF((T299-'Fert selector'!$E$13)<0,(T299-'Fert selector'!$E$13)*-1,T299-'Fert selector'!$E$13)","v":0},{"$f":"IF(T299<('Fert selector'!$E$13+'Fert selector'!$E$13*'Fert selector'!$E$17),0,1)&IF(T299>('Fert selector'!$E$13-'Fert selector'!$E$13*'Fert selector'!$E$18),0,1)","v":"11"},{"$f":"IF(G299=0,0,'Fert selector'!$F$13/G299)","v":0},{"$f":"IF('Fert selector'!$D$15=\"Y\",$G299*$N299,IF('Fert selector'!$E$15=\"Y\",$G299*$S299,IF('Fert selector'!$F$15=\"Y\",$G299*$X299,IF('Fert selector'!$G$15=\"Y\",$G299*$AC299))))","v":0},90,{"$f":"IF((Y299-'Fert selector'!$F$13)<0,(Y299-'Fert selector'!$F$13)*-1,Y299-'Fert selector'!$F$13)","v":90},{"$f":"IF(Y299<('Fert selector'!$F$13+'Fert selector'!$F$13*'Fert selector'!$F$17),0,1)&IF(Y299>('Fert selector'!$F$13-'Fert selector'!$F$13*'Fert selector'!$F$18),0,1)","v":"01"},{"$f":"IF(H299=0,0,'Fert selector'!$G$13/H299)","v":0},{"$f":"IF('Fert selector'!$D$15=\"Y\",$H299*$N299,IF('Fert selector'!$E$15=\"Y\",$H299*$S299,IF('Fert selector'!$F$15=\"Y\",$H299*$X299,IF('Fert selector'!$G$15=\"Y\",$H299*$AC299))))","v":0},0,{"$f":"IF((AD299-'Fert selector'!$G$13)<0,(AD299-'Fert selector'!$G$13)*-1,AD299-'Fert selector'!$G$13)","v":0},{"$f":"IF(AD299<('Fert selector'!$G$13+'Fert selector'!$G$13*'Fert selector'!$G$17),0,1)&IF(AD299>('Fert selector'!$G$13-'Fert selector'!$G$13*'Fert selector'!$G$18),0,1)","v":"11"}]
[null,null,null,null,null,null,null,null,null,null,null,null,null,{"$f":"IF(E300=0,0,'Fert selector'!$D$13/E300)","v":0},{"$f":"IF('Fert selector'!$D$15=\"Y\",E300*N300,IF('Fert selector'!$E$15=\"Y\",F300*S300,IF('Fert selector'!$F$15=\"Y\",G300*X300,IF('Fert selector'!$G$15=\"Y\",H300*AC300))))","v":0},150,{"$f":"IF((O300-'Fert selector'!$D$13)<0,(O300-'Fert selector'!$D$13)*-1,O300-'Fert selector'!$D$13)","v":150},{"$f":"IF(O300<('Fert selector'!$D$13+'Fert selector'!$D$13*'Fert selector'!$D$17),0,1)&IF(O300>('Fert selector'!$D$13-'Fert selector'!$D$13*'Fert selector'!$D$18),0,1)","v":"01"},{"$f":"IF(F300=0,0,'Fert selector'!$E$13/F300)","v":0},{"$f":"IF('Fert selector'!$D$15=\"Y\",$F300*$N300,IF('Fert selector'!$E$15=\"Y\",$F300*$S300,IF('Fert selector'!$F$15=\"Y\",$F300*$X300,IF('Fert selector'!$G$15=\"Y\",$F300*$AC300))))","v":0},0,{"$f":"IF((T300-'Fert selector'!$E$13)<0,(T300-'Fert selector'!$E$13)*-1,T300-'Fert selector'!$E$13)","v":0},{"$f":"IF(T300<('Fert selector'!$E$13+'Fert selector'!$E$13*'Fert selector'!$E$17),0,1)&IF(T300>('Fert selector'!$E$13-'Fert selector'!$E$13*'Fert selector'!$E$18),0,1)","v":"11"},{"$f":"IF(G300=0,0,'Fert selector'!$F$13/G300)","v":0},{"$f":"IF('Fert selector'!$D$15=\"Y\",$G300*$N300,IF('Fert selector'!$E$15=\"Y\",$G300*$S300,IF('Fert selector'!$F$15=\"Y\",$G300*$X300,IF('Fert selector'!$G$15=\"Y\",$G300*$AC300))))","v":0},90,{"$f":"IF((Y300-'Fert selector'!$F$13)<0,(Y300-'Fert selector'!$F$13)*-1,Y300-'Fert selector'!$F$13)","v":90},{"$f":"IF(Y300<('Fert selector'!$F$13+'Fert selector'!$F$13*'Fert selector'!$F$17),0,1)&IF(Y300>('Fert selector'!$F$13-'Fert selector'!$F$13*'Fert selector'!$F$18),0,1)","v":"01"},{"$f":"IF(H300=0,0,'Fert selector'!$G$13/H300)","v":0},{"$f":"IF('Fert selector'!$D$15=\"Y\",$H300*$N300,IF('Fert selector'!$E$15=\"Y\",$H300*$S300,IF('Fert selector'!$F$15=\"Y\",$H300*$X300,IF('Fert selector'!$G$15=\"Y\",$H300*$AC300))))","v":0},0,{"$f":"IF((AD300-'Fert selector'!$G$13)<0,(AD300-'Fert selector'!$G$13)*-1,AD300-'Fert selector'!$G$13)","v":0},{"$f":"IF(AD300<('Fert selector'!$G$13+'Fert selector'!$G$13*'Fert selector'!$G$17),0,1)&IF(AD300>('Fert selector'!$G$13-'Fert selector'!$G$13*'Fert selector'!$G$18),0,1)","v":"11"}]
[null,null,null,null,null,null,null,null,null,null,null,null,null,{"$f":"IF(E301=0,0,'Fert selector'!$D$13/E301)","v":0},{"$f":"IF('Fert selector'!$D$15=\"Y\",E301*N301,IF('Fert selector'!$E$15=\"Y\",F301*S301,IF('Fert selector'!$F$15=\"Y\",G301*X301,IF('Fert selector'!$G$15=\"Y\",H301*AC301))))","v":0},150,{"$f":"IF((O301-'Fert selector'!$D$13)<0,(O301-'Fert selector'!$D$13)*-1,O301-'Fert selector'!$D$13)","v":150},{"$f":"IF(O301<('Fert selector'!$D$13+'Fert selector'!$D$13*'Fert selector'!$D$17),0,1)&IF(O301>('Fert selector'!$D$13-'Fert selector'!$D$13*'Fert selector'!$D$18),0,1)","v":"01"},{"$f":"IF(F301=0,0,'Fert selector'!$E$13/F301)","v":0},{"$f":"IF('Fert selector'!$D$15=\"Y\",$F301*$N301,IF('Fert selector'!$E$15=\"Y\",$F301*$S301,IF('Fert selector'!$F$15=\"Y\",$F301*$X301,IF('Fert selector'!$G$15=\"Y\",$F301*$AC301))))","v":0},0,{"$f":"IF((T301-'Fert selector'!$E$13)<0,(T301-'Fert selector'!$E$13)*-1,T301-'Fert selector'!$E$13)","v":0},{"$f":"IF(T301<('Fert selector'!$E$13+'Fert selector'!$E$13*'Fert selector'!$E$17),0,1)&IF(T301>('Fert selector'!$E$13-'Fert selector'!$E$13*'Fert selector'!$E$18),0,1)","v":"11"},{"$f":"IF(G301=0,0,'Fert selector'!$F$13/G301)","v":0},{"$f":"IF('Fert selector'!$D$15=\"Y\",$G301*$N301,IF('Fert selector'!$E$15=\"Y\",$G301*$S301,IF('Fert selector'!$F$15=\"Y\",$G301*$X301,IF('Fert selector'!$G$15=\"Y\",$G301*$AC301))))","v":0},90,{"$f":"IF((Y301-'Fert selector'!$F$13)<0,(Y301-'Fert selector'!$F$13)*-1,Y301-'Fert selector'!$F$13)","v":90},{"$f":"IF(Y301<('Fert selector'!$F$13+'Fert selector'!$F$13*'Fert selector'!$F$17),0,1)&IF(Y301>('Fert selector'!$F$13-'Fert selector'!$F$13*'Fert selector'!$F$18),0,1)","v":"01"},{"$f":"IF(H301=0,0,'Fert selector'!$G$13/H301)","v":0},{"$f":"IF('Fert selector'!$D$15=\"Y\",$H301*$N301,IF('Fert selector'!$E$15=\"Y\",$H301*$S301,IF('Fert selector'!$F$15=\"Y\",$H301*$X301,IF('Fert selector'!$G$15=\"Y\",$H301*$AC301))))","v":0},0,{"$f":"IF((AD301-'Fert selector'!$G$13)<0,(AD301-'Fert selector'!$G$13)*-1,AD301-'Fert selector'!$G$13)","v":0},{"$f":"IF(AD301<('Fert selector'!$G$13+'Fert selector'!$G$13*'Fert selector'!$G$17),0,1)&IF(AD301>('Fert selector'!$G$13-'Fert selector'!$G$13*'Fert selector'!$G$18),0,1)","v":"11"}]
[null,null,null,null,null,null,null,null,null,null,null,null,null,{"$f":"IF(E302=0,0,'Fert selector'!$D$13/E302)","v":0},{"$f":"IF('Fert selector'!$D$15=\"Y\",E302*N302,IF('Fert selector'!$E$15=\"Y\",F302*S302,IF('Fert selector'!$F$15=\"Y\",G302*X302,IF('Fert selector'!$G$15=\"Y\",H302*AC302))))","v":0},150,{"$f":"IF((O302-'Fert selector'!$D$13)<0,(O302-'Fert selector'!$D$13)*-1,O302-'Fert selector'!$D$13)","v":150},{"$f":"IF(O302<('Fert selector'!$D$13+'Fert selector'!$D$13*'Fert selector'!$D$17),0,1)&IF(O302>('Fert selector'!$D$13-'Fert selector'!$D$13*'Fert selector'!$D$18),0,1)","v":"01"},{"$f":"IF(F302=0,0,'Fert selector'!$E$13/F302)","v":0},{"$f":"IF('Fert selector'!$D$15=\"Y\",$F302*$N302,IF('Fert selector'!$E$15=\"Y\",$F302*$S302,IF('Fert selector'!$F$15=\"Y\",$F302*$X302,IF('Fert selector'!$G$15=\"Y\",$F302*$AC302))))","v":0},0,{"$f":"IF((T302-'Fert selector'!$E$13)<0,(T302-'Fert selector'!$E$13)*-1,T302-'Fert selector'!$E$13)","v":0},{"$f":"IF(T302<('Fert selector'!$E$13+'Fert selector'!$E$13*'Fert selector'!$E$17),0,1)&IF(T302>('Fert selector'!$E$13-'Fert selector'!$E$13*'Fert selector'!$E$18),0,1)","v":"11"},{"$f":"IF(G302=0,0,'Fert selector'!$F$13/G302)","v":0},{"$f":"IF('Fert selector'!$D$15=\"Y\",$G302*$N302,IF('Fert selector'!$E$15=\"Y\",$G302*$S302,IF('Fert selector'!$F$15=\"Y\",$G302*$X302,IF('Fert selector'!$G$15=\"Y\",$G302*$AC302))))","v":0},90,{"$f":"IF((Y302-'Fert selector'!$F$13)<0,(Y302-'Fert selector'!$F$13)*-1,Y302-'Fert selector'!$F$13)","v":90},{"$f":"IF(Y302<('Fert selector'!$F$13+'Fert selector'!$F$13*'Fert selector'!$F$17),0,1)&IF(Y302>('Fert selector'!$F$13-'Fert selector'!$F$13*'Fert selector'!$F$18),0,1)","v":"01"},{"$f":"IF(H302=0,0,'Fert selector'!$G$13/H302)","v":0},{"$f":"IF('Fert selector'!$D$15=\"Y\",$H302*$N302,IF('Fert selector'!$E$15=\"Y\",$H302*$S302,IF('Fert selector'!$F$15=\"Y\",$H302*$X302,IF('Fert selector'!$G$15=\"Y\",$H302*$AC302))))","v":0},0,{"$f":"IF((AD302-'Fert selector'!$G$13)<0,(AD302-'Fert selector'!$G$13)*-1,AD302-'Fert selector'!$G$13)","v":0},{"$f":"IF(AD302<('Fert selector'!$G$13+'Fert selector'!$G$13*'Fert selector'!$G$17),0,1)&IF(AD302>('Fert selector'!$G$13-'Fert selector'!$G$13*'Fert selector'!$G$18),0,1)","v":"11"}]
[null,null,null,null,null,null,null,null,null,null,null,null,null,{"$f":"IF(E303=0,0,'Fert selector'!$D$13/E303)","v":0},{"$f":"IF('Fert selector'!$D$15=\"Y\",E303*N303,IF('Fert selector'!$E$15=\"Y\",F303*S303,IF('Fert selector'!$F$15=\"Y\",G303*X303,IF('Fert selector'!$G$15=\"Y\",H303*AC303))))","v":0},150,{"$f":"IF((O303-'Fert selector'!$D$13)<0,(O303-'Fert selector'!$D$13)*-1,O303-'Fert selector'!$D$13)","v":150},{"$f":"IF(O303<('Fert selector'!$D$13+'Fert selector'!$D$13*'Fert selector'!$D$17),0,1)&IF(O303>('Fert selector'!$D$13-'Fert selector'!$D$13*'Fert selector'!$D$18),0,1)","v":"01"},{"$f":"IF(F303=0,0,'Fert selector'!$E$13/F303)","v":0},{"$f":"IF('Fert selector'!$D$15=\"Y\",$F303*$N303,IF('Fert selector'!$E$15=\"Y\",$F303*$S303,IF('Fert selector'!$F$15=\"Y\",$F303*$X303,IF('Fert selector'!$G$15=\"Y\",$F303*$AC303))))","v":0},0,{"$f":"IF((T303-'Fert selector'!$E$13)<0,(T303-'Fert selector'!$E$13)*-1,T303-'Fert selector'!$E$13)","v":0},{"$f":"IF(T303<('Fert selector'!$E$13+'Fert selector'!$E$13*'Fert selector'!$E$17),0,1)&IF(T303>('Fert selector'!$E$13-'Fert selector'!$E$13*'Fert selector'!$E$18),0,1)","v":"11"},{"$f":"IF(G303=0,0,'Fert selector'!$F$13/G303)","v":0},{"$f":"IF('Fert selector'!$D$15=\"Y\",$G303*$N303,IF('Fert selector'!$E$15=\"Y\",$G303*$S303,IF('Fert selector'!$F$15=\"Y\",$G303*$X303,IF('Fert selector'!$G$15=\"Y\",$G303*$AC303))))","v":0},90,{"$f":"IF((Y303-'Fert selector'!$F$13)<0,(Y303-'Fert selector'!$F$13)*-1,Y303-'Fert selector'!$F$13)","v":90},{"$f":"IF(Y303<('Fert selector'!$F$13+'Fert selector'!$F$13*'Fert selector'!$F$17),0,1)&IF(Y303>('Fert selector'!$F$13-'Fert selector'!$F$13*'Fert selector'!$F$18),0,1)","v":"01"},{"$f":"IF(H303=0,0,'Fert selector'!$G$13/H303)","v":0},{"$f":"IF('Fert selector'!$D$15=\"Y\",$H303*$N303,IF('Fert selector'!$E$15=\"Y\",$H303*$S303,IF('Fert selector'!$F$15=\"Y\",$H303*$X303,IF('Fert selector'!$G$15=\"Y\",$H303*$AC303))))","v":0},0,{"$f":"IF((AD303-'Fert selector'!$G$13)<0,(AD303-'Fert selector'!$G$13)*-1,AD303-'Fert selector'!$G$13)","v":0},{"$f":"IF(AD303<('Fert selector'!$G$13+'Fert selector'!$G$13*'Fert selector'!$G$17),0,1)&IF(AD303>('Fert selector'!$G$13-'Fert selector'!$G$13*'Fert selector'!$G$18),0,1)","v":"11"}]
[null,null,null,null,null,null,null,null,null,null,null,null,null,{"$f":"IF(E304=0,0,'Fert selector'!$D$13/E304)","v":0},{"$f":"IF('Fert selector'!$D$15=\"Y\",E304*N304,IF('Fert selector'!$E$15=\"Y\",F304*S304,IF('Fert selector'!$F$15=\"Y\",G304*X304,IF('Fert selector'!$G$15=\"Y\",H304*AC304))))","v":0},150,{"$f":"IF((O304-'Fert selector'!$D$13)<0,(O304-'Fert selector'!$D$13)*-1,O304-'Fert selector'!$D$13)","v":150},{"$f":"IF(O304<('Fert selector'!$D$13+'Fert selector'!$D$13*'Fert selector'!$D$17),0,1)&IF(O304>('Fert selector'!$D$13-'Fert selector'!$D$13*'Fert selector'!$D$18),0,1)","v":"01"},{"$f":"IF(F304=0,0,'Fert selector'!$E$13/F304)","v":0},{"$f":"IF('Fert selector'!$D$15=\"Y\",$F304*$N304,IF('Fert selector'!$E$15=\"Y\",$F304*$S304,IF('Fert selector'!$F$15=\"Y\",$F304*$X304,IF('Fert selector'!$G$15=\"Y\",$F304*$AC304))))","v":0},0,{"$f":"IF((T304-'Fert selector'!$E$13)<0,(T304-'Fert selector'!$E$13)*-1,T304-'Fert selector'!$E$13)","v":0},{"$f":"IF(T304<('Fert selector'!$E$13+'Fert selector'!$E$13*'Fert selector'!$E$17),0,1)&IF(T304>('Fert selector'!$E$13-'Fert selector'!$E$13*'Fert selector'!$E$18),0,1)","v":"11"},{"$f":"IF(G304=0,0,'Fert selector'!$F$13/G304)","v":0},{"$f":"IF('Fert selector'!$D$15=\"Y\",$G304*$N304,IF('Fert selector'!$E$15=\"Y\",$G304*$S304,IF('Fert selector'!$F$15=\"Y\",$G304*$X304,IF('Fert selector'!$G$15=\"Y\",$G304*$AC304))))","v":0},90,{"$f":"IF((Y304-'Fert selector'!$F$13)<0,(Y304-'Fert selector'!$F$13)*-1,Y304-'Fert selector'!$F$13)","v":90},{"$f":"IF(Y304<('Fert selector'!$F$13+'Fert selector'!$F$13*'Fert selector'!$F$17),0,1)&IF(Y304>('Fert selector'!$F$13-'Fert selector'!$F$13*'Fert selector'!$F$18),0,1)","v":"01"},{"$f":"IF(H304=0,0,'Fert selector'!$G$13/H304)","v":0},{"$f":"IF('Fert selector'!$D$15=\"Y\",$H304*$N304,IF('Fert selector'!$E$15=\"Y\",$H304*$S304,IF('Fert selector'!$F$15=\"Y\",$H304*$X304,IF('Fert selector'!$G$15=\"Y\",$H304*$AC304))))","v":0},0,{"$f":"IF((AD304-'Fert selector'!$G$13)<0,(AD304-'Fert selector'!$G$13)*-1,AD304-'Fert selector'!$G$13)","v":0},{"$f":"IF(AD304<('Fert selector'!$G$13+'Fert selector'!$G$13*'Fert selector'!$G$17),0,1)&IF(AD304>('Fert selector'!$G$13-'Fert selector'!$G$13*'Fert selector'!$G$18),0,1)","v":"11"}]
[null,null,null,null,null,null,null,null,null,null,null,null,null,{"$f":"IF(E305=0,0,'Fert selector'!$D$13/E305)","v":0},{"$f":"IF('Fert selector'!$D$15=\"Y\",E305*N305,IF('Fert selector'!$E$15=\"Y\",F305*S305,IF('Fert selector'!$F$15=\"Y\",G305*X305,IF('Fert selector'!$G$15=\"Y\",H305*AC305))))","v":0},150,{"$f":"IF((O305-'Fert selector'!$D$13)<0,(O305-'Fert selector'!$D$13)*-1,O305-'Fert selector'!$D$13)","v":150},{"$f":"IF(O305<('Fert selector'!$D$13+'Fert selector'!$D$13*'Fert selector'!$D$17),0,1)&IF(O305>('Fert selector'!$D$13-'Fert selector'!$D$13*'Fert selector'!$D$18),0,1)","v":"01"},{"$f":"IF(F305=0,0,'Fert selector'!$E$13/F305)","v":0},{"$f":"IF('Fert selector'!$D$15=\"Y\",$F305*$N305,IF('Fert selector'!$E$15=\"Y\",$F305*$S305,IF('Fert selector'!$F$15=\"Y\",$F305*$X305,IF('Fert selector'!$G$15=\"Y\",$F305*$AC305))))","v":0},0,{"$f":"IF((T305-'Fert selector'!$E$13)<0,(T305-'Fert selector'!$E$13)*-1,T305-'Fert selector'!$E$13)","v":0},{"$f":"IF(T305<('Fert selector'!$E$13+'Fert selector'!$E$13*'Fert selector'!$E$17),0,1)&IF(T305>('Fert selector'!$E$13-'Fert selector'!$E$13*'Fert selector'!$E$18),0,1)","v":"11"},{"$f":"IF(G305=0,0,'Fert selector'!$F$13/G305)","v":0},{"$f":"IF('Fert selector'!$D$15=\"Y\",$G305*$N305,IF('Fert selector'!$E$15=\"Y\",$G305*$S305,IF('Fert selector'!$F$15=\"Y\",$G305*$X305,IF('Fert selector'!$G$15=\"Y\",$G305*$AC305))))","v":0},90,{"$f":"IF((Y305-'Fert selector'!$F$13)<0,(Y305-'Fert selector'!$F$13)*-1,Y305-'Fert selector'!$F$13)","v":90},{"$f":"IF(Y305<('Fert selector'!$F$13+'Fert selector'!$F$13*'Fert selector'!$F$17),0,1)&IF(Y305>('Fert selector'!$F$13-'Fert selector'!$F$13*'Fert selector'!$F$18),0,1)","v":"01"},{"$f":"IF(H305=0,0,'Fert selector'!$G$13/H305)","v":0},{"$f":"IF('Fert selector'!$D$15=\"Y\",$H305*$N305,IF('Fert selector'!$E$15=\"Y\",$H305*$S305,IF('Fert selector'!$F$15=\"Y\",$H305*$X305,IF('Fert selector'!$G$15=\"Y\",$H305*$AC305))))","v":0},0,{"$f":"IF((AD305-'Fert selector'!$G$13)<0,(AD305-'Fert selector'!$G$13)*-1,AD305-'Fert selector'!$G$13)","v":0},{"$f":"IF(AD305<('Fert selector'!$G$13+'Fert selector'!$G$13*'Fert selector'!$G$17),0,1)&IF(AD305>('Fert selector'!$G$13-'Fert selector'!$G$13*'Fert selector'!$G$18),0,1)","v":"11"}]
[null,null,null,null,null,null,null,null,null,null,null,null,null,{"$f":"IF(E306=0,0,'Fert selector'!$D$13/E306)","v":0},{"$f":"IF('Fert selector'!$D$15=\"Y\",E306*N306,IF('Fert selector'!$E$15=\"Y\",F306*S306,IF('Fert selector'!$F$15=\"Y\",G306*X306,IF('Fert selector'!$G$15=\"Y\",H306*AC306))))","v":0},150,{"$f":"IF((O306-'Fert selector'!$D$13)<0,(O306-'Fert selector'!$D$13)*-1,O306-'Fert selector'!$D$13)","v":150},{"$f":"IF(O306<('Fert selector'!$D$13+'Fert selector'!$D$13*'Fert selector'!$D$17),0,1)&IF(O306>('Fert selector'!$D$13-'Fert selector'!$D$13*'Fert selector'!$D$18),0,1)","v":"01"},{"$f":"IF(F306=0,0,'Fert selector'!$E$13/F306)","v":0},{"$f":"IF('Fert selector'!$D$15=\"Y\",$F306*$N306,IF('Fert selector'!$E$15=\"Y\",$F306*$S306,IF('Fert selector'!$F$15=\"Y\",$F306*$X306,IF('Fert selector'!$G$15=\"Y\",$F306*$AC306))))","v":0},0,{"$f":"IF((T306-'Fert selector'!$E$13)<0,(T306-'Fert selector'!$E$13)*-1,T306-'Fert selector'!$E$13)","v":0},{"$f":"IF(T306<('Fert selector'!$E$13+'Fert selector'!$E$13*'Fert selector'!$E$17),0,1)&IF(T306>('Fert selector'!$E$13-'Fert selector'!$E$13*'Fert selector'!$E$18),0,1)","v":"11"},{"$f":"IF(G306=0,0,'Fert selector'!$F$13/G306)","v":0},{"$f":"IF('Fert selector'!$D$15=\"Y\",$G306*$N306,IF('Fert selector'!$E$15=\"Y\",$G306*$S306,IF('Fert selector'!$F$15=\"Y\",$G306*$X306,IF('Fert selector'!$G$15=\"Y\",$G306*$AC306))))","v":0},90,{"$f":"IF((Y306-'Fert selector'!$F$13)<0,(Y306-'Fert selector'!$F$13)*-1,Y306-'Fert selector'!$F$13)","v":90},{"$f":"IF(Y306<('Fert selector'!$F$13+'Fert selector'!$F$13*'Fert selector'!$F$17),0,1)&IF(Y306>('Fert selector'!$F$13-'Fert selector'!$F$13*'Fert selector'!$F$18),0,1)","v":"01"},{"$f":"IF(H306=0,0,'Fert selector'!$G$13/H306)","v":0},{"$f":"IF('Fert selector'!$D$15=\"Y\",$H306*$N306,IF('Fert selector'!$E$15=\"Y\",$H306*$S306,IF('Fert selector'!$F$15=\"Y\",$H306*$X306,IF('Fert selector'!$G$15=\"Y\",$H306*$AC306))))","v":0},0,{"$f":"IF((AD306-'Fert selector'!$G$13)<0,(AD306-'Fert selector'!$G$13)*-1,AD306-'Fert selector'!$G$13)","v":0},{"$f":"IF(AD306<('Fert selector'!$G$13+'Fert selector'!$G$13*'Fert selector'!$G$17),0,1)&IF(AD306>('Fert selector'!$G$13-'Fert selector'!$G$13*'Fert selector'!$G$18),0,1)","v":"11"}]
[null,null,null,null,null,null,null,null,null,null,null,null,null,{"$f":"IF(E307=0,0,'Fert selector'!$D$13/E307)","v":0},{"$f":"IF('Fert selector'!$D$15=\"Y\",E307*N307,IF('Fert selector'!$E$15=\"Y\",F307*S307,IF('Fert selector'!$F$15=\"Y\",G307*X307,IF('Fert selector'!$G$15=\"Y\",H307*AC307))))","v":0},150,{"$f":"IF((O307-'Fert selector'!$D$13)<0,(O307-'Fert selector'!$D$13)*-1,O307-'Fert selector'!$D$13)","v":150},{"$f":"IF(O307<('Fert selector'!$D$13+'Fert selector'!$D$13*'Fert selector'!$D$17),0,1)&IF(O307>('Fert selector'!$D$13-'Fert selector'!$D$13*'Fert selector'!$D$18),0,1)","v":"01"},{"$f":"IF(F307=0,0,'Fert selector'!$E$13/F307)","v":0},{"$f":"IF('Fert selector'!$D$15=\"Y\",$F307*$N307,IF('Fert selector'!$E$15=\"Y\",$F307*$S307,IF('Fert selector'!$F$15=\"Y\",$F307*$X307,IF('Fert selector'!$G$15=\"Y\",$F307*$AC307))))","v":0},0,{"$f":"IF((T307-'Fert selector'!$E$13)<0,(T307-'Fert selector'!$E$13)*-1,T307-'Fert selector'!$E$13)","v":0},{"$f":"IF(T307<('Fert selector'!$E$13+'Fert selector'!$E$13*'Fert selector'!$E$17),0,1)&IF(T307>('Fert selector'!$E$13-'Fert selector'!$E$13*'Fert selector'!$E$18),0,1)","v":"11"},{"$f":"IF(G307=0,0,'Fert selector'!$F$13/G307)","v":0},{"$f":"IF('Fert selector'!$D$15=\"Y\",$G307*$N307,IF('Fert selector'!$E$15=\"Y\",$G307*$S307,IF('Fert selector'!$F$15=\"Y\",$G307*$X307,IF('Fert selector'!$G$15=\"Y\",$G307*$AC307))))","v":0},90,{"$f":"IF((Y307-'Fert selector'!$F$13)<0,(Y307-'Fert selector'!$F$13)*-1,Y307-'Fert selector'!$F$13)","v":90},{"$f":"IF(Y307<('Fert selector'!$F$13+'Fert selector'!$F$13*'Fert selector'!$F$17),0,1)&IF(Y307>('Fert selector'!$F$13-'Fert selector'!$F$13*'Fert selector'!$F$18),0,1)","v":"01"},{"$f":"IF(H307=0,0,'Fert selector'!$G$13/H307)","v":0},{"$f":"IF('Fert selector'!$D$15=\"Y\",$H307*$N307,IF('Fert selector'!$E$15=\"Y\",$H307*$S307,IF('Fert selector'!$F$15=\"Y\",$H307*$X307,IF('Fert selector'!$G$15=\"Y\",$H307*$AC307))))","v":0},0,{"$f":"IF((AD307-'Fert selector'!$G$13)<0,(AD307-'Fert selector'!$G$13)*-1,AD307-'Fert selector'!$G$13)","v":0},{"$f":"IF(AD307<('Fert selector'!$G$13+'Fert selector'!$G$13*'Fert selector'!$G$17),0,1)&IF(AD307>('Fert selector'!$G$13-'Fert selector'!$G$13*'Fert selector'!$G$18),0,1)","v":"11"}]
[null,null,null,null,null,null,null,null,null,null,null,null,null,{"$f":"IF(E308=0,0,'Fert selector'!$D$13/E308)","v":0},{"$f":"IF('Fert selector'!$D$15=\"Y\",E308*N308,IF('Fert selector'!$E$15=\"Y\",F308*S308,IF('Fert selector'!$F$15=\"Y\",G308*X308,IF('Fert selector'!$G$15=\"Y\",H308*AC308))))","v":0},150,{"$f":"IF((O308-'Fert selector'!$D$13)<0,(O308-'Fert selector'!$D$13)*-1,O308-'Fert selector'!$D$13)","v":150},{"$f":"IF(O308<('Fert selector'!$D$13+'Fert selector'!$D$13*'Fert selector'!$D$17),0,1)&IF(O308>('Fert selector'!$D$13-'Fert selector'!$D$13*'Fert selector'!$D$18),0,1)","v":"01"},{"$f":"IF(F308=0,0,'Fert selector'!$E$13/F308)","v":0},{"$f":"IF('Fert selector'!$D$15=\"Y\",$F308*$N308,IF('Fert selector'!$E$15=\"Y\",$F308*$S308,IF('Fert selector'!$F$15=\"Y\",$F308*$X308,IF('Fert selector'!$G$15=\"Y\",$F308*$AC308))))","v":0},0,{"$f":"IF((T308-'Fert selector'!$E$13)<0,(T308-'Fert selector'!$E$13)*-1,T308-'Fert selector'!$E$13)","v":0},{"$f":"IF(T308<('Fert selector'!$E$13+'Fert selector'!$E$13*'Fert selector'!$E$17),0,1)&IF(T308>('Fert selector'!$E$13-'Fert selector'!$E$13*'Fert selector'!$E$18),0,1)","v":"11"},{"$f":"IF(G308=0,0,'Fert selector'!$F$13/G308)","v":0},{"$f":"IF('Fert selector'!$D$15=\"Y\",$G308*$N308,IF('Fert selector'!$E$15=\"Y\",$G308*$S308,IF('Fert selector'!$F$15=\"Y\",$G308*$X308,IF('Fert selector'!$G$15=\"Y\",$G308*$AC308))))","v":0},90,{"$f":"IF((Y308-'Fert selector'!$F$13)<0,(Y308-'Fert selector'!$F$13)*-1,Y308-'Fert selector'!$F$13)","v":90},{"$f":"IF(Y308<('Fert selector'!$F$13+'Fert selector'!$F$13*'Fert selector'!$F$17),0,1)&IF(Y308>('Fert selector'!$F$13-'Fert selector'!$F$13*'Fert selector'!$F$18),0,1)","v":"01"},{"$f":"IF(H308=0,0,'Fert selector'!$G$13/H308)","v":0},{"$f":"IF('Fert selector'!$D$15=\"Y\",$H308*$N308,IF('Fert selector'!$E$15=\"Y\",$H308*$S308,IF('Fert selector'!$F$15=\"Y\",$H308*$X308,IF('Fert selector'!$G$15=\"Y\",$H308*$AC308))))","v":0},0,{"$f":"IF((AD308-'Fert selector'!$G$13)<0,(AD308-'Fert selector'!$G$13)*-1,AD308-'Fert selector'!$G$13)","v":0},{"$f":"IF(AD308<('Fert selector'!$G$13+'Fert selector'!$G$13*'Fert selector'!$G$17),0,1)&IF(AD308>('Fert selector'!$G$13-'Fert selector'!$G$13*'Fert selector'!$G$18),0,1)","v":"11"}]
[null,null,null,null,null,null,null,null,null,null,null,null,null,{"$f":"IF(E309=0,0,'Fert selector'!$D$13/E309)","v":0},{"$f":"IF('Fert selector'!$D$15=\"Y\",E309*N309,IF('Fert selector'!$E$15=\"Y\",F309*S309,IF('Fert selector'!$F$15=\"Y\",G309*X309,IF('Fert selector'!$G$15=\"Y\",H309*AC309))))","v":0},150,{"$f":"IF((O309-'Fert selector'!$D$13)<0,(O309-'Fert selector'!$D$13)*-1,O309-'Fert selector'!$D$13)","v":150},{"$f":"IF(O309<('Fert selector'!$D$13+'Fert selector'!$D$13*'Fert selector'!$D$17),0,1)&IF(O309>('Fert selector'!$D$13-'Fert selector'!$D$13*'Fert selector'!$D$18),0,1)","v":"01"},{"$f":"IF(F309=0,0,'Fert selector'!$E$13/F309)","v":0},{"$f":"IF('Fert selector'!$D$15=\"Y\",$F309*$N309,IF('Fert selector'!$E$15=\"Y\",$F309*$S309,IF('Fert selector'!$F$15=\"Y\",$F309*$X309,IF('Fert selector'!$G$15=\"Y\",$F309*$AC309))))","v":0},0,{"$f":"IF((T309-'Fert selector'!$E$13)<0,(T309-'Fert selector'!$E$13)*-1,T309-'Fert selector'!$E$13)","v":0},{"$f":"IF(T309<('Fert selector'!$E$13+'Fert selector'!$E$13*'Fert selector'!$E$17),0,1)&IF(T309>('Fert selector'!$E$13-'Fert selector'!$E$13*'Fert selector'!$E$18),0,1)","v":"11"},{"$f":"IF(G309=0,0,'Fert selector'!$F$13/G309)","v":0},{"$f":"IF('Fert selector'!$D$15=\"Y\",$G309*$N309,IF('Fert selector'!$E$15=\"Y\",$G309*$S309,IF('Fert selector'!$F$15=\"Y\",$G309*$X309,IF('Fert selector'!$G$15=\"Y\",$G309*$AC309))))","v":0},90,{"$f":"IF((Y309-'Fert selector'!$F$13)<0,(Y309-'Fert selector'!$F$13)*-1,Y309-'Fert selector'!$F$13)","v":90},{"$f":"IF(Y309<('Fert selector'!$F$13+'Fert selector'!$F$13*'Fert selector'!$F$17),0,1)&IF(Y309>('Fert selector'!$F$13-'Fert selector'!$F$13*'Fert selector'!$F$18),0,1)","v":"01"},{"$f":"IF(H309=0,0,'Fert selector'!$G$13/H309)","v":0},{"$f":"IF('Fert selector'!$D$15=\"Y\",$H309*$N309,IF('Fert selector'!$E$15=\"Y\",$H309*$S309,IF('Fert selector'!$F$15=\"Y\",$H309*$X309,IF('Fert selector'!$G$15=\"Y\",$H309*$AC309))))","v":0},0,{"$f":"IF((AD309-'Fert selector'!$G$13)<0,(AD309-'Fert selector'!$G$13)*-1,AD309-'Fert selector'!$G$13)","v":0},{"$f":"IF(AD309<('Fert selector'!$G$13+'Fert selector'!$G$13*'Fert selector'!$G$17),0,1)&IF(AD309>('Fert selector'!$G$13-'Fert selector'!$G$13*'Fert selector'!$G$18),0,1)","v":"11"}]
[null,null,null,null,null,null,null,null,null,null,null,null,null,{"$f":"IF(E310=0,0,'Fert selector'!$D$13/E310)","v":0},{"$f":"IF('Fert selector'!$D$15=\"Y\",E310*N310,IF('Fert selector'!$E$15=\"Y\",F310*S310,IF('Fert selector'!$F$15=\"Y\",G310*X310,IF('Fert selector'!$G$15=\"Y\",H310*AC310))))","v":0},150,{"$f":"IF((O310-'Fert selector'!$D$13)<0,(O310-'Fert selector'!$D$13)*-1,O310-'Fert selector'!$D$13)","v":150},{"$f":"IF(O310<('Fert selector'!$D$13+'Fert selector'!$D$13*'Fert selector'!$D$17),0,1)&IF(O310>('Fert selector'!$D$13-'Fert selector'!$D$13*'Fert selector'!$D$18),0,1)","v":"01"},{"$f":"IF(F310=0,0,'Fert selector'!$E$13/F310)","v":0},{"$f":"IF('Fert selector'!$D$15=\"Y\",$F310*$N310,IF('Fert selector'!$E$15=\"Y\",$F310*$S310,IF('Fert selector'!$F$15=\"Y\",$F310*$X310,IF('Fert selector'!$G$15=\"Y\",$F310*$AC310))))","v":0},0,{"$f":"IF((T310-'Fert selector'!$E$13)<0,(T310-'Fert selector'!$E$13)*-1,T310-'Fert selector'!$E$13)","v":0},{"$f":"IF(T310<('Fert selector'!$E$13+'Fert selector'!$E$13*'Fert selector'!$E$17),0,1)&IF(T310>('Fert selector'!$E$13-'Fert selector'!$E$13*'Fert selector'!$E$18),0,1)","v":"11"},{"$f":"IF(G310=0,0,'Fert selector'!$F$13/G310)","v":0},{"$f":"IF('Fert selector'!$D$15=\"Y\",$G310*$N310,IF('Fert selector'!$E$15=\"Y\",$G310*$S310,IF('Fert selector'!$F$15=\"Y\",$G310*$X310,IF('Fert selector'!$G$15=\"Y\",$G310*$AC310))))","v":0},90,{"$f":"IF((Y310-'Fert selector'!$F$13)<0,(Y310-'Fert selector'!$F$13)*-1,Y310-'Fert selector'!$F$13)","v":90},{"$f":"IF(Y310<('Fert selector'!$F$13+'Fert selector'!$F$13*'Fert selector'!$F$17),0,1)&IF(Y310>('Fert selector'!$F$13-'Fert selector'!$F$13*'Fert selector'!$F$18),0,1)","v":"01"},{"$f":"IF(H310=0,0,'Fert selector'!$G$13/H310)","v":0},{"$f":"IF('Fert selector'!$D$15=\"Y\",$H310*$N310,IF('Fert selector'!$E$15=\"Y\",$H310*$S310,IF('Fert selector'!$F$15=\"Y\",$H310*$X310,IF('Fert selector'!$G$15=\"Y\",$H310*$AC310))))","v":0},0,{"$f":"IF((AD310-'Fert selector'!$G$13)<0,(AD310-'Fert selector'!$G$13)*-1,AD310-'Fert selector'!$G$13)","v":0},{"$f":"IF(AD310<('Fert selector'!$G$13+'Fert selector'!$G$13*'Fert selector'!$G$17),0,1)&IF(AD310>('Fert selector'!$G$13-'Fert selector'!$G$13*'Fert selector'!$G$18),0,1)","v":"11"}]
[null,null,null,null,null,null,null,null,null,null,null,null,null,{"$f":"IF(E311=0,0,'Fert selector'!$D$13/E311)","v":0},{"$f":"IF('Fert selector'!$D$15=\"Y\",E311*N311,IF('Fert selector'!$E$15=\"Y\",F311*S311,IF('Fert selector'!$F$15=\"Y\",G311*X311,IF('Fert selector'!$G$15=\"Y\",H311*AC311))))","v":0},150,{"$f":"IF((O311-'Fert selector'!$D$13)<0,(O311-'Fert selector'!$D$13)*-1,O311-'Fert selector'!$D$13)","v":150},{"$f":"IF(O311<('Fert selector'!$D$13+'Fert selector'!$D$13*'Fert selector'!$D$17),0,1)&IF(O311>('Fert selector'!$D$13-'Fert selector'!$D$13*'Fert selector'!$D$18),0,1)","v":"01"},{"$f":"IF(F311=0,0,'Fert selector'!$E$13/F311)","v":0},{"$f":"IF('Fert selector'!$D$15=\"Y\",$F311*$N311,IF('Fert selector'!$E$15=\"Y\",$F311*$S311,IF('Fert selector'!$F$15=\"Y\",$F311*$X311,IF('Fert selector'!$G$15=\"Y\",$F311*$AC311))))","v":0},0,{"$f":"IF((T311-'Fert selector'!$E$13)<0,(T311-'Fert selector'!$E$13)*-1,T311-'Fert selector'!$E$13)","v":0},{"$f":"IF(T311<('Fert selector'!$E$13+'Fert selector'!$E$13*'Fert selector'!$E$17),0,1)&IF(T311>('Fert selector'!$E$13-'Fert selector'!$E$13*'Fert selector'!$E$18),0,1)","v":"11"},{"$f":"IF(G311=0,0,'Fert selector'!$F$13/G311)","v":0},{"$f":"IF('Fert selector'!$D$15=\"Y\",$G311*$N311,IF('Fert selector'!$E$15=\"Y\",$G311*$S311,IF('Fert selector'!$F$15=\"Y\",$G311*$X311,IF('Fert selector'!$G$15=\"Y\",$G311*$AC311))))","v":0},90,{"$f":"IF((Y311-'Fert selector'!$F$13)<0,(Y311-'Fert selector'!$F$13)*-1,Y311-'Fert selector'!$F$13)","v":90},{"$f":"IF(Y311<('Fert selector'!$F$13+'Fert selector'!$F$13*'Fert selector'!$F$17),0,1)&IF(Y311>('Fert selector'!$F$13-'Fert selector'!$F$13*'Fert selector'!$F$18),0,1)","v":"01"},{"$f":"IF(H311=0,0,'Fert selector'!$G$13/H311)","v":0},{"$f":"IF('Fert selector'!$D$15=\"Y\",$H311*$N311,IF('Fert selector'!$E$15=\"Y\",$H311*$S311,IF('Fert selector'!$F$15=\"Y\",$H311*$X311,IF('Fert selector'!$G$15=\"Y\",$H311*$AC311))))","v":0},0,{"$f":"IF((AD311-'Fert selector'!$G$13)<0,(AD311-'Fert selector'!$G$13)*-1,AD311-'Fert selector'!$G$13)","v":0},{"$f":"IF(AD311<('Fert selector'!$G$13+'Fert selector'!$G$13*'Fert selector'!$G$17),0,1)&IF(AD311>('Fert selector'!$G$13-'Fert selector'!$G$13*'Fert selector'!$G$18),0,1)","v":"11"}]
[null,null,null,null,null,null,null,null,null,null,null,null,null,{"$f":"IF(E312=0,0,'Fert selector'!$D$13/E312)","v":0},{"$f":"IF('Fert selector'!$D$15=\"Y\",E312*N312,IF('Fert selector'!$E$15=\"Y\",F312*S312,IF('Fert selector'!$F$15=\"Y\",G312*X312,IF('Fert selector'!$G$15=\"Y\",H312*AC312))))","v":0},150,{"$f":"IF((O312-'Fert selector'!$D$13)<0,(O312-'Fert selector'!$D$13)*-1,O312-'Fert selector'!$D$13)","v":150},{"$f":"IF(O312<('Fert selector'!$D$13+'Fert selector'!$D$13*'Fert selector'!$D$17),0,1)&IF(O312>('Fert selector'!$D$13-'Fert selector'!$D$13*'Fert selector'!$D$18),0,1)","v":"01"},{"$f":"IF(F312=0,0,'Fert selector'!$E$13/F312)","v":0},{"$f":"IF('Fert selector'!$D$15=\"Y\",$F312*$N312,IF('Fert selector'!$E$15=\"Y\",$F312*$S312,IF('Fert selector'!$F$15=\"Y\",$F312*$X312,IF('Fert selector'!$G$15=\"Y\",$F312*$AC312))))","v":0},0,{"$f":"IF((T312-'Fert selector'!$E$13)<0,(T312-'Fert selector'!$E$13)*-1,T312-'Fert selector'!$E$13)","v":0},{"$f":"IF(T312<('Fert selector'!$E$13+'Fert selector'!$E$13*'Fert selector'!$E$17),0,1)&IF(T312>('Fert selector'!$E$13-'Fert selector'!$E$13*'Fert selector'!$E$18),0,1)","v":"11"},{"$f":"IF(G312=0,0,'Fert selector'!$F$13/G312)","v":0},{"$f":"IF('Fert selector'!$D$15=\"Y\",$G312*$N312,IF('Fert selector'!$E$15=\"Y\",$G312*$S312,IF('Fert selector'!$F$15=\"Y\",$G312*$X312,IF('Fert selector'!$G$15=\"Y\",$G312*$AC312))))","v":0},90,{"$f":"IF((Y312-'Fert selector'!$F$13)<0,(Y312-'Fert selector'!$F$13)*-1,Y312-'Fert selector'!$F$13)","v":90},{"$f":"IF(Y312<('Fert selector'!$F$13+'Fert selector'!$F$13*'Fert selector'!$F$17),0,1)&IF(Y312>('Fert selector'!$F$13-'Fert selector'!$F$13*'Fert selector'!$F$18),0,1)","v":"01"},{"$f":"IF(H312=0,0,'Fert selector'!$G$13/H312)","v":0},{"$f":"IF('Fert selector'!$D$15=\"Y\",$H312*$N312,IF('Fert selector'!$E$15=\"Y\",$H312*$S312,IF('Fert selector'!$F$15=\"Y\",$H312*$X312,IF('Fert selector'!$G$15=\"Y\",$H312*$AC312))))","v":0},0,{"$f":"IF((AD312-'Fert selector'!$G$13)<0,(AD312-'Fert selector'!$G$13)*-1,AD312-'Fert selector'!$G$13)","v":0},{"$f":"IF(AD312<('Fert selector'!$G$13+'Fert selector'!$G$13*'Fert selector'!$G$17),0,1)&IF(AD312>('Fert selector'!$G$13-'Fert selector'!$G$13*'Fert selector'!$G$18),0,1)","v":"11"}]
[null,null,null,null,null,null,null,null,null,null,null,null,null,{"$f":"IF(E313=0,0,'Fert selector'!$D$13/E313)","v":0},{"$f":"IF('Fert selector'!$D$15=\"Y\",E313*N313,IF('Fert selector'!$E$15=\"Y\",F313*S313,IF('Fert selector'!$F$15=\"Y\",G313*X313,IF('Fert selector'!$G$15=\"Y\",H313*AC313))))","v":0},150,{"$f":"IF((O313-'Fert selector'!$D$13)<0,(O313-'Fert selector'!$D$13)*-1,O313-'Fert selector'!$D$13)","v":150},{"$f":"IF(O313<('Fert selector'!$D$13+'Fert selector'!$D$13*'Fert selector'!$D$17),0,1)&IF(O313>('Fert selector'!$D$13-'Fert selector'!$D$13*'Fert selector'!$D$18),0,1)","v":"01"},{"$f":"IF(F313=0,0,'Fert selector'!$E$13/F313)","v":0},{"$f":"IF('Fert selector'!$D$15=\"Y\",$F313*$N313,IF('Fert selector'!$E$15=\"Y\",$F313*$S313,IF('Fert selector'!$F$15=\"Y\",$F313*$X313,IF('Fert selector'!$G$15=\"Y\",$F313*$AC313))))","v":0},0,{"$f":"IF((T313-'Fert selector'!$E$13)<0,(T313-'Fert selector'!$E$13)*-1,T313-'Fert selector'!$E$13)","v":0},{"$f":"IF(T313<('Fert selector'!$E$13+'Fert selector'!$E$13*'Fert selector'!$E$17),0,1)&IF(T313>('Fert selector'!$E$13-'Fert selector'!$E$13*'Fert selector'!$E$18),0,1)","v":"11"},{"$f":"IF(G313=0,0,'Fert selector'!$F$13/G313)","v":0},{"$f":"IF('Fert selector'!$D$15=\"Y\",$G313*$N313,IF('Fert selector'!$E$15=\"Y\",$G313*$S313,IF('Fert selector'!$F$15=\"Y\",$G313*$X313,IF('Fert selector'!$G$15=\"Y\",$G313*$AC313))))","v":0},90,{"$f":"IF((Y313-'Fert selector'!$F$13)<0,(Y313-'Fert selector'!$F$13)*-1,Y313-'Fert selector'!$F$13)","v":90},{"$f":"IF(Y313<('Fert selector'!$F$13+'Fert selector'!$F$13*'Fert selector'!$F$17),0,1)&IF(Y313>('Fert selector'!$F$13-'Fert selector'!$F$13*'Fert selector'!$F$18),0,1)","v":"01"},{"$f":"IF(H313=0,0,'Fert selector'!$G$13/H313)","v":0},{"$f":"IF('Fert selector'!$D$15=\"Y\",$H313*$N313,IF('Fert selector'!$E$15=\"Y\",$H313*$S313,IF('Fert selector'!$F$15=\"Y\",$H313*$X313,IF('Fert selector'!$G$15=\"Y\",$H313*$AC313))))","v":0},0,{"$f":"IF((AD313-'Fert selector'!$G$13)<0,(AD313-'Fert selector'!$G$13)*-1,AD313-'Fert selector'!$G$13)","v":0},{"$f":"IF(AD313<('Fert selector'!$G$13+'Fert selector'!$G$13*'Fert selector'!$G$17),0,1)&IF(AD313>('Fert selector'!$G$13-'Fert selector'!$G$13*'Fert selector'!$G$18),0,1)","v":"11"}]
[null,null,null,null,null,null,null,null,null,null,null,null,null,{"$f":"IF(E314=0,0,'Fert selector'!$D$13/E314)","v":0},{"$f":"IF('Fert selector'!$D$15=\"Y\",E314*N314,IF('Fert selector'!$E$15=\"Y\",F314*S314,IF('Fert selector'!$F$15=\"Y\",G314*X314,IF('Fert selector'!$G$15=\"Y\",H314*AC314))))","v":0},150,{"$f":"IF((O314-'Fert selector'!$D$13)<0,(O314-'Fert selector'!$D$13)*-1,O314-'Fert selector'!$D$13)","v":150},{"$f":"IF(O314<('Fert selector'!$D$13+'Fert selector'!$D$13*'Fert selector'!$D$17),0,1)&IF(O314>('Fert selector'!$D$13-'Fert selector'!$D$13*'Fert selector'!$D$18),0,1)","v":"01"},{"$f":"IF(F314=0,0,'Fert selector'!$E$13/F314)","v":0},{"$f":"IF('Fert selector'!$D$15=\"Y\",$F314*$N314,IF('Fert selector'!$E$15=\"Y\",$F314*$S314,IF('Fert selector'!$F$15=\"Y\",$F314*$X314,IF('Fert selector'!$G$15=\"Y\",$F314*$AC314))))","v":0},0,{"$f":"IF((T314-'Fert selector'!$E$13)<0,(T314-'Fert selector'!$E$13)*-1,T314-'Fert selector'!$E$13)","v":0},{"$f":"IF(T314<('Fert selector'!$E$13+'Fert selector'!$E$13*'Fert selector'!$E$17),0,1)&IF(T314>('Fert selector'!$E$13-'Fert selector'!$E$13*'Fert selector'!$E$18),0,1)","v":"11"},{"$f":"IF(G314=0,0,'Fert selector'!$F$13/G314)","v":0},{"$f":"IF('Fert selector'!$D$15=\"Y\",$G314*$N314,IF('Fert selector'!$E$15=\"Y\",$G314*$S314,IF('Fert selector'!$F$15=\"Y\",$G314*$X314,IF('Fert selector'!$G$15=\"Y\",$G314*$AC314))))","v":0},90,{"$f":"IF((Y314-'Fert selector'!$F$13)<0,(Y314-'Fert selector'!$F$13)*-1,Y314-'Fert selector'!$F$13)","v":90},{"$f":"IF(Y314<('Fert selector'!$F$13+'Fert selector'!$F$13*'Fert selector'!$F$17),0,1)&IF(Y314>('Fert selector'!$F$13-'Fert selector'!$F$13*'Fert selector'!$F$18),0,1)","v":"01"},{"$f":"IF(H314=0,0,'Fert selector'!$G$13/H314)","v":0},{"$f":"IF('Fert selector'!$D$15=\"Y\",$H314*$N314,IF('Fert selector'!$E$15=\"Y\",$H314*$S314,IF('Fert selector'!$F$15=\"Y\",$H314*$X314,IF('Fert selector'!$G$15=\"Y\",$H314*$AC314))))","v":0},0,{"$f":"IF((AD314-'Fert selector'!$G$13)<0,(AD314-'Fert selector'!$G$13)*-1,AD314-'Fert selector'!$G$13)","v":0},{"$f":"IF(AD314<('Fert selector'!$G$13+'Fert selector'!$G$13*'Fert selector'!$G$17),0,1)&IF(AD314>('Fert selector'!$G$13-'Fert selector'!$G$13*'Fert selector'!$G$18),0,1)","v":"11"}]
[null,null,null,null,null,null,null,null,null,null,null,null,null,{"$f":"IF(E315=0,0,'Fert selector'!$D$13/E315)","v":0},{"$f":"IF('Fert selector'!$D$15=\"Y\",E315*N315,IF('Fert selector'!$E$15=\"Y\",F315*S315,IF('Fert selector'!$F$15=\"Y\",G315*X315,IF('Fert selector'!$G$15=\"Y\",H315*AC315))))","v":0},150,{"$f":"IF((O315-'Fert selector'!$D$13)<0,(O315-'Fert selector'!$D$13)*-1,O315-'Fert selector'!$D$13)","v":150},{"$f":"IF(O315<('Fert selector'!$D$13+'Fert selector'!$D$13*'Fert selector'!$D$17),0,1)&IF(O315>('Fert selector'!$D$13-'Fert selector'!$D$13*'Fert selector'!$D$18),0,1)","v":"01"},{"$f":"IF(F315=0,0,'Fert selector'!$E$13/F315)","v":0},{"$f":"IF('Fert selector'!$D$15=\"Y\",$F315*$N315,IF('Fert selector'!$E$15=\"Y\",$F315*$S315,IF('Fert selector'!$F$15=\"Y\",$F315*$X315,IF('Fert selector'!$G$15=\"Y\",$F315*$AC315))))","v":0},0,{"$f":"IF((T315-'Fert selector'!$E$13)<0,(T315-'Fert selector'!$E$13)*-1,T315-'Fert selector'!$E$13)","v":0},{"$f":"IF(T315<('Fert selector'!$E$13+'Fert selector'!$E$13*'Fert selector'!$E$17),0,1)&IF(T315>('Fert selector'!$E$13-'Fert selector'!$E$13*'Fert selector'!$E$18),0,1)","v":"11"},{"$f":"IF(G315=0,0,'Fert selector'!$F$13/G315)","v":0},{"$f":"IF('Fert selector'!$D$15=\"Y\",$G315*$N315,IF('Fert selector'!$E$15=\"Y\",$G315*$S315,IF('Fert selector'!$F$15=\"Y\",$G315*$X315,IF('Fert selector'!$G$15=\"Y\",$G315*$AC315))))","v":0},90,{"$f":"IF((Y315-'Fert selector'!$F$13)<0,(Y315-'Fert selector'!$F$13)*-1,Y315-'Fert selector'!$F$13)","v":90},{"$f":"IF(Y315<('Fert selector'!$F$13+'Fert selector'!$F$13*'Fert selector'!$F$17),0,1)&IF(Y315>('Fert selector'!$F$13-'Fert selector'!$F$13*'Fert selector'!$F$18),0,1)","v":"01"},{"$f":"IF(H315=0,0,'Fert selector'!$G$13/H315)","v":0},{"$f":"IF('Fert selector'!$D$15=\"Y\",$H315*$N315,IF('Fert selector'!$E$15=\"Y\",$H315*$S315,IF('Fert selector'!$F$15=\"Y\",$H315*$X315,IF('Fert selector'!$G$15=\"Y\",$H315*$AC315))))","v":0},0,{"$f":"IF((AD315-'Fert selector'!$G$13)<0,(AD315-'Fert selector'!$G$13)*-1,AD315-'Fert selector'!$G$13)","v":0},{"$f":"IF(AD315<('Fert selector'!$G$13+'Fert selector'!$G$13*'Fert selector'!$G$17),0,1)&IF(AD315>('Fert selector'!$G$13-'Fert selector'!$G$13*'Fert selector'!$G$18),0,1)","v":"11"}]
[null,null,null,null,null,null,null,null,null,null,null,null,null,{"$f":"IF(E316=0,0,'Fert selector'!$D$13/E316)","v":0},{"$f":"IF('Fert selector'!$D$15=\"Y\",E316*N316,IF('Fert selector'!$E$15=\"Y\",F316*S316,IF('Fert selector'!$F$15=\"Y\",G316*X316,IF('Fert selector'!$G$15=\"Y\",H316*AC316))))","v":0},150,{"$f":"IF((O316-'Fert selector'!$D$13)<0,(O316-'Fert selector'!$D$13)*-1,O316-'Fert selector'!$D$13)","v":150},{"$f":"IF(O316<('Fert selector'!$D$13+'Fert selector'!$D$13*'Fert selector'!$D$17),0,1)&IF(O316>('Fert selector'!$D$13-'Fert selector'!$D$13*'Fert selector'!$D$18),0,1)","v":"01"},{"$f":"IF(F316=0,0,'Fert selector'!$E$13/F316)","v":0},{"$f":"IF('Fert selector'!$D$15=\"Y\",$F316*$N316,IF('Fert selector'!$E$15=\"Y\",$F316*$S316,IF('Fert selector'!$F$15=\"Y\",$F316*$X316,IF('Fert selector'!$G$15=\"Y\",$F316*$AC316))))","v":0},0,{"$f":"IF((T316-'Fert selector'!$E$13)<0,(T316-'Fert selector'!$E$13)*-1,T316-'Fert selector'!$E$13)","v":0},{"$f":"IF(T316<('Fert selector'!$E$13+'Fert selector'!$E$13*'Fert selector'!$E$17),0,1)&IF(T316>('Fert selector'!$E$13-'Fert selector'!$E$13*'Fert selector'!$E$18),0,1)","v":"11"},{"$f":"IF(G316=0,0,'Fert selector'!$F$13/G316)","v":0},{"$f":"IF('Fert selector'!$D$15=\"Y\",$G316*$N316,IF('Fert selector'!$E$15=\"Y\",$G316*$S316,IF('Fert selector'!$F$15=\"Y\",$G316*$X316,IF('Fert selector'!$G$15=\"Y\",$G316*$AC316))))","v":0},90,{"$f":"IF((Y316-'Fert selector'!$F$13)<0,(Y316-'Fert selector'!$F$13)*-1,Y316-'Fert selector'!$F$13)","v":90},{"$f":"IF(Y316<('Fert selector'!$F$13+'Fert selector'!$F$13*'Fert selector'!$F$17),0,1)&IF(Y316>('Fert selector'!$F$13-'Fert selector'!$F$13*'Fert selector'!$F$18),0,1)","v":"01"},{"$f":"IF(H316=0,0,'Fert selector'!$G$13/H316)","v":0},{"$f":"IF('Fert selector'!$D$15=\"Y\",$H316*$N316,IF('Fert selector'!$E$15=\"Y\",$H316*$S316,IF('Fert selector'!$F$15=\"Y\",$H316*$X316,IF('Fert selector'!$G$15=\"Y\",$H316*$AC316))))","v":0},0,{"$f":"IF((AD316-'Fert selector'!$G$13)<0,(AD316-'Fert selector'!$G$13)*-1,AD316-'Fert selector'!$G$13)","v":0},{"$f":"IF(AD316<('Fert selector'!$G$13+'Fert selector'!$G$13*'Fert selector'!$G$17),0,1)&IF(AD316>('Fert selector'!$G$13-'Fert selector'!$G$13*'Fert selector'!$G$18),0,1)","v":"11"}]
[null,null,null,null,null,null,null,null,null,null,null,null,null,{"$f":"IF(E317=0,0,'Fert selector'!$D$13/E317)","v":0},{"$f":"IF('Fert selector'!$D$15=\"Y\",E317*N317,IF('Fert selector'!$E$15=\"Y\",F317*S317,IF('Fert selector'!$F$15=\"Y\",G317*X317,IF('Fert selector'!$G$15=\"Y\",H317*AC317))))","v":0},150,{"$f":"IF((O317-'Fert selector'!$D$13)<0,(O317-'Fert selector'!$D$13)*-1,O317-'Fert selector'!$D$13)","v":150},{"$f":"IF(O317<('Fert selector'!$D$13+'Fert selector'!$D$13*'Fert selector'!$D$17),0,1)&IF(O317>('Fert selector'!$D$13-'Fert selector'!$D$13*'Fert selector'!$D$18),0,1)","v":"01"},{"$f":"IF(F317=0,0,'Fert selector'!$E$13/F317)","v":0},{"$f":"IF('Fert selector'!$D$15=\"Y\",$F317*$N317,IF('Fert selector'!$E$15=\"Y\",$F317*$S317,IF('Fert selector'!$F$15=\"Y\",$F317*$X317,IF('Fert selector'!$G$15=\"Y\",$F317*$AC317))))","v":0},0,{"$f":"IF((T317-'Fert selector'!$E$13)<0,(T317-'Fert selector'!$E$13)*-1,T317-'Fert selector'!$E$13)","v":0},{"$f":"IF(T317<('Fert selector'!$E$13+'Fert selector'!$E$13*'Fert selector'!$E$17),0,1)&IF(T317>('Fert selector'!$E$13-'Fert selector'!$E$13*'Fert selector'!$E$18),0,1)","v":"11"},{"$f":"IF(G317=0,0,'Fert selector'!$F$13/G317)","v":0},{"$f":"IF('Fert selector'!$D$15=\"Y\",$G317*$N317,IF('Fert selector'!$E$15=\"Y\",$G317*$S317,IF('Fert selector'!$F$15=\"Y\",$G317*$X317,IF('Fert selector'!$G$15=\"Y\",$G317*$AC317))))","v":0},90,{"$f":"IF((Y317-'Fert selector'!$F$13)<0,(Y317-'Fert selector'!$F$13)*-1,Y317-'Fert selector'!$F$13)","v":90},{"$f":"IF(Y317<('Fert selector'!$F$13+'Fert selector'!$F$13*'Fert selector'!$F$17),0,1)&IF(Y317>('Fert selector'!$F$13-'Fert selector'!$F$13*'Fert selector'!$F$18),0,1)","v":"01"},{"$f":"IF(H317=0,0,'Fert selector'!$G$13/H317)","v":0},{"$f":"IF('Fert selector'!$D$15=\"Y\",$H317*$N317,IF('Fert selector'!$E$15=\"Y\",$H317*$S317,IF('Fert selector'!$F$15=\"Y\",$H317*$X317,IF('Fert selector'!$G$15=\"Y\",$H317*$AC317))))","v":0},0,{"$f":"IF((AD317-'Fert selector'!$G$13)<0,(AD317-'Fert selector'!$G$13)*-1,AD317-'Fert selector'!$G$13)","v":0},{"$f":"IF(AD317<('Fert selector'!$G$13+'Fert selector'!$G$13*'Fert selector'!$G$17),0,1)&IF(AD317>('Fert selector'!$G$13-'Fert selector'!$G$13*'Fert selector'!$G$18),0,1)","v":"11"}]
[null,null,null,null,null,null,null,null,null,null,null,null,null,{"$f":"IF(E318=0,0,'Fert selector'!$D$13/E318)","v":0},{"$f":"IF('Fert selector'!$D$15=\"Y\",E318*N318,IF('Fert selector'!$E$15=\"Y\",F318*S318,IF('Fert selector'!$F$15=\"Y\",G318*X318,IF('Fert selector'!$G$15=\"Y\",H318*AC318))))","v":0},150,{"$f":"IF((O318-'Fert selector'!$D$13)<0,(O318-'Fert selector'!$D$13)*-1,O318-'Fert selector'!$D$13)","v":150},{"$f":"IF(O318<('Fert selector'!$D$13+'Fert selector'!$D$13*'Fert selector'!$D$17),0,1)&IF(O318>('Fert selector'!$D$13-'Fert selector'!$D$13*'Fert selector'!$D$18),0,1)","v":"01"},{"$f":"IF(F318=0,0,'Fert selector'!$E$13/F318)","v":0},{"$f":"IF('Fert selector'!$D$15=\"Y\",$F318*$N318,IF('Fert selector'!$E$15=\"Y\",$F318*$S318,IF('Fert selector'!$F$15=\"Y\",$F318*$X318,IF('Fert selector'!$G$15=\"Y\",$F318*$AC318))))","v":0},0,{"$f":"IF((T318-'Fert selector'!$E$13)<0,(T318-'Fert selector'!$E$13)*-1,T318-'Fert selector'!$E$13)","v":0},{"$f":"IF(T318<('Fert selector'!$E$13+'Fert selector'!$E$13*'Fert selector'!$E$17),0,1)&IF(T318>('Fert selector'!$E$13-'Fert selector'!$E$13*'Fert selector'!$E$18),0,1)","v":"11"},{"$f":"IF(G318=0,0,'Fert selector'!$F$13/G318)","v":0},{"$f":"IF('Fert selector'!$D$15=\"Y\",$G318*$N318,IF('Fert selector'!$E$15=\"Y\",$G318*$S318,IF('Fert selector'!$F$15=\"Y\",$G318*$X318,IF('Fert selector'!$G$15=\"Y\",$G318*$AC318))))","v":0},90,{"$f":"IF((Y318-'Fert selector'!$F$13)<0,(Y318-'Fert selector'!$F$13)*-1,Y318-'Fert selector'!$F$13)","v":90},{"$f":"IF(Y318<('Fert selector'!$F$13+'Fert selector'!$F$13*'Fert selector'!$F$17),0,1)&IF(Y318>('Fert selector'!$F$13-'Fert selector'!$F$13*'Fert selector'!$F$18),0,1)","v":"01"},{"$f":"IF(H318=0,0,'Fert selector'!$G$13/H318)","v":0},{"$f":"IF('Fert selector'!$D$15=\"Y\",$H318*$N318,IF('Fert selector'!$E$15=\"Y\",$H318*$S318,IF('Fert selector'!$F$15=\"Y\",$H318*$X318,IF('Fert selector'!$G$15=\"Y\",$H318*$AC318))))","v":0},0,{"$f":"IF((AD318-'Fert selector'!$G$13)<0,(AD318-'Fert selector'!$G$13)*-1,AD318-'Fert selector'!$G$13)","v":0},{"$f":"IF(AD318<('Fert selector'!$G$13+'Fert selector'!$G$13*'Fert selector'!$G$17),0,1)&IF(AD318>('Fert selector'!$G$13-'Fert selector'!$G$13*'Fert selector'!$G$18),0,1)","v":"11"}]
[null,null,null,null,null,null,null,null,null,null,null,null,null,{"$f":"IF(E319=0,0,'Fert selector'!$D$13/E319)","v":0},{"$f":"IF('Fert selector'!$D$15=\"Y\",E319*N319,IF('Fert selector'!$E$15=\"Y\",F319*S319,IF('Fert selector'!$F$15=\"Y\",G319*X319,IF('Fert selector'!$G$15=\"Y\",H319*AC319))))","v":0},150,{"$f":"IF((O319-'Fert selector'!$D$13)<0,(O319-'Fert selector'!$D$13)*-1,O319-'Fert selector'!$D$13)","v":150},{"$f":"IF(O319<('Fert selector'!$D$13+'Fert selector'!$D$13*'Fert selector'!$D$17),0,1)&IF(O319>('Fert selector'!$D$13-'Fert selector'!$D$13*'Fert selector'!$D$18),0,1)","v":"01"},{"$f":"IF(F319=0,0,'Fert selector'!$E$13/F319)","v":0},{"$f":"IF('Fert selector'!$D$15=\"Y\",$F319*$N319,IF('Fert selector'!$E$15=\"Y\",$F319*$S319,IF('Fert selector'!$F$15=\"Y\",$F319*$X319,IF('Fert selector'!$G$15=\"Y\",$F319*$AC319))))","v":0},0,{"$f":"IF((T319-'Fert selector'!$E$13)<0,(T319-'Fert selector'!$E$13)*-1,T319-'Fert selector'!$E$13)","v":0},{"$f":"IF(T319<('Fert selector'!$E$13+'Fert selector'!$E$13*'Fert selector'!$E$17),0,1)&IF(T319>('Fert selector'!$E$13-'Fert selector'!$E$13*'Fert selector'!$E$18),0,1)","v":"11"},{"$f":"IF(G319=0,0,'Fert selector'!$F$13/G319)","v":0},{"$f":"IF('Fert selector'!$D$15=\"Y\",$G319*$N319,IF('Fert selector'!$E$15=\"Y\",$G319*$S319,IF('Fert selector'!$F$15=\"Y\",$G319*$X319,IF('Fert selector'!$G$15=\"Y\",$G319*$AC319))))","v":0},90,{"$f":"IF((Y319-'Fert selector'!$F$13)<0,(Y319-'Fert selector'!$F$13)*-1,Y319-'Fert selector'!$F$13)","v":90},{"$f":"IF(Y319<('Fert selector'!$F$13+'Fert selector'!$F$13*'Fert selector'!$F$17),0,1)&IF(Y319>('Fert selector'!$F$13-'Fert selector'!$F$13*'Fert selector'!$F$18),0,1)","v":"01"},{"$f":"IF(H319=0,0,'Fert selector'!$G$13/H319)","v":0},{"$f":"IF('Fert selector'!$D$15=\"Y\",$H319*$N319,IF('Fert selector'!$E$15=\"Y\",$H319*$S319,IF('Fert selector'!$F$15=\"Y\",$H319*$X319,IF('Fert selector'!$G$15=\"Y\",$H319*$AC319))))","v":0},0,{"$f":"IF((AD319-'Fert selector'!$G$13)<0,(AD319-'Fert selector'!$G$13)*-1,AD319-'Fert selector'!$G$13)","v":0},{"$f":"IF(AD319<('Fert selector'!$G$13+'Fert selector'!$G$13*'Fert selector'!$G$17),0,1)&IF(AD319>('Fert selector'!$G$13-'Fert selector'!$G$13*'Fert selector'!$G$18),0,1)","v":"11"}]
[null,null,null,null,null,null,null,null,null,null,null,null,null,{"$f":"IF(E320=0,0,'Fert selector'!$D$13/E320)","v":0},{"$f":"IF('Fert selector'!$D$15=\"Y\",E320*N320,IF('Fert selector'!$E$15=\"Y\",F320*S320,IF('Fert selector'!$F$15=\"Y\",G320*X320,IF('Fert selector'!$G$15=\"Y\",H320*AC320))))","v":0},150,{"$f":"IF((O320-'Fert selector'!$D$13)<0,(O320-'Fert selector'!$D$13)*-1,O320-'Fert selector'!$D$13)","v":150},{"$f":"IF(O320<('Fert selector'!$D$13+'Fert selector'!$D$13*'Fert selector'!$D$17),0,1)&IF(O320>('Fert selector'!$D$13-'Fert selector'!$D$13*'Fert selector'!$D$18),0,1)","v":"01"},{"$f":"IF(F320=0,0,'Fert selector'!$E$13/F320)","v":0},{"$f":"IF('Fert selector'!$D$15=\"Y\",$F320*$N320,IF('Fert selector'!$E$15=\"Y\",$F320*$S320,IF('Fert selector'!$F$15=\"Y\",$F320*$X320,IF('Fert selector'!$G$15=\"Y\",$F320*$AC320))))","v":0},0,{"$f":"IF((T320-'Fert selector'!$E$13)<0,(T320-'Fert selector'!$E$13)*-1,T320-'Fert selector'!$E$13)","v":0},{"$f":"IF(T320<('Fert selector'!$E$13+'Fert selector'!$E$13*'Fert selector'!$E$17),0,1)&IF(T320>('Fert selector'!$E$13-'Fert selector'!$E$13*'Fert selector'!$E$18),0,1)","v":"11"},{"$f":"IF(G320=0,0,'Fert selector'!$F$13/G320)","v":0},{"$f":"IF('Fert selector'!$D$15=\"Y\",$G320*$N320,IF('Fert selector'!$E$15=\"Y\",$G320*$S320,IF('Fert selector'!$F$15=\"Y\",$G320*$X320,IF('Fert selector'!$G$15=\"Y\",$G320*$AC320))))","v":0},90,{"$f":"IF((Y320-'Fert selector'!$F$13)<0,(Y320-'Fert selector'!$F$13)*-1,Y320-'Fert selector'!$F$13)","v":90},{"$f":"IF(Y320<('Fert selector'!$F$13+'Fert selector'!$F$13*'Fert selector'!$F$17),0,1)&IF(Y320>('Fert selector'!$F$13-'Fert selector'!$F$13*'Fert selector'!$F$18),0,1)","v":"01"},{"$f":"IF(H320=0,0,'Fert selector'!$G$13/H320)","v":0},{"$f":"IF('Fert selector'!$D$15=\"Y\",$H320*$N320,IF('Fert selector'!$E$15=\"Y\",$H320*$S320,IF('Fert selector'!$F$15=\"Y\",$H320*$X320,IF('Fert selector'!$G$15=\"Y\",$H320*$AC320))))","v":0},0,{"$f":"IF((AD320-'Fert selector'!$G$13)<0,(AD320-'Fert selector'!$G$13)*-1,AD320-'Fert selector'!$G$13)","v":0},{"$f":"IF(AD320<('Fert selector'!$G$13+'Fert selector'!$G$13*'Fert selector'!$G$17),0,1)&IF(AD320>('Fert selector'!$G$13-'Fert selector'!$G$13*'Fert selector'!$G$18),0,1)","v":"11"}]
[null,null,null,null,null,null,null,null,null,null,null,null,null,{"$f":"IF(E321=0,0,'Fert selector'!$D$13/E321)","v":0},{"$f":"IF('Fert selector'!$D$15=\"Y\",E321*N321,IF('Fert selector'!$E$15=\"Y\",F321*S321,IF('Fert selector'!$F$15=\"Y\",G321*X321,IF('Fert selector'!$G$15=\"Y\",H321*AC321))))","v":0},150,{"$f":"IF((O321-'Fert selector'!$D$13)<0,(O321-'Fert selector'!$D$13)*-1,O321-'Fert selector'!$D$13)","v":150},{"$f":"IF(O321<('Fert selector'!$D$13+'Fert selector'!$D$13*'Fert selector'!$D$17),0,1)&IF(O321>('Fert selector'!$D$13-'Fert selector'!$D$13*'Fert selector'!$D$18),0,1)","v":"01"},{"$f":"IF(F321=0,0,'Fert selector'!$E$13/F321)","v":0},{"$f":"IF('Fert selector'!$D$15=\"Y\",$F321*$N321,IF('Fert selector'!$E$15=\"Y\",$F321*$S321,IF('Fert selector'!$F$15=\"Y\",$F321*$X321,IF('Fert selector'!$G$15=\"Y\",$F321*$AC321))))","v":0},0,{"$f":"IF((T321-'Fert selector'!$E$13)<0,(T321-'Fert selector'!$E$13)*-1,T321-'Fert selector'!$E$13)","v":0},{"$f":"IF(T321<('Fert selector'!$E$13+'Fert selector'!$E$13*'Fert selector'!$E$17),0,1)&IF(T321>('Fert selector'!$E$13-'Fert selector'!$E$13*'Fert selector'!$E$18),0,1)","v":"11"},{"$f":"IF(G321=0,0,'Fert selector'!$F$13/G321)","v":0},{"$f":"IF('Fert selector'!$D$15=\"Y\",$G321*$N321,IF('Fert selector'!$E$15=\"Y\",$G321*$S321,IF('Fert selector'!$F$15=\"Y\",$G321*$X321,IF('Fert selector'!$G$15=\"Y\",$G321*$AC321))))","v":0},90,{"$f":"IF((Y321-'Fert selector'!$F$13)<0,(Y321-'Fert selector'!$F$13)*-1,Y321-'Fert selector'!$F$13)","v":90},{"$f":"IF(Y321<('Fert selector'!$F$13+'Fert selector'!$F$13*'Fert selector'!$F$17),0,1)&IF(Y321>('Fert selector'!$F$13-'Fert selector'!$F$13*'Fert selector'!$F$18),0,1)","v":"01"},{"$f":"IF(H321=0,0,'Fert selector'!$G$13/H321)","v":0},{"$f":"IF('Fert selector'!$D$15=\"Y\",$H321*$N321,IF('Fert selector'!$E$15=\"Y\",$H321*$S321,IF('Fert selector'!$F$15=\"Y\",$H321*$X321,IF('Fert selector'!$G$15=\"Y\",$H321*$AC321))))","v":0},0,{"$f":"IF((AD321-'Fert selector'!$G$13)<0,(AD321-'Fert selector'!$G$13)*-1,AD321-'Fert selector'!$G$13)","v":0},{"$f":"IF(AD321<('Fert selector'!$G$13+'Fert selector'!$G$13*'Fert selector'!$G$17),0,1)&IF(AD321>('Fert selector'!$G$13-'Fert selector'!$G$13*'Fert selector'!$G$18),0,1)","v":"11"}]
[null,null,null,null,null,null,null,null,null,null,null,null,null,{"$f":"IF(E322=0,0,'Fert selector'!$D$13/E322)","v":0},{"$f":"IF('Fert selector'!$D$15=\"Y\",E322*N322,IF('Fert selector'!$E$15=\"Y\",F322*S322,IF('Fert selector'!$F$15=\"Y\",G322*X322,IF('Fert selector'!$G$15=\"Y\",H322*AC322))))","v":0},150,{"$f":"IF((O322-'Fert selector'!$D$13)<0,(O322-'Fert selector'!$D$13)*-1,O322-'Fert selector'!$D$13)","v":150},{"$f":"IF(O322<('Fert selector'!$D$13+'Fert selector'!$D$13*'Fert selector'!$D$17),0,1)&IF(O322>('Fert selector'!$D$13-'Fert selector'!$D$13*'Fert selector'!$D$18),0,1)","v":"01"},{"$f":"IF(F322=0,0,'Fert selector'!$E$13/F322)","v":0},{"$f":"IF('Fert selector'!$D$15=\"Y\",$F322*$N322,IF('Fert selector'!$E$15=\"Y\",$F322*$S322,IF('Fert selector'!$F$15=\"Y\",$F322*$X322,IF('Fert selector'!$G$15=\"Y\",$F322*$AC322))))","v":0},0,{"$f":"IF((T322-'Fert selector'!$E$13)<0,(T322-'Fert selector'!$E$13)*-1,T322-'Fert selector'!$E$13)","v":0},{"$f":"IF(T322<('Fert selector'!$E$13+'Fert selector'!$E$13*'Fert selector'!$E$17),0,1)&IF(T322>('Fert selector'!$E$13-'Fert selector'!$E$13*'Fert selector'!$E$18),0,1)","v":"11"},{"$f":"IF(G322=0,0,'Fert selector'!$F$13/G322)","v":0},{"$f":"IF('Fert selector'!$D$15=\"Y\",$G322*$N322,IF('Fert selector'!$E$15=\"Y\",$G322*$S322,IF('Fert selector'!$F$15=\"Y\",$G322*$X322,IF('Fert selector'!$G$15=\"Y\",$G322*$AC322))))","v":0},90,{"$f":"IF((Y322-'Fert selector'!$F$13)<0,(Y322-'Fert selector'!$F$13)*-1,Y322-'Fert selector'!$F$13)","v":90},{"$f":"IF(Y322<('Fert selector'!$F$13+'Fert selector'!$F$13*'Fert selector'!$F$17),0,1)&IF(Y322>('Fert selector'!$F$13-'Fert selector'!$F$13*'Fert selector'!$F$18),0,1)","v":"01"},{"$f":"IF(H322=0,0,'Fert selector'!$G$13/H322)","v":0},{"$f":"IF('Fert selector'!$D$15=\"Y\",$H322*$N322,IF('Fert selector'!$E$15=\"Y\",$H322*$S322,IF('Fert selector'!$F$15=\"Y\",$H322*$X322,IF('Fert selector'!$G$15=\"Y\",$H322*$AC322))))","v":0},0,{"$f":"IF((AD322-'Fert selector'!$G$13)<0,(AD322-'Fert selector'!$G$13)*-1,AD322-'Fert selector'!$G$13)","v":0},{"$f":"IF(AD322<('Fert selector'!$G$13+'Fert selector'!$G$13*'Fert selector'!$G$17),0,1)&IF(AD322>('Fert selector'!$G$13-'Fert selector'!$G$13*'Fert selector'!$G$18),0,1)","v":"11"}]
[null,null,null,null,null,null,null,null,null,null,null,null,null,{"$f":"IF(E323=0,0,'Fert selector'!$D$13/E323)","v":0},{"$f":"IF('Fert selector'!$D$15=\"Y\",E323*N323,IF('Fert selector'!$E$15=\"Y\",F323*S323,IF('Fert selector'!$F$15=\"Y\",G323*X323,IF('Fert selector'!$G$15=\"Y\",H323*AC323))))","v":0},150,{"$f":"IF((O323-'Fert selector'!$D$13)<0,(O323-'Fert selector'!$D$13)*-1,O323-'Fert selector'!$D$13)","v":150},{"$f":"IF(O323<('Fert selector'!$D$13+'Fert selector'!$D$13*'Fert selector'!$D$17),0,1)&IF(O323>('Fert selector'!$D$13-'Fert selector'!$D$13*'Fert selector'!$D$18),0,1)","v":"01"},{"$f":"IF(F323=0,0,'Fert selector'!$E$13/F323)","v":0},{"$f":"IF('Fert selector'!$D$15=\"Y\",$F323*$N323,IF('Fert selector'!$E$15=\"Y\",$F323*$S323,IF('Fert selector'!$F$15=\"Y\",$F323*$X323,IF('Fert selector'!$G$15=\"Y\",$F323*$AC323))))","v":0},0,{"$f":"IF((T323-'Fert selector'!$E$13)<0,(T323-'Fert selector'!$E$13)*-1,T323-'Fert selector'!$E$13)","v":0},{"$f":"IF(T323<('Fert selector'!$E$13+'Fert selector'!$E$13*'Fert selector'!$E$17),0,1)&IF(T323>('Fert selector'!$E$13-'Fert selector'!$E$13*'Fert selector'!$E$18),0,1)","v":"11"},{"$f":"IF(G323=0,0,'Fert selector'!$F$13/G323)","v":0},{"$f":"IF('Fert selector'!$D$15=\"Y\",$G323*$N323,IF('Fert selector'!$E$15=\"Y\",$G323*$S323,IF('Fert selector'!$F$15=\"Y\",$G323*$X323,IF('Fert selector'!$G$15=\"Y\",$G323*$AC323))))","v":0},90,{"$f":"IF((Y323-'Fert selector'!$F$13)<0,(Y323-'Fert selector'!$F$13)*-1,Y323-'Fert selector'!$F$13)","v":90},{"$f":"IF(Y323<('Fert selector'!$F$13+'Fert selector'!$F$13*'Fert selector'!$F$17),0,1)&IF(Y323>('Fert selector'!$F$13-'Fert selector'!$F$13*'Fert selector'!$F$18),0,1)","v":"01"},{"$f":"IF(H323=0,0,'Fert selector'!$G$13/H323)","v":0},{"$f":"IF('Fert selector'!$D$15=\"Y\",$H323*$N323,IF('Fert selector'!$E$15=\"Y\",$H323*$S323,IF('Fert selector'!$F$15=\"Y\",$H323*$X323,IF('Fert selector'!$G$15=\"Y\",$H323*$AC323))))","v":0},0,{"$f":"IF((AD323-'Fert selector'!$G$13)<0,(AD323-'Fert selector'!$G$13)*-1,AD323-'Fert selector'!$G$13)","v":0},{"$f":"IF(AD323<('Fert selector'!$G$13+'Fert selector'!$G$13*'Fert selector'!$G$17),0,1)&IF(AD323>('Fert selector'!$G$13-'Fert selector'!$G$13*'Fert selector'!$G$18),0,1)","v":"11"}]
[null,null,null,null,null,null,null,null,null,null,null,null,null,{"$f":"IF(E324=0,0,'Fert selector'!$D$13/E324)","v":0},{"$f":"IF('Fert selector'!$D$15=\"Y\",E324*N324,IF('Fert selector'!$E$15=\"Y\",F324*S324,IF('Fert selector'!$F$15=\"Y\",G324*X324,IF('Fert selector'!$G$15=\"Y\",H324*AC324))))","v":0},150,{"$f":"IF((O324-'Fert selector'!$D$13)<0,(O324-'Fert selector'!$D$13)*-1,O324-'Fert selector'!$D$13)","v":150},{"$f":"IF(O324<('Fert selector'!$D$13+'Fert selector'!$D$13*'Fert selector'!$D$17),0,1)&IF(O324>('Fert selector'!$D$13-'Fert selector'!$D$13*'Fert selector'!$D$18),0,1)","v":"01"},{"$f":"IF(F324=0,0,'Fert selector'!$E$13/F324)","v":0},{"$f":"IF('Fert selector'!$D$15=\"Y\",$F324*$N324,IF('Fert selector'!$E$15=\"Y\",$F324*$S324,IF('Fert selector'!$F$15=\"Y\",$F324*$X324,IF('Fert selector'!$G$15=\"Y\",$F324*$AC324))))","v":0},0,{"$f":"IF((T324-'Fert selector'!$E$13)<0,(T324-'Fert selector'!$E$13)*-1,T324-'Fert selector'!$E$13)","v":0},{"$f":"IF(T324<('Fert selector'!$E$13+'Fert selector'!$E$13*'Fert selector'!$E$17),0,1)&IF(T324>('Fert selector'!$E$13-'Fert selector'!$E$13*'Fert selector'!$E$18),0,1)","v":"11"},{"$f":"IF(G324=0,0,'Fert selector'!$F$13/G324)","v":0},{"$f":"IF('Fert selector'!$D$15=\"Y\",$G324*$N324,IF('Fert selector'!$E$15=\"Y\",$G324*$S324,IF('Fert selector'!$F$15=\"Y\",$G324*$X324,IF('Fert selector'!$G$15=\"Y\",$G324*$AC324))))","v":0},90,{"$f":"IF((Y324-'Fert selector'!$F$13)<0,(Y324-'Fert selector'!$F$13)*-1,Y324-'Fert selector'!$F$13)","v":90},{"$f":"IF(Y324<('Fert selector'!$F$13+'Fert selector'!$F$13*'Fert selector'!$F$17),0,1)&IF(Y324>('Fert selector'!$F$13-'Fert selector'!$F$13*'Fert selector'!$F$18),0,1)","v":"01"},{"$f":"IF(H324=0,0,'Fert selector'!$G$13/H324)","v":0},{"$f":"IF('Fert selector'!$D$15=\"Y\",$H324*$N324,IF('Fert selector'!$E$15=\"Y\",$H324*$S324,IF('Fert selector'!$F$15=\"Y\",$H324*$X324,IF('Fert selector'!$G$15=\"Y\",$H324*$AC324))))","v":0},0,{"$f":"IF((AD324-'Fert selector'!$G$13)<0,(AD324-'Fert selector'!$G$13)*-1,AD324-'Fert selector'!$G$13)","v":0},{"$f":"IF(AD324<('Fert selector'!$G$13+'Fert selector'!$G$13*'Fert selector'!$G$17),0,1)&IF(AD324>('Fert selector'!$G$13-'Fert selector'!$G$13*'Fert selector'!$G$18),0,1)","v":"11"}]
[null,null,null,null,null,null,null,null,null,null,null,null,null,{"$f":"IF(E325=0,0,'Fert selector'!$D$13/E325)","v":0},{"$f":"IF('Fert selector'!$D$15=\"Y\",E325*N325,IF('Fert selector'!$E$15=\"Y\",F325*S325,IF('Fert selector'!$F$15=\"Y\",G325*X325,IF('Fert selector'!$G$15=\"Y\",H325*AC325))))","v":0},150,{"$f":"IF((O325-'Fert selector'!$D$13)<0,(O325-'Fert selector'!$D$13)*-1,O325-'Fert selector'!$D$13)","v":150},{"$f":"IF(O325<('Fert selector'!$D$13+'Fert selector'!$D$13*'Fert selector'!$D$17),0,1)&IF(O325>('Fert selector'!$D$13-'Fert selector'!$D$13*'Fert selector'!$D$18),0,1)","v":"01"},{"$f":"IF(F325=0,0,'Fert selector'!$E$13/F325)","v":0},{"$f":"IF('Fert selector'!$D$15=\"Y\",$F325*$N325,IF('Fert selector'!$E$15=\"Y\",$F325*$S325,IF('Fert selector'!$F$15=\"Y\",$F325*$X325,IF('Fert selector'!$G$15=\"Y\",$F325*$AC325))))","v":0},0,{"$f":"IF((T325-'Fert selector'!$E$13)<0,(T325-'Fert selector'!$E$13)*-1,T325-'Fert selector'!$E$13)","v":0},{"$f":"IF(T325<('Fert selector'!$E$13+'Fert selector'!$E$13*'Fert selector'!$E$17),0,1)&IF(T325>('Fert selector'!$E$13-'Fert selector'!$E$13*'Fert selector'!$E$18),0,1)","v":"11"},{"$f":"IF(G325=0,0,'Fert selector'!$F$13/G325)","v":0},{"$f":"IF('Fert selector'!$D$15=\"Y\",$G325*$N325,IF('Fert selector'!$E$15=\"Y\",$G325*$S325,IF('Fert selector'!$F$15=\"Y\",$G325*$X325,IF('Fert selector'!$G$15=\"Y\",$G325*$AC325))))","v":0},90,{"$f":"IF((Y325-'Fert selector'!$F$13)<0,(Y325-'Fert selector'!$F$13)*-1,Y325-'Fert selector'!$F$13)","v":90},{"$f":"IF(Y325<('Fert selector'!$F$13+'Fert selector'!$F$13*'Fert selector'!$F$17),0,1)&IF(Y325>('Fert selector'!$F$13-'Fert selector'!$F$13*'Fert selector'!$F$18),0,1)","v":"01"},{"$f":"IF(H325=0,0,'Fert selector'!$G$13/H325)","v":0},{"$f":"IF('Fert selector'!$D$15=\"Y\",$H325*$N325,IF('Fert selector'!$E$15=\"Y\",$H325*$S325,IF('Fert selector'!$F$15=\"Y\",$H325*$X325,IF('Fert selector'!$G$15=\"Y\",$H325*$AC325))))","v":0},0,{"$f":"IF((AD325-'Fert selector'!$G$13)<0,(AD325-'Fert selector'!$G$13)*-1,AD325-'Fert selector'!$G$13)","v":0},{"$f":"IF(AD325<('Fert selector'!$G$13+'Fert selector'!$G$13*'Fert selector'!$G$17),0,1)&IF(AD325>('Fert selector'!$G$13-'Fert selector'!$G$13*'Fert selector'!$G$18),0,1)","v":"11"}]
[null,null,null,null,null,null,null,null,null,null,null,null,null,{"$f":"IF(E326=0,0,'Fert selector'!$D$13/E326)","v":0},{"$f":"IF('Fert selector'!$D$15=\"Y\",E326*N326,IF('Fert selector'!$E$15=\"Y\",F326*S326,IF('Fert selector'!$F$15=\"Y\",G326*X326,IF('Fert selector'!$G$15=\"Y\",H326*AC326))))","v":0},150,{"$f":"IF((O326-'Fert selector'!$D$13)<0,(O326-'Fert selector'!$D$13)*-1,O326-'Fert selector'!$D$13)","v":150},{"$f":"IF(O326<('Fert selector'!$D$13+'Fert selector'!$D$13*'Fert selector'!$D$17),0,1)&IF(O326>('Fert selector'!$D$13-'Fert selector'!$D$13*'Fert selector'!$D$18),0,1)","v":"01"},{"$f":"IF(F326=0,0,'Fert selector'!$E$13/F326)","v":0},{"$f":"IF('Fert selector'!$D$15=\"Y\",$F326*$N326,IF('Fert selector'!$E$15=\"Y\",$F326*$S326,IF('Fert selector'!$F$15=\"Y\",$F326*$X326,IF('Fert selector'!$G$15=\"Y\",$F326*$AC326))))","v":0},0,{"$f":"IF((T326-'Fert selector'!$E$13)<0,(T326-'Fert selector'!$E$13)*-1,T326-'Fert selector'!$E$13)","v":0},{"$f":"IF(T326<('Fert selector'!$E$13+'Fert selector'!$E$13*'Fert selector'!$E$17),0,1)&IF(T326>('Fert selector'!$E$13-'Fert selector'!$E$13*'Fert selector'!$E$18),0,1)","v":"11"},{"$f":"IF(G326=0,0,'Fert selector'!$F$13/G326)","v":0},{"$f":"IF('Fert selector'!$D$15=\"Y\",$G326*$N326,IF('Fert selector'!$E$15=\"Y\",$G326*$S326,IF('Fert selector'!$F$15=\"Y\",$G326*$X326,IF('Fert selector'!$G$15=\"Y\",$G326*$AC326))))","v":0},90,{"$f":"IF((Y326-'Fert selector'!$F$13)<0,(Y326-'Fert selector'!$F$13)*-1,Y326-'Fert selector'!$F$13)","v":90},{"$f":"IF(Y326<('Fert selector'!$F$13+'Fert selector'!$F$13*'Fert selector'!$F$17),0,1)&IF(Y326>('Fert selector'!$F$13-'Fert selector'!$F$13*'Fert selector'!$F$18),0,1)","v":"01"},{"$f":"IF(H326=0,0,'Fert selector'!$G$13/H326)","v":0},{"$f":"IF('Fert selector'!$D$15=\"Y\",$H326*$N326,IF('Fert selector'!$E$15=\"Y\",$H326*$S326,IF('Fert selector'!$F$15=\"Y\",$H326*$X326,IF('Fert selector'!$G$15=\"Y\",$H326*$AC326))))","v":0},0,{"$f":"IF((AD326-'Fert selector'!$G$13)<0,(AD326-'Fert selector'!$G$13)*-1,AD326-'Fert selector'!$G$13)","v":0},{"$f":"IF(AD326<('Fert selector'!$G$13+'Fert selector'!$G$13*'Fert selector'!$G$17),0,1)&IF(AD326>('Fert selector'!$G$13-'Fert selector'!$G$13*'Fert selector'!$G$18),0,1)","v":"11"}]
[null,null,null,null,null,null,null,null,null,null,null,null,null,{"$f":"IF(E327=0,0,'Fert selector'!$D$13/E327)","v":0},{"$f":"IF('Fert selector'!$D$15=\"Y\",E327*N327,IF('Fert selector'!$E$15=\"Y\",F327*S327,IF('Fert selector'!$F$15=\"Y\",G327*X327,IF('Fert selector'!$G$15=\"Y\",H327*AC327))))","v":0},150,{"$f":"IF((O327-'Fert selector'!$D$13)<0,(O327-'Fert selector'!$D$13)*-1,O327-'Fert selector'!$D$13)","v":150},{"$f":"IF(O327<('Fert selector'!$D$13+'Fert selector'!$D$13*'Fert selector'!$D$17),0,1)&IF(O327>('Fert selector'!$D$13-'Fert selector'!$D$13*'Fert selector'!$D$18),0,1)","v":"01"},{"$f":"IF(F327=0,0,'Fert selector'!$E$13/F327)","v":0},{"$f":"IF('Fert selector'!$D$15=\"Y\",$F327*$N327,IF('Fert selector'!$E$15=\"Y\",$F327*$S327,IF('Fert selector'!$F$15=\"Y\",$F327*$X327,IF('Fert selector'!$G$15=\"Y\",$F327*$AC327))))","v":0},0,{"$f":"IF((T327-'Fert selector'!$E$13)<0,(T327-'Fert selector'!$E$13)*-1,T327-'Fert selector'!$E$13)","v":0},{"$f":"IF(T327<('Fert selector'!$E$13+'Fert selector'!$E$13*'Fert selector'!$E$17),0,1)&IF(T327>('Fert selector'!$E$13-'Fert selector'!$E$13*'Fert selector'!$E$18),0,1)","v":"11"},{"$f":"IF(G327=0,0,'Fert selector'!$F$13/G327)","v":0},{"$f":"IF('Fert selector'!$D$15=\"Y\",$G327*$N327,IF('Fert selector'!$E$15=\"Y\",$G327*$S327,IF('Fert selector'!$F$15=\"Y\",$G327*$X327,IF('Fert selector'!$G$15=\"Y\",$G327*$AC327))))","v":0},90,{"$f":"IF((Y327-'Fert selector'!$F$13)<0,(Y327-'Fert selector'!$F$13)*-1,Y327-'Fert selector'!$F$13)","v":90},{"$f":"IF(Y327<('Fert selector'!$F$13+'Fert selector'!$F$13*'Fert selector'!$F$17),0,1)&IF(Y327>('Fert selector'!$F$13-'Fert selector'!$F$13*'Fert selector'!$F$18),0,1)","v":"01"},{"$f":"IF(H327=0,0,'Fert selector'!$G$13/H327)","v":0},{"$f":"IF('Fert selector'!$D$15=\"Y\",$H327*$N327,IF('Fert selector'!$E$15=\"Y\",$H327*$S327,IF('Fert selector'!$F$15=\"Y\",$H327*$X327,IF('Fert selector'!$G$15=\"Y\",$H327*$AC327))))","v":0},0,{"$f":"IF((AD327-'Fert selector'!$G$13)<0,(AD327-'Fert selector'!$G$13)*-1,AD327-'Fert selector'!$G$13)","v":0},{"$f":"IF(AD327<('Fert selector'!$G$13+'Fert selector'!$G$13*'Fert selector'!$G$17),0,1)&IF(AD327>('Fert selector'!$G$13-'Fert selector'!$G$13*'Fert selector'!$G$18),0,1)","v":"11"}]
[null,null,null,null,null,null,null,null,null,null,null,null,null,{"$f":"IF(E328=0,0,'Fert selector'!$D$13/E328)","v":0},{"$f":"IF('Fert selector'!$D$15=\"Y\",E328*N328,IF('Fert selector'!$E$15=\"Y\",F328*S328,IF('Fert selector'!$F$15=\"Y\",G328*X328,IF('Fert selector'!$G$15=\"Y\",H328*AC328))))","v":0},150,{"$f":"IF((O328-'Fert selector'!$D$13)<0,(O328-'Fert selector'!$D$13)*-1,O328-'Fert selector'!$D$13)","v":150},{"$f":"IF(O328<('Fert selector'!$D$13+'Fert selector'!$D$13*'Fert selector'!$D$17),0,1)&IF(O328>('Fert selector'!$D$13-'Fert selector'!$D$13*'Fert selector'!$D$18),0,1)","v":"01"},{"$f":"IF(F328=0,0,'Fert selector'!$E$13/F328)","v":0},{"$f":"IF('Fert selector'!$D$15=\"Y\",$F328*$N328,IF('Fert selector'!$E$15=\"Y\",$F328*$S328,IF('Fert selector'!$F$15=\"Y\",$F328*$X328,IF('Fert selector'!$G$15=\"Y\",$F328*$AC328))))","v":0},0,{"$f":"IF((T328-'Fert selector'!$E$13)<0,(T328-'Fert selector'!$E$13)*-1,T328-'Fert selector'!$E$13)","v":0},{"$f":"IF(T328<('Fert selector'!$E$13+'Fert selector'!$E$13*'Fert selector'!$E$17),0,1)&IF(T328>('Fert selector'!$E$13-'Fert selector'!$E$13*'Fert selector'!$E$18),0,1)","v":"11"},{"$f":"IF(G328=0,0,'Fert selector'!$F$13/G328)","v":0},{"$f":"IF('Fert selector'!$D$15=\"Y\",$G328*$N328,IF('Fert selector'!$E$15=\"Y\",$G328*$S328,IF('Fert selector'!$F$15=\"Y\",$G328*$X328,IF('Fert selector'!$G$15=\"Y\",$G328*$AC328))))","v":0},90,{"$f":"IF((Y328-'Fert selector'!$F$13)<0,(Y328-'Fert selector'!$F$13)*-1,Y328-'Fert selector'!$F$13)","v":90},{"$f":"IF(Y328<('Fert selector'!$F$13+'Fert selector'!$F$13*'Fert selector'!$F$17),0,1)&IF(Y328>('Fert selector'!$F$13-'Fert selector'!$F$13*'Fert selector'!$F$18),0,1)","v":"01"},{"$f":"IF(H328=0,0,'Fert selector'!$G$13/H328)","v":0},{"$f":"IF('Fert selector'!$D$15=\"Y\",$H328*$N328,IF('Fert selector'!$E$15=\"Y\",$H328*$S328,IF('Fert selector'!$F$15=\"Y\",$H328*$X328,IF('Fert selector'!$G$15=\"Y\",$H328*$AC328))))","v":0},0,{"$f":"IF((AD328-'Fert selector'!$G$13)<0,(AD328-'Fert selector'!$G$13)*-1,AD328-'Fert selector'!$G$13)","v":0},{"$f":"IF(AD328<('Fert selector'!$G$13+'Fert selector'!$G$13*'Fert selector'!$G$17),0,1)&IF(AD328>('Fert selector'!$G$13-'Fert selector'!$G$13*'Fert selector'!$G$18),0,1)","v":"11"}]
[null,null,null,null,null,null,null,null,null,null,null,null,null,{"$f":"IF(E329=0,0,'Fert selector'!$D$13/E329)","v":0},{"$f":"IF('Fert selector'!$D$15=\"Y\",E329*N329,IF('Fert selector'!$E$15=\"Y\",F329*S329,IF('Fert selector'!$F$15=\"Y\",G329*X329,IF('Fert selector'!$G$15=\"Y\",H329*AC329))))","v":0},150,{"$f":"IF((O329-'Fert selector'!$D$13)<0,(O329-'Fert selector'!$D$13)*-1,O329-'Fert selector'!$D$13)","v":150},{"$f":"IF(O329<('Fert selector'!$D$13+'Fert selector'!$D$13*'Fert selector'!$D$17),0,1)&IF(O329>('Fert selector'!$D$13-'Fert selector'!$D$13*'Fert selector'!$D$18),0,1)","v":"01"},{"$f":"IF(F329=0,0,'Fert selector'!$E$13/F329)","v":0},{"$f":"IF('Fert selector'!$D$15=\"Y\",$F329*$N329,IF('Fert selector'!$E$15=\"Y\",$F329*$S329,IF('Fert selector'!$F$15=\"Y\",$F329*$X329,IF('Fert selector'!$G$15=\"Y\",$F329*$AC329))))","v":0},0,{"$f":"IF((T329-'Fert selector'!$E$13)<0,(T329-'Fert selector'!$E$13)*-1,T329-'Fert selector'!$E$13)","v":0},{"$f":"IF(T329<('Fert selector'!$E$13+'Fert selector'!$E$13*'Fert selector'!$E$17),0,1)&IF(T329>('Fert selector'!$E$13-'Fert selector'!$E$13*'Fert selector'!$E$18),0,1)","v":"11"},{"$f":"IF(G329=0,0,'Fert selector'!$F$13/G329)","v":0},{"$f":"IF('Fert selector'!$D$15=\"Y\",$G329*$N329,IF('Fert selector'!$E$15=\"Y\",$G329*$S329,IF('Fert selector'!$F$15=\"Y\",$G329*$X329,IF('Fert selector'!$G$15=\"Y\",$G329*$AC329))))","v":0},90,{"$f":"IF((Y329-'Fert selector'!$F$13)<0,(Y329-'Fert selector'!$F$13)*-1,Y329-'Fert selector'!$F$13)","v":90},{"$f":"IF(Y329<('Fert selector'!$F$13+'Fert selector'!$F$13*'Fert selector'!$F$17),0,1)&IF(Y329>('Fert selector'!$F$13-'Fert selector'!$F$13*'Fert selector'!$F$18),0,1)","v":"01"},{"$f":"IF(H329=0,0,'Fert selector'!$G$13/H329)","v":0},{"$f":"IF('Fert selector'!$D$15=\"Y\",$H329*$N329,IF('Fert selector'!$E$15=\"Y\",$H329*$S329,IF('Fert selector'!$F$15=\"Y\",$H329*$X329,IF('Fert selector'!$G$15=\"Y\",$H329*$AC329))))","v":0},0,{"$f":"IF((AD329-'Fert selector'!$G$13)<0,(AD329-'Fert selector'!$G$13)*-1,AD329-'Fert selector'!$G$13)","v":0},{"$f":"IF(AD329<('Fert selector'!$G$13+'Fert selector'!$G$13*'Fert selector'!$G$17),0,1)&IF(AD329>('Fert selector'!$G$13-'Fert selector'!$G$13*'Fert selector'!$G$18),0,1)","v":"11"}]
[null,null,null,null,null,null,null,null,null,null,null,null,null,{"$f":"IF(E330=0,0,'Fert selector'!$D$13/E330)","v":0},{"$f":"IF('Fert selector'!$D$15=\"Y\",E330*N330,IF('Fert selector'!$E$15=\"Y\",F330*S330,IF('Fert selector'!$F$15=\"Y\",G330*X330,IF('Fert selector'!$G$15=\"Y\",H330*AC330))))","v":0},150,{"$f":"IF((O330-'Fert selector'!$D$13)<0,(O330-'Fert selector'!$D$13)*-1,O330-'Fert selector'!$D$13)","v":150},{"$f":"IF(O330<('Fert selector'!$D$13+'Fert selector'!$D$13*'Fert selector'!$D$17),0,1)&IF(O330>('Fert selector'!$D$13-'Fert selector'!$D$13*'Fert selector'!$D$18),0,1)","v":"01"},{"$f":"IF(F330=0,0,'Fert selector'!$E$13/F330)","v":0},{"$f":"IF('Fert selector'!$D$15=\"Y\",$F330*$N330,IF('Fert selector'!$E$15=\"Y\",$F330*$S330,IF('Fert selector'!$F$15=\"Y\",$F330*$X330,IF('Fert selector'!$G$15=\"Y\",$F330*$AC330))))","v":0},0,{"$f":"IF((T330-'Fert selector'!$E$13)<0,(T330-'Fert selector'!$E$13)*-1,T330-'Fert selector'!$E$13)","v":0},{"$f":"IF(T330<('Fert selector'!$E$13+'Fert selector'!$E$13*'Fert selector'!$E$17),0,1)&IF(T330>('Fert selector'!$E$13-'Fert selector'!$E$13*'Fert selector'!$E$18),0,1)","v":"11"},{"$f":"IF(G330=0,0,'Fert selector'!$F$13/G330)","v":0},{"$f":"IF('Fert selector'!$D$15=\"Y\",$G330*$N330,IF('Fert selector'!$E$15=\"Y\",$G330*$S330,IF('Fert selector'!$F$15=\"Y\",$G330*$X330,IF('Fert selector'!$G$15=\"Y\",$G330*$AC330))))","v":0},90,{"$f":"IF((Y330-'Fert selector'!$F$13)<0,(Y330-'Fert selector'!$F$13)*-1,Y330-'Fert selector'!$F$13)","v":90},{"$f":"IF(Y330<('Fert selector'!$F$13+'Fert selector'!$F$13*'Fert selector'!$F$17),0,1)&IF(Y330>('Fert selector'!$F$13-'Fert selector'!$F$13*'Fert selector'!$F$18),0,1)","v":"01"},{"$f":"IF(H330=0,0,'Fert selector'!$G$13/H330)","v":0},{"$f":"IF('Fert selector'!$D$15=\"Y\",$H330*$N330,IF('Fert selector'!$E$15=\"Y\",$H330*$S330,IF('Fert selector'!$F$15=\"Y\",$H330*$X330,IF('Fert selector'!$G$15=\"Y\",$H330*$AC330))))","v":0},0,{"$f":"IF((AD330-'Fert selector'!$G$13)<0,(AD330-'Fert selector'!$G$13)*-1,AD330-'Fert selector'!$G$13)","v":0},{"$f":"IF(AD330<('Fert selector'!$G$13+'Fert selector'!$G$13*'Fert selector'!$G$17),0,1)&IF(AD330>('Fert selector'!$G$13-'Fert selector'!$G$13*'Fert selector'!$G$18),0,1)","v":"11"}]
[null,null,null,null,null,null,null,null,null,null,null,null,null,{"$f":"IF(E331=0,0,'Fert selector'!$D$13/E331)","v":0},{"$f":"IF('Fert selector'!$D$15=\"Y\",E331*N331,IF('Fert selector'!$E$15=\"Y\",F331*S331,IF('Fert selector'!$F$15=\"Y\",G331*X331,IF('Fert selector'!$G$15=\"Y\",H331*AC331))))","v":0},150,{"$f":"IF((O331-'Fert selector'!$D$13)<0,(O331-'Fert selector'!$D$13)*-1,O331-'Fert selector'!$D$13)","v":150},{"$f":"IF(O331<('Fert selector'!$D$13+'Fert selector'!$D$13*'Fert selector'!$D$17),0,1)&IF(O331>('Fert selector'!$D$13-'Fert selector'!$D$13*'Fert selector'!$D$18),0,1)","v":"01"},{"$f":"IF(F331=0,0,'Fert selector'!$E$13/F331)","v":0},{"$f":"IF('Fert selector'!$D$15=\"Y\",$F331*$N331,IF('Fert selector'!$E$15=\"Y\",$F331*$S331,IF('Fert selector'!$F$15=\"Y\",$F331*$X331,IF('Fert selector'!$G$15=\"Y\",$F331*$AC331))))","v":0},0,{"$f":"IF((T331-'Fert selector'!$E$13)<0,(T331-'Fert selector'!$E$13)*-1,T331-'Fert selector'!$E$13)","v":0},{"$f":"IF(T331<('Fert selector'!$E$13+'Fert selector'!$E$13*'Fert selector'!$E$17),0,1)&IF(T331>('Fert selector'!$E$13-'Fert selector'!$E$13*'Fert selector'!$E$18),0,1)","v":"11"},{"$f":"IF(G331=0,0,'Fert selector'!$F$13/G331)","v":0},{"$f":"IF('Fert selector'!$D$15=\"Y\",$G331*$N331,IF('Fert selector'!$E$15=\"Y\",$G331*$S331,IF('Fert selector'!$F$15=\"Y\",$G331*$X331,IF('Fert selector'!$G$15=\"Y\",$G331*$AC331))))","v":0},90,{"$f":"IF((Y331-'Fert selector'!$F$13)<0,(Y331-'Fert selector'!$F$13)*-1,Y331-'Fert selector'!$F$13)","v":90},{"$f":"IF(Y331<('Fert selector'!$F$13+'Fert selector'!$F$13*'Fert selector'!$F$17),0,1)&IF(Y331>('Fert selector'!$F$13-'Fert selector'!$F$13*'Fert selector'!$F$18),0,1)","v":"01"},{"$f":"IF(H331=0,0,'Fert selector'!$G$13/H331)","v":0},{"$f":"IF('Fert selector'!$D$15=\"Y\",$H331*$N331,IF('Fert selector'!$E$15=\"Y\",$H331*$S331,IF('Fert selector'!$F$15=\"Y\",$H331*$X331,IF('Fert selector'!$G$15=\"Y\",$H331*$AC331))))","v":0},0,{"$f":"IF((AD331-'Fert selector'!$G$13)<0,(AD331-'Fert selector'!$G$13)*-1,AD331-'Fert selector'!$G$13)","v":0},{"$f":"IF(AD331<('Fert selector'!$G$13+'Fert selector'!$G$13*'Fert selector'!$G$17),0,1)&IF(AD331>('Fert selector'!$G$13-'Fert selector'!$G$13*'Fert selector'!$G$18),0,1)","v":"11"}]
[null,null,null,null,null,null,null,null,null,null,null,null,null,{"$f":"IF(E332=0,0,'Fert selector'!$D$13/E332)","v":0},{"$f":"IF('Fert selector'!$D$15=\"Y\",E332*N332,IF('Fert selector'!$E$15=\"Y\",F332*S332,IF('Fert selector'!$F$15=\"Y\",G332*X332,IF('Fert selector'!$G$15=\"Y\",H332*AC332))))","v":0},150,{"$f":"IF((O332-'Fert selector'!$D$13)<0,(O332-'Fert selector'!$D$13)*-1,O332-'Fert selector'!$D$13)","v":150},{"$f":"IF(O332<('Fert selector'!$D$13+'Fert selector'!$D$13*'Fert selector'!$D$17),0,1)&IF(O332>('Fert selector'!$D$13-'Fert selector'!$D$13*'Fert selector'!$D$18),0,1)","v":"01"},{"$f":"IF(F332=0,0,'Fert selector'!$E$13/F332)","v":0},{"$f":"IF('Fert selector'!$D$15=\"Y\",$F332*$N332,IF('Fert selector'!$E$15=\"Y\",$F332*$S332,IF('Fert selector'!$F$15=\"Y\",$F332*$X332,IF('Fert selector'!$G$15=\"Y\",$F332*$AC332))))","v":0},0,{"$f":"IF((T332-'Fert selector'!$E$13)<0,(T332-'Fert selector'!$E$13)*-1,T332-'Fert selector'!$E$13)","v":0},{"$f":"IF(T332<('Fert selector'!$E$13+'Fert selector'!$E$13*'Fert selector'!$E$17),0,1)&IF(T332>('Fert selector'!$E$13-'Fert selector'!$E$13*'Fert selector'!$E$18),0,1)","v":"11"},{"$f":"IF(G332=0,0,'Fert selector'!$F$13/G332)","v":0},{"$f":"IF('Fert selector'!$D$15=\"Y\",$G332*$N332,IF('Fert selector'!$E$15=\"Y\",$G332*$S332,IF('Fert selector'!$F$15=\"Y\",$G332*$X332,IF('Fert selector'!$G$15=\"Y\",$G332*$AC332))))","v":0},90,{"$f":"IF((Y332-'Fert selector'!$F$13)<0,(Y332-'Fert selector'!$F$13)*-1,Y332-'Fert selector'!$F$13)","v":90},{"$f":"IF(Y332<('Fert selector'!$F$13+'Fert selector'!$F$13*'Fert selector'!$F$17),0,1)&IF(Y332>('Fert selector'!$F$13-'Fert selector'!$F$13*'Fert selector'!$F$18),0,1)","v":"01"},{"$f":"IF(H332=0,0,'Fert selector'!$G$13/H332)","v":0},{"$f":"IF('Fert selector'!$D$15=\"Y\",$H332*$N332,IF('Fert selector'!$E$15=\"Y\",$H332*$S332,IF('Fert selector'!$F$15=\"Y\",$H332*$X332,IF('Fert selector'!$G$15=\"Y\",$H332*$AC332))))","v":0},0,{"$f":"IF((AD332-'Fert selector'!$G$13)<0,(AD332-'Fert selector'!$G$13)*-1,AD332-'Fert selector'!$G$13)","v":0},{"$f":"IF(AD332<('Fert selector'!$G$13+'Fert selector'!$G$13*'Fert selector'!$G$17),0,1)&IF(AD332>('Fert selector'!$G$13-'Fert selector'!$G$13*'Fert selector'!$G$18),0,1)","v":"11"}]
[null,null,null,null,null,null,null,null,null,null,null,null,null,{"$f":"IF(E333=0,0,'Fert selector'!$D$13/E333)","v":0},{"$f":"IF('Fert selector'!$D$15=\"Y\",E333*N333,IF('Fert selector'!$E$15=\"Y\",F333*S333,IF('Fert selector'!$F$15=\"Y\",G333*X333,IF('Fert selector'!$G$15=\"Y\",H333*AC333))))","v":0},150,{"$f":"IF((O333-'Fert selector'!$D$13)<0,(O333-'Fert selector'!$D$13)*-1,O333-'Fert selector'!$D$13)","v":150},{"$f":"IF(O333<('Fert selector'!$D$13+'Fert selector'!$D$13*'Fert selector'!$D$17),0,1)&IF(O333>('Fert selector'!$D$13-'Fert selector'!$D$13*'Fert selector'!$D$18),0,1)","v":"01"},{"$f":"IF(F333=0,0,'Fert selector'!$E$13/F333)","v":0},{"$f":"IF('Fert selector'!$D$15=\"Y\",$F333*$N333,IF('Fert selector'!$E$15=\"Y\",$F333*$S333,IF('Fert selector'!$F$15=\"Y\",$F333*$X333,IF('Fert selector'!$G$15=\"Y\",$F333*$AC333))))","v":0},0,{"$f":"IF((T333-'Fert selector'!$E$13)<0,(T333-'Fert selector'!$E$13)*-1,T333-'Fert selector'!$E$13)","v":0},{"$f":"IF(T333<('Fert selector'!$E$13+'Fert selector'!$E$13*'Fert selector'!$E$17),0,1)&IF(T333>('Fert selector'!$E$13-'Fert selector'!$E$13*'Fert selector'!$E$18),0,1)","v":"11"},{"$f":"IF(G333=0,0,'Fert selector'!$F$13/G333)","v":0},{"$f":"IF('Fert selector'!$D$15=\"Y\",$G333*$N333,IF('Fert selector'!$E$15=\"Y\",$G333*$S333,IF('Fert selector'!$F$15=\"Y\",$G333*$X333,IF('Fert selector'!$G$15=\"Y\",$G333*$AC333))))","v":0},90,{"$f":"IF((Y333-'Fert selector'!$F$13)<0,(Y333-'Fert selector'!$F$13)*-1,Y333-'Fert selector'!$F$13)","v":90},{"$f":"IF(Y333<('Fert selector'!$F$13+'Fert selector'!$F$13*'Fert selector'!$F$17),0,1)&IF(Y333>('Fert selector'!$F$13-'Fert selector'!$F$13*'Fert selector'!$F$18),0,1)","v":"01"},{"$f":"IF(H333=0,0,'Fert selector'!$G$13/H333)","v":0},{"$f":"IF('Fert selector'!$D$15=\"Y\",$H333*$N333,IF('Fert selector'!$E$15=\"Y\",$H333*$S333,IF('Fert selector'!$F$15=\"Y\",$H333*$X333,IF('Fert selector'!$G$15=\"Y\",$H333*$AC333))))","v":0},0,{"$f":"IF((AD333-'Fert selector'!$G$13)<0,(AD333-'Fert selector'!$G$13)*-1,AD333-'Fert selector'!$G$13)","v":0},{"$f":"IF(AD333<('Fert selector'!$G$13+'Fert selector'!$G$13*'Fert selector'!$G$17),0,1)&IF(AD333>('Fert selector'!$G$13-'Fert selector'!$G$13*'Fert selector'!$G$18),0,1)","v":"11"}]
[null,null,null,null,null,null,null,null,null,null,null,null,null,{"$f":"IF(E334=0,0,'Fert selector'!$D$13/E334)","v":0},{"$f":"IF('Fert selector'!$D$15=\"Y\",E334*N334,IF('Fert selector'!$E$15=\"Y\",F334*S334,IF('Fert selector'!$F$15=\"Y\",G334*X334,IF('Fert selector'!$G$15=\"Y\",H334*AC334))))","v":0},150,{"$f":"IF((O334-'Fert selector'!$D$13)<0,(O334-'Fert selector'!$D$13)*-1,O334-'Fert selector'!$D$13)","v":150},{"$f":"IF(O334<('Fert selector'!$D$13+'Fert selector'!$D$13*'Fert selector'!$D$17),0,1)&IF(O334>('Fert selector'!$D$13-'Fert selector'!$D$13*'Fert selector'!$D$18),0,1)","v":"01"},{"$f":"IF(F334=0,0,'Fert selector'!$E$13/F334)","v":0},{"$f":"IF('Fert selector'!$D$15=\"Y\",$F334*$N334,IF('Fert selector'!$E$15=\"Y\",$F334*$S334,IF('Fert selector'!$F$15=\"Y\",$F334*$X334,IF('Fert selector'!$G$15=\"Y\",$F334*$AC334))))","v":0},0,{"$f":"IF((T334-'Fert selector'!$E$13)<0,(T334-'Fert selector'!$E$13)*-1,T334-'Fert selector'!$E$13)","v":0},{"$f":"IF(T334<('Fert selector'!$E$13+'Fert selector'!$E$13*'Fert selector'!$E$17),0,1)&IF(T334>('Fert selector'!$E$13-'Fert selector'!$E$13*'Fert selector'!$E$18),0,1)","v":"11"},{"$f":"IF(G334=0,0,'Fert selector'!$F$13/G334)","v":0},{"$f":"IF('Fert selector'!$D$15=\"Y\",$G334*$N334,IF('Fert selector'!$E$15=\"Y\",$G334*$S334,IF('Fert selector'!$F$15=\"Y\",$G334*$X334,IF('Fert selector'!$G$15=\"Y\",$G334*$AC334))))","v":0},90,{"$f":"IF((Y334-'Fert selector'!$F$13)<0,(Y334-'Fert selector'!$F$13)*-1,Y334-'Fert selector'!$F$13)","v":90},{"$f":"IF(Y334<('Fert selector'!$F$13+'Fert selector'!$F$13*'Fert selector'!$F$17),0,1)&IF(Y334>('Fert selector'!$F$13-'Fert selector'!$F$13*'Fert selector'!$F$18),0,1)","v":"01"},{"$f":"IF(H334=0,0,'Fert selector'!$G$13/H334)","v":0},{"$f":"IF('Fert selector'!$D$15=\"Y\",$H334*$N334,IF('Fert selector'!$E$15=\"Y\",$H334*$S334,IF('Fert selector'!$F$15=\"Y\",$H334*$X334,IF('Fert selector'!$G$15=\"Y\",$H334*$AC334))))","v":0},0,{"$f":"IF((AD334-'Fert selector'!$G$13)<0,(AD334-'Fert selector'!$G$13)*-1,AD334-'Fert selector'!$G$13)","v":0},{"$f":"IF(AD334<('Fert selector'!$G$13+'Fert selector'!$G$13*'Fert selector'!$G$17),0,1)&IF(AD334>('Fert selector'!$G$13-'Fert selector'!$G$13*'Fert selector'!$G$18),0,1)","v":"11"}]
[null,null,null,null,null,null,null,null,null,null,null,null,null,{"$f":"IF(E335=0,0,'Fert selector'!$D$13/E335)","v":0},{"$f":"IF('Fert selector'!$D$15=\"Y\",E335*N335,IF('Fert selector'!$E$15=\"Y\",F335*S335,IF('Fert selector'!$F$15=\"Y\",G335*X335,IF('Fert selector'!$G$15=\"Y\",H335*AC335))))","v":0},150,{"$f":"IF((O335-'Fert selector'!$D$13)<0,(O335-'Fert selector'!$D$13)*-1,O335-'Fert selector'!$D$13)","v":150},{"$f":"IF(O335<('Fert selector'!$D$13+'Fert selector'!$D$13*'Fert selector'!$D$17),0,1)&IF(O335>('Fert selector'!$D$13-'Fert selector'!$D$13*'Fert selector'!$D$18),0,1)","v":"01"},{"$f":"IF(F335=0,0,'Fert selector'!$E$13/F335)","v":0},{"$f":"IF('Fert selector'!$D$15=\"Y\",$F335*$N335,IF('Fert selector'!$E$15=\"Y\",$F335*$S335,IF('Fert selector'!$F$15=\"Y\",$F335*$X335,IF('Fert selector'!$G$15=\"Y\",$F335*$AC335))))","v":0},0,{"$f":"IF((T335-'Fert selector'!$E$13)<0,(T335-'Fert selector'!$E$13)*-1,T335-'Fert selector'!$E$13)","v":0},{"$f":"IF(T335<('Fert selector'!$E$13+'Fert selector'!$E$13*'Fert selector'!$E$17),0,1)&IF(T335>('Fert selector'!$E$13-'Fert selector'!$E$13*'Fert selector'!$E$18),0,1)","v":"11"},{"$f":"IF(G335=0,0,'Fert selector'!$F$13/G335)","v":0},{"$f":"IF('Fert selector'!$D$15=\"Y\",$G335*$N335,IF('Fert selector'!$E$15=\"Y\",$G335*$S335,IF('Fert selector'!$F$15=\"Y\",$G335*$X335,IF('Fert selector'!$G$15=\"Y\",$G335*$AC335))))","v":0},90,{"$f":"IF((Y335-'Fert selector'!$F$13)<0,(Y335-'Fert selector'!$F$13)*-1,Y335-'Fert selector'!$F$13)","v":90},{"$f":"IF(Y335<('Fert selector'!$F$13+'Fert selector'!$F$13*'Fert selector'!$F$17),0,1)&IF(Y335>('Fert selector'!$F$13-'Fert selector'!$F$13*'Fert selector'!$F$18),0,1)","v":"01"},{"$f":"IF(H335=0,0,'Fert selector'!$G$13/H335)","v":0},{"$f":"IF('Fert selector'!$D$15=\"Y\",$H335*$N335,IF('Fert selector'!$E$15=\"Y\",$H335*$S335,IF('Fert selector'!$F$15=\"Y\",$H335*$X335,IF('Fert selector'!$G$15=\"Y\",$H335*$AC335))))","v":0},0,{"$f":"IF((AD335-'Fert selector'!$G$13)<0,(AD335-'Fert selector'!$G$13)*-1,AD335-'Fert selector'!$G$13)","v":0},{"$f":"IF(AD335<('Fert selector'!$G$13+'Fert selector'!$G$13*'Fert selector'!$G$17),0,1)&IF(AD335>('Fert selector'!$G$13-'Fert selector'!$G$13*'Fert selector'!$G$18),0,1)","v":"11"}]
[null,null,null,null,null,null,null,null,null,null,null,null,null,{"$f":"IF(E336=0,0,'Fert selector'!$D$13/E336)","v":0},{"$f":"IF('Fert selector'!$D$15=\"Y\",E336*N336,IF('Fert selector'!$E$15=\"Y\",F336*S336,IF('Fert selector'!$F$15=\"Y\",G336*X336,IF('Fert selector'!$G$15=\"Y\",H336*AC336))))","v":0},150,{"$f":"IF((O336-'Fert selector'!$D$13)<0,(O336-'Fert selector'!$D$13)*-1,O336-'Fert selector'!$D$13)","v":150},{"$f":"IF(O336<('Fert selector'!$D$13+'Fert selector'!$D$13*'Fert selector'!$D$17),0,1)&IF(O336>('Fert selector'!$D$13-'Fert selector'!$D$13*'Fert selector'!$D$18),0,1)","v":"01"},{"$f":"IF(F336=0,0,'Fert selector'!$E$13/F336)","v":0},{"$f":"IF('Fert selector'!$D$15=\"Y\",$F336*$N336,IF('Fert selector'!$E$15=\"Y\",$F336*$S336,IF('Fert selector'!$F$15=\"Y\",$F336*$X336,IF('Fert selector'!$G$15=\"Y\",$F336*$AC336))))","v":0},0,{"$f":"IF((T336-'Fert selector'!$E$13)<0,(T336-'Fert selector'!$E$13)*-1,T336-'Fert selector'!$E$13)","v":0},{"$f":"IF(T336<('Fert selector'!$E$13+'Fert selector'!$E$13*'Fert selector'!$E$17),0,1)&IF(T336>('Fert selector'!$E$13-'Fert selector'!$E$13*'Fert selector'!$E$18),0,1)","v":"11"},{"$f":"IF(G336=0,0,'Fert selector'!$F$13/G336)","v":0},{"$f":"IF('Fert selector'!$D$15=\"Y\",$G336*$N336,IF('Fert selector'!$E$15=\"Y\",$G336*$S336,IF('Fert selector'!$F$15=\"Y\",$G336*$X336,IF('Fert selector'!$G$15=\"Y\",$G336*$AC336))))","v":0},90,{"$f":"IF((Y336-'Fert selector'!$F$13)<0,(Y336-'Fert selector'!$F$13)*-1,Y336-'Fert selector'!$F$13)","v":90},{"$f":"IF(Y336<('Fert selector'!$F$13+'Fert selector'!$F$13*'Fert selector'!$F$17),0,1)&IF(Y336>('Fert selector'!$F$13-'Fert selector'!$F$13*'Fert selector'!$F$18),0,1)","v":"01"},{"$f":"IF(H336=0,0,'Fert selector'!$G$13/H336)","v":0},{"$f":"IF('Fert selector'!$D$15=\"Y\",$H336*$N336,IF('Fert selector'!$E$15=\"Y\",$H336*$S336,IF('Fert selector'!$F$15=\"Y\",$H336*$X336,IF('Fert selector'!$G$15=\"Y\",$H336*$AC336))))","v":0},0,{"$f":"IF((AD336-'Fert selector'!$G$13)<0,(AD336-'Fert selector'!$G$13)*-1,AD336-'Fert selector'!$G$13)","v":0},{"$f":"IF(AD336<('Fert selector'!$G$13+'Fert selector'!$G$13*'Fert selector'!$G$17),0,1)&IF(AD336>('Fert selector'!$G$13-'Fert selector'!$G$13*'Fert selector'!$G$18),0,1)","v":"11"}]
[null,null,null,null,null,null,null,null,null,null,null,null,null,{"$f":"IF(E337=0,0,'Fert selector'!$D$13/E337)","v":0},{"$f":"IF('Fert selector'!$D$15=\"Y\",E337*N337,IF('Fert selector'!$E$15=\"Y\",F337*S337,IF('Fert selector'!$F$15=\"Y\",G337*X337,IF('Fert selector'!$G$15=\"Y\",H337*AC337))))","v":0},150,{"$f":"IF((O337-'Fert selector'!$D$13)<0,(O337-'Fert selector'!$D$13)*-1,O337-'Fert selector'!$D$13)","v":150},{"$f":"IF(O337<('Fert selector'!$D$13+'Fert selector'!$D$13*'Fert selector'!$D$17),0,1)&IF(O337>('Fert selector'!$D$13-'Fert selector'!$D$13*'Fert selector'!$D$18),0,1)","v":"01"},{"$f":"IF(F337=0,0,'Fert selector'!$E$13/F337)","v":0},{"$f":"IF('Fert selector'!$D$15=\"Y\",$F337*$N337,IF('Fert selector'!$E$15=\"Y\",$F337*$S337,IF('Fert selector'!$F$15=\"Y\",$F337*$X337,IF('Fert selector'!$G$15=\"Y\",$F337*$AC337))))","v":0},0,{"$f":"IF((T337-'Fert selector'!$E$13)<0,(T337-'Fert selector'!$E$13)*-1,T337-'Fert selector'!$E$13)","v":0},{"$f":"IF(T337<('Fert selector'!$E$13+'Fert selector'!$E$13*'Fert selector'!$E$17),0,1)&IF(T337>('Fert selector'!$E$13-'Fert selector'!$E$13*'Fert selector'!$E$18),0,1)","v":"11"},{"$f":"IF(G337=0,0,'Fert selector'!$F$13/G337)","v":0},{"$f":"IF('Fert selector'!$D$15=\"Y\",$G337*$N337,IF('Fert selector'!$E$15=\"Y\",$G337*$S337,IF('Fert selector'!$F$15=\"Y\",$G337*$X337,IF('Fert selector'!$G$15=\"Y\",$G337*$AC337))))","v":0},90,{"$f":"IF((Y337-'Fert selector'!$F$13)<0,(Y337-'Fert selector'!$F$13)*-1,Y337-'Fert selector'!$F$13)","v":90},{"$f":"IF(Y337<('Fert selector'!$F$13+'Fert selector'!$F$13*'Fert selector'!$F$17),0,1)&IF(Y337>('Fert selector'!$F$13-'Fert selector'!$F$13*'Fert selector'!$F$18),0,1)","v":"01"},{"$f":"IF(H337=0,0,'Fert selector'!$G$13/H337)","v":0},{"$f":"IF('Fert selector'!$D$15=\"Y\",$H337*$N337,IF('Fert selector'!$E$15=\"Y\",$H337*$S337,IF('Fert selector'!$F$15=\"Y\",$H337*$X337,IF('Fert selector'!$G$15=\"Y\",$H337*$AC337))))","v":0},0,{"$f":"IF((AD337-'Fert selector'!$G$13)<0,(AD337-'Fert selector'!$G$13)*-1,AD337-'Fert selector'!$G$13)","v":0},{"$f":"IF(AD337<('Fert selector'!$G$13+'Fert selector'!$G$13*'Fert selector'!$G$17),0,1)&IF(AD337>('Fert selector'!$G$13-'Fert selector'!$G$13*'Fert selector'!$G$18),0,1)","v":"11"}]
[null,null,null,null,null,null,null,null,null,null,null,null,null,{"$f":"IF(E338=0,0,'Fert selector'!$D$13/E338)","v":0},{"$f":"IF('Fert selector'!$D$15=\"Y\",E338*N338,IF('Fert selector'!$E$15=\"Y\",F338*S338,IF('Fert selector'!$F$15=\"Y\",G338*X338,IF('Fert selector'!$G$15=\"Y\",H338*AC338))))","v":0},150,{"$f":"IF((O338-'Fert selector'!$D$13)<0,(O338-'Fert selector'!$D$13)*-1,O338-'Fert selector'!$D$13)","v":150},{"$f":"IF(O338<('Fert selector'!$D$13+'Fert selector'!$D$13*'Fert selector'!$D$17),0,1)&IF(O338>('Fert selector'!$D$13-'Fert selector'!$D$13*'Fert selector'!$D$18),0,1)","v":"01"},{"$f":"IF(F338=0,0,'Fert selector'!$E$13/F338)","v":0},{"$f":"IF('Fert selector'!$D$15=\"Y\",$F338*$N338,IF('Fert selector'!$E$15=\"Y\",$F338*$S338,IF('Fert selector'!$F$15=\"Y\",$F338*$X338,IF('Fert selector'!$G$15=\"Y\",$F338*$AC338))))","v":0},0,{"$f":"IF((T338-'Fert selector'!$E$13)<0,(T338-'Fert selector'!$E$13)*-1,T338-'Fert selector'!$E$13)","v":0},{"$f":"IF(T338<('Fert selector'!$E$13+'Fert selector'!$E$13*'Fert selector'!$E$17),0,1)&IF(T338>('Fert selector'!$E$13-'Fert selector'!$E$13*'Fert selector'!$E$18),0,1)","v":"11"},{"$f":"IF(G338=0,0,'Fert selector'!$F$13/G338)","v":0},{"$f":"IF('Fert selector'!$D$15=\"Y\",$G338*$N338,IF('Fert selector'!$E$15=\"Y\",$G338*$S338,IF('Fert selector'!$F$15=\"Y\",$G338*$X338,IF('Fert selector'!$G$15=\"Y\",$G338*$AC338))))","v":0},90,{"$f":"IF((Y338-'Fert selector'!$F$13)<0,(Y338-'Fert selector'!$F$13)*-1,Y338-'Fert selector'!$F$13)","v":90},{"$f":"IF(Y338<('Fert selector'!$F$13+'Fert selector'!$F$13*'Fert selector'!$F$17),0,1)&IF(Y338>('Fert selector'!$F$13-'Fert selector'!$F$13*'Fert selector'!$F$18),0,1)","v":"01"},{"$f":"IF(H338=0,0,'Fert selector'!$G$13/H338)","v":0},{"$f":"IF('Fert selector'!$D$15=\"Y\",$H338*$N338,IF('Fert selector'!$E$15=\"Y\",$H338*$S338,IF('Fert selector'!$F$15=\"Y\",$H338*$X338,IF('Fert selector'!$G$15=\"Y\",$H338*$AC338))))","v":0},0,{"$f":"IF((AD338-'Fert selector'!$G$13)<0,(AD338-'Fert selector'!$G$13)*-1,AD338-'Fert selector'!$G$13)","v":0},{"$f":"IF(AD338<('Fert selector'!$G$13+'Fert selector'!$G$13*'Fert selector'!$G$17),0,1)&IF(AD338>('Fert selector'!$G$13-'Fert selector'!$G$13*'Fert selector'!$G$18),0,1)","v":"11"}]
[null,null,null,null,null,null,null,null,null,null,null,null,null,{"$f":"IF(E339=0,0,'Fert selector'!$D$13/E339)","v":0},{"$f":"IF('Fert selector'!$D$15=\"Y\",E339*N339,IF('Fert selector'!$E$15=\"Y\",F339*S339,IF('Fert selector'!$F$15=\"Y\",G339*X339,IF('Fert selector'!$G$15=\"Y\",H339*AC339))))","v":0},150,{"$f":"IF((O339-'Fert selector'!$D$13)<0,(O339-'Fert selector'!$D$13)*-1,O339-'Fert selector'!$D$13)","v":150},{"$f":"IF(O339<('Fert selector'!$D$13+'Fert selector'!$D$13*'Fert selector'!$D$17),0,1)&IF(O339>('Fert selector'!$D$13-'Fert selector'!$D$13*'Fert selector'!$D$18),0,1)","v":"01"},{"$f":"IF(F339=0,0,'Fert selector'!$E$13/F339)","v":0},{"$f":"IF('Fert selector'!$D$15=\"Y\",$F339*$N339,IF('Fert selector'!$E$15=\"Y\",$F339*$S339,IF('Fert selector'!$F$15=\"Y\",$F339*$X339,IF('Fert selector'!$G$15=\"Y\",$F339*$AC339))))","v":0},0,{"$f":"IF((T339-'Fert selector'!$E$13)<0,(T339-'Fert selector'!$E$13)*-1,T339-'Fert selector'!$E$13)","v":0},{"$f":"IF(T339<('Fert selector'!$E$13+'Fert selector'!$E$13*'Fert selector'!$E$17),0,1)&IF(T339>('Fert selector'!$E$13-'Fert selector'!$E$13*'Fert selector'!$E$18),0,1)","v":"11"},{"$f":"IF(G339=0,0,'Fert selector'!$F$13/G339)","v":0},{"$f":"IF('Fert selector'!$D$15=\"Y\",$G339*$N339,IF('Fert selector'!$E$15=\"Y\",$G339*$S339,IF('Fert selector'!$F$15=\"Y\",$G339*$X339,IF('Fert selector'!$G$15=\"Y\",$G339*$AC339))))","v":0},90,{"$f":"IF((Y339-'Fert selector'!$F$13)<0,(Y339-'Fert selector'!$F$13)*-1,Y339-'Fert selector'!$F$13)","v":90},{"$f":"IF(Y339<('Fert selector'!$F$13+'Fert selector'!$F$13*'Fert selector'!$F$17),0,1)&IF(Y339>('Fert selector'!$F$13-'Fert selector'!$F$13*'Fert selector'!$F$18),0,1)","v":"01"},{"$f":"IF(H339=0,0,'Fert selector'!$G$13/H339)","v":0},{"$f":"IF('Fert selector'!$D$15=\"Y\",$H339*$N339,IF('Fert selector'!$E$15=\"Y\",$H339*$S339,IF('Fert selector'!$F$15=\"Y\",$H339*$X339,IF('Fert selector'!$G$15=\"Y\",$H339*$AC339))))","v":0},0,{"$f":"IF((AD339-'Fert selector'!$G$13)<0,(AD339-'Fert selector'!$G$13)*-1,AD339-'Fert selector'!$G$13)","v":0},{"$f":"IF(AD339<('Fert selector'!$G$13+'Fert selector'!$G$13*'Fert selector'!$G$17),0,1)&IF(AD339>('Fert selector'!$G$13-'Fert selector'!$G$13*'Fert selector'!$G$18),0,1)","v":"11"}]
[null,null,null,null,null,null,null,null,null,null,null,null,null,{"$f":"IF(E340=0,0,'Fert selector'!$D$13/E340)","v":0},{"$f":"IF('Fert selector'!$D$15=\"Y\",E340*N340,IF('Fert selector'!$E$15=\"Y\",F340*S340,IF('Fert selector'!$F$15=\"Y\",G340*X340,IF('Fert selector'!$G$15=\"Y\",H340*AC340))))","v":0},150,{"$f":"IF((O340-'Fert selector'!$D$13)<0,(O340-'Fert selector'!$D$13)*-1,O340-'Fert selector'!$D$13)","v":150},{"$f":"IF(O340<('Fert selector'!$D$13+'Fert selector'!$D$13*'Fert selector'!$D$17),0,1)&IF(O340>('Fert selector'!$D$13-'Fert selector'!$D$13*'Fert selector'!$D$18),0,1)","v":"01"},{"$f":"IF(F340=0,0,'Fert selector'!$E$13/F340)","v":0},{"$f":"IF('Fert selector'!$D$15=\"Y\",$F340*$N340,IF('Fert selector'!$E$15=\"Y\",$F340*$S340,IF('Fert selector'!$F$15=\"Y\",$F340*$X340,IF('Fert selector'!$G$15=\"Y\",$F340*$AC340))))","v":0},0,{"$f":"IF((T340-'Fert selector'!$E$13)<0,(T340-'Fert selector'!$E$13)*-1,T340-'Fert selector'!$E$13)","v":0},{"$f":"IF(T340<('Fert selector'!$E$13+'Fert selector'!$E$13*'Fert selector'!$E$17),0,1)&IF(T340>('Fert selector'!$E$13-'Fert selector'!$E$13*'Fert selector'!$E$18),0,1)","v":"11"},{"$f":"IF(G340=0,0,'Fert selector'!$F$13/G340)","v":0},{"$f":"IF('Fert selector'!$D$15=\"Y\",$G340*$N340,IF('Fert selector'!$E$15=\"Y\",$G340*$S340,IF('Fert selector'!$F$15=\"Y\",$G340*$X340,IF('Fert selector'!$G$15=\"Y\",$G340*$AC340))))","v":0},90,{"$f":"IF((Y340-'Fert selector'!$F$13)<0,(Y340-'Fert selector'!$F$13)*-1,Y340-'Fert selector'!$F$13)","v":90},{"$f":"IF(Y340<('Fert selector'!$F$13+'Fert selector'!$F$13*'Fert selector'!$F$17),0,1)&IF(Y340>('Fert selector'!$F$13-'Fert selector'!$F$13*'Fert selector'!$F$18),0,1)","v":"01"},{"$f":"IF(H340=0,0,'Fert selector'!$G$13/H340)","v":0},{"$f":"IF('Fert selector'!$D$15=\"Y\",$H340*$N340,IF('Fert selector'!$E$15=\"Y\",$H340*$S340,IF('Fert selector'!$F$15=\"Y\",$H340*$X340,IF('Fert selector'!$G$15=\"Y\",$H340*$AC340))))","v":0},0,{"$f":"IF((AD340-'Fert selector'!$G$13)<0,(AD340-'Fert selector'!$G$13)*-1,AD340-'Fert selector'!$G$13)","v":0},{"$f":"IF(AD340<('Fert selector'!$G$13+'Fert selector'!$G$13*'Fert selector'!$G$17),0,1)&IF(AD340>('Fert selector'!$G$13-'Fert selector'!$G$13*'Fert selector'!$G$18),0,1)","v":"11"}]
[null,null,null,null,null,null,null,null,null,null,null,null,null,{"$f":"IF(E341=0,0,'Fert selector'!$D$13/E341)","v":0},{"$f":"IF('Fert selector'!$D$15=\"Y\",E341*N341,IF('Fert selector'!$E$15=\"Y\",F341*S341,IF('Fert selector'!$F$15=\"Y\",G341*X341,IF('Fert selector'!$G$15=\"Y\",H341*AC341))))","v":0},150,{"$f":"IF((O341-'Fert selector'!$D$13)<0,(O341-'Fert selector'!$D$13)*-1,O341-'Fert selector'!$D$13)","v":150},{"$f":"IF(O341<('Fert selector'!$D$13+'Fert selector'!$D$13*'Fert selector'!$D$17),0,1)&IF(O341>('Fert selector'!$D$13-'Fert selector'!$D$13*'Fert selector'!$D$18),0,1)","v":"01"},{"$f":"IF(F341=0,0,'Fert selector'!$E$13/F341)","v":0},{"$f":"IF('Fert selector'!$D$15=\"Y\",$F341*$N341,IF('Fert selector'!$E$15=\"Y\",$F341*$S341,IF('Fert selector'!$F$15=\"Y\",$F341*$X341,IF('Fert selector'!$G$15=\"Y\",$F341*$AC341))))","v":0},0,{"$f":"IF((T341-'Fert selector'!$E$13)<0,(T341-'Fert selector'!$E$13)*-1,T341-'Fert selector'!$E$13)","v":0},{"$f":"IF(T341<('Fert selector'!$E$13+'Fert selector'!$E$13*'Fert selector'!$E$17),0,1)&IF(T341>('Fert selector'!$E$13-'Fert selector'!$E$13*'Fert selector'!$E$18),0,1)","v":"11"},{"$f":"IF(G341=0,0,'Fert selector'!$F$13/G341)","v":0},{"$f":"IF('Fert selector'!$D$15=\"Y\",$G341*$N341,IF('Fert selector'!$E$15=\"Y\",$G341*$S341,IF('Fert selector'!$F$15=\"Y\",$G341*$X341,IF('Fert selector'!$G$15=\"Y\",$G341*$AC341))))","v":0},90,{"$f":"IF((Y341-'Fert selector'!$F$13)<0,(Y341-'Fert selector'!$F$13)*-1,Y341-'Fert selector'!$F$13)","v":90},{"$f":"IF(Y341<('Fert selector'!$F$13+'Fert selector'!$F$13*'Fert selector'!$F$17),0,1)&IF(Y341>('Fert selector'!$F$13-'Fert selector'!$F$13*'Fert selector'!$F$18),0,1)","v":"01"},{"$f":"IF(H341=0,0,'Fert selector'!$G$13/H341)","v":0},{"$f":"IF('Fert selector'!$D$15=\"Y\",$H341*$N341,IF('Fert selector'!$E$15=\"Y\",$H341*$S341,IF('Fert selector'!$F$15=\"Y\",$H341*$X341,IF('Fert selector'!$G$15=\"Y\",$H341*$AC341))))","v":0},0,{"$f":"IF((AD341-'Fert selector'!$G$13)<0,(AD341-'Fert selector'!$G$13)*-1,AD341-'Fert selector'!$G$13)","v":0},{"$f":"IF(AD341<('Fert selector'!$G$13+'Fert selector'!$G$13*'Fert selector'!$G$17),0,1)&IF(AD341>('Fert selector'!$G$13-'Fert selector'!$G$13*'Fert selector'!$G$18),0,1)","v":"11"}]
[null,null,null,null,null,null,null,null,null,null,null,null,null,{"$f":"IF(E342=0,0,'Fert selector'!$D$13/E342)","v":0},{"$f":"IF('Fert selector'!$D$15=\"Y\",E342*N342,IF('Fert selector'!$E$15=\"Y\",F342*S342,IF('Fert selector'!$F$15=\"Y\",G342*X342,IF('Fert selector'!$G$15=\"Y\",H342*AC342))))","v":0},150,{"$f":"IF((O342-'Fert selector'!$D$13)<0,(O342-'Fert selector'!$D$13)*-1,O342-'Fert selector'!$D$13)","v":150},{"$f":"IF(O342<('Fert selector'!$D$13+'Fert selector'!$D$13*'Fert selector'!$D$17),0,1)&IF(O342>('Fert selector'!$D$13-'Fert selector'!$D$13*'Fert selector'!$D$18),0,1)","v":"01"},{"$f":"IF(F342=0,0,'Fert selector'!$E$13/F342)","v":0},{"$f":"IF('Fert selector'!$D$15=\"Y\",$F342*$N342,IF('Fert selector'!$E$15=\"Y\",$F342*$S342,IF('Fert selector'!$F$15=\"Y\",$F342*$X342,IF('Fert selector'!$G$15=\"Y\",$F342*$AC342))))","v":0},0,{"$f":"IF((T342-'Fert selector'!$E$13)<0,(T342-'Fert selector'!$E$13)*-1,T342-'Fert selector'!$E$13)","v":0},{"$f":"IF(T342<('Fert selector'!$E$13+'Fert selector'!$E$13*'Fert selector'!$E$17),0,1)&IF(T342>('Fert selector'!$E$13-'Fert selector'!$E$13*'Fert selector'!$E$18),0,1)","v":"11"},{"$f":"IF(G342=0,0,'Fert selector'!$F$13/G342)","v":0},{"$f":"IF('Fert selector'!$D$15=\"Y\",$G342*$N342,IF('Fert selector'!$E$15=\"Y\",$G342*$S342,IF('Fert selector'!$F$15=\"Y\",$G342*$X342,IF('Fert selector'!$G$15=\"Y\",$G342*$AC342))))","v":0},90,{"$f":"IF((Y342-'Fert selector'!$F$13)<0,(Y342-'Fert selector'!$F$13)*-1,Y342-'Fert selector'!$F$13)","v":90},{"$f":"IF(Y342<('Fert selector'!$F$13+'Fert selector'!$F$13*'Fert selector'!$F$17),0,1)&IF(Y342>('Fert selector'!$F$13-'Fert selector'!$F$13*'Fert selector'!$F$18),0,1)","v":"01"},{"$f":"IF(H342=0,0,'Fert selector'!$G$13/H342)","v":0},{"$f":"IF('Fert selector'!$D$15=\"Y\",$H342*$N342,IF('Fert selector'!$E$15=\"Y\",$H342*$S342,IF('Fert selector'!$F$15=\"Y\",$H342*$X342,IF('Fert selector'!$G$15=\"Y\",$H342*$AC342))))","v":0},0,{"$f":"IF((AD342-'Fert selector'!$G$13)<0,(AD342-'Fert selector'!$G$13)*-1,AD342-'Fert selector'!$G$13)","v":0},{"$f":"IF(AD342<('Fert selector'!$G$13+'Fert selector'!$G$13*'Fert selector'!$G$17),0,1)&IF(AD342>('Fert selector'!$G$13-'Fert selector'!$G$13*'Fert selector'!$G$18),0,1)","v":"11"}]
[null,null,null,null,null,null,null,null,null,null,null,null,null,{"$f":"IF(E343=0,0,'Fert selector'!$D$13/E343)","v":0},{"$f":"IF('Fert selector'!$D$15=\"Y\",E343*N343,IF('Fert selector'!$E$15=\"Y\",F343*S343,IF('Fert selector'!$F$15=\"Y\",G343*X343,IF('Fert selector'!$G$15=\"Y\",H343*AC343))))","v":0},150,{"$f":"IF((O343-'Fert selector'!$D$13)<0,(O343-'Fert selector'!$D$13)*-1,O343-'Fert selector'!$D$13)","v":150},{"$f":"IF(O343<('Fert selector'!$D$13+'Fert selector'!$D$13*'Fert selector'!$D$17),0,1)&IF(O343>('Fert selector'!$D$13-'Fert selector'!$D$13*'Fert selector'!$D$18),0,1)","v":"01"},{"$f":"IF(F343=0,0,'Fert selector'!$E$13/F343)","v":0},{"$f":"IF('Fert selector'!$D$15=\"Y\",$F343*$N343,IF('Fert selector'!$E$15=\"Y\",$F343*$S343,IF('Fert selector'!$F$15=\"Y\",$F343*$X343,IF('Fert selector'!$G$15=\"Y\",$F343*$AC343))))","v":0},0,{"$f":"IF((T343-'Fert selector'!$E$13)<0,(T343-'Fert selector'!$E$13)*-1,T343-'Fert selector'!$E$13)","v":0},{"$f":"IF(T343<('Fert selector'!$E$13+'Fert selector'!$E$13*'Fert selector'!$E$17),0,1)&IF(T343>('Fert selector'!$E$13-'Fert selector'!$E$13*'Fert selector'!$E$18),0,1)","v":"11"},{"$f":"IF(G343=0,0,'Fert selector'!$F$13/G343)","v":0},{"$f":"IF('Fert selector'!$D$15=\"Y\",$G343*$N343,IF('Fert selector'!$E$15=\"Y\",$G343*$S343,IF('Fert selector'!$F$15=\"Y\",$G343*$X343,IF('Fert selector'!$G$15=\"Y\",$G343*$AC343))))","v":0},90,{"$f":"IF((Y343-'Fert selector'!$F$13)<0,(Y343-'Fert selector'!$F$13)*-1,Y343-'Fert selector'!$F$13)","v":90},{"$f":"IF(Y343<('Fert selector'!$F$13+'Fert selector'!$F$13*'Fert selector'!$F$17),0,1)&IF(Y343>('Fert selector'!$F$13-'Fert selector'!$F$13*'Fert selector'!$F$18),0,1)","v":"01"},{"$f":"IF(H343=0,0,'Fert selector'!$G$13/H343)","v":0},{"$f":"IF('Fert selector'!$D$15=\"Y\",$H343*$N343,IF('Fert selector'!$E$15=\"Y\",$H343*$S343,IF('Fert selector'!$F$15=\"Y\",$H343*$X343,IF('Fert selector'!$G$15=\"Y\",$H343*$AC343))))","v":0},0,{"$f":"IF((AD343-'Fert selector'!$G$13)<0,(AD343-'Fert selector'!$G$13)*-1,AD343-'Fert selector'!$G$13)","v":0},{"$f":"IF(AD343<('Fert selector'!$G$13+'Fert selector'!$G$13*'Fert selector'!$G$17),0,1)&IF(AD343>('Fert selector'!$G$13-'Fert selector'!$G$13*'Fert selector'!$G$18),0,1)","v":"11"}]
[null,null,null,null,null,null,null,null,null,null,null,null,null,{"$f":"IF(E344=0,0,'Fert selector'!$D$13/E344)","v":0},{"$f":"IF('Fert selector'!$D$15=\"Y\",E344*N344,IF('Fert selector'!$E$15=\"Y\",F344*S344,IF('Fert selector'!$F$15=\"Y\",G344*X344,IF('Fert selector'!$G$15=\"Y\",H344*AC344))))","v":0},150,{"$f":"IF((O344-'Fert selector'!$D$13)<0,(O344-'Fert selector'!$D$13)*-1,O344-'Fert selector'!$D$13)","v":150},{"$f":"IF(O344<('Fert selector'!$D$13+'Fert selector'!$D$13*'Fert selector'!$D$17),0,1)&IF(O344>('Fert selector'!$D$13-'Fert selector'!$D$13*'Fert selector'!$D$18),0,1)","v":"01"},{"$f":"IF(F344=0,0,'Fert selector'!$E$13/F344)","v":0},{"$f":"IF('Fert selector'!$D$15=\"Y\",$F344*$N344,IF('Fert selector'!$E$15=\"Y\",$F344*$S344,IF('Fert selector'!$F$15=\"Y\",$F344*$X344,IF('Fert selector'!$G$15=\"Y\",$F344*$AC344))))","v":0},0,{"$f":"IF((T344-'Fert selector'!$E$13)<0,(T344-'Fert selector'!$E$13)*-1,T344-'Fert selector'!$E$13)","v":0},{"$f":"IF(T344<('Fert selector'!$E$13+'Fert selector'!$E$13*'Fert selector'!$E$17),0,1)&IF(T344>('Fert selector'!$E$13-'Fert selector'!$E$13*'Fert selector'!$E$18),0,1)","v":"11"},{"$f":"IF(G344=0,0,'Fert selector'!$F$13/G344)","v":0},{"$f":"IF('Fert selector'!$D$15=\"Y\",$G344*$N344,IF('Fert selector'!$E$15=\"Y\",$G344*$S344,IF('Fert selector'!$F$15=\"Y\",$G344*$X344,IF('Fert selector'!$G$15=\"Y\",$G344*$AC344))))","v":0},90,{"$f":"IF((Y344-'Fert selector'!$F$13)<0,(Y344-'Fert selector'!$F$13)*-1,Y344-'Fert selector'!$F$13)","v":90},{"$f":"IF(Y344<('Fert selector'!$F$13+'Fert selector'!$F$13*'Fert selector'!$F$17),0,1)&IF(Y344>('Fert selector'!$F$13-'Fert selector'!$F$13*'Fert selector'!$F$18),0,1)","v":"01"},{"$f":"IF(H344=0,0,'Fert selector'!$G$13/H344)","v":0},{"$f":"IF('Fert selector'!$D$15=\"Y\",$H344*$N344,IF('Fert selector'!$E$15=\"Y\",$H344*$S344,IF('Fert selector'!$F$15=\"Y\",$H344*$X344,IF('Fert selector'!$G$15=\"Y\",$H344*$AC344))))","v":0},0,{"$f":"IF((AD344-'Fert selector'!$G$13)<0,(AD344-'Fert selector'!$G$13)*-1,AD344-'Fert selector'!$G$13)","v":0},{"$f":"IF(AD344<('Fert selector'!$G$13+'Fert selector'!$G$13*'Fert selector'!$G$17),0,1)&IF(AD344>('Fert selector'!$G$13-'Fert selector'!$G$13*'Fert selector'!$G$18),0,1)","v":"11"}]
[null,null,null,null,null,null,null,null,null,null,null,null,null,{"$f":"IF(E345=0,0,'Fert selector'!$D$13/E345)","v":0},{"$f":"IF('Fert selector'!$D$15=\"Y\",E345*N345,IF('Fert selector'!$E$15=\"Y\",F345*S345,IF('Fert selector'!$F$15=\"Y\",G345*X345,IF('Fert selector'!$G$15=\"Y\",H345*AC345))))","v":0},150,{"$f":"IF((O345-'Fert selector'!$D$13)<0,(O345-'Fert selector'!$D$13)*-1,O345-'Fert selector'!$D$13)","v":150},{"$f":"IF(O345<('Fert selector'!$D$13+'Fert selector'!$D$13*'Fert selector'!$D$17),0,1)&IF(O345>('Fert selector'!$D$13-'Fert selector'!$D$13*'Fert selector'!$D$18),0,1)","v":"01"},{"$f":"IF(F345=0,0,'Fert selector'!$E$13/F345)","v":0},{"$f":"IF('Fert selector'!$D$15=\"Y\",$F345*$N345,IF('Fert selector'!$E$15=\"Y\",$F345*$S345,IF('Fert selector'!$F$15=\"Y\",$F345*$X345,IF('Fert selector'!$G$15=\"Y\",$F345*$AC345))))","v":0},0,{"$f":"IF((T345-'Fert selector'!$E$13)<0,(T345-'Fert selector'!$E$13)*-1,T345-'Fert selector'!$E$13)","v":0},{"$f":"IF(T345<('Fert selector'!$E$13+'Fert selector'!$E$13*'Fert selector'!$E$17),0,1)&IF(T345>('Fert selector'!$E$13-'Fert selector'!$E$13*'Fert selector'!$E$18),0,1)","v":"11"},{"$f":"IF(G345=0,0,'Fert selector'!$F$13/G345)","v":0},{"$f":"IF('Fert selector'!$D$15=\"Y\",$G345*$N345,IF('Fert selector'!$E$15=\"Y\",$G345*$S345,IF('Fert selector'!$F$15=\"Y\",$G345*$X345,IF('Fert selector'!$G$15=\"Y\",$G345*$AC345))))","v":0},90,{"$f":"IF((Y345-'Fert selector'!$F$13)<0,(Y345-'Fert selector'!$F$13)*-1,Y345-'Fert selector'!$F$13)","v":90},{"$f":"IF(Y345<('Fert selector'!$F$13+'Fert selector'!$F$13*'Fert selector'!$F$17),0,1)&IF(Y345>('Fert selector'!$F$13-'Fert selector'!$F$13*'Fert selector'!$F$18),0,1)","v":"01"},{"$f":"IF(H345=0,0,'Fert selector'!$G$13/H345)","v":0},{"$f":"IF('Fert selector'!$D$15=\"Y\",$H345*$N345,IF('Fert selector'!$E$15=\"Y\",$H345*$S345,IF('Fert selector'!$F$15=\"Y\",$H345*$X345,IF('Fert selector'!$G$15=\"Y\",$H345*$AC345))))","v":0},0,{"$f":"IF((AD345-'Fert selector'!$G$13)<0,(AD345-'Fert selector'!$G$13)*-1,AD345-'Fert selector'!$G$13)","v":0},{"$f":"IF(AD345<('Fert selector'!$G$13+'Fert selector'!$G$13*'Fert selector'!$G$17),0,1)&IF(AD345>('Fert selector'!$G$13-'Fert selector'!$G$13*'Fert selector'!$G$18),0,1)","v":"11"}]
[null,null,null,null,null,null,null,null,null,null,null,null,null,{"$f":"IF(E346=0,0,'Fert selector'!$D$13/E346)","v":0},{"$f":"IF('Fert selector'!$D$15=\"Y\",E346*N346,IF('Fert selector'!$E$15=\"Y\",F346*S346,IF('Fert selector'!$F$15=\"Y\",G346*X346,IF('Fert selector'!$G$15=\"Y\",H346*AC346))))","v":0},150,{"$f":"IF((O346-'Fert selector'!$D$13)<0,(O346-'Fert selector'!$D$13)*-1,O346-'Fert selector'!$D$13)","v":150},{"$f":"IF(O346<('Fert selector'!$D$13+'Fert selector'!$D$13*'Fert selector'!$D$17),0,1)&IF(O346>('Fert selector'!$D$13-'Fert selector'!$D$13*'Fert selector'!$D$18),0,1)","v":"01"},{"$f":"IF(F346=0,0,'Fert selector'!$E$13/F346)","v":0},{"$f":"IF('Fert selector'!$D$15=\"Y\",$F346*$N346,IF('Fert selector'!$E$15=\"Y\",$F346*$S346,IF('Fert selector'!$F$15=\"Y\",$F346*$X346,IF('Fert selector'!$G$15=\"Y\",$F346*$AC346))))","v":0},0,{"$f":"IF((T346-'Fert selector'!$E$13)<0,(T346-'Fert selector'!$E$13)*-1,T346-'Fert selector'!$E$13)","v":0},{"$f":"IF(T346<('Fert selector'!$E$13+'Fert selector'!$E$13*'Fert selector'!$E$17),0,1)&IF(T346>('Fert selector'!$E$13-'Fert selector'!$E$13*'Fert selector'!$E$18),0,1)","v":"11"},{"$f":"IF(G346=0,0,'Fert selector'!$F$13/G346)","v":0},{"$f":"IF('Fert selector'!$D$15=\"Y\",$G346*$N346,IF('Fert selector'!$E$15=\"Y\",$G346*$S346,IF('Fert selector'!$F$15=\"Y\",$G346*$X346,IF('Fert selector'!$G$15=\"Y\",$G346*$AC346))))","v":0},90,{"$f":"IF((Y346-'Fert selector'!$F$13)<0,(Y346-'Fert selector'!$F$13)*-1,Y346-'Fert selector'!$F$13)","v":90},{"$f":"IF(Y346<('Fert selector'!$F$13+'Fert selector'!$F$13*'Fert selector'!$F$17),0,1)&IF(Y346>('Fert selector'!$F$13-'Fert selector'!$F$13*'Fert selector'!$F$18),0,1)","v":"01"},{"$f":"IF(H346=0,0,'Fert selector'!$G$13/H346)","v":0},{"$f":"IF('Fert selector'!$D$15=\"Y\",$H346*$N346,IF('Fert selector'!$E$15=\"Y\",$H346*$S346,IF('Fert selector'!$F$15=\"Y\",$H346*$X346,IF('Fert selector'!$G$15=\"Y\",$H346*$AC346))))","v":0},0,{"$f":"IF((AD346-'Fert selector'!$G$13)<0,(AD346-'Fert selector'!$G$13)*-1,AD346-'Fert selector'!$G$13)","v":0},{"$f":"IF(AD346<('Fert selector'!$G$13+'Fert selector'!$G$13*'Fert selector'!$G$17),0,1)&IF(AD346>('Fert selector'!$G$13-'Fert selector'!$G$13*'Fert selector'!$G$18),0,1)","v":"11"}]
[null,null,null,null,null,null,null,null,null,null,null,null,null,{"$f":"IF(E347=0,0,'Fert selector'!$D$13/E347)","v":0},{"$f":"IF('Fert selector'!$D$15=\"Y\",E347*N347,IF('Fert selector'!$E$15=\"Y\",F347*S347,IF('Fert selector'!$F$15=\"Y\",G347*X347,IF('Fert selector'!$G$15=\"Y\",H347*AC347))))","v":0},{"$f":"IF(R347=\"00\",0,Q347)","v":150},{"$f":"IF((O347-'Fert selector'!$D$13)<0,(O347-'Fert selector'!$D$13)*-1,O347-'Fert selector'!$D$13)","v":150},{"$f":"IF(O347<('Fert selector'!$D$13+'Fert selector'!$D$13*'Fert selector'!$D$17),0,1)&IF(O347>('Fert selector'!$D$13-'Fert selector'!$D$13*'Fert selector'!$D$18),0,1)","v":"01"},{"$f":"IF(F347=0,0,'Fert selector'!$E$13/F347)","v":0},{"$f":"IF('Fert selector'!$D$15=\"Y\",$F347*$N347,IF('Fert selector'!$E$15=\"Y\",$F347*$S347,IF('Fert selector'!$F$15=\"Y\",$F347*$X347,IF('Fert selector'!$G$15=\"Y\",$F347*$AC347))))","v":0},{"$f":"IF(W347=\"00\",0,V347)","v":0},{"$f":"IF((T347-'Fert selector'!$E$13)<0,(T347-'Fert selector'!$E$13)*-1,T347-'Fert selector'!$E$13)","v":0},{"$f":"IF(T347<('Fert selector'!$E$13+'Fert selector'!$E$13*'Fert selector'!$E$17),0,1)&IF(T347>('Fert selector'!$E$13-'Fert selector'!$E$13*'Fert selector'!$E$18),0,1)","v":"11"},{"$f":"IF(G347=0,0,'Fert selector'!$F$13/G347)","v":0},{"$f":"IF('Fert selector'!$D$15=\"Y\",$G347*$N347,IF('Fert selector'!$E$15=\"Y\",$G347*$S347,IF('Fert selector'!$F$15=\"Y\",$G347*$X347,IF('Fert selector'!$G$15=\"Y\",$G347*$AC347))))","v":0},{"$f":"IF(AB347=\"00\",0,AA347)","v":90},{"$f":"IF((Y347-'Fert selector'!$F$13)<0,(Y347-'Fert selector'!$F$13)*-1,Y347-'Fert selector'!$F$13)","v":90},{"$f":"IF(Y347<('Fert selector'!$F$13+'Fert selector'!$F$13*'Fert selector'!$F$17),0,1)&IF(Y347>('Fert selector'!$F$13-'Fert selector'!$F$13*'Fert selector'!$F$18),0,1)","v":"01"},{"$f":"IF(H347=0,0,'Fert selector'!$G$13/H347)","v":0},{"$f":"IF('Fert selector'!$D$15=\"Y\",$H347*$N347,IF('Fert selector'!$E$15=\"Y\",$H347*$S347,IF('Fert selector'!$F$15=\"Y\",$H347*$X347,IF('Fert selector'!$G$15=\"Y\",$H347*$AC347))))","v":0},{"$f":"IF(AG347=\"00\",0,AF347)","v":0},{"$f":"IF((AD347-'Fert selector'!$G$13)<0,(AD347-'Fert selector'!$G$13)*-1,AD347-'Fert selector'!$G$13)","v":0},{"$f":"IF(AD347<('Fert selector'!$G$13+'Fert selector'!$G$13*'Fert selector'!$G$17),0,1)&IF(AD347>('Fert selector'!$G$13-'Fert selector'!$G$13*'Fert selector'!$G$18),0,1)","v":"11"}]
[null,null,null,null,null,null,null,null,null,null,null,null,null,{"$f":"IF(E348=0,0,'Fert selector'!$D$13/E348)","v":0},{"$f":"IF('Fert selector'!$D$15=\"Y\",E348*N348,IF('Fert selector'!$E$15=\"Y\",F348*S348,IF('Fert selector'!$F$15=\"Y\",G348*X348,IF('Fert selector'!$G$15=\"Y\",H348*AC348))))","v":0},150,{"$f":"IF((O348-'Fert selector'!$D$13)<0,(O348-'Fert selector'!$D$13)*-1,O348-'Fert selector'!$D$13)","v":150},{"$f":"IF(O348<('Fert selector'!$D$13+'Fert selector'!$D$13*'Fert selector'!$D$17),0,1)&IF(O348>('Fert selector'!$D$13-'Fert selector'!$D$13*'Fert selector'!$D$18),0,1)","v":"01"},{"$f":"IF(F348=0,0,'Fert selector'!$E$13/F348)","v":0},{"$f":"IF('Fert selector'!$D$15=\"Y\",$F348*$N348,IF('Fert selector'!$E$15=\"Y\",$F348*$S348,IF('Fert selector'!$F$15=\"Y\",$F348*$X348,IF('Fert selector'!$G$15=\"Y\",$F348*$AC348))))","v":0},0,{"$f":"IF((T348-'Fert selector'!$E$13)<0,(T348-'Fert selector'!$E$13)*-1,T348-'Fert selector'!$E$13)","v":0},{"$f":"IF(T348<('Fert selector'!$E$13+'Fert selector'!$E$13*'Fert selector'!$E$17),0,1)&IF(T348>('Fert selector'!$E$13-'Fert selector'!$E$13*'Fert selector'!$E$18),0,1)","v":"11"},{"$f":"IF(G348=0,0,'Fert selector'!$F$13/G348)","v":0},{"$f":"IF('Fert selector'!$D$15=\"Y\",$G348*$N348,IF('Fert selector'!$E$15=\"Y\",$G348*$S348,IF('Fert selector'!$F$15=\"Y\",$G348*$X348,IF('Fert selector'!$G$15=\"Y\",$G348*$AC348))))","v":0},90,{"$f":"IF((Y348-'Fert selector'!$F$13)<0,(Y348-'Fert selector'!$F$13)*-1,Y348-'Fert selector'!$F$13)","v":90},{"$f":"IF(Y348<('Fert selector'!$F$13+'Fert selector'!$F$13*'Fert selector'!$F$17),0,1)&IF(Y348>('Fert selector'!$F$13-'Fert selector'!$F$13*'Fert selector'!$F$18),0,1)","v":"01"},{"$f":"IF(H348=0,0,'Fert selector'!$G$13/H348)","v":0},{"$f":"IF('Fert selector'!$D$15=\"Y\",$H348*$N348,IF('Fert selector'!$E$15=\"Y\",$H348*$S348,IF('Fert selector'!$F$15=\"Y\",$H348*$X348,IF('Fert selector'!$G$15=\"Y\",$H348*$AC348))))","v":0},0,{"$f":"IF((AD348-'Fert selector'!$G$13)<0,(AD348-'Fert selector'!$G$13)*-1,AD348-'Fert selector'!$G$13)","v":0},{"$f":"IF(AD348<('Fert selector'!$G$13+'Fert selector'!$G$13*'Fert selector'!$G$17),0,1)&IF(AD348>('Fert selector'!$G$13-'Fert selector'!$G$13*'Fert selector'!$G$18),0,1)","v":"11"}]
[null,null,null,null,null,null,null,null,null,null,null,null,null,{"$f":"IF(E349=0,0,'Fert selector'!$D$13/E349)","v":0},{"$f":"IF('Fert selector'!$D$15=\"Y\",E349*N349,IF('Fert selector'!$E$15=\"Y\",F349*S349,IF('Fert selector'!$F$15=\"Y\",G349*X349,IF('Fert selector'!$G$15=\"Y\",H349*AC349))))","v":0},150,{"$f":"IF((O349-'Fert selector'!$D$13)<0,(O349-'Fert selector'!$D$13)*-1,O349-'Fert selector'!$D$13)","v":150},{"$f":"IF(O349<('Fert selector'!$D$13+'Fert selector'!$D$13*'Fert selector'!$D$17),0,1)&IF(O349>('Fert selector'!$D$13-'Fert selector'!$D$13*'Fert selector'!$D$18),0,1)","v":"01"},{"$f":"IF(F349=0,0,'Fert selector'!$E$13/F349)","v":0},{"$f":"IF('Fert selector'!$D$15=\"Y\",$F349*$N349,IF('Fert selector'!$E$15=\"Y\",$F349*$S349,IF('Fert selector'!$F$15=\"Y\",$F349*$X349,IF('Fert selector'!$G$15=\"Y\",$F349*$AC349))))","v":0},0,{"$f":"IF((T349-'Fert selector'!$E$13)<0,(T349-'Fert selector'!$E$13)*-1,T349-'Fert selector'!$E$13)","v":0},{"$f":"IF(T349<('Fert selector'!$E$13+'Fert selector'!$E$13*'Fert selector'!$E$17),0,1)&IF(T349>('Fert selector'!$E$13-'Fert selector'!$E$13*'Fert selector'!$E$18),0,1)","v":"11"},{"$f":"IF(G349=0,0,'Fert selector'!$F$13/G349)","v":0},{"$f":"IF('Fert selector'!$D$15=\"Y\",$G349*$N349,IF('Fert selector'!$E$15=\"Y\",$G349*$S349,IF('Fert selector'!$F$15=\"Y\",$G349*$X349,IF('Fert selector'!$G$15=\"Y\",$G349*$AC349))))","v":0},90,{"$f":"IF((Y349-'Fert selector'!$F$13)<0,(Y349-'Fert selector'!$F$13)*-1,Y349-'Fert selector'!$F$13)","v":90},{"$f":"IF(Y349<('Fert selector'!$F$13+'Fert selector'!$F$13*'Fert selector'!$F$17),0,1)&IF(Y349>('Fert selector'!$F$13-'Fert selector'!$F$13*'Fert selector'!$F$18),0,1)","v":"01"},{"$f":"IF(H349=0,0,'Fert selector'!$G$13/H349)","v":0},{"$f":"IF('Fert selector'!$D$15=\"Y\",$H349*$N349,IF('Fert selector'!$E$15=\"Y\",$H349*$S349,IF('Fert selector'!$F$15=\"Y\",$H349*$X349,IF('Fert selector'!$G$15=\"Y\",$H349*$AC349))))","v":0},0,{"$f":"IF((AD349-'Fert selector'!$G$13)<0,(AD349-'Fert selector'!$G$13)*-1,AD349-'Fert selector'!$G$13)","v":0},{"$f":"IF(AD349<('Fert selector'!$G$13+'Fert selector'!$G$13*'Fert selector'!$G$17),0,1)&IF(AD349>('Fert selector'!$G$13-'Fert selector'!$G$13*'Fert selector'!$G$18),0,1)","v":"11"}]
[null,null,null,null,null,null,null,null,null,null,null,null,null,{"$f":"IF(E350=0,0,'Fert selector'!$D$13/E350)","v":0},{"$f":"IF('Fert selector'!$D$15=\"Y\",E350*N350,IF('Fert selector'!$E$15=\"Y\",F350*S350,IF('Fert selector'!$F$15=\"Y\",G350*X350,IF('Fert selector'!$G$15=\"Y\",H350*AC350))))","v":0},150,{"$f":"IF((O350-'Fert selector'!$D$13)<0,(O350-'Fert selector'!$D$13)*-1,O350-'Fert selector'!$D$13)","v":150},{"$f":"IF(O350<('Fert selector'!$D$13+'Fert selector'!$D$13*'Fert selector'!$D$17),0,1)&IF(O350>('Fert selector'!$D$13-'Fert selector'!$D$13*'Fert selector'!$D$18),0,1)","v":"01"},{"$f":"IF(F350=0,0,'Fert selector'!$E$13/F350)","v":0},{"$f":"IF('Fert selector'!$D$15=\"Y\",$F350*$N350,IF('Fert selector'!$E$15=\"Y\",$F350*$S350,IF('Fert selector'!$F$15=\"Y\",$F350*$X350,IF('Fert selector'!$G$15=\"Y\",$F350*$AC350))))","v":0},0,{"$f":"IF((T350-'Fert selector'!$E$13)<0,(T350-'Fert selector'!$E$13)*-1,T350-'Fert selector'!$E$13)","v":0},{"$f":"IF(T350<('Fert selector'!$E$13+'Fert selector'!$E$13*'Fert selector'!$E$17),0,1)&IF(T350>('Fert selector'!$E$13-'Fert selector'!$E$13*'Fert selector'!$E$18),0,1)","v":"11"},{"$f":"IF(G350=0,0,'Fert selector'!$F$13/G350)","v":0},{"$f":"IF('Fert selector'!$D$15=\"Y\",$G350*$N350,IF('Fert selector'!$E$15=\"Y\",$G350*$S350,IF('Fert selector'!$F$15=\"Y\",$G350*$X350,IF('Fert selector'!$G$15=\"Y\",$G350*$AC350))))","v":0},90,{"$f":"IF((Y350-'Fert selector'!$F$13)<0,(Y350-'Fert selector'!$F$13)*-1,Y350-'Fert selector'!$F$13)","v":90},{"$f":"IF(Y350<('Fert selector'!$F$13+'Fert selector'!$F$13*'Fert selector'!$F$17),0,1)&IF(Y350>('Fert selector'!$F$13-'Fert selector'!$F$13*'Fert selector'!$F$18),0,1)","v":"01"},{"$f":"IF(H350=0,0,'Fert selector'!$G$13/H350)","v":0},{"$f":"IF('Fert selector'!$D$15=\"Y\",$H350*$N350,IF('Fert selector'!$E$15=\"Y\",$H350*$S350,IF('Fert selector'!$F$15=\"Y\",$H350*$X350,IF('Fert selector'!$G$15=\"Y\",$H350*$AC350))))","v":0},0,{"$f":"IF((AD350-'Fert selector'!$G$13)<0,(AD350-'Fert selector'!$G$13)*-1,AD350-'Fert selector'!$G$13)","v":0},{"$f":"IF(AD350<('Fert selector'!$G$13+'Fert selector'!$G$13*'Fert selector'!$G$17),0,1)&IF(AD350>('Fert selector'!$G$13-'Fert selector'!$G$13*'Fert selector'!$G$18),0,1)","v":"11"}]
[null,null,null,null,null,null,null,null,null,null,null,null,null,{"$f":"IF(E351=0,0,'Fert selector'!$D$13/E351)","v":0},{"$f":"IF('Fert selector'!$D$15=\"Y\",E351*N351,IF('Fert selector'!$E$15=\"Y\",F351*S351,IF('Fert selector'!$F$15=\"Y\",G351*X351,IF('Fert selector'!$G$15=\"Y\",H351*AC351))))","v":0},150,{"$f":"IF((O351-'Fert selector'!$D$13)<0,(O351-'Fert selector'!$D$13)*-1,O351-'Fert selector'!$D$13)","v":150},{"$f":"IF(O351<('Fert selector'!$D$13+'Fert selector'!$D$13*'Fert selector'!$D$17),0,1)&IF(O351>('Fert selector'!$D$13-'Fert selector'!$D$13*'Fert selector'!$D$18),0,1)","v":"01"},{"$f":"IF(F351=0,0,'Fert selector'!$E$13/F351)","v":0},{"$f":"IF('Fert selector'!$D$15=\"Y\",$F351*$N351,IF('Fert selector'!$E$15=\"Y\",$F351*$S351,IF('Fert selector'!$F$15=\"Y\",$F351*$X351,IF('Fert selector'!$G$15=\"Y\",$F351*$AC351))))","v":0},0,{"$f":"IF((T351-'Fert selector'!$E$13)<0,(T351-'Fert selector'!$E$13)*-1,T351-'Fert selector'!$E$13)","v":0},{"$f":"IF(T351<('Fert selector'!$E$13+'Fert selector'!$E$13*'Fert selector'!$E$17),0,1)&IF(T351>('Fert selector'!$E$13-'Fert selector'!$E$13*'Fert selector'!$E$18),0,1)","v":"11"},{"$f":"IF(G351=0,0,'Fert selector'!$F$13/G351)","v":0},{"$f":"IF('Fert selector'!$D$15=\"Y\",$G351*$N351,IF('Fert selector'!$E$15=\"Y\",$G351*$S351,IF('Fert selector'!$F$15=\"Y\",$G351*$X351,IF('Fert selector'!$G$15=\"Y\",$G351*$AC351))))","v":0},90,{"$f":"IF((Y351-'Fert selector'!$F$13)<0,(Y351-'Fert selector'!$F$13)*-1,Y351-'Fert selector'!$F$13)","v":90},{"$f":"IF(Y351<('Fert selector'!$F$13+'Fert selector'!$F$13*'Fert selector'!$F$17),0,1)&IF(Y351>('Fert selector'!$F$13-'Fert selector'!$F$13*'Fert selector'!$F$18),0,1)","v":"01"},{"$f":"IF(H351=0,0,'Fert selector'!$G$13/H351)","v":0},{"$f":"IF('Fert selector'!$D$15=\"Y\",$H351*$N351,IF('Fert selector'!$E$15=\"Y\",$H351*$S351,IF('Fert selector'!$F$15=\"Y\",$H351*$X351,IF('Fert selector'!$G$15=\"Y\",$H351*$AC351))))","v":0},0,{"$f":"IF((AD351-'Fert selector'!$G$13)<0,(AD351-'Fert selector'!$G$13)*-1,AD351-'Fert selector'!$G$13)","v":0},{"$f":"IF(AD351<('Fert selector'!$G$13+'Fert selector'!$G$13*'Fert selector'!$G$17),0,1)&IF(AD351>('Fert selector'!$G$13-'Fert selector'!$G$13*'Fert selector'!$G$18),0,1)","v":"11"}]
[null,null,null,null,null,null,null,null,null,null,null,null,null,{"$f":"IF(E352=0,0,'Fert selector'!$D$13/E352)","v":0},{"$f":"IF('Fert selector'!$D$15=\"Y\",E352*N352,IF('Fert selector'!$E$15=\"Y\",F352*S352,IF('Fert selector'!$F$15=\"Y\",G352*X352,IF('Fert selector'!$G$15=\"Y\",H352*AC352))))","v":0},150,{"$f":"IF((O352-'Fert selector'!$D$13)<0,(O352-'Fert selector'!$D$13)*-1,O352-'Fert selector'!$D$13)","v":150},{"$f":"IF(O352<('Fert selector'!$D$13+'Fert selector'!$D$13*'Fert selector'!$D$17),0,1)&IF(O352>('Fert selector'!$D$13-'Fert selector'!$D$13*'Fert selector'!$D$18),0,1)","v":"01"},{"$f":"IF(F352=0,0,'Fert selector'!$E$13/F352)","v":0},{"$f":"IF('Fert selector'!$D$15=\"Y\",$F352*$N352,IF('Fert selector'!$E$15=\"Y\",$F352*$S352,IF('Fert selector'!$F$15=\"Y\",$F352*$X352,IF('Fert selector'!$G$15=\"Y\",$F352*$AC352))))","v":0},0,{"$f":"IF((T352-'Fert selector'!$E$13)<0,(T352-'Fert selector'!$E$13)*-1,T352-'Fert selector'!$E$13)","v":0},{"$f":"IF(T352<('Fert selector'!$E$13+'Fert selector'!$E$13*'Fert selector'!$E$17),0,1)&IF(T352>('Fert selector'!$E$13-'Fert selector'!$E$13*'Fert selector'!$E$18),0,1)","v":"11"},{"$f":"IF(G352=0,0,'Fert selector'!$F$13/G352)","v":0},{"$f":"IF('Fert selector'!$D$15=\"Y\",$G352*$N352,IF('Fert selector'!$E$15=\"Y\",$G352*$S352,IF('Fert selector'!$F$15=\"Y\",$G352*$X352,IF('Fert selector'!$G$15=\"Y\",$G352*$AC352))))","v":0},90,{"$f":"IF((Y352-'Fert selector'!$F$13)<0,(Y352-'Fert selector'!$F$13)*-1,Y352-'Fert selector'!$F$13)","v":90},{"$f":"IF(Y352<('Fert selector'!$F$13+'Fert selector'!$F$13*'Fert selector'!$F$17),0,1)&IF(Y352>('Fert selector'!$F$13-'Fert selector'!$F$13*'Fert selector'!$F$18),0,1)","v":"01"},{"$f":"IF(H352=0,0,'Fert selector'!$G$13/H352)","v":0},{"$f":"IF('Fert selector'!$D$15=\"Y\",$H352*$N352,IF('Fert selector'!$E$15=\"Y\",$H352*$S352,IF('Fert selector'!$F$15=\"Y\",$H352*$X352,IF('Fert selector'!$G$15=\"Y\",$H352*$AC352))))","v":0},0,{"$f":"IF((AD352-'Fert selector'!$G$13)<0,(AD352-'Fert selector'!$G$13)*-1,AD352-'Fert selector'!$G$13)","v":0},{"$f":"IF(AD352<('Fert selector'!$G$13+'Fert selector'!$G$13*'Fert selector'!$G$17),0,1)&IF(AD352>('Fert selector'!$G$13-'Fert selector'!$G$13*'Fert selector'!$G$18),0,1)","v":"11"}]
[null,null,null,null,null,null,null,null,null,null,null,null,null,{"$f":"IF(E353=0,0,'Fert selector'!$D$13/E353)","v":0},{"$f":"IF('Fert selector'!$D$15=\"Y\",E353*N353,IF('Fert selector'!$E$15=\"Y\",F353*S353,IF('Fert selector'!$F$15=\"Y\",G353*X353,IF('Fert selector'!$G$15=\"Y\",H353*AC353))))","v":0},150,{"$f":"IF((O353-'Fert selector'!$D$13)<0,(O353-'Fert selector'!$D$13)*-1,O353-'Fert selector'!$D$13)","v":150},{"$f":"IF(O353<('Fert selector'!$D$13+'Fert selector'!$D$13*'Fert selector'!$D$17),0,1)&IF(O353>('Fert selector'!$D$13-'Fert selector'!$D$13*'Fert selector'!$D$18),0,1)","v":"01"},{"$f":"IF(F353=0,0,'Fert selector'!$E$13/F353)","v":0},{"$f":"IF('Fert selector'!$D$15=\"Y\",$F353*$N353,IF('Fert selector'!$E$15=\"Y\",$F353*$S353,IF('Fert selector'!$F$15=\"Y\",$F353*$X353,IF('Fert selector'!$G$15=\"Y\",$F353*$AC353))))","v":0},0,{"$f":"IF((T353-'Fert selector'!$E$13)<0,(T353-'Fert selector'!$E$13)*-1,T353-'Fert selector'!$E$13)","v":0},{"$f":"IF(T353<('Fert selector'!$E$13+'Fert selector'!$E$13*'Fert selector'!$E$17),0,1)&IF(T353>('Fert selector'!$E$13-'Fert selector'!$E$13*'Fert selector'!$E$18),0,1)","v":"11"},{"$f":"IF(G353=0,0,'Fert selector'!$F$13/G353)","v":0},{"$f":"IF('Fert selector'!$D$15=\"Y\",$G353*$N353,IF('Fert selector'!$E$15=\"Y\",$G353*$S353,IF('Fert selector'!$F$15=\"Y\",$G353*$X353,IF('Fert selector'!$G$15=\"Y\",$G353*$AC353))))","v":0},90,{"$f":"IF((Y353-'Fert selector'!$F$13)<0,(Y353-'Fert selector'!$F$13)*-1,Y353-'Fert selector'!$F$13)","v":90},{"$f":"IF(Y353<('Fert selector'!$F$13+'Fert selector'!$F$13*'Fert selector'!$F$17),0,1)&IF(Y353>('Fert selector'!$F$13-'Fert selector'!$F$13*'Fert selector'!$F$18),0,1)","v":"01"},{"$f":"IF(H353=0,0,'Fert selector'!$G$13/H353)","v":0},{"$f":"IF('Fert selector'!$D$15=\"Y\",$H353*$N353,IF('Fert selector'!$E$15=\"Y\",$H353*$S353,IF('Fert selector'!$F$15=\"Y\",$H353*$X353,IF('Fert selector'!$G$15=\"Y\",$H353*$AC353))))","v":0},0,{"$f":"IF((AD353-'Fert selector'!$G$13)<0,(AD353-'Fert selector'!$G$13)*-1,AD353-'Fert selector'!$G$13)","v":0},{"$f":"IF(AD353<('Fert selector'!$G$13+'Fert selector'!$G$13*'Fert selector'!$G$17),0,1)&IF(AD353>('Fert selector'!$G$13-'Fert selector'!$G$13*'Fert selector'!$G$18),0,1)","v":"11"}]
[null,null,null,null,null,null,null,null,null,null,null,null,null,{"$f":"IF(E354=0,0,'Fert selector'!$D$13/E354)","v":0},{"$f":"IF('Fert selector'!$D$15=\"Y\",E354*N354,IF('Fert selector'!$E$15=\"Y\",F354*S354,IF('Fert selector'!$F$15=\"Y\",G354*X354,IF('Fert selector'!$G$15=\"Y\",H354*AC354))))","v":0},150,{"$f":"IF((O354-'Fert selector'!$D$13)<0,(O354-'Fert selector'!$D$13)*-1,O354-'Fert selector'!$D$13)","v":150},{"$f":"IF(O354<('Fert selector'!$D$13+'Fert selector'!$D$13*'Fert selector'!$D$17),0,1)&IF(O354>('Fert selector'!$D$13-'Fert selector'!$D$13*'Fert selector'!$D$18),0,1)","v":"01"},{"$f":"IF(F354=0,0,'Fert selector'!$E$13/F354)","v":0},{"$f":"IF('Fert selector'!$D$15=\"Y\",$F354*$N354,IF('Fert selector'!$E$15=\"Y\",$F354*$S354,IF('Fert selector'!$F$15=\"Y\",$F354*$X354,IF('Fert selector'!$G$15=\"Y\",$F354*$AC354))))","v":0},0,{"$f":"IF((T354-'Fert selector'!$E$13)<0,(T354-'Fert selector'!$E$13)*-1,T354-'Fert selector'!$E$13)","v":0},{"$f":"IF(T354<('Fert selector'!$E$13+'Fert selector'!$E$13*'Fert selector'!$E$17),0,1)&IF(T354>('Fert selector'!$E$13-'Fert selector'!$E$13*'Fert selector'!$E$18),0,1)","v":"11"},{"$f":"IF(G354=0,0,'Fert selector'!$F$13/G354)","v":0},{"$f":"IF('Fert selector'!$D$15=\"Y\",$G354*$N354,IF('Fert selector'!$E$15=\"Y\",$G354*$S354,IF('Fert selector'!$F$15=\"Y\",$G354*$X354,IF('Fert selector'!$G$15=\"Y\",$G354*$AC354))))","v":0},90,{"$f":"IF((Y354-'Fert selector'!$F$13)<0,(Y354-'Fert selector'!$F$13)*-1,Y354-'Fert selector'!$F$13)","v":90},{"$f":"IF(Y354<('Fert selector'!$F$13+'Fert selector'!$F$13*'Fert selector'!$F$17),0,1)&IF(Y354>('Fert selector'!$F$13-'Fert selector'!$F$13*'Fert selector'!$F$18),0,1)","v":"01"},{"$f":"IF(H354=0,0,'Fert selector'!$G$13/H354)","v":0},{"$f":"IF('Fert selector'!$D$15=\"Y\",$H354*$N354,IF('Fert selector'!$E$15=\"Y\",$H354*$S354,IF('Fert selector'!$F$15=\"Y\",$H354*$X354,IF('Fert selector'!$G$15=\"Y\",$H354*$AC354))))","v":0},0,{"$f":"IF((AD354-'Fert selector'!$G$13)<0,(AD354-'Fert selector'!$G$13)*-1,AD354-'Fert selector'!$G$13)","v":0},{"$f":"IF(AD354<('Fert selector'!$G$13+'Fert selector'!$G$13*'Fert selector'!$G$17),0,1)&IF(AD354>('Fert selector'!$G$13-'Fert selector'!$G$13*'Fert selector'!$G$18),0,1)","v":"11"}]
[null,null,null,null,null,null,null,null,null,null,null,null,null,{"$f":"IF(E355=0,0,'Fert selector'!$D$13/E355)","v":0},{"$f":"IF('Fert selector'!$D$15=\"Y\",E355*N355,IF('Fert selector'!$E$15=\"Y\",F355*S355,IF('Fert selector'!$F$15=\"Y\",G355*X355,IF('Fert selector'!$G$15=\"Y\",H355*AC355))))","v":0},150,{"$f":"IF((O355-'Fert selector'!$D$13)<0,(O355-'Fert selector'!$D$13)*-1,O355-'Fert selector'!$D$13)","v":150},{"$f":"IF(O355<('Fert selector'!$D$13+'Fert selector'!$D$13*'Fert selector'!$D$17),0,1)&IF(O355>('Fert selector'!$D$13-'Fert selector'!$D$13*'Fert selector'!$D$18),0,1)","v":"01"},{"$f":"IF(F355=0,0,'Fert selector'!$E$13/F355)","v":0},{"$f":"IF('Fert selector'!$D$15=\"Y\",$F355*$N355,IF('Fert selector'!$E$15=\"Y\",$F355*$S355,IF('Fert selector'!$F$15=\"Y\",$F355*$X355,IF('Fert selector'!$G$15=\"Y\",$F355*$AC355))))","v":0},0,{"$f":"IF((T355-'Fert selector'!$E$13)<0,(T355-'Fert selector'!$E$13)*-1,T355-'Fert selector'!$E$13)","v":0},{"$f":"IF(T355<('Fert selector'!$E$13+'Fert selector'!$E$13*'Fert selector'!$E$17),0,1)&IF(T355>('Fert selector'!$E$13-'Fert selector'!$E$13*'Fert selector'!$E$18),0,1)","v":"11"},{"$f":"IF(G355=0,0,'Fert selector'!$F$13/G355)","v":0},{"$f":"IF('Fert selector'!$D$15=\"Y\",$G355*$N355,IF('Fert selector'!$E$15=\"Y\",$G355*$S355,IF('Fert selector'!$F$15=\"Y\",$G355*$X355,IF('Fert selector'!$G$15=\"Y\",$G355*$AC355))))","v":0},90,{"$f":"IF((Y355-'Fert selector'!$F$13)<0,(Y355-'Fert selector'!$F$13)*-1,Y355-'Fert selector'!$F$13)","v":90},{"$f":"IF(Y355<('Fert selector'!$F$13+'Fert selector'!$F$13*'Fert selector'!$F$17),0,1)&IF(Y355>('Fert selector'!$F$13-'Fert selector'!$F$13*'Fert selector'!$F$18),0,1)","v":"01"},{"$f":"IF(H355=0,0,'Fert selector'!$G$13/H355)","v":0},{"$f":"IF('Fert selector'!$D$15=\"Y\",$H355*$N355,IF('Fert selector'!$E$15=\"Y\",$H355*$S355,IF('Fert selector'!$F$15=\"Y\",$H355*$X355,IF('Fert selector'!$G$15=\"Y\",$H355*$AC355))))","v":0},0,{"$f":"IF((AD355-'Fert selector'!$G$13)<0,(AD355-'Fert selector'!$G$13)*-1,AD355-'Fert selector'!$G$13)","v":0},{"$f":"IF(AD355<('Fert selector'!$G$13+'Fert selector'!$G$13*'Fert selector'!$G$17),0,1)&IF(AD355>('Fert selector'!$G$13-'Fert selector'!$G$13*'Fert selector'!$G$18),0,1)","v":"11"}]
[null,null,null,null,null,null,null,null,null,null,null,null,null,{"$f":"IF(E356=0,0,'Fert selector'!$D$13/E356)","v":0},{"$f":"IF('Fert selector'!$D$15=\"Y\",E356*N356,IF('Fert selector'!$E$15=\"Y\",F356*S356,IF('Fert selector'!$F$15=\"Y\",G356*X356,IF('Fert selector'!$G$15=\"Y\",H356*AC356))))","v":0},150,{"$f":"IF((O356-'Fert selector'!$D$13)<0,(O356-'Fert selector'!$D$13)*-1,O356-'Fert selector'!$D$13)","v":150},{"$f":"IF(O356<('Fert selector'!$D$13+'Fert selector'!$D$13*'Fert selector'!$D$17),0,1)&IF(O356>('Fert selector'!$D$13-'Fert selector'!$D$13*'Fert selector'!$D$18),0,1)","v":"01"},{"$f":"IF(F356=0,0,'Fert selector'!$E$13/F356)","v":0},{"$f":"IF('Fert selector'!$D$15=\"Y\",$F356*$N356,IF('Fert selector'!$E$15=\"Y\",$F356*$S356,IF('Fert selector'!$F$15=\"Y\",$F356*$X356,IF('Fert selector'!$G$15=\"Y\",$F356*$AC356))))","v":0},0,{"$f":"IF((T356-'Fert selector'!$E$13)<0,(T356-'Fert selector'!$E$13)*-1,T356-'Fert selector'!$E$13)","v":0},{"$f":"IF(T356<('Fert selector'!$E$13+'Fert selector'!$E$13*'Fert selector'!$E$17),0,1)&IF(T356>('Fert selector'!$E$13-'Fert selector'!$E$13*'Fert selector'!$E$18),0,1)","v":"11"},{"$f":"IF(G356=0,0,'Fert selector'!$F$13/G356)","v":0},{"$f":"IF('Fert selector'!$D$15=\"Y\",$G356*$N356,IF('Fert selector'!$E$15=\"Y\",$G356*$S356,IF('Fert selector'!$F$15=\"Y\",$G356*$X356,IF('Fert selector'!$G$15=\"Y\",$G356*$AC356))))","v":0},90,{"$f":"IF((Y356-'Fert selector'!$F$13)<0,(Y356-'Fert selector'!$F$13)*-1,Y356-'Fert selector'!$F$13)","v":90},{"$f":"IF(Y356<('Fert selector'!$F$13+'Fert selector'!$F$13*'Fert selector'!$F$17),0,1)&IF(Y356>('Fert selector'!$F$13-'Fert selector'!$F$13*'Fert selector'!$F$18),0,1)","v":"01"},{"$f":"IF(H356=0,0,'Fert selector'!$G$13/H356)","v":0},{"$f":"IF('Fert selector'!$D$15=\"Y\",$H356*$N356,IF('Fert selector'!$E$15=\"Y\",$H356*$S356,IF('Fert selector'!$F$15=\"Y\",$H356*$X356,IF('Fert selector'!$G$15=\"Y\",$H356*$AC356))))","v":0},0,{"$f":"IF((AD356-'Fert selector'!$G$13)<0,(AD356-'Fert selector'!$G$13)*-1,AD356-'Fert selector'!$G$13)","v":0},{"$f":"IF(AD356<('Fert selector'!$G$13+'Fert selector'!$G$13*'Fert selector'!$G$17),0,1)&IF(AD356>('Fert selector'!$G$13-'Fert selector'!$G$13*'Fert selector'!$G$18),0,1)","v":"11"}]
[null,null,null,null,null,null,null,null,null,null,null,null,null,{"$f":"IF(E357=0,0,'Fert selector'!$D$13/E357)","v":0},{"$f":"IF('Fert selector'!$D$15=\"Y\",E357*N357,IF('Fert selector'!$E$15=\"Y\",F357*S357,IF('Fert selector'!$F$15=\"Y\",G357*X357,IF('Fert selector'!$G$15=\"Y\",H357*AC357))))","v":0},150,{"$f":"IF((O357-'Fert selector'!$D$13)<0,(O357-'Fert selector'!$D$13)*-1,O357-'Fert selector'!$D$13)","v":150},{"$f":"IF(O357<('Fert selector'!$D$13+'Fert selector'!$D$13*'Fert selector'!$D$17),0,1)&IF(O357>('Fert selector'!$D$13-'Fert selector'!$D$13*'Fert selector'!$D$18),0,1)","v":"01"},{"$f":"IF(F357=0,0,'Fert selector'!$E$13/F357)","v":0},{"$f":"IF('Fert selector'!$D$15=\"Y\",$F357*$N357,IF('Fert selector'!$E$15=\"Y\",$F357*$S357,IF('Fert selector'!$F$15=\"Y\",$F357*$X357,IF('Fert selector'!$G$15=\"Y\",$F357*$AC357))))","v":0},0,{"$f":"IF((T357-'Fert selector'!$E$13)<0,(T357-'Fert selector'!$E$13)*-1,T357-'Fert selector'!$E$13)","v":0},{"$f":"IF(T357<('Fert selector'!$E$13+'Fert selector'!$E$13*'Fert selector'!$E$17),0,1)&IF(T357>('Fert selector'!$E$13-'Fert selector'!$E$13*'Fert selector'!$E$18),0,1)","v":"11"},{"$f":"IF(G357=0,0,'Fert selector'!$F$13/G357)","v":0},{"$f":"IF('Fert selector'!$D$15=\"Y\",$G357*$N357,IF('Fert selector'!$E$15=\"Y\",$G357*$S357,IF('Fert selector'!$F$15=\"Y\",$G357*$X357,IF('Fert selector'!$G$15=\"Y\",$G357*$AC357))))","v":0},90,{"$f":"IF((Y357-'Fert selector'!$F$13)<0,(Y357-'Fert selector'!$F$13)*-1,Y357-'Fert selector'!$F$13)","v":90},{"$f":"IF(Y357<('Fert selector'!$F$13+'Fert selector'!$F$13*'Fert selector'!$F$17),0,1)&IF(Y357>('Fert selector'!$F$13-'Fert selector'!$F$13*'Fert selector'!$F$18),0,1)","v":"01"},{"$f":"IF(H357=0,0,'Fert selector'!$G$13/H357)","v":0},{"$f":"IF('Fert selector'!$D$15=\"Y\",$H357*$N357,IF('Fert selector'!$E$15=\"Y\",$H357*$S357,IF('Fert selector'!$F$15=\"Y\",$H357*$X357,IF('Fert selector'!$G$15=\"Y\",$H357*$AC357))))","v":0},0,{"$f":"IF((AD357-'Fert selector'!$G$13)<0,(AD357-'Fert selector'!$G$13)*-1,AD357-'Fert selector'!$G$13)","v":0},{"$f":"IF(AD357<('Fert selector'!$G$13+'Fert selector'!$G$13*'Fert selector'!$G$17),0,1)&IF(AD357>('Fert selector'!$G$13-'Fert selector'!$G$13*'Fert selector'!$G$18),0,1)","v":"11"}]
[null,null,null,null,null,null,null,null,null,null,null,null,null,{"$f":"IF(E358=0,0,'Fert selector'!$D$13/E358)","v":0},{"$f":"IF('Fert selector'!$D$15=\"Y\",E358*N358,IF('Fert selector'!$E$15=\"Y\",F358*S358,IF('Fert selector'!$F$15=\"Y\",G358*X358,IF('Fert selector'!$G$15=\"Y\",H358*AC358))))","v":0},150,{"$f":"IF((O358-'Fert selector'!$D$13)<0,(O358-'Fert selector'!$D$13)*-1,O358-'Fert selector'!$D$13)","v":150},{"$f":"IF(O358<('Fert selector'!$D$13+'Fert selector'!$D$13*'Fert selector'!$D$17),0,1)&IF(O358>('Fert selector'!$D$13-'Fert selector'!$D$13*'Fert selector'!$D$18),0,1)","v":"01"},{"$f":"IF(F358=0,0,'Fert selector'!$E$13/F358)","v":0},{"$f":"IF('Fert selector'!$D$15=\"Y\",$F358*$N358,IF('Fert selector'!$E$15=\"Y\",$F358*$S358,IF('Fert selector'!$F$15=\"Y\",$F358*$X358,IF('Fert selector'!$G$15=\"Y\",$F358*$AC358))))","v":0},0,{"$f":"IF((T358-'Fert selector'!$E$13)<0,(T358-'Fert selector'!$E$13)*-1,T358-'Fert selector'!$E$13)","v":0},{"$f":"IF(T358<('Fert selector'!$E$13+'Fert selector'!$E$13*'Fert selector'!$E$17),0,1)&IF(T358>('Fert selector'!$E$13-'Fert selector'!$E$13*'Fert selector'!$E$18),0,1)","v":"11"},{"$f":"IF(G358=0,0,'Fert selector'!$F$13/G358)","v":0},{"$f":"IF('Fert selector'!$D$15=\"Y\",$G358*$N358,IF('Fert selector'!$E$15=\"Y\",$G358*$S358,IF('Fert selector'!$F$15=\"Y\",$G358*$X358,IF('Fert selector'!$G$15=\"Y\",$G358*$AC358))))","v":0},90,{"$f":"IF((Y358-'Fert selector'!$F$13)<0,(Y358-'Fert selector'!$F$13)*-1,Y358-'Fert selector'!$F$13)","v":90},{"$f":"IF(Y358<('Fert selector'!$F$13+'Fert selector'!$F$13*'Fert selector'!$F$17),0,1)&IF(Y358>('Fert selector'!$F$13-'Fert selector'!$F$13*'Fert selector'!$F$18),0,1)","v":"01"},{"$f":"IF(H358=0,0,'Fert selector'!$G$13/H358)","v":0},{"$f":"IF('Fert selector'!$D$15=\"Y\",$H358*$N358,IF('Fert selector'!$E$15=\"Y\",$H358*$S358,IF('Fert selector'!$F$15=\"Y\",$H358*$X358,IF('Fert selector'!$G$15=\"Y\",$H358*$AC358))))","v":0},0,{"$f":"IF((AD358-'Fert selector'!$G$13)<0,(AD358-'Fert selector'!$G$13)*-1,AD358-'Fert selector'!$G$13)","v":0},{"$f":"IF(AD358<('Fert selector'!$G$13+'Fert selector'!$G$13*'Fert selector'!$G$17),0,1)&IF(AD358>('Fert selector'!$G$13-'Fert selector'!$G$13*'Fert selector'!$G$18),0,1)","v":"11"}]
[null,null,null,null,null,null,null,null,null,null,null,null,null,{"$f":"IF(E359=0,0,'Fert selector'!$D$13/E359)","v":0},{"$f":"IF('Fert selector'!$D$15=\"Y\",E359*N359,IF('Fert selector'!$E$15=\"Y\",F359*S359,IF('Fert selector'!$F$15=\"Y\",G359*X359,IF('Fert selector'!$G$15=\"Y\",H359*AC359))))","v":0},150,{"$f":"IF((O359-'Fert selector'!$D$13)<0,(O359-'Fert selector'!$D$13)*-1,O359-'Fert selector'!$D$13)","v":150},{"$f":"IF(O359<('Fert selector'!$D$13+'Fert selector'!$D$13*'Fert selector'!$D$17),0,1)&IF(O359>('Fert selector'!$D$13-'Fert selector'!$D$13*'Fert selector'!$D$18),0,1)","v":"01"},{"$f":"IF(F359=0,0,'Fert selector'!$E$13/F359)","v":0},{"$f":"IF('Fert selector'!$D$15=\"Y\",$F359*$N359,IF('Fert selector'!$E$15=\"Y\",$F359*$S359,IF('Fert selector'!$F$15=\"Y\",$F359*$X359,IF('Fert selector'!$G$15=\"Y\",$F359*$AC359))))","v":0},0,{"$f":"IF((T359-'Fert selector'!$E$13)<0,(T359-'Fert selector'!$E$13)*-1,T359-'Fert selector'!$E$13)","v":0},{"$f":"IF(T359<('Fert selector'!$E$13+'Fert selector'!$E$13*'Fert selector'!$E$17),0,1)&IF(T359>('Fert selector'!$E$13-'Fert selector'!$E$13*'Fert selector'!$E$18),0,1)","v":"11"},{"$f":"IF(G359=0,0,'Fert selector'!$F$13/G359)","v":0},{"$f":"IF('Fert selector'!$D$15=\"Y\",$G359*$N359,IF('Fert selector'!$E$15=\"Y\",$G359*$S359,IF('Fert selector'!$F$15=\"Y\",$G359*$X359,IF('Fert selector'!$G$15=\"Y\",$G359*$AC359))))","v":0},90,{"$f":"IF((Y359-'Fert selector'!$F$13)<0,(Y359-'Fert selector'!$F$13)*-1,Y359-'Fert selector'!$F$13)","v":90},{"$f":"IF(Y359<('Fert selector'!$F$13+'Fert selector'!$F$13*'Fert selector'!$F$17),0,1)&IF(Y359>('Fert selector'!$F$13-'Fert selector'!$F$13*'Fert selector'!$F$18),0,1)","v":"01"},{"$f":"IF(H359=0,0,'Fert selector'!$G$13/H359)","v":0},{"$f":"IF('Fert selector'!$D$15=\"Y\",$H359*$N359,IF('Fert selector'!$E$15=\"Y\",$H359*$S359,IF('Fert selector'!$F$15=\"Y\",$H359*$X359,IF('Fert selector'!$G$15=\"Y\",$H359*$AC359))))","v":0},0,{"$f":"IF((AD359-'Fert selector'!$G$13)<0,(AD359-'Fert selector'!$G$13)*-1,AD359-'Fert selector'!$G$13)","v":0},{"$f":"IF(AD359<('Fert selector'!$G$13+'Fert selector'!$G$13*'Fert selector'!$G$17),0,1)&IF(AD359>('Fert selector'!$G$13-'Fert selector'!$G$13*'Fert selector'!$G$18),0,1)","v":"11"}]
[null,null,null,null,null,null,null,null,null,null,null,null,null,{"$f":"IF(E360=0,0,'Fert selector'!$D$13/E360)","v":0},{"$f":"IF('Fert selector'!$D$15=\"Y\",E360*N360,IF('Fert selector'!$E$15=\"Y\",F360*S360,IF('Fert selector'!$F$15=\"Y\",G360*X360,IF('Fert selector'!$G$15=\"Y\",H360*AC360))))","v":0},150,{"$f":"IF((O360-'Fert selector'!$D$13)<0,(O360-'Fert selector'!$D$13)*-1,O360-'Fert selector'!$D$13)","v":150},{"$f":"IF(O360<('Fert selector'!$D$13+'Fert selector'!$D$13*'Fert selector'!$D$17),0,1)&IF(O360>('Fert selector'!$D$13-'Fert selector'!$D$13*'Fert selector'!$D$18),0,1)","v":"01"},{"$f":"IF(F360=0,0,'Fert selector'!$E$13/F360)","v":0},{"$f":"IF('Fert selector'!$D$15=\"Y\",$F360*$N360,IF('Fert selector'!$E$15=\"Y\",$F360*$S360,IF('Fert selector'!$F$15=\"Y\",$F360*$X360,IF('Fert selector'!$G$15=\"Y\",$F360*$AC360))))","v":0},0,{"$f":"IF((T360-'Fert selector'!$E$13)<0,(T360-'Fert selector'!$E$13)*-1,T360-'Fert selector'!$E$13)","v":0},{"$f":"IF(T360<('Fert selector'!$E$13+'Fert selector'!$E$13*'Fert selector'!$E$17),0,1)&IF(T360>('Fert selector'!$E$13-'Fert selector'!$E$13*'Fert selector'!$E$18),0,1)","v":"11"},{"$f":"IF(G360=0,0,'Fert selector'!$F$13/G360)","v":0},{"$f":"IF('Fert selector'!$D$15=\"Y\",$G360*$N360,IF('Fert selector'!$E$15=\"Y\",$G360*$S360,IF('Fert selector'!$F$15=\"Y\",$G360*$X360,IF('Fert selector'!$G$15=\"Y\",$G360*$AC360))))","v":0},90,{"$f":"IF((Y360-'Fert selector'!$F$13)<0,(Y360-'Fert selector'!$F$13)*-1,Y360-'Fert selector'!$F$13)","v":90},{"$f":"IF(Y360<('Fert selector'!$F$13+'Fert selector'!$F$13*'Fert selector'!$F$17),0,1)&IF(Y360>('Fert selector'!$F$13-'Fert selector'!$F$13*'Fert selector'!$F$18),0,1)","v":"01"},{"$f":"IF(H360=0,0,'Fert selector'!$G$13/H360)","v":0},{"$f":"IF('Fert selector'!$D$15=\"Y\",$H360*$N360,IF('Fert selector'!$E$15=\"Y\",$H360*$S360,IF('Fert selector'!$F$15=\"Y\",$H360*$X360,IF('Fert selector'!$G$15=\"Y\",$H360*$AC360))))","v":0},0,{"$f":"IF((AD360-'Fert selector'!$G$13)<0,(AD360-'Fert selector'!$G$13)*-1,AD360-'Fert selector'!$G$13)","v":0},{"$f":"IF(AD360<('Fert selector'!$G$13+'Fert selector'!$G$13*'Fert selector'!$G$17),0,1)&IF(AD360>('Fert selector'!$G$13-'Fert selector'!$G$13*'Fert selector'!$G$18),0,1)","v":"11"}]
[null,null,null,null,null,null,null,null,null,null,null,null,null,{"$f":"IF(E361=0,0,'Fert selector'!$D$13/E361)","v":0},{"$f":"IF('Fert selector'!$D$15=\"Y\",E361*N361,IF('Fert selector'!$E$15=\"Y\",F361*S361,IF('Fert selector'!$F$15=\"Y\",G361*X361,IF('Fert selector'!$G$15=\"Y\",H361*AC361))))","v":0},150,{"$f":"IF((O361-'Fert selector'!$D$13)<0,(O361-'Fert selector'!$D$13)*-1,O361-'Fert selector'!$D$13)","v":150},{"$f":"IF(O361<('Fert selector'!$D$13+'Fert selector'!$D$13*'Fert selector'!$D$17),0,1)&IF(O361>('Fert selector'!$D$13-'Fert selector'!$D$13*'Fert selector'!$D$18),0,1)","v":"01"},{"$f":"IF(F361=0,0,'Fert selector'!$E$13/F361)","v":0},{"$f":"IF('Fert selector'!$D$15=\"Y\",$F361*$N361,IF('Fert selector'!$E$15=\"Y\",$F361*$S361,IF('Fert selector'!$F$15=\"Y\",$F361*$X361,IF('Fert selector'!$G$15=\"Y\",$F361*$AC361))))","v":0},0,{"$f":"IF((T361-'Fert selector'!$E$13)<0,(T361-'Fert selector'!$E$13)*-1,T361-'Fert selector'!$E$13)","v":0},{"$f":"IF(T361<('Fert selector'!$E$13+'Fert selector'!$E$13*'Fert selector'!$E$17),0,1)&IF(T361>('Fert selector'!$E$13-'Fert selector'!$E$13*'Fert selector'!$E$18),0,1)","v":"11"},{"$f":"IF(G361=0,0,'Fert selector'!$F$13/G361)","v":0},{"$f":"IF('Fert selector'!$D$15=\"Y\",$G361*$N361,IF('Fert selector'!$E$15=\"Y\",$G361*$S361,IF('Fert selector'!$F$15=\"Y\",$G361*$X361,IF('Fert selector'!$G$15=\"Y\",$G361*$AC361))))","v":0},90,{"$f":"IF((Y361-'Fert selector'!$F$13)<0,(Y361-'Fert selector'!$F$13)*-1,Y361-'Fert selector'!$F$13)","v":90},{"$f":"IF(Y361<('Fert selector'!$F$13+'Fert selector'!$F$13*'Fert selector'!$F$17),0,1)&IF(Y361>('Fert selector'!$F$13-'Fert selector'!$F$13*'Fert selector'!$F$18),0,1)","v":"01"},{"$f":"IF(H361=0,0,'Fert selector'!$G$13/H361)","v":0},{"$f":"IF('Fert selector'!$D$15=\"Y\",$H361*$N361,IF('Fert selector'!$E$15=\"Y\",$H361*$S361,IF('Fert selector'!$F$15=\"Y\",$H361*$X361,IF('Fert selector'!$G$15=\"Y\",$H361*$AC361))))","v":0},0,{"$f":"IF((AD361-'Fert selector'!$G$13)<0,(AD361-'Fert selector'!$G$13)*-1,AD361-'Fert selector'!$G$13)","v":0},{"$f":"IF(AD361<('Fert selector'!$G$13+'Fert selector'!$G$13*'Fert selector'!$G$17),0,1)&IF(AD361>('Fert selector'!$G$13-'Fert selector'!$G$13*'Fert selector'!$G$18),0,1)","v":"11"}]
[null,null,null,null,null,null,null,null,null,null,null,null,null,{"$f":"IF(E362=0,0,'Fert selector'!$D$13/E362)","v":0},{"$f":"IF('Fert selector'!$D$15=\"Y\",E362*N362,IF('Fert selector'!$E$15=\"Y\",F362*S362,IF('Fert selector'!$F$15=\"Y\",G362*X362,IF('Fert selector'!$G$15=\"Y\",H362*AC362))))","v":0},150,{"$f":"IF((O362-'Fert selector'!$D$13)<0,(O362-'Fert selector'!$D$13)*-1,O362-'Fert selector'!$D$13)","v":150},{"$f":"IF(O362<('Fert selector'!$D$13+'Fert selector'!$D$13*'Fert selector'!$D$17),0,1)&IF(O362>('Fert selector'!$D$13-'Fert selector'!$D$13*'Fert selector'!$D$18),0,1)","v":"01"},{"$f":"IF(F362=0,0,'Fert selector'!$E$13/F362)","v":0},{"$f":"IF('Fert selector'!$D$15=\"Y\",$F362*$N362,IF('Fert selector'!$E$15=\"Y\",$F362*$S362,IF('Fert selector'!$F$15=\"Y\",$F362*$X362,IF('Fert selector'!$G$15=\"Y\",$F362*$AC362))))","v":0},0,{"$f":"IF((T362-'Fert selector'!$E$13)<0,(T362-'Fert selector'!$E$13)*-1,T362-'Fert selector'!$E$13)","v":0},{"$f":"IF(T362<('Fert selector'!$E$13+'Fert selector'!$E$13*'Fert selector'!$E$17),0,1)&IF(T362>('Fert selector'!$E$13-'Fert selector'!$E$13*'Fert selector'!$E$18),0,1)","v":"11"},{"$f":"IF(G362=0,0,'Fert selector'!$F$13/G362)","v":0},{"$f":"IF('Fert selector'!$D$15=\"Y\",$G362*$N362,IF('Fert selector'!$E$15=\"Y\",$G362*$S362,IF('Fert selector'!$F$15=\"Y\",$G362*$X362,IF('Fert selector'!$G$15=\"Y\",$G362*$AC362))))","v":0},90,{"$f":"IF((Y362-'Fert selector'!$F$13)<0,(Y362-'Fert selector'!$F$13)*-1,Y362-'Fert selector'!$F$13)","v":90},{"$f":"IF(Y362<('Fert selector'!$F$13+'Fert selector'!$F$13*'Fert selector'!$F$17),0,1)&IF(Y362>('Fert selector'!$F$13-'Fert selector'!$F$13*'Fert selector'!$F$18),0,1)","v":"01"},{"$f":"IF(H362=0,0,'Fert selector'!$G$13/H362)","v":0},{"$f":"IF('Fert selector'!$D$15=\"Y\",$H362*$N362,IF('Fert selector'!$E$15=\"Y\",$H362*$S362,IF('Fert selector'!$F$15=\"Y\",$H362*$X362,IF('Fert selector'!$G$15=\"Y\",$H362*$AC362))))","v":0},0,{"$f":"IF((AD362-'Fert selector'!$G$13)<0,(AD362-'Fert selector'!$G$13)*-1,AD362-'Fert selector'!$G$13)","v":0},{"$f":"IF(AD362<('Fert selector'!$G$13+'Fert selector'!$G$13*'Fert selector'!$G$17),0,1)&IF(AD362>('Fert selector'!$G$13-'Fert selector'!$G$13*'Fert selector'!$G$18),0,1)","v":"11"}]
[null,null,null,null,null,null,null,null,null,null,null,null,null,{"$f":"IF(E363=0,0,'Fert selector'!$D$13/E363)","v":0},{"$f":"IF('Fert selector'!$D$15=\"Y\",E363*N363,IF('Fert selector'!$E$15=\"Y\",F363*S363,IF('Fert selector'!$F$15=\"Y\",G363*X363,IF('Fert selector'!$G$15=\"Y\",H363*AC363))))","v":0},150,{"$f":"IF((O363-'Fert selector'!$D$13)<0,(O363-'Fert selector'!$D$13)*-1,O363-'Fert selector'!$D$13)","v":150},{"$f":"IF(O363<('Fert selector'!$D$13+'Fert selector'!$D$13*'Fert selector'!$D$17),0,1)&IF(O363>('Fert selector'!$D$13-'Fert selector'!$D$13*'Fert selector'!$D$18),0,1)","v":"01"},{"$f":"IF(F363=0,0,'Fert selector'!$E$13/F363)","v":0},{"$f":"IF('Fert selector'!$D$15=\"Y\",$F363*$N363,IF('Fert selector'!$E$15=\"Y\",$F363*$S363,IF('Fert selector'!$F$15=\"Y\",$F363*$X363,IF('Fert selector'!$G$15=\"Y\",$F363*$AC363))))","v":0},0,{"$f":"IF((T363-'Fert selector'!$E$13)<0,(T363-'Fert selector'!$E$13)*-1,T363-'Fert selector'!$E$13)","v":0},{"$f":"IF(T363<('Fert selector'!$E$13+'Fert selector'!$E$13*'Fert selector'!$E$17),0,1)&IF(T363>('Fert selector'!$E$13-'Fert selector'!$E$13*'Fert selector'!$E$18),0,1)","v":"11"},{"$f":"IF(G363=0,0,'Fert selector'!$F$13/G363)","v":0},{"$f":"IF('Fert selector'!$D$15=\"Y\",$G363*$N363,IF('Fert selector'!$E$15=\"Y\",$G363*$S363,IF('Fert selector'!$F$15=\"Y\",$G363*$X363,IF('Fert selector'!$G$15=\"Y\",$G363*$AC363))))","v":0},90,{"$f":"IF((Y363-'Fert selector'!$F$13)<0,(Y363-'Fert selector'!$F$13)*-1,Y363-'Fert selector'!$F$13)","v":90},{"$f":"IF(Y363<('Fert selector'!$F$13+'Fert selector'!$F$13*'Fert selector'!$F$17),0,1)&IF(Y363>('Fert selector'!$F$13-'Fert selector'!$F$13*'Fert selector'!$F$18),0,1)","v":"01"},{"$f":"IF(H363=0,0,'Fert selector'!$G$13/H363)","v":0},{"$f":"IF('Fert selector'!$D$15=\"Y\",$H363*$N363,IF('Fert selector'!$E$15=\"Y\",$H363*$S363,IF('Fert selector'!$F$15=\"Y\",$H363*$X363,IF('Fert selector'!$G$15=\"Y\",$H363*$AC363))))","v":0},0,{"$f":"IF((AD363-'Fert selector'!$G$13)<0,(AD363-'Fert selector'!$G$13)*-1,AD363-'Fert selector'!$G$13)","v":0},{"$f":"IF(AD363<('Fert selector'!$G$13+'Fert selector'!$G$13*'Fert selector'!$G$17),0,1)&IF(AD363>('Fert selector'!$G$13-'Fert selector'!$G$13*'Fert selector'!$G$18),0,1)","v":"11"}]
[null,null,null,null,null,null,null,null,null,null,null,null,null,{"$f":"IF(E364=0,0,'Fert selector'!$D$13/E364)","v":0},{"$f":"IF('Fert selector'!$D$15=\"Y\",E364*N364,IF('Fert selector'!$E$15=\"Y\",F364*S364,IF('Fert selector'!$F$15=\"Y\",G364*X364,IF('Fert selector'!$G$15=\"Y\",H364*AC364))))","v":0},150,{"$f":"IF((O364-'Fert selector'!$D$13)<0,(O364-'Fert selector'!$D$13)*-1,O364-'Fert selector'!$D$13)","v":150},{"$f":"IF(O364<('Fert selector'!$D$13+'Fert selector'!$D$13*'Fert selector'!$D$17),0,1)&IF(O364>('Fert selector'!$D$13-'Fert selector'!$D$13*'Fert selector'!$D$18),0,1)","v":"01"},{"$f":"IF(F364=0,0,'Fert selector'!$E$13/F364)","v":0},{"$f":"IF('Fert selector'!$D$15=\"Y\",$F364*$N364,IF('Fert selector'!$E$15=\"Y\",$F364*$S364,IF('Fert selector'!$F$15=\"Y\",$F364*$X364,IF('Fert selector'!$G$15=\"Y\",$F364*$AC364))))","v":0},0,{"$f":"IF((T364-'Fert selector'!$E$13)<0,(T364-'Fert selector'!$E$13)*-1,T364-'Fert selector'!$E$13)","v":0},{"$f":"IF(T364<('Fert selector'!$E$13+'Fert selector'!$E$13*'Fert selector'!$E$17),0,1)&IF(T364>('Fert selector'!$E$13-'Fert selector'!$E$13*'Fert selector'!$E$18),0,1)","v":"11"},{"$f":"IF(G364=0,0,'Fert selector'!$F$13/G364)","v":0},{"$f":"IF('Fert selector'!$D$15=\"Y\",$G364*$N364,IF('Fert selector'!$E$15=\"Y\",$G364*$S364,IF('Fert selector'!$F$15=\"Y\",$G364*$X364,IF('Fert selector'!$G$15=\"Y\",$G364*$AC364))))","v":0},90,{"$f":"IF((Y364-'Fert selector'!$F$13)<0,(Y364-'Fert selector'!$F$13)*-1,Y364-'Fert selector'!$F$13)","v":90},{"$f":"IF(Y364<('Fert selector'!$F$13+'Fert selector'!$F$13*'Fert selector'!$F$17),0,1)&IF(Y364>('Fert selector'!$F$13-'Fert selector'!$F$13*'Fert selector'!$F$18),0,1)","v":"01"},{"$f":"IF(H364=0,0,'Fert selector'!$G$13/H364)","v":0},{"$f":"IF('Fert selector'!$D$15=\"Y\",$H364*$N364,IF('Fert selector'!$E$15=\"Y\",$H364*$S364,IF('Fert selector'!$F$15=\"Y\",$H364*$X364,IF('Fert selector'!$G$15=\"Y\",$H364*$AC364))))","v":0},0,{"$f":"IF((AD364-'Fert selector'!$G$13)<0,(AD364-'Fert selector'!$G$13)*-1,AD364-'Fert selector'!$G$13)","v":0},{"$f":"IF(AD364<('Fert selector'!$G$13+'Fert selector'!$G$13*'Fert selector'!$G$17),0,1)&IF(AD364>('Fert selector'!$G$13-'Fert selector'!$G$13*'Fert selector'!$G$18),0,1)","v":"11"}]